{"text_format":"1","workbook":"xlsx","n_sheets":7,"sheets":["Handicaps","Season","Standings","Scoring","LastWeek","AutoSS","R#-xxx-yyy"],"not_rendered":{"charts":1,"images":0,"macros":1,"external_links":1,"defined_names":43,"comments":0,"pivot_tables":0},"unopened":[],"bounds":{"document_bytes":16777216,"sheet_cells":100000,"rows_first":2000,"rows_last":500,"rows_between":2000,"halvings":0,"cell_chars":16384,"cell_head_chars":4096},"cells_cut":0,"cells_raw":0,"read":"whole","date_system":"1900"}

{"sheet":"Handicaps","index":0,"n_rows":446,"n_cols":63,"rows_kept":446,"cut":false,"hidden":false,"merged":[]}
[null,null,null,null,"Today","SGL",24,"Handicaps",null,null,null,null,null,null,null,null,null,null,null,null,null,"Current scores"]
[null,null,null,null,"2024-07-26","2019-05-10T15:21:27.390",null,null,null,null,null,"Course Handicaps, 18 or less per 9",null,null,null,null,null,18,36,null,null,null,null,null,null,null,null,null,24,"Gross Scores",null,null,null,null,null,null,null,null,null,null,null,null,null,null,null,null,null,null,24,"Courses"]
["Div.","Order","No.","Team","Player","HI","SH","SHb","CC","CCb","OH","OHb","DC","DCB","KC","KCb","DR","DRb","SHt","tees","Code","Score",1,2,3,4,5,6,7,8,9,10,11,12,13,14,15,16,17,18,19,20,1,2,3,4,5,6,7,8,9,10,11,12,13,14,15,16,17,18,19,20,24]
["A",1,0]
["A",1,1,"X01","Brad Whitley",13.925905915455218,13,14,12,13,12,12,14,15,15,15,13,13,27,"","","",14,17,18,18,17,16,13,15,14,10,16,null,null,null,null,null,null,null,null,null,"sh","cc","dc","oh","sh","cc","sh","cc","sh","dr","oh",null,null,null,null,null,null,null,null,null,11]
["A",1,2,"X01","Aaron Kenny",16.457880428811368,15,17,15,16,15,15,17,18,18,18,16,16,32,"","","",13,22,17,18,21,16,18,12,null,null,null,null,null,null,null,null,null,null,null,null,"dc","oh","cc","sh","dr","sh","dr","oh",null,null,null,null,null,null,null,null,null,null,null,null,8]
["A",1,3,"X01","Travis Wells",13.939002896173482,13,14,12,13,12,12,14,15,15,15,13,14,27,"","","",15,15,15,15,14,14,null,null,null,null,null,null,null,null,null,null,null,null,null,null,"sh","cc","drb","dr","oh","oh",null,null,null,null,null,null,null,null,null,null,null,null,null,null,6]
["A",1,4,"X01","Warren Doyle",8.0332957427985772,4,6,4,5,5,5,8,8,8,8,5,4,11,"s","","",13,7,4,11,4,5,8,6,5,7,8,null,null,null,null,null,null,null,null,null,"sh","cc","dc","oh","oh","sh","drb","dr","oh","sh","dr",null,null,null,null,null,null,null,null,null,11]
["A",1,5,"X01","Thurston Gore",7.5425782241985315,6,7,6,6,6,6,7,8,8,9,6,7,13,"st","","",11,6,5,2,6,6,10,null,null,null,null,null,null,null,null,null,null,null,null,null,"oh","oh","cc","drb","dr","oh","oh",null,null,null,null,null,null,null,null,null,null,null,null,null,7]
["A",1,6,"X01","Glenn Dorsey",11.980075147150808,11,12,10,11,10,10,12,13,13,13,11,11,23,"","","",null,null,null,null,null,null,null,null,null,null,null,null,null,null,null,null,null,null,null,null,null,null,null,null,null,null,null,null,null,null,null,null,null,null,null,null,null,null,null,null,0]
["A",1,7,"X01","John Ord",12.735921210085811,11,13,11,12,11,11,13,14,14,14,12,12,24,"","","",20,21,14,14,12,19,null,null,null,null,null,null,null,null,null,null,null,null,null,null,"oh","sh","sh","dr","oh","dr",null,null,null,null,null,null,null,null,null,null,null,null,null,null,6]
["A",1,8,"X01","Kristie Kenny",15.388343811872659,14,16,14,14,13,15,14,16,15,16,11,14,30,"w","","",16,16,18,20,null,null,null,null,null,null,null,null,null,null,null,null,null,null,null,null,"sh","oh","sh","oh",null,null,null,null,null,null,null,null,null,null,null,null,null,null,null,null,4]
["A",1,9,"X01","Floyd Byrd",8.570252988412463,7,8,7,7,7,7,8,9,9,10,7,8,16,"","","",11,13,14,12,8,15,5,9,12,9,12,null,null,null,null,null,null,null,null,null,"sh","cc","dc","oh","oh","sh","cc","sh","cc","sh","oh",null,null,null,null,null,null,null,null,null,11]
["A",1,10,"X01","Rusty Spady",11.011584942074416,10,11,9,10,9,9,11,12,12,12,10,11,21,"","","",12,14,14,14,11,10,10,14,null,null,null,null,null,null,null,null,null,null,null,null,"sh","cc","oh","cc","cc","drb","sh","dr",null,null,null,null,null,null,null,null,null,null,null,null,8]
["A",1,11,"X01","Craig Comeaux",7.1091756400190347,6,7,5,6,6,5,7,7,8,8,6,6,12,"","","",11,10,5,8,13,4,11,12,7,12,7,null,null,null,null,null,null,null,null,null,"cc","dc","oh","oh","sh","cc","sh","cc","drb","dr","dr",null,null,null,null,null,null,null,null,null,11]
["A",1,12,"X01","Bill Daniels",7.7342871516676368,4,6,3,5,5,5,7,8,7,8,5,3,10,"s","","",6,10,9,9,6,4,null,null,null,null,null,null,null,null,null,null,null,null,null,null,"cc","sh","sh","cc","drb","oh",null,null,null,null,null,null,null,null,null,null,null,null,null,null,6]
["A",2,0,null,null,null,"","","","","","","","","","","","","","",null,null,null,null,null,null,null,null,null,null,null,null,null,null,null,null,null,null,null,null,null,null,null,null,null,null,null,null,null,null,null,null,null,null,null,null,null,null,null,null,null,null,""]
["A",2,1,"AMSC","Matt Helfer",10.745639091882456,9,11,9,10,9,9,11,11,12,12,10,10,20,"","","",16,9,17,14,15,null,null,null,null,null,null,null,null,null,null,null,null,null,null,null,"oh","cc","cc","drb","dc",null,null,null,null,null,null,null,null,null,null,null,null,null,null,null,5]
["A",2,2,"AMSC","Dave Cullen",7.8478320452086265,6,8,6,7,6,6,8,8,8,9,7,7,14,"","","",11,8,6,8,12,null,null,null,null,null,null,null,null,null,null,null,null,null,null,null,"oh","drb","cc","drb","sh",null,null,null,null,null,null,null,null,null,null,null,null,null,null,null,5]
["A",2,3,"AMSC","Chris Nosil",5.0414665368241387,3,5,3,4,4,3,5,5,5,6,4,4,8,"","","",7,3,9,7,4,4,7,null,null,null,null,null,null,null,null,null,null,null,null,null,"oh","cc","drb","oh","oh","sh","oh",null,null,null,null,null,null,null,null,null,null,null,null,null,7]
["A",2,4,"AMSC","Colin Govan",13.571482828282821,12,14,12,13,12,12,14,15,15,15,13,13,26,"","ndr",18.3,24,12,18,null,null,null,null,null,null,null,null,null,null,null,null,null,null,null,null,null,"drb","oh","oh",null,null,null,null,null,null,null,null,null,null,null,null,null,null,null,null,null,3]
["A",2,5,"AMSC","Freeman Ward",11.89573703595905,11,12,10,11,10,10,12,13,13,13,11,11,23,"","ndr",14.3,12,17,16,10,12,16,null,null,null,null,null,null,null,null,null,null,null,null,null,null,"oh","drb","oh","cc","oh","dc",null,null,null,null,null,null,null,null,null,null,null,null,null,null,6]
["A",2,6,"AMSC","Steve Kortz",8.1670866707875529,7,8,6,7,7,6,8,9,9,9,7,8,15,"","","",12,6,7,8,9,8,null,null,null,null,null,null,null,null,null,null,null,null,null,null,"drb","oh","cc","drb","oh","dc",null,null,null,null,null,null,null,null,null,null,null,null,null,null,6]
["A",2,7,"AMSC","Dan Mahar",16.845053599225242,16,17,15,16,15,15,17,18,18,18,16,16,33,"","","",19,20,13,21,21,23,null,null,null,null,null,null,null,null,null,null,null,null,null,null,"oh","drb","cc","drb","sh","dc",null,null,null,null,null,null,null,null,null,null,null,null,null,null,6]
["A",2,8,"AMSC","Edward Outen",10.25832121212121,9,10,8,9,9,9,10,11,11,11,9,10,19,"","ndr",11.7,17,12,16,8,12,10,10,11,null,null,null,null,null,null,null,null,null,null,null,null,"oh","oh","drb","oh","oh","oh","sh","oh",null,null,null,null,null,null,null,null,null,null,null,null,8]
["A",2,9,"AMSC","Cornell Owens",16.609316078626719,16,17,15,16,15,15,17,18,18,18,16,16,33,"","","",18,21,21,17,18,22,null,null,null,null,null,null,null,null,null,null,null,null,null,null,"oh","cc","oh","cc","oh","dc",null,null,null,null,null,null,null,null,null,null,null,null,null,null,6]
["A",2,10,"AMSC","Brad Forbes",11.795833167102497,11,12,10,11,10,10,12,13,13,13,11,11,22,"","","",14,20,16,17,6,19,8,15,null,null,null,null,null,null,null,null,null,null,null,null,"oh","cc","drb","oh","drb","sh","oh","dc",null,null,null,null,null,null,null,null,null,null,null,null,8]
["A",2,11,"AMSC","Sam Richardson",8.4653607378129081,7,8,7,7,7,7,8,9,9,10,7,8,15,"","ndr",94,12,7,16,11,6,10,9,null,null,null,null,null,null,null,null,null,null,null,null,null,"oh","cc","drb","oh","oh","oh","oh",null,null,null,null,null,null,null,null,null,null,null,null,null,7]
["A",2,12,"AMSC","Leroy Harrell",5.6294330014815275,2,4,1,3,3,3,5,6,5,5,3,1,6,"s","","",12,7,10,10,11,8,2,null,null,null,null,null,null,null,null,null,null,null,null,null,"oh","cc","drb","oh","oh","oh","sh",null,null,null,null,null,null,null,null,null,null,null,null,null,7]
["A",3,0,null,null,null,"","","","","","","","","","","","","","",null,null,null,null,null,null,null,null,null,null,null,null,null,null,null,null,null,null,null,null,null,null,null,null,null,null,null,null,null,null,null,null,null,null,null,null,null,null,null,null,null,null,""]
["A",3,1,"E12","Drew Alfred",11.173753818157451,10,11,9,10,9,9,11,12,12,12,10,11,21,"","","",12,15,10,6,14,13,9,15,null,null,null,null,null,null,null,null,null,null,null,null,"oh","drb","cc","sh","sh","oh","oh","sh",null,null,null,null,null,null,null,null,null,null,null,null,8]
["A",3,2,"E12","Joe Gray",12.514644651709355,11,13,11,12,11,11,13,13,13,14,11,12,24,"","","",14,13,16,11,13,12,10,null,null,null,null,null,null,null,null,null,null,null,null,null,"oh","dr","drb","cc","sh","oh","cc",null,null,null,null,null,null,null,null,null,null,null,null,null,7]
["A",3,3,"E12","Larry Snyder",14.268345651253409,13,15,12,13,12,13,15,15,15,16,13,14,28,"st","","",20,21,16,20,19,23,null,null,null,null,null,null,null,null,null,null,null,null,null,null,"cc","dr","drb","sh","sh","dc",null,null,null,null,null,null,null,null,null,null,null,null,null,null,6]
["A",3,4,"E12","Bruce Beers",11.447738043176249,10,12,10,10,10,10,12,12,12,13,10,11,22,"","","",12,21,18,13,8,9,17,7,null,null,null,null,null,null,null,null,null,null,null,null,"cc","oh","oh","cc","sh","sh","dc","cc",null,null,null,null,null,null,null,null,null,null,null,null,8]
["A",3,5,"E12","Pete Carr",8.5795230522312416,7,8,7,7,7,7,8,9,9,10,7,8,16,"","","",15,9,10,14,9,10,9,9,1,null,null,null,null,null,null,null,null,null,null,null,"cc","oh","cc","sh","sh","oh","oh","oh","cc",null,null,null,null,null,null,null,null,null,null,null,9]
["A",3,6,"E12","Joey Revere",14.852690989136381,14,15,13,14,13,13,15,16,16,16,14,14,29,"","","",18,17,19,15,17,14,17,14,null,null,null,null,null,null,null,null,null,null,null,null,"oh","drb","sh","sh","oh","sh","dc","cc",null,null,null,null,null,null,null,null,null,null,null,null,8]
["A",3,7,"E12","James Revere",14.822940818475061,14,15,13,14,13,13,15,16,16,16,14,14,29,"","","",17,20,19,15,19,14,18,11,19,null,null,null,null,null,null,null,null,null,null,null,"oh","dr","drb","sh","sh","oh","oh","oh","dc",null,null,null,null,null,null,null,null,null,null,null,9]
["A",3,8,"E12","Robert Staha",8.9848592980790549,8,9,7,8,7,7,9,9,10,10,8,8,16,"","","",16,9,12,12,16,7,13,11,null,null,null,null,null,null,null,null,null,null,null,null,"cc","oh","cc","sh","sh","oh","sh","dc",null,null,null,null,null,null,null,null,null,null,null,null,8]
["A",3,9,"E12","Chris Dover",9.7207513043478251,8,10,8,9,8,8,10,10,10,11,9,9,18,"","","",8,11,9,12,12,5,null,null,null,null,null,null,null,null,null,null,null,null,null,null,"cc","oh","dr","sh","oh","oh",null,null,null,null,null,null,null,null,null,null,null,null,null,null,6]
["A",3,10,"E12","Ricky Moyer",12.05578584882252,11,12,10,11,10,10,12,13,13,13,11,12,23,"","","",16,16,15,10,13,14,null,null,null,null,null,null,null,null,null,null,null,null,null,null,"cc","oh","dr","sh","oh","oh",null,null,null,null,null,null,null,null,null,null,null,null,null,null,6]
["A",3,11,"E12","Bob White",9.9407900167300252,9,10,8,9,8,8,10,11,11,11,9,9,19,"st","","",14,10,5,8,11,6,7,10,13,9,null,null,null,null,null,null,null,null,null,null,"oh","oh","dr","drb","sh","oh","oh","sh","dc","cc",null,null,null,null,null,null,null,null,null,null,10]
["A",3,12,"E12","Rinehart Wilke",15.201083964284756,14,16,13,14,13,14,16,17,16,17,14,15,30,"","","",16,15,15,16,null,null,null,null,null,null,null,null,null,null,null,null,null,null,null,null,"sh","sh","oh","cc",null,null,null,null,null,null,null,null,null,null,null,null,null,null,null,null,4]
["A",4,0,null,null,null,"","","","","","","","","","","","","","",null,null,null,null,null,null,null,null,null,null,null,null,null,null,null,null,null,null,null,null,null,null,null,null,null,null,null,null,null,null,null,null,null,null,null,null,null,null,null,null,null,null,""]
["A",4,1,"E55A","Brandon Kelly",5.1583130503161332,4,5,3,4,4,3,5,5,5,6,4,4,8,"","","",6,9,4,7,9,8,12,6,null,null,null,null,null,null,null,null,null,null,null,null,"sh","oh","oh","sh","cc","oh","dr","drb",null,null,null,null,null,null,null,null,null,null,null,null,8]
["A",4,2,"E55A","Ryan Lorson",-9.5833072296105465E-2,-2,-1,-2,-2,-1,-2,-1,-1,1E-4,1E-4,-2,-1,-3,"","","",3,1,-1,-1,3,-1,null,null,null,null,null,null,null,null,null,null,null,null,null,null,"sh","cc","oh","sh","drb","dr",null,null,null,null,null,null,null,null,null,null,null,null,null,null,6]
["A",4,3,"E55A","Maria Stewart",4.0601776984834954,2,4,2,3,3,3,2,4,4,4,1E-4,2,6,"w","","",13,4,4,5,4,4,5,3,8,3,null,null,null,null,null,null,null,null,null,null,"sh","sh","oh","cc","dc","sh","sh","drb","dr","drb",null,null,null,null,null,null,null,null,null,null,10]
["A",4,4,"E55A","Bill Rinehart",12.020197233032054,8,10,8,9,9,9,12,13,12,12,9,7,19,"s","","",14,12,14,11,9,null,null,null,null,null,null,null,null,null,null,null,null,null,null,null,"oh","oh","drb","oh","drb",null,null,null,null,null,null,null,null,null,null,null,null,null,null,null,5]
["A",4,5,"E55A","Mike Konrad",7.6137043046714847,4,6,3,5,5,5,7,8,7,8,5,3,10,"s","","",6,4,12,6,10,6,4,6,10,5,null,null,null,null,null,null,null,null,null,null,"sh","sh","cc","oh","oh","cc","dc","sh","oh","dr",null,null,null,null,null,null,null,null,null,null,10]
["A",4,6,"E55A","Bryan Randall",2.1813527121185148,1E-4,2,1E-4,1,1,1E-4,1,2,2,3,1,1,2,"","","",8,6,6,0,2,0,null,null,null,null,null,null,null,null,null,null,null,null,null,null,"sh","oh","oh","cc","drb","dr",null,null,null,null,null,null,null,null,null,null,null,null,null,null,6]
["A",4,7,"E55A","Darren Swann",6.5429209124732237,5,6,5,5,5,5,6,7,7,8,5,6,11,"","","",8,10,7,7,11,8,4,null,null,null,null,null,null,null,null,null,null,null,null,null,"cc","oh","oh","oh","dc","oh","dr",null,null,null,null,null,null,null,null,null,null,null,null,null,7]
["a",4,8,"E55A","Mike Newland",6.9401177478606355,3,5,3,4,4,4,7,7,6,7,4,3,8,"s","","",8,6,7,10,1,4,3,2,4,null,null,null,null,null,null,null,null,null,null,null,"sh","sh","oh","cc","dc","sh","cc","drb","drb",null,null,null,null,null,null,null,null,null,null,null,9]
["A",4,9,"E55A","Darnell Exum",6.2772092341794776,5,6,4,5,5,4,6,6,7,7,5,6,11,"","","",8,7,9,5,null,null,null,null,null,null,null,null,null,null,null,null,null,null,null,null,"cc","cc","sh","cc",null,null,null,null,null,null,null,null,null,null,null,null,null,null,null,null,4]
["A",4,10,"E55A","Ben Hunter",-0.673198180642262,-3,-2,-3,-3,-2,-3,-2,-1,-1,1E-4,-3,-1,-4,"","","",0,0,0,0,null,null,null,null,null,null,null,null,null,null,null,null,null,null,null,null,"cc","sh","sh","cc",null,null,null,null,null,null,null,null,null,null,null,null,null,null,null,null,4]
["A",4,11,"E55A","Kenny Stewart",2.6430237552790388,1,2,1,1,1,1,2,2,3,3,1,2,3,"","","",1,5,5,5,2,0,6,1,2,8,4,7,null,null,null,null,null,null,null,null,"sh","cc","oh","cc","oh","dc","sh","sh","cc","drb","oh","drb",null,null,null,null,null,null,null,null,12]
["A",4,12,"E55A","Fred Brown",10.328646452367034,9,10,8,9,9,9,10,11,11,12,9,10,19,"","","",16,14,16,9,10,18,14,12,12,null,null,null,null,null,null,null,null,null,null,null,"sh","sh","cc","oh","oh","dc","sh","oh","drb",null,null,null,null,null,null,null,null,null,null,null,9]
["A",5,0,null,null,null,"","","","","","","","","","","","","","",null,null,null,null,null,null,null,null,null,null,null,null,null,null,null,null,null,null,null,null,null,null,null,null,null,null,null,null,null,null,null,null,null,null,null,null,null,null,null,null,null,null,""]
["A",5,1,"X87","Gary Coffey",13.219608211143694,12,13,11,12,11,12,14,14,14,15,12,13,25,"","","",15,21,15,14,13,10,15,15,15,13,null,null,null,null,null,null,null,null,null,null,"sh","cc","sh","oh","dc","oh","cc","sh","cc","oh",null,null,null,null,null,null,null,null,null,null,10]
["A",5,2,"X87","Ron Ellsworth",12.014022145651598,11,12,10,11,10,10,12,13,13,13,11,12,23,"","","",13,10,14,18,13,8,12,18,7,null,null,null,null,null,null,null,null,null,null,null,"cc","dr","sh","dr","oh","oh","cc","sh","oh",null,null,null,null,null,null,null,null,null,null,null,9]
["A",5,3,"X87","Billy McGlothlin",3.9628670823294057,2,3,2,2,2,2,3,4,4,5,2,3,6,"","","",6,4,0,5,4,1,3,11,8,4,5,null,null,null,null,null,null,null,null,null,"cc","cc","sh","cc","dr","sh","oh","dc","drb","cc","cc",null,null,null,null,null,null,null,null,null,11]
["A",5,4,"X87","Kevin Holland",10.390402915522202,9,10,8,9,9,9,10,11,11,12,9,10,19,"","","",14,8,10,15,6,12,12,20,14,18,12,7,12,14,null,null,null,null,null,null,"cc","cc","sh","cc","dr","sh","dr","dc","oh","drb","cc","sh","cc","oh",null,null,null,null,null,null,14]
["A",5,5,"X87","Cliff Kauffman",2.4983310165228345,1,2,1E-4,1,1,1,2,2,3,3,1,2,3,"","","",1,2,1,6,null,null,null,null,null,null,null,null,null,null,null,null,null,null,null,null,"dr","oh","oh","drb",null,null,null,null,null,null,null,null,null,null,null,null,null,null,null,null,4]
["A",5,6,"X87","Shane Beaber",6.2050519865652163,5,6,4,5,5,4,6,6,7,7,5,6,11,"","","",8,4,6,4,null,null,null,null,null,null,null,null,null,null,null,null,null,null,null,null,"cc","cc","cc","sh",null,null,null,null,null,null,null,null,null,null,null,null,null,null,null,null,4]
["A",5,7,"X87","Steve Green",9.1013037338461764,8,9,7,8,7,7,9,10,10,10,8,9,17,"","","",10,12,13,13,18,7,10,null,null,null,null,null,null,null,null,null,null,null,null,null,"cc","cc","sh","cc","sh","cc","cc",null,null,null,null,null,null,null,null,null,null,null,null,null,7]
["A",5,8,"X87","Curtis Lett",9.2745711366046404,8,9,7,8,8,8,9,10,10,10,8,9,17,"","","",8,14,10,15,13,null,null,null,null,null,null,null,null,null,null,null,null,null,null,null,"cc","cc","sh","dr","dc",null,null,null,null,null,null,null,null,null,null,null,null,null,null,null,5]
["A",5,9,"X87","Bruce Coffey",9.2134423108480483,6,7,5,6,6,7,9,10,9,9,7,5,13,"s","","",11,6,5,8,8,null,null,null,null,null,null,null,null,null,null,null,null,null,null,null,"dr","dr","oh","oh","drb",null,null,null,null,null,null,null,null,null,null,null,null,null,null,null,5]
["A",5,10,"X87","Mike Lowers",8.4979197641857045,7,8,7,7,7,7,8,9,9,10,7,8,15,"","","",8,9,5,10,6,12,4,7,6,8,null,null,null,null,null,null,null,null,null,null,"cc","cc","sh","sh","dr","dc","cc","sh","cc","oh",null,null,null,null,null,null,null,null,null,null,10]
["A",5,11,"X87","Brian Davis",12.421495537760606,11,13,11,12,11,11,13,13,13,14,11,12,24,"","","",16,13,14,12,13,15,null,null,null,null,null,null,null,null,null,null,null,null,null,null,"dr","dr","dc","drb","sh","oh",null,null,null,null,null,null,null,null,null,null,null,null,null,null,6]
["A",5,12,"X87","Geoff Allen",7.7574361483371392,4,6,3,5,5,5,8,8,7,8,5,3,10,"s","","",8,8,4,6,7,null,null,null,null,null,null,null,null,null,null,null,null,null,null,null,"oh","oh","drb","cc","oh",null,null,null,null,null,null,null,null,null,null,null,null,null,null,null,5]
["A",6,0,null,null,null,"","","","","","","","","","","","","","",null,null,null,null,null,null,null,null,null,null,null,null,null,null,null,null,null,null,null,null,null,null,null,null,null,null,null,null,null,null,null,null,null,null,null,null,null,null,null,null,null,null,""]
["A",6,1,"E55B","Phil Delk",9.0369406819283373,8,9,7,8,7,7,9,10,10,10,8,8,17,"","","",6,11,12,15,10,11,10,11,null,null,null,null,null,null,null,null,null,null,null,null,"cc","dc","cc","cc","sh","oh","oh","sh",null,null,null,null,null,null,null,null,null,null,null,null,8]
["A",6,2,"E55B","Joel Hickman",8.8953282774313802,7,9,7,8,7,7,9,9,10,10,8,8,16,"","","",11,null,null,null,null,null,null,null,null,null,null,null,null,null,null,null,null,null,null,null,"dc",null,null,null,null,null,null,null,null,null,null,null,null,null,null,null,null,null,null,null,1]
["A",6,3,"E55B","Steve Burton",8.3249851852928813,5,7,4,5,5,6,8,9,8,8,6,4,11,"s","","",8,10,3,3,6,7,null,null,null,null,null,null,null,null,null,null,null,null,null,null,"cc","cc","drb","oh","sh","cc",null,null,null,null,null,null,null,null,null,null,null,null,null,null,6]
["A",6,4,"E55B","Zachary Dial",8.7903517970444636,7,9,7,8,7,7,9,9,9,10,8,8,16,"","","",7,13,12,10,7,10,9,9,null,null,null,null,null,null,null,null,null,null,null,null,"cc","cc","sh","drb","oh","oh","sh","cc",null,null,null,null,null,null,null,null,null,null,null,null,8]
["A",6,5,"E55B","Robert Holley",8.4047230667444204,7,8,6,7,7,7,8,9,9,9,7,8,15,"","","",19,12,12,14,6,11,9,null,null,null,null,null,null,null,null,null,null,null,null,null,"dc","cc","sh","oh","oh","sh","cc",null,null,null,null,null,null,null,null,null,null,null,null,null,7]
["A",6,6,"E55B","Ray Foster",13.499504076933173,12,14,12,13,12,12,14,15,14,15,13,13,26,"","","",13,19,16,15,17,13,null,null,null,null,null,null,null,null,null,null,null,null,null,null,"cc","dc","cc","drb","sh","cc",null,null,null,null,null,null,null,null,null,null,null,null,null,null,6]
["A",6,7,"E55B","Johnny Nelms",11.537278972693681,10,12,10,11,10,10,12,12,12,13,10,11,22,"","","",13,null,null,null,null,null,null,null,null,null,null,null,null,null,null,null,null,null,null,null,"sh",null,null,null,null,null,null,null,null,null,null,null,null,null,null,null,null,null,null,null,1]
["A",6,8,"E55B","Scott Bohn",6.0007047201623394,4,6,4,5,4,4,6,6,6,7,5,5,10,"","","",8,7,9,9,4,9,6,null,null,null,null,null,null,null,null,null,null,null,null,null,"cc","dc","cc","drb","oh","sh","cc",null,null,null,null,null,null,null,null,null,null,null,null,null,7]
["A",6,9,"E55B","Jerry Adkins",18.908461134856296,18,18,17,18,17,17,18,18,18,18,18,18,36,"st","","",21,18,19,24,null,null,null,null,null,null,null,null,null,null,null,null,null,null,null,null,"cc","sh","sh","cc",null,null,null,null,null,null,null,null,null,null,null,null,null,null,null,null,4]
["A",6,10,"E55B","Ed Cunningham",12.237757722324707,11,12,10,11,11,11,12,13,13,14,11,12,23,"st","","",10,15,15.4,17,15,10,null,null,null,null,null,null,null,null,null,null,null,null,null,null,"dc","cc","drb","oh","sh","sh",null,null,null,null,null,null,null,null,null,null,null,null,null,null,6]
["A",6,11,"E55B","Dallas Wilkinson",18.491630694811803,18,18,17,18,17,17,18,18,18,18,18,18,36,"","ndr",94,24,26,21,20.6,20,17,null,null,null,null,null,null,null,null,null,null,null,null,null,null,"cc","cc","sh","drb","oh","sh",null,null,null,null,null,null,null,null,null,null,null,null,null,null,6]
["A",6,12,"E55B","Aaron Roscoe",11.512461893511382,10,12,10,11,10,10,12,12,12,13,10,11,22,"","ndr",94,14,18,17,17,11,9,null,null,null,null,null,null,null,null,null,null,null,null,null,null,"cc","cc","sh","oh","oh","sh",null,null,null,null,null,null,null,null,null,null,null,null,null,null,6]
["A",7,0,null,null,null,"","","","","","","","","","","","","","",null,null,null,null,null,null,null,null,null,null,null,null,null,null,null,null,null,null,null,null,null,null,null,null,null,null,null,null,null,null,null,null,null,null,null,null,null,null,null,null,null,null,""]
["A",7,1,"X04","Scott Mooneyham",15.201215260644199,14,16,13,14,13,14,16,17,16,17,14,15,30,"","","",17,16,16,22,17,15,20,null,null,null,null,null,null,null,null,null,null,null,null,null,"oh","sh","oh","dc","cc","sh","cc",null,null,null,null,null,null,null,null,null,null,null,null,null,7]
["A",7,2,"X04","Loria Mooneyham",21.697271844016822,18,18,18,18,18,18,18,18,18,18,17,18,36,"w","","",23,21,25,25,22,25,24,null,null,null,null,null,null,null,null,null,null,null,null,null,"oh","sh","oh","dc","cc","sh","cc",null,null,null,null,null,null,null,null,null,null,null,null,null,7]
["A",7,3,"X04","Greg Boyters",8.1811999999999969,7,8,6,7,7,6,8,9,9,9,7,8,15,"","","",9,5,11,10,null,null,null,null,null,null,null,null,null,null,null,null,null,null,null,null,"oh","cc","cc","sh",null,null,null,null,null,null,null,null,null,null,null,null,null,null,null,null,4]
["A",7,4,"X04","Tommy Walker",5.7207103659314047,4,5,4,4,4,4,5,6,6,7,4,5,10,"","","",9,6,7,5,2,10,4,8,null,null,null,null,null,null,null,null,null,null,null,null,"oh","oh","oh","oh","dc","cc","cc","sh",null,null,null,null,null,null,null,null,null,null,null,null,8]
["A",7,5,"X04","Leo King",11.609878786672828,8,10,7,9,8,9,12,12,11,12,9,7,18,"s","","",12,13,14,14,12,11,8,null,null,null,null,null,null,null,null,null,null,null,null,null,"oh","sh","dr","dc","cc","cc","cc",null,null,null,null,null,null,null,null,null,null,null,null,null,7]
["A",7,6,"X04","Joshua Pryor",7.5054289214919994,6,7,6,6,6,6,7,8,8,9,6,7,13,"","ndr",11,5,6,13,9,8,10,15,null,null,null,null,null,null,null,null,null,null,null,null,null,"oh","sh","dr","oh","cc","cc","sh",null,null,null,null,null,null,null,null,null,null,null,null,null,7]
["A",7,7,"X04","Jesse Johnson",12.818468798658516,12,13,11,12,11,11,13,14,14,14,12,12,25,"","","",15,14,19,12,17,null,null,null,null,null,null,null,null,null,null,null,null,null,null,null,"oh","dr","oh","cc","cc",null,null,null,null,null,null,null,null,null,null,null,null,null,null,null,5]
["A",7,8,"X04","Mike Pyrtle",13.310544230507167,12,14,11,12,12,12,14,14,14,15,12,13,26,"","","",18,14,13,18,11,null,null,null,null,null,null,null,null,null,null,null,null,null,null,null,"oh","sh","dr","oh","cc",null,null,null,null,null,null,null,null,null,null,null,null,null,null,null,5]
["A",7,9,"X04","Brent McConnell",9.2138489508404948,8,9,7,8,8,7,9,10,10,10,8,9,17,"","","",7,13,12,17,10,8,17,11,null,null,null,null,null,null,null,null,null,null,null,null,"sh","oh","sh","dr","dc","cc","cc","cc",null,null,null,null,null,null,null,null,null,null,null,null,8]
["A",7,10,"X04","Ron Gorman",11.312324285181836,8,10,7,9,8,9,11,12,11,11,9,7,17,"s","","",11,14,12,12,16,6,null,null,null,null,null,null,null,null,null,null,null,null,null,null,"oh","sh","oh","dr","oh","cc",null,null,null,null,null,null,null,null,null,null,null,null,null,null,6]
["A",7,11,"X04","Reginald Bonney",15.808513021956571,15,16,14,15,14,14,16,17,17,17,15,15,31,"","","",23,20,21,19,16,18,15,null,null,null,null,null,null,null,null,null,null,null,null,null,"oh","sh","sh","oh","cc","cc","sh",null,null,null,null,null,null,null,null,null,null,null,null,null,7]
["A",7,12,"X04","Darren Fahlbusch",8.3473593324549817,7,8,6,7,7,7,8,9,9,9,7,8,15,"","ndr",9.6999999999999993,16,11,10,13,14,5,null,null,null,null,null,null,null,null,null,null,null,null,null,null,"oh","sh","oh","sh","dc","cc",null,null,null,null,null,null,null,null,null,null,null,null,null,null,6]
["A",8,0,null,null,null,"","","","","","","","","","","","","","",null,null,null,null,null,null,null,null,null,null,null,null,null,null,null,null,null,null,null,null,null,null,null,null,null,null,null,null,null,null,null,null,null,null,null,null,null,null,null,null,null,null,""]
["A",8,1,"AGS","Clay Copeland",5.7811516908212548,4,5,4,4,4,4,5,6,6,7,4,5,10,"","ndr",10,5,12,8,7,4,7,5,null,null,null,null,null,null,null,null,null,null,null,null,null,"cc","sh","cc","dr","cc","cc","dr",null,null,null,null,null,null,null,null,null,null,null,null,null,7]
["A",8,2,"AGS","Brock Harris",5.4148552477648284,4,5,3,4,4,4,5,5,6,6,4,5,9,"","","",7,6,4,4,null,null,null,null,null,null,null,null,null,null,null,null,null,null,null,null,"oh","oh","drb","oh",null,null,null,null,null,null,null,null,null,null,null,null,null,null,null,null,4]
["A",8,3,"AGS","Daniel Lutz",8.9622358605821049,8,9,7,8,7,7,9,9,10,10,8,8,16,"","","",15,12,16,9,5,14,9,null,null,null,null,null,null,null,null,null,null,null,null,null,"oh","cc","sh","dr","cc","dr","cc",null,null,null,null,null,null,null,null,null,null,null,null,null,7]
["A",8,4,"AGS","Justin James",14.959126594278624,14,15,13,14,13,13,15,16,16,17,14,15,29,"","ndr",16,15,17,21,16,13,20,13,16,18,null,null,null,null,null,null,null,null,null,null,null,"oh","cc","sh","oh","cc","dr","cc","drb","oh",null,null,null,null,null,null,null,null,null,null,null,9]
["A",8,5,"AGS","James Miller",10.544493647563225,9,11,9,9,9,9,11,11,11,12,9,10,20,"","","",16,12,12,9,9,12,12,7,null,null,null,null,null,null,null,null,null,null,null,null,"cc","sh","sh","cc","cc","cc","dr","cc",null,null,null,null,null,null,null,null,null,null,null,null,8]
["A",8,6,"AGS","Brooks Ryno",13.324737437859795,10,12,9,11,10,11,14,14,13,14,11,8,21,"s","","",15,10,12,14,null,null,null,null,null,null,null,null,null,null,null,null,null,null,null,null,"sh","cc","dr","cc",null,null,null,null,null,null,null,null,null,null,null,null,null,null,null,null,4]
["A",8,7,"AGS","Zach Harding",11.635581681184458,10,12,10,11,10,10,12,12,12,13,11,11,22,"","","",12,14,11,11,null,null,null,null,null,null,null,null,null,null,null,null,null,null,null,null,"sh","oh","drb","oh",null,null,null,null,null,null,null,null,null,null,null,null,null,null,null,null,4]
["A",8,8,"AGS","Melissa Gaskins",20.361548174351718,18,18,18,18,18,18,18,18,18,18,16,18,36,"w","","",18,23,18,21,20,16,null,null,null,null,null,null,null,null,null,null,null,null,null,null,"oh","sh","oh","dr","drb","oh",null,null,null,null,null,null,null,null,null,null,null,null,null,null,6]
["A",8,9,"AGS","Colt Copeland",7.6747461600001001,6,7,6,6,6,6,7,8,8,9,6,7,14,"","","",5,13,8,10,null,null,null,null,null,null,null,null,null,null,null,null,null,null,null,null,"cc","sh","cc","dr",null,null,null,null,null,null,null,null,null,null,null,null,null,null,null,null,4]
["A",8,10,"AGS","Forrest Barefoot",5.8190086588962462,4,5,4,4,4,4,5,6,6,7,4,5,10,"","","",7,5,1,9,8,null,null,null,null,null,null,null,null,null,null,null,null,null,null,null,"sh","cc","cc","dr","cc",null,null,null,null,null,null,null,null,null,null,null,null,null,null,null,5]
["A",8,11,"AGS","Zach Gaskins",7.8110682430756437,6,8,6,7,6,6,8,8,8,9,6,7,14,"","","",17,7,10,13,11,10,8,11,12,null,null,null,null,null,null,null,null,null,null,null,"oh","cc","sh","oh","cc","dr","cc","oh","cc",null,null,null,null,null,null,null,null,null,null,null,9]
["A",8,12,"AGS","Glenn Gaskins",7.9793194339899856,4,6,4,5,5,5,8,8,7,8,5,3,10,"s","","",6,6,12,4,7,4,9,4,null,null,null,null,null,null,null,null,null,null,null,null,"oh","sh","oh","dr","cc","drb","oh","cc",null,null,null,null,null,null,null,null,null,null,null,null,8]
["A",9,0,null,null,null,"","","","","","","","","","","","","","",null,null,null,null,null,null,null,null,null,null,null,null,null,null,null,null,null,null,null,null,null,null,null,null,null,null,null,null,null,null,null,null,null,null,null,null,null,null,null,null,null,null,""]
["A",9,1,"E86","Jeff Asby",8.3207801031592474,7,8,6,7,7,7,8,9,9,9,7,8,15,"","","",6,13,9,8,12,7,10,13,13,null,null,null,null,null,null,null,null,null,null,null,"dr","sh","oh","cc","oh","shb","oh","dr","dr",null,null,null,null,null,null,null,null,null,null,null,9]
["A",9,2,"E86","Wade Traynham",3.2885415923714989,2,3,1,2,2,1,3,3,3,4,2,3,4,"","","",1,5,5,7,8,2,9,4,3,4,null,null,null,null,null,null,null,null,null,null,"sh","oh","cc","cc","oh","shb","cc","dr","cc","dr",null,null,null,null,null,null,null,null,null,null,10]
["A",9,3,"E86","Dennis Nicely",10.564706028160312,9,11,9,10,9,9,11,11,11,12,9,10,20,"st","","",12,14,11,15,8,14,null,null,null,null,null,null,null,null,null,null,null,null,null,null,"dr","oh","cc","oh","cc","cc",null,null,null,null,null,null,null,null,null,null,null,null,null,null,6]
["A",9,4,"E86","Joseph Evans III",0.36525719366490533,-1,1E-4,-2,-1,-1,-2,-1,1E-4,1E-4,1,-1,1E-4,-2,"","","",0,-1,0,0,2,null,null,null,null,null,null,null,null,null,null,null,null,null,null,null,"sh","cc","cc","cc","dr",null,null,null,null,null,null,null,null,null,null,null,null,null,null,null,5]
["A",9,5,"E86","Eric Thorvaldson",11.766859841216316,10,12,10,11,10,10,12,13,13,13,11,11,22,"","","",13,8,15,8,11,10,12,13,19,null,null,null,null,null,null,null,null,null,null,null,"sh","oh","cc","cc","shb","cc","oh","cc","dr",null,null,null,null,null,null,null,null,null,null,null,9]
["A",9,6,"E86","Wildlando Handy",9.0986441350329166,8,9,7,8,7,7,9,10,10,10,8,9,17,"","","",14,9,16,8,11,null,null,null,null,null,null,null,null,null,null,null,null,null,null,null,"dr","oh","shb","oh","dr",null,null,null,null,null,null,null,null,null,null,null,null,null,null,null,5]
["A",9,7,"E86","Gilbert Meekins",7.87585533578563,6,8,6,7,6,6,8,8,8,9,7,7,14,"st","","",10,5,5,6,11,10,14,null,null,null,null,null,null,null,null,null,null,null,null,null,"cc","cc","oh","cc","dr","cc","dr",null,null,null,null,null,null,null,null,null,null,null,null,null,7]
["A",9,8,"E86","Jimmy Jessup",9.9786776719852615,9,10,8,9,8,8,10,11,11,11,9,9,19,"","","",15,12,6,null,null,null,null,null,null,null,null,null,null,null,null,null,null,null,null,null,"oh","cc","oh",null,null,null,null,null,null,null,null,null,null,null,null,null,null,null,null,null,3]
["A",9,9,"E86","Keith Thompson",3.7477016519281023,2,3,2,2,2,2,3,4,4,5,2,3,5,"","","",3,4,9,4,null,null,null,null,null,null,null,null,null,null,null,null,null,null,null,null,"sh","cc","oh","shb",null,null,null,null,null,null,null,null,null,null,null,null,null,null,null,null,4]
["A",9,10,"E86","Paul Bodensick",4.0638404418913918,2,4,2,3,3,2,3,4,4,5,3,3,6,"","","",8,7,6,7,4,3,null,null,null,null,null,null,null,null,null,null,null,null,null,null,"dr","oh","oh","dr","cc","dr",null,null,null,null,null,null,null,null,null,null,null,null,null,null,6]
["A",9,11,"E86","Tim Randolph",11.685866666666666,10,12,10,11,10,10,12,13,13,13,11,11,22,"","ndr",14.3,15,12,14,null,null,null,null,null,null,null,null,null,null,null,null,null,null,null,null,null,"cc","oh","dr",null,null,null,null,null,null,null,null,null,null,null,null,null,null,null,null,null,3]
["A",9,12,"E86","Kyle Franklin",3.2593826086956526,2,3,1,2,2,1,3,3,3,4,2,3,4,"","ndr",5.0999999999999996,5,6,2,7,null,null,null,null,null,null,null,null,null,null,null,null,null,null,null,null,"dr","sh","cc","shb",null,null,null,null,null,null,null,null,null,null,null,null,null,null,null,null,4]
["A",10,0,null,null,null,"","","","","","","","","","","","","","",null,null,null,null,null,null,null,null,null,null,null,null,null,null,null,null,null,null,null,null,null,null,null,null,null,null,null,null,null,null,null,null,null,null,null,null,null,null,null,null,null,null,""]
["A",10,1,"E60","Jason Harry",6.1670377841587669,5,6,4,5,5,4,6,6,7,7,5,6,10,"","","",8,9,12,7,null,null,null,null,null,null,null,null,null,null,null,null,null,null,null,null,"oh","drb","oh","drb",null,null,null,null,null,null,null,null,null,null,null,null,null,null,null,null,4]
["A",10,2,"E60","Chris Yoko",9.9297493039607154,9,10,8,9,8,8,10,11,11,11,9,9,18,"","","",10,9,8,12,13,17,12,null,null,null,null,null,null,null,null,null,null,null,null,null,"oh","sh","oh","drb","sh","drb","cc",null,null,null,null,null,null,null,null,null,null,null,null,null,7]
["A",10,3,"E60","Eric Giddinge",12.484176499157687,11,13,11,12,11,11,13,13,13,14,11,12,24,"","","",21,12,20,12,15,null,null,null,null,null,null,null,null,null,null,null,null,null,null,null,"cc","oh","oh","dr","cc",null,null,null,null,null,null,null,null,null,null,null,null,null,null,null,5]
["A",10,4,"E60","Don Divis",14.888060424894125,14,15,13,14,13,13,15,16,16,16,14,14,29,"st","","",23,11,8,12,8,15,14,15,13,null,null,null,null,null,null,null,null,null,null,null,"sh","cc","drb","sh","drb","oh","drb","dr","cc",null,null,null,null,null,null,null,null,null,null,null,9]
["A",10,5,"E60","Bill Johnson",14.183546809807822,13,15,12,13,12,13,15,15,15,16,13,14,28,"st","","",13,11,16,12,10,15,8,null,null,null,null,null,null,null,null,null,null,null,null,null,"sh","cc","drb","sh","drb","sh","cc",null,null,null,null,null,null,null,null,null,null,null,null,null,7]
["A",10,6,"E60","Ronald Crowell",5.9747400943820015,4,6,4,5,4,4,6,6,6,7,5,5,10,"","","",6,5,6,13,6,7,4,4,4,7,null,null,null,null,null,null,null,null,null,null,"sh","oh","sh","drb","sh","oh","oh","drb","dr","cc",null,null,null,null,null,null,null,null,null,null,10]
["A",10,7,"E60","Nathan Vandygriff",5.5551127135969747,4,5,4,4,4,4,5,6,6,6,4,5,9,"","","",7,8,5,3,5,2,13,5,null,null,null,null,null,null,null,null,null,null,null,null,"oh","cc","oh","drb","drb","oh","dr","cc",null,null,null,null,null,null,null,null,null,null,null,null,8]
["A",10,8,"E60","Taylor Brooks",9.6303197195444348,8,10,8,9,8,8,10,10,10,11,8,9,18,"","ndr",12,10,13,9,12,12,10,8,9,10,null,null,null,null,null,null,null,null,null,null,null,"oh","cc","drb","sh","oh","oh","drb","cc","cc",null,null,null,null,null,null,null,null,null,null,null,9]
["A",10,9,"E60","Rusty Cullen",6.0122190214333715,4,6,4,5,4,4,6,6,6,7,5,5,10,"","","",11,6,12,7,5,7,6,3,null,null,null,null,null,null,null,null,null,null,null,null,"sh","oh","sh","sh","oh","dr","cc","cc",null,null,null,null,null,null,null,null,null,null,null,null,8]
["A",10,10,"E60","Robbie Watkins",5.3606333610975341,4,5,3,4,4,4,5,5,6,6,4,5,9,"","","",6,5,7,null,null,null,null,null,null,null,null,null,null,null,null,null,null,null,null,null,"cc","oh","drb",null,null,null,null,null,null,null,null,null,null,null,null,null,null,null,null,null,3]
["A",10,11,"E60","Glenn Parker",5.2158335503907312,4,5,3,4,4,3,5,5,6,6,4,5,8,"","","",8,3,6,11,6,null,null,null,null,null,null,null,null,null,null,null,null,null,null,null,"oh","drb","sh","oh","cc",null,null,null,null,null,null,null,null,null,null,null,null,null,null,null,5]
["A",10,12,"E60","Ricky Wyatt",7.5894906338118178,6,7,6,6,6,6,7,8,8,9,6,7,14,"","","",6,14,13,10,13,13,12,13,5,null,null,null,null,null,null,null,null,null,null,null,"oh","sh","oh","sh","sh","oh","drb","dr","cc",null,null,null,null,null,null,null,null,null,null,null,9]
["A",11,0,null,null,null,"","","","","","","","","","","","","","",null,null,null,null,null,null,null,null,null,null,null,null,null,null,null,null,null,null,null,null,null,null,null,null,null,null,null,null,null,null,null,null,null,null,null,null,null,null,null,null,null,null,""]
["A",11,1,"E42","Walt Jones",10.520608757605071,9,11,9,9,9,9,11,11,11,12,9,10,20,"","","",15,8,13,11,11,13,9,20,13,null,null,null,null,null,null,null,null,null,null,null,"sh","sh","cc","dr","oh","drb","dr","drb","oh",null,null,null,null,null,null,null,null,null,null,null,9]
["A",11,2,"E42","John Christein",14.006410992574109,10,12,10,11,10,11,14,15,14,14,11,9,23,"s","","",15,13,null,null,null,null,null,null,null,null,null,null,null,null,null,null,null,null,null,null,"dr","ccb",null,null,null,null,null,null,null,null,null,null,null,null,null,null,null,null,null,null,2]
["A",11,3,"E42","Daanish Iqbal",15.05481185269997,14,15,13,14,13,13,16,16,16,17,14,15,29,"","ndr",94,17,20,16,16,16,null,null,null,null,null,null,null,null,null,null,null,null,null,null,null,"sh","sh","cc","ccb","sh",null,null,null,null,null,null,null,null,null,null,null,null,null,null,null,5]
["A",11,4,"E42","David Langston",8.8044403428309668,5,7,4,6,6,6,9,9,8,9,6,4,12,"s","","",7,6,12,8,7,4,11,5,7,4,11,10,null,null,null,null,null,null,null,null,"oh","sh","cc","sh","dr","cc","oh","ccb","sh","drb","dr","drb",null,null,null,null,null,null,null,null,12]
["A",11,5,"E42","Keith Carter",11.787686053134482,11,12,10,11,10,10,12,13,13,13,11,11,22,"","","",14,12,15,15,14,7,14,16,12,null,null,null,null,null,null,null,null,null,null,null,"oh","cc","sh","dr","cc","oh","sh","drb","oh",null,null,null,null,null,null,null,null,null,null,null,9]
["A",11,6,"E42","Jason love",15.529104399931523,14,16,14,15,14,14,16,17,17,17,15,15,30,"","ndr",16.100000000000001,19,21,16,16,19,24,null,null,null,null,null,null,null,null,null,null,null,null,null,null,"sh","oh","sh","oh","dr","oh",null,null,null,null,null,null,null,null,null,null,null,null,null,null,6]
["A",11,7,"E42","Roger Woods",11.908474818261572,11,12,10,11,10,10,12,13,13,13,11,11,23,"","","",12,15,10,8,9,15,15,12,null,null,null,null,null,null,null,null,null,null,null,null,"oh","sh","oh","oh","ccb","dr","drb","oh",null,null,null,null,null,null,null,null,null,null,null,null,8]
["A",11,8,"E42","Philip Ashe",16.868887984035975,16,17,15,16,15,15,18,18,18,18,16,17,33,"","","",19,17,21,14,21,22,22,null,null,null,null,null,null,null,null,null,null,null,null,null,"sh","oh","sh","cc","sh","drb","drb",null,null,null,null,null,null,null,null,null,null,null,null,null,7]
["A",11,9,"E42","Henry Beale",7.8669340969242683,6,8,6,7,6,6,8,8,8,9,7,7,14,"","","",14,12,8,10,4,9,11,13,9,14,null,null,null,null,null,null,null,null,null,null,"oh","cc","dr","oh","oh","ccb","drb","dr","drb","oh",null,null,null,null,null,null,null,null,null,null,10]
["A",11,10,"E42","Todd Osler",6.9429406637149267,5,7,5,6,5,5,7,7,7,8,6,6,12,"","","",9,7,11,20,13,12,null,null,null,null,null,null,null,null,null,null,null,null,null,null,"sh","cc","sh","oh","oh","sh",null,null,null,null,null,null,null,null,null,null,null,null,null,null,6]
["A",11,11,"E42","Comfort Bell",10.818866876453914,9,11,9,10,9,9,11,12,12,12,10,10,20,"","","",16,14,8,14,13,12,11,7,11,15,null,null,null,null,null,null,null,null,null,null,"sh","sh","cc","sh","dr","cc","oh","ccb","drb","dr",null,null,null,null,null,null,null,null,null,null,10]
["A",11,12,"E42","Vincent Saunders",16.353995109783234,15,17,15,16,15,15,17,18,18,18,16,16,32,"","","",21,12,14,22,20,null,null,null,null,null,null,null,null,null,null,null,null,null,null,null,"sh","cc","oh","drb","oh",null,null,null,null,null,null,null,null,null,null,null,null,null,null,null,5]
["A",12,0,null,null,null,"","","","","","","","","","","","","","",null,null,null,null,null,null,null,null,null,null,null,null,null,null,null,null,null,null,null,null,null,null,null,null,null,null,null,null,null,null,null,null,null,null,null,null,null,null,null,null,null,null,""]
["A",12,1,"X88","Mark Barker",6.4577106027772304,3,5,2,4,3,4,6,7,6,6,4,2,7,"s","","",3,2,7,9,5,2,2,3,null,null,null,null,null,null,null,null,null,null,null,null,"drb","cc","cc","shb","cc","sh","cc","oh",null,null,null,null,null,null,null,null,null,null,null,null,8]
["A",12,2,"X88","Ed Spruill",11.526683133430121,8,10,7,9,8,9,12,12,11,12,9,7,18,"s","","",14,12,10,12,11,8,12,8,null,null,null,null,null,null,null,null,null,null,null,null,"dr","drb","shb","cc","dr","sh","sh","oh",null,null,null,null,null,null,null,null,null,null,null,null,8]
["A",12,3,"X88","John Hooper",19.996702580571007,17,18,15,17,16,17,18,18,18,18,17,14,35,"s","","",18,19,22,20,21,null,null,null,null,null,null,null,null,null,null,null,null,null,null,null,"dr","dr","drb","shb","dr",null,null,null,null,null,null,null,null,null,null,null,null,null,null,null,5]
["A",12,4,"X88","Darrell Goodrich",18.044999412204792,17,18,16,18,16,17,18,18,18,18,17,18,36,"","","",21.4,23,20,20.6,18,19,16,15,14,null,null,null,null,null,null,null,null,null,null,null,"dr","drb","sh","drb","shb","cc","dr","sh","oh",null,null,null,null,null,null,null,null,null,null,null,9]
["A",12,5,"X88","Rich Dietz",15.064390766131236,12,13,11,12,11,12,16,16,15,15,12,10,25,"s","","",14,13,14,9,16,11,12,19,15,null,null,null,null,null,null,null,null,null,null,null,"drb","dr","sh","cc","cc","cc","sh","sh","oh",null,null,null,null,null,null,null,null,null,null,null,9]
["A",12,6,"X88","Chris Stumpf",20.265966898495591,18,18,18,18,18,18,18,18,18,18,18,18,36,"","ndr",93,25.9,22,20,25,26,null,null,null,null,null,null,null,null,null,null,null,null,null,null,null,"dr","drb","dr","oh","cc",null,null,null,null,null,null,null,null,null,null,null,null,null,null,null,5]
["A",12,7,"X88","Scott White",17.12457863792033,16,18,15,17,15,16,18,18,18,18,16,17,34,"","","",19,21,17,20,19,19,17,12,null,null,null,null,null,null,null,null,null,null,null,null,"dr","sh","cc","cc","shb","sh","oh","cc",null,null,null,null,null,null,null,null,null,null,null,null,8]
["A",12,8,"X88","John Plevelich",14.496239188205994,11,13,10,12,11,12,15,16,14,15,12,9,24,"s","","",18,18,13,20,null,null,null,null,null,null,null,null,null,null,null,null,null,null,null,null,"oh","sh","cc","oh",null,null,null,null,null,null,null,null,null,null,null,null,null,null,null,null,4]
["A",12,9,"X88","Dale Stumpf",13.988443875715713,10,12,9,11,10,11,14,15,14,14,11,9,23,"s","","",13,16,12,9,14,11,11,11,10,null,null,null,null,null,null,null,null,null,null,null,"dr","dr","cc","cc","cc","dr","oh","sh","oh",null,null,null,null,null,null,null,null,null,null,null,9]
["A",12,10,"X88","Larry Batten",7.8026195660663547,4,6,4,5,5,5,8,8,7,8,5,3,10,"s","","",10,10,3,10,5,10,8,8,5,null,null,null,null,null,null,null,null,null,null,null,"dr","sh","cc","drb","cc","shb","oh","sh","cc",null,null,null,null,null,null,null,null,null,null,null,9]
["A",12,11,"X88","Ron LaFrenierre",11.96223316371688,8,10,8,9,9,9,12,13,12,12,9,7,19,"s","","",9,12,5,12,14,11,11,7,null,null,null,null,null,null,null,null,null,null,null,null,"drb","sh","cc","drb","cc","sh","sh","cc",null,null,null,null,null,null,null,null,null,null,null,null,8]
["A",12,12,"X88","Eric Neese",18.674433395180234,18,18,17,18,17,17,18,18,18,18,18,18,36,"","","",21.4,27,22,18,23.1,20,19,22,null,null,null,null,null,null,null,null,null,null,null,null,"dr","drb","dr","sh","drb","cc","dr","oh",null,null,null,null,null,null,null,null,null,null,null,null,8]
["A",13,0,null,null,null,"","","","","","","","","","","","","","",null,null,null,null,null,null,null,null,null,null,null,null,null,null,null,null,null,null,null,null,null,null,null,null,null,null,null,null,null,null,null,null,null,null,null,null,null,null,null,null,null,null,""]
["A",13,1,"SUBS","Andrew Horan",19.107829378531065,18,18,17,18,17,18,18,18,18,18,18,18,36,"","ndr",18.3,21,18,21,23,22,21,25,21,null,null,null,null,null,null,null,null,null,null,null,null,"cc","dr","sh","sh","drb","sh","sh","cc",null,null,null,null,null,null,null,null,null,null,null,null,8]
["A",13,2,"SUBS","Eric Scott",18.880809717343304,18,18,17,18,17,17,18,18,18,18,18,18,36,"","","",20,25,19,24,14,22,20,21,19,null,null,null,null,null,null,null,null,null,null,null,"oh","sh","oh","oh","sh","sh","cc","cc","drb",null,null,null,null,null,null,null,null,null,null,null,9]
["A",13,3,"SUBS","Doug Murphy",15.286393069273942,14,16,13,15,13,14,16,17,16,17,14,15,30,"","","",16,20,15,null,null,null,null,null,null,null,null,null,null,null,null,null,null,null,null,null,"oh","drb","drb",null,null,null,null,null,null,null,null,null,null,null,null,null,null,null,null,null,3]
["A",13,4,"SUBS","Rich Egyud",17.376702237434301,14,16,13,15,13,15,18,18,18,18,15,12,29,"s","","",19.100000000000001,23,20,16,15,16,19,null,null,null,null,null,null,null,null,null,null,null,null,null,"dr","drb","sh","drb","sh","cc","drb",null,null,null,null,null,null,null,null,null,null,null,null,null,7]
["A",13,5,"SUBS","Jason Earnhardt",11.834304299371107,11,12,10,11,10,10,12,13,13,13,11,11,23,"","","",19,12,15,14,9,11,6,null,null,null,null,null,null,null,null,null,null,null,null,null,"oh","sh","sh","oh","oh","sh","cc",null,null,null,null,null,null,null,null,null,null,null,null,null,7]
["A",13,6,"SUBS","Lonnie Ness",8.4996774699049791,7,8,7,7,7,7,8,9,9,10,7,8,15,"","","",13,12,12,5,7,12,11,10,7,7,10,null,null,null,null,null,null,null,null,null,"cc","dr","sh","drb","sh","oh","sh","cc","cc","cc","drb",null,null,null,null,null,null,null,null,null,11]
["A",13,7,"SUBS","Raphael Olfato",2.1517517241379314,1E-4,2,1E-4,1,1,1E-4,1,2,2,3,1E-4,1,2,"","ndr",3.6,5,3,3,4,null,null,null,null,null,null,null,null,null,null,null,null,null,null,null,null,"sh","oh","drb","drb",null,null,null,null,null,null,null,null,null,null,null,null,null,null,null,null,4]
["A",13,8,"SUBS","Larry Smith",10.377203777926137,9,10,8,9,9,9,10,11,11,12,9,10,19,"","","",14,5,13,12,12,19,17,9,null,null,null,null,null,null,null,null,null,null,null,null,"cc","oh","drb","drb","sh","sh","cc","cc",null,null,null,null,null,null,null,null,null,null,null,null,8]
["A",13,9,"SUBS","David Hall",12.3337313449947,11,13,10,11,11,11,13,13,13,14,11,12,24,"","","",13,13,10,14,13,11,15,17,19,null,null,null,null,null,null,null,null,null,null,null,"cc","dr","oh","drb","oh","oh","sh","sh","drb",null,null,null,null,null,null,null,null,null,null,null,9]
["A",13,10,"SUBS","Marcus Freese",11.857309079337583,8,10,7,9,8,9,12,13,12,12,9,7,18,"s","","",11.3,11,2,11,12,7,13,10,null,null,null,null,null,null,null,null,null,null,null,null,"dr","sh","drb","oh","oh","cc","cc","cc",null,null,null,null,null,null,null,null,null,null,null,null,8]
["A",13,11,"SUBS","Chris Hernandez",18.874481292686987,18,18,17,18,17,17,18,18,18,18,18,18,36,"","ndr",94,24,19,23,null,null,null,null,null,null,null,null,null,null,null,null,null,null,null,null,null,"cc","cc","drb",null,null,null,null,null,null,null,null,null,null,null,null,null,null,null,null,null,3]
["A",13,12,"SUBS","David Breeding",9.7730496640176714,6,8,5,7,6,7,10,10,9,10,7,5,14,"s","","",10,11,9,14,4,12,5,null,null,null,null,null,null,null,null,null,null,null,null,null,"oh","sh","sh","oh","oh","sh","cc",null,null,null,null,null,null,null,null,null,null,null,null,null,7]
["A",14,0,null,null,null,"","","","","","","","","","","","","","",null,null,null,null,null,null,null,null,null,null,null,null,null,null,null,null,null,null,null,null,null,null,null,null,null,null,null,null,null,null,null,null,null,null,null,null,null,null,null,null,null,null,""]
["A",14,1,"E83","Doug Rutledge",12.749777248765724,9,11,8,10,9,10,13,14,13,13,10,8,20,"s","","",11,16,9,12,4,9,11,12,10,null,null,null,null,null,null,null,null,null,null,null,"dr","sh","dr","cc","drb","oh","cc","oh","cc",null,null,null,null,null,null,null,null,null,null,null,9]
["A",14,2,"E83","Tim Hersom",9.4929010652884127,8,9,8,8,8,8,9,10,10,11,8,9,18,"","","",18,6,13,15,8,11,11,8,null,null,null,null,null,null,null,null,null,null,null,null,"sh","sh","cc","cc","drb","sh","cc","drb",null,null,null,null,null,null,null,null,null,null,null,null,8]
["A",14,3,"E83","Sean Mueller",14.300192706728296,13,15,12,14,13,13,15,15,15,16,13,14,28,"","ndr",18.3,20,18,13,17,null,null,null,null,null,null,null,null,null,null,null,null,null,null,null,null,"sh","sh","oh","oh",null,null,null,null,null,null,null,null,null,null,null,null,null,null,null,null,4]
["A",14,4,"E83","Todd Pobiak",7.7468013997819654,6,8,6,6,6,6,8,8,8,9,6,7,14,"","","",9,12,10,8,12,12,8,null,null,null,null,null,null,null,null,null,null,null,null,null,"dr","cc","oh","cc","sh","oh","oh",null,null,null,null,null,null,null,null,null,null,null,null,null,7]
["A",14,5,"E83","Richard Jordan",16.483962645740526,15,17,15,16,15,15,17,18,18,18,16,16,32,"st","","",17,15,13,15,12,23,15,10,null,null,null,null,null,null,null,null,null,null,null,null,"sh","dr","dr","drb","cc","sh","cc","drb",null,null,null,null,null,null,null,null,null,null,null,null,8]
["A",14,6,"E83","Dave Snyder",16.988446459167267,13,15,12,14,13,14,18,18,17,17,14,12,29,"s","","",22,17,17,16,14,15,14,12,null,null,null,null,null,null,null,null,null,null,null,null,"sh","sh","cc","drb","sh","sh","cc","drb",null,null,null,null,null,null,null,null,null,null,null,null,8]
["A",14,7,"E83","Tony Gorgone",10.2901810678636,9,10,8,9,9,9,10,11,11,12,9,10,19,"","","",16,8,10,13,13,14,null,null,null,null,null,null,null,null,null,null,null,null,null,null,"sh","sh","cc","cc","cc","oh",null,null,null,null,null,null,null,null,null,null,null,null,null,null,6]
["A",14,8,"E83","Don Sniady",11.330660523457391,10,11,9,10,10,10,11,12,12,13,10,11,21,"st","","",12,16,10,8,8,8,7,7,10,null,null,null,null,null,null,null,null,null,null,null,"sh","dr","dr","cc","sh","oh","oh","cc","drb",null,null,null,null,null,null,null,null,null,null,null,9]
["A",14,9,"E83","Marlon Crowder",11.891066056892829,8,10,7,9,8,9,12,13,12,12,9,7,18,"s","","",12,12,12,11,6,8,9,8,8,null,null,null,null,null,null,null,null,null,null,null,"sh","dr","sh","dr","cc","drb","oh","cc","drb",null,null,null,null,null,null,null,null,null,null,null,9]
["A",14,10,"E83","Kevin Carpenter",10.934195866497783,10,11,9,10,9,9,11,12,12,12,10,10,21,"","","",12,9,8,17,14,15,null,null,null,null,null,null,null,null,null,null,null,null,null,null,"dr","dr","cc","sh","oh","cc",null,null,null,null,null,null,null,null,null,null,null,null,null,null,6]
["A",14,11,"E83","Tim Spradlin",11.57077043173328,10,12,10,11,10,10,12,12,12,13,10,11,22,"","","",16,11,20,12,14,12,12,13,14,12,null,null,null,null,null,null,null,null,null,null,"sh","cc","drb","sh","oh","cc","sh","oh","oh","drb",null,null,null,null,null,null,null,null,null,null,10]
["A",14,12,"E83","Tom Callaghan",20.326117658977267,18,18,18,18,18,18,18,18,18,18,18,18,36,"st","","",25,22,23,23,16,21,null,null,null,null,null,null,null,null,null,null,null,null,null,null,"dr","cc","oh","sh","oh","oh",null,null,null,null,null,null,null,null,null,null,null,null,null,null,6]
["A",15,0,null,null,null,"","","","","","","","","","","","","","",null,null,null,null,null,null,null,null,null,null,null,null,null,null,null,null,null,null,null,null,null,null,null,null,null,null,null,null,null,null,null,null,null,null,null,null,null,null,null,null,null,null,""]
["A",15,1,"E14","Rick Chapman",9.9380863348439128,9,10,8,9,8,8,10,11,11,11,9,9,19,"","","",16,16,11,14,13,12,18,9,10,null,null,null,null,null,null,null,null,null,null,null,"cc","cc","oh","oh","dc","cc","oh","dr","oh",null,null,null,null,null,null,null,null,null,null,null,9]
["A",15,2,"E14","Jimmy Simpson",11.682281498457982,10,12,10,11,10,10,12,13,13,13,11,11,22,"","","",15,12,16,15,11,18,12,8,13,18,null,null,null,null,null,null,null,null,null,null,"cc","cc","oh","oh","dc","drb","ccb","oh","dr","oh",null,null,null,null,null,null,null,null,null,null,10]
["A",15,3,"E14","Kevin Roscoe",6.5686583252805901,5,6,5,5,5,5,6,7,7,8,5,6,11,"","","",9,5,9,8,10,6,8,null,null,null,null,null,null,null,null,null,null,null,null,null,"dr","oh","oh","dc","oh","dr","oh",null,null,null,null,null,null,null,null,null,null,null,null,null,7]
["A",15,4,"E14","Bo Turner",7.4764047727667178,6,7,6,6,6,6,7,8,8,9,6,7,13,"","","",9,7,10,5,9,12,12,null,null,null,null,null,null,null,null,null,null,null,null,null,"oh","dc","drb","cc","ccb","oh","sh",null,null,null,null,null,null,null,null,null,null,null,null,null,7]
["A",15,5,"E14","Jody Miller",10.845034435612783,10,11,9,10,9,9,11,12,12,12,10,10,20,"","","",19,14,13,12,14,16,null,null,null,null,null,null,null,null,null,null,null,null,null,null,"cc","oh","oh","ccb","sh","oh",null,null,null,null,null,null,null,null,null,null,null,null,null,null,6]
["A",15,6,"E14","Dave Hause",8.6201968716384307,7,9,7,7,7,7,8,9,9,10,7,8,16,"","","",10,13,8,13,6,null,null,null,null,null,null,null,null,null,null,null,null,null,null,null,"cc","dr","ccb","sh","dr",null,null,null,null,null,null,null,null,null,null,null,null,null,null,null,5]
["A",15,7,"E14","Jim Lawson",10.178858150250349,9,10,8,9,9,8,10,11,11,11,9,10,19,"","","",12,13,11,15,12,14,10,null,null,null,null,null,null,null,null,null,null,null,null,null,"cc","dr","oh","dc","drb","sh","dr",null,null,null,null,null,null,null,null,null,null,null,null,null,7]
["A",15,8,"E14","Chris Rohlf",13.947019154315765,10,12,9,11,10,11,14,15,14,14,11,9,23,"s","","",15,11,11,10,10,17,10,16,12,null,null,null,null,null,null,null,null,null,null,null,"cc","dr","oh","oh","oh","drb","cc","oh","oh",null,null,null,null,null,null,null,null,null,null,null,9]
["A",15,9,"E14","Jim Albright",14.861857870541655,11,13,10,12,11,12,15,16,15,15,12,10,24,"s","","",11,12,17,13,15,20,16,9,16,null,null,null,null,null,null,null,null,null,null,null,"cc","cc","oh","oh","oh","cc","ccb","oh","sh",null,null,null,null,null,null,null,null,null,null,null,9]
["A",15,10,"E14","Brandon Cash",14.162645238763602,13,14,12,13,12,13,15,15,15,16,13,14,27,"","","",13,21,null,null,null,null,null,null,null,null,null,null,null,null,null,null,null,null,null,null,"dr","drb",null,null,null,null,null,null,null,null,null,null,null,null,null,null,null,null,null,null,2]
["A",15,11,"E14","Jeff Merichko",18.027518055000115,17,18,16,18,16,17,18,18,18,18,17,18,36,"","","",20,17,18,17,16,20,20,null,null,null,null,null,null,null,null,null,null,null,null,null,"cc","cc","dr","oh","oh","dc","cc",null,null,null,null,null,null,null,null,null,null,null,null,null,7]
["A",15,12,"E14","Ben Cash",10.618964470667819,9,11,9,10,9,9,11,11,11,12,9,10,20,"","","",19,19,17,8,11,10,null,null,null,null,null,null,null,null,null,null,null,null,null,null,"drb","cc","ccb","sh","dr","oh",null,null,null,null,null,null,null,null,null,null,null,null,null,null,6]
["A",16,0,null,null,null,"","","","","","","","","","","","","","",null,null,null,null,null,null,null,null,null,null,null,null,null,null,null,null,null,null,null,null,null,null,null,null,null,null,null,null,null,null,null,null,null,null,null,null,null,null,null,null,null,null,""]
["A",16,1,"E17","Roger Lohr",16.752984999025905,16,17,15,16,15,15,17,18,18,18,16,16,33,"","ndr",18,19,18,19,21,16,20,null,null,null,null,null,null,null,null,null,null,null,null,null,null,"sh","oh","drb","cc","sh","oh",null,null,null,null,null,null,null,null,null,null,null,null,null,null,6]
["A",16,2,"E17","David Pitt",5.7923046476761648,4,5,4,4,4,4,5,6,6,7,4,5,10,"","ndr",7.5,8,5,7,10,null,null,null,null,null,null,null,null,null,null,null,null,null,null,null,null,"cc","cc","drb","cc",null,null,null,null,null,null,null,null,null,null,null,null,null,null,null,null,4]
["A",16,3,"E17","Brenden Raynor",8.7280488536457348,7,9,7,8,7,7,9,9,9,10,7,8,16,"","","",12,14,8,8,10,null,null,null,null,null,null,null,null,null,null,null,null,null,null,null,"sh","sh","dr","oh","sh",null,null,null,null,null,null,null,null,null,null,null,null,null,null,null,5]
["A",16,4,"E17","Nate Harrison",9.1559744665978169,8,9,7,8,8,7,9,10,10,10,8,9,17,"","","",15,8,8,16,5,null,null,null,null,null,null,null,null,null,null,null,null,null,null,null,"sh","oh","oh","cc","drb",null,null,null,null,null,null,null,null,null,null,null,null,null,null,null,5]
["A",16,5,"E17","Wyatt Brown",18.431141433596686,17,18,17,18,17,17,18,18,18,18,18,18,36,"","","",16,23,20,14,null,null,null,null,null,null,null,null,null,null,null,null,null,null,null,null,"oh","cc","cc","oh",null,null,null,null,null,null,null,null,null,null,null,null,null,null,null,null,4]
["A",16,6,"E17","Nick Maidment",16.605003556762028,16,17,15,16,15,15,17,18,18,18,16,16,33,"","","",21,19,19,20,18,15,23,21,null,null,null,null,null,null,null,null,null,null,null,null,"sh","sh","oh","dr","cc","drb","cc","oh",null,null,null,null,null,null,null,null,null,null,null,null,8]
["A",16,7,"E17","Elmer Dickens",18.844522430052226,18,18,17,18,17,17,18,18,18,18,18,18,36,"","","",14,23,20,null,null,null,null,null,null,null,null,null,null,null,null,null,null,null,null,null,"cc","sh","oh",null,null,null,null,null,null,null,null,null,null,null,null,null,null,null,null,null,3]
["A",16,8,"E17","Jacob Mueller",12.322462117017899,11,13,10,11,11,11,13,13,13,14,11,12,24,"","ndr",16.8,15,14,21,11,14,18,13,11,null,null,null,null,null,null,null,null,null,null,null,null,"sh","sh","oh","dr","drb","cc","sh","oh",null,null,null,null,null,null,null,null,null,null,null,null,8]
["A",16,9,"E17","Mark Gallant",9.903053439852826,9,10,8,9,8,8,10,11,11,11,9,9,18,"","","",11,16,12,9,14,9,10,null,null,null,null,null,null,null,null,null,null,null,null,null,"sh","dr","cc","cc","drb","cc","oh",null,null,null,null,null,null,null,null,null,null,null,null,null,7]
["A",16,10,"E17","Allen Snyder",14.692393062790632,14,15,13,14,13,13,15,16,16,16,14,14,29,"","","",20,17,21,16,15,20,14,15,null,null,null,null,null,null,null,null,null,null,null,null,"sh","sh","oh","dr","oh","cc","cc","sh",null,null,null,null,null,null,null,null,null,null,null,null,8]
["A",16,11,"E17","Tyler Campbell",10.565449579672011,9,11,9,10,9,9,11,11,11,12,9,10,20,"","","",15,15,15,16,11,null,null,null,null,null,null,null,null,null,null,null,null,null,null,null,"sh","sh","sh","oh","cc",null,null,null,null,null,null,null,null,null,null,null,null,null,null,null,5]
["A",16,12,"E17","Collin Bowden",7.8868157898499662,6,8,6,7,6,6,8,8,8,9,7,7,14,"","","",11,10,8,8,8,9,null,null,null,null,null,null,null,null,null,null,null,null,null,null,"sh","sh","sh","dr","oh","sh",null,null,null,null,null,null,null,null,null,null,null,null,null,null,6]
["A",17,0,null,null,null,"","","","","","","","","","","","","","",null,null,null,null,null,null,null,null,null,null,null,null,null,null,null,null,null,null,null,null,null,null,null,null,null,null,null,null,null,null,null,null,null,null,null,null,null,null,null,null,null,null,""]
["A",17,1,"","","","","","","","","","","","","","","","","","","",null,null,null,null,null,null,null,null,null,null,null,null,null,null,null,null,null,null,null,null,null,null,null,null,null,null,null,null,null,null,null,null,null,null,null,null,null,null,null,null,""]
["A",17,2,"","","","","","","","","","","","","","","","","","","",null,null,null,null,null,null,null,null,null,null,null,null,null,null,null,null,null,null,null,null,null,null,null,null,null,null,null,null,null,null,null,null,null,null,null,null,null,null,null,null,""]
["A",17,3,"","","","","","","","","","","","","","","","","","","",null,null,null,null,null,null,null,null,null,null,null,null,null,null,null,null,null,null,null,null,null,null,null,null,null,null,null,null,null,null,null,null,null,null,null,null,null,null,null,null,""]
["A",17,4,"","","","","","","","","","","","","","","","","","","",null,null,null,null,null,null,null,null,null,null,null,null,null,null,null,null,null,null,null,null,null,null,null,null,null,null,null,null,null,null,null,null,null,null,null,null,null,null,null,null,""]
["A",17,5,"","","","","","","","","","","","","","","","","","","",null,null,null,null,null,null,null,null,null,null,null,null,null,null,null,null,null,null,null,null,null,null,null,null,null,null,null,null,null,null,null,null,null,null,null,null,null,null,null,null,""]
["A",17,6,"","","","","","","","","","","","","","","","","","","",null,null,null,null,null,null,null,null,null,null,null,null,null,null,null,null,null,null,null,null,null,null,null,null,null,null,null,null,null,null,null,null,null,null,null,null,null,null,null,null,""]
["A",17,7,"","","","","","","","","","","","","","","","","","","",null,null,null,null,null,null,null,null,null,null,null,null,null,null,null,null,null,null,null,null,null,null,null,null,null,null,null,null,null,null,null,null,null,null,null,null,null,null,null,null,""]
["A",17,8,"","","","","","","","","","","","","","","","","","","",null,null,null,null,null,null,null,null,null,null,null,null,null,null,null,null,null,null,null,null,null,null,null,null,null,null,null,null,null,null,null,null,null,null,null,null,null,null,null,null,""]
["A",17,9,"","","","","","","","","","","","","","","","","","","",null,null,null,null,null,null,null,null,null,null,null,null,null,null,null,null,null,null,null,null,null,null,null,null,null,null,null,null,null,null,null,null,null,null,null,null,null,null,null,null,""]
["A",17,10,"","","","","","","","","","","","","","","","","","","",null,null,null,null,null,null,null,null,null,null,null,null,null,null,null,null,null,null,null,null,null,null,null,null,null,null,null,null,null,null,null,null,null,null,null,null,null,null,null,null,""]
["A",17,11,"","","","","","","","","","","","","","","","","","","",null,null,null,null,null,null,null,null,null,null,null,null,null,null,null,null,null,null,null,null,null,null,null,null,null,null,null,null,null,null,null,null,null,null,null,null,null,null,null,null,""]
["A",17,12,"","","","","","","","","","","","","","","","","","","",null,null,null,null,null,null,null,null,null,null,null,null,null,null,null,null,null,null,null,null,null,null,null,null,null,null,null,null,null,null,null,null,null,null,null,null,null,null,null,null,""]
["B",1,0,null,null,null,"","","","","","","","","","","","","","",null,null,null,null,null,null,null,null,null,null,null,null,null,null,null,null,null,null,null,null,null,null,null,null,null,null,null,null,null,null,null,null,null,null,null,null,null,null,null,null,null,null,""]
["B",1,1,"E75","John Fritschi",7.3622566947817258,6,7,5,6,6,6,7,8,8,8,6,7,13,"","","",5,12,9,7,11,10,10,4,15,15,null,null,null,null,null,null,null,null,null,null,"dc","sh","kcb","sh","oh","oh","sh","dr","dr","kc",null,null,null,null,null,null,null,null,null,null,10]
["B",1,2,"E75","Mike Coon",7.4244793391310964,6,7,5,6,6,6,7,8,8,8,6,7,13,"","","",11,6,7,9,8,5,10,7,8,null,null,null,null,null,null,null,null,null,null,null,"sh","kcb","sh","oh","oh","sh","sh","dr","kc",null,null,null,null,null,null,null,null,null,null,null,9]
["B",1,3,"E75","Greg Martin",3.0829789582334031,1,3,1,2,2,1,2,3,3,4,1,2,4,"","","",4.5,6,7,7,3,2,7,2,3,null,null,null,null,null,null,null,null,null,null,null,"dc","kc","kcb","sh","kcb","sh","sh","drb","dr",null,null,null,null,null,null,null,null,null,null,null,9]
["B",1,4,"E75","Mark Friedrich",14.998377191928014,11,13,10,12,11,12,15,16,15,15,12,10,25,"s","","",15,15,18,13,15,18,20,null,null,null,null,null,null,null,null,null,null,null,null,null,"kc","oh","kcb","kcb","dr","drb","kc",null,null,null,null,null,null,null,null,null,null,null,null,null,7]
["B",1,5,"E75","Gabriella Bishop",19.278615442561208,18,18,18,18,17,18,18,18,18,18,15,18,36,"w","ndr",21.8,21,20,25,null,null,null,null,null,null,null,null,null,null,null,null,null,null,null,null,null,"oh","drb","kc",null,null,null,null,null,null,null,null,null,null,null,null,null,null,null,null,null,3]
["B",1,6,"E75","David Allen",2.1939119313930027,1E-4,2,1E-4,1,1,1E-4,1,2,2,3,1,1,2,"","","",6,1,3,7,2,4,6,2,2,2,null,null,null,null,null,null,null,null,null,null,"dc","oh","sh","kcb","oh","kcb","sh","dr","drb","dr",null,null,null,null,null,null,null,null,null,null,10]
["B",1,7,"E75","Rick Taylor",16.932647930689029,16,17,15,16,15,15,18,18,18,18,16,17,33,"","","",18,19,21,11,null,null,null,null,null,null,null,null,null,null,null,null,null,null,null,null,"oh","dr","drb","kc",null,null,null,null,null,null,null,null,null,null,null,null,null,null,null,null,4]
["B",1,8,"E75","Bob Keller",14.130314030029414,13,14,12,13,12,13,15,15,15,16,13,14,27,"","","",19.100000000000001,16,10,15,19,19,13,null,null,null,null,null,null,null,null,null,null,null,null,null,"dc","kc","sh","sh","oh","sh","sh",null,null,null,null,null,null,null,null,null,null,null,null,null,7]
["B",1,9,"E75","Joe McGuigan",11.12259022710524,10,11,9,10,9,9,11,12,12,12,10,11,21,"","","",10,14,14,10,10,14,20,null,null,null,null,null,null,null,null,null,null,null,null,null,"oh","sh","oh","oh","sh","sh","dr",null,null,null,null,null,null,null,null,null,null,null,null,null,7]
["B",1,10,"E75","David King",6.7636538467360223,5,7,5,5,5,5,6,7,7,8,5,6,12,"","","",13,10,9,8,10,5,10,14,null,null,null,null,null,null,null,null,null,null,null,null,"dc","kc","kcb","oh","oh","kcb","sh","dr",null,null,null,null,null,null,null,null,null,null,null,null,8]
["B",1,11,"E75","Jeff Waltz",15.345895970856651,14,16,14,15,14,14,16,17,16,17,14,15,30,"","","",21,16,24,18,17,17,18,null,null,null,null,null,null,null,null,null,null,null,null,null,"kc","oh","sh","oh","kcb","dr","kc",null,null,null,null,null,null,null,null,null,null,null,null,null,7]
["B",1,12,"E75","Nathan Eramian",3.0116611139171825,1,2,1,1,2,1,2,3,3,4,1,2,4,"","","",3,5,7,4,6,4,1,0,0,null,null,null,null,null,null,null,null,null,null,null,"dc","kc","oh","sh","sh","kcb","sh","drb","dr",null,null,null,null,null,null,null,null,null,null,null,9]
["B",2,0,null,null,null,"","","","","","","","","","","","","","",null,null,null,null,null,null,null,null,null,null,null,null,null,null,null,null,null,null,null,null,null,null,null,null,null,null,null,null,null,null,null,null,null,null,null,null,null,null,null,null,null,null,""]
["B",2,1,"NNIT","Peter Yevak",7.0700862627891849,6,7,5,6,5,5,7,7,8,8,6,6,12,"","","",7,14,11,6,8,4,6,null,null,null,null,null,null,null,null,null,null,null,null,null,"sh","shb","kcb","kc","oh","oh","sh",null,null,null,null,null,null,null,null,null,null,null,null,null,7]
["B",2,2,"NNIT","Steve Ferrell",14.943525463856412,14,15,13,14,13,13,15,16,16,17,14,15,29,"st","","",15,11,14,16,15,16,null,null,null,null,null,null,null,null,null,null,null,null,null,null,"drb","oh","kcb","kcb","kc","dr",null,null,null,null,null,null,null,null,null,null,null,null,null,null,6]
["B",2,3,"NNIT","Ron Hand",9.879006001503722,9,10,8,9,8,8,10,10,11,11,9,9,18,"st","","",19,8,16,12,8,11,9,9,10,14,null,null,null,null,null,null,null,null,null,null,"oh","drb","shb","kcb","dr","kcb","kc","dr","oh","sh",null,null,null,null,null,null,null,null,null,null,10]
["B",2,4,"NNIT","Andy Key",12.785758569147017,12,13,11,12,11,11,13,14,14,14,12,12,25,"","","",14,14,16,13,16,16,15,null,null,null,null,null,null,null,null,null,null,null,null,null,"oh","drb","sh","kcb","oh","sh","sh",null,null,null,null,null,null,null,null,null,null,null,null,null,7]
["B",2,5,"NNIT","Todd Skeeter",7.4090830319637018,6,7,5,6,6,6,7,8,8,8,6,7,13,"","","",11,13,2,13,7,12,7,null,null,null,null,null,null,null,null,null,null,null,null,null,"oh","shb","kcb","kcb","oh","sh","sh",null,null,null,null,null,null,null,null,null,null,null,null,null,7]
["B",2,6,"NNIT","Gary Neal",10.536712816626016,9,11,9,9,9,9,11,11,11,12,9,10,20,"st","","",17,8,6,13,11,17,10,13,6,null,null,null,null,null,null,null,null,null,null,null,"oh","oh","drb","dr","kcb","kc","dr","oh","sh",null,null,null,null,null,null,null,null,null,null,null,9]
["B",2,7,"NNIT","Justin Jesneck",5.5002500061793471,4,5,3,4,4,4,5,6,6,6,4,5,9,"","","",8,8,5,10,7,3,null,null,null,null,null,null,null,null,null,null,null,null,null,null,"oh","drb","oh","drb","oh","dr",null,null,null,null,null,null,null,null,null,null,null,null,null,null,6]
["B",2,8,"NNIT","Steve Schultz",7.9389609988268575,6,8,6,7,6,6,8,8,8,9,7,7,14,"","","",12,9,15,13,8,8,7,9,null,null,null,null,null,null,null,null,null,null,null,null,"oh","sh","shb","oh","kcb","drb","kcb","sh",null,null,null,null,null,null,null,null,null,null,null,null,8]
["B",2,9,"NNIT","Mark Noble",13.644842046309071,10,12,9,11,10,11,14,15,14,14,11,9,22,"s","","",7,14,14,10,16,13,13,null,null,null,null,null,null,null,null,null,null,null,null,null,"drb","sh","oh","drb","dr","kc","oh",null,null,null,null,null,null,null,null,null,null,null,null,null,7]
["B",2,10,"NNIT","Bruce Herring",5.253505290025811,2,3,1,2,2,3,5,5,5,5,3,1,5,"s","","",1,13,7,3,6,7,1,null,null,null,null,null,null,null,null,null,null,null,null,null,"sh","shb","dr","oh","oh","sh","sh",null,null,null,null,null,null,null,null,null,null,null,null,null,7]
["B",2,11,"NNIT","Vijay Patel",6.5922883171565561,5,6,5,5,5,5,6,7,7,8,5,6,11,"","","",8,9,8,11,12,8,8,null,null,null,null,null,null,null,null,null,null,null,null,null,"sh","oh","dr","kcb","kc","dr","sh",null,null,null,null,null,null,null,null,null,null,null,null,null,7]
["B",2,12,"NNIT","Tim Reynolds",5.2802473372586913,4,5,3,4,4,3,5,5,6,6,4,5,9,"","","",3,6,9,6,8,4,null,null,null,null,null,null,null,null,null,null,null,null,null,null,"shb","drb","dr","dr","oh","sh",null,null,null,null,null,null,null,null,null,null,null,null,null,null,6]
["B",3,0,null,null,null,"","","","","","","","","","","","","","",null,null,null,null,null,null,null,null,null,null,null,null,null,null,null,null,null,null,null,null,null,null,null,null,null,null,null,null,null,null,null,null,null,null,null,null,null,null,null,null,null,null,""]
["B",3,1,"CRF","Jacob Sinniger",3.8472459510357768,2,3,2,2,2,2,3,4,4,5,2,3,6,"","ndr",8.5,13,4,6,3,5,null,null,null,null,null,null,null,null,null,null,null,null,null,null,null,"drb","dr","sh","sh","drb",null,null,null,null,null,null,null,null,null,null,null,null,null,null,null,5]
["B",3,2,"CRF","Michael Brunfield",3.5058308941877785,2,3,1,2,2,2,3,3,4,4,2,3,5,"","","",6,1,10,6,8,6,3,6,3,3,7,null,null,null,null,null,null,null,null,null,"oh","oh","dc","kcb","oh","kc","kc","drb","dcb","dr","drb",null,null,null,null,null,null,null,null,null,11]
["B",3,3,"CRF","Adam Brubaker",11.684307468123862,10,12,10,11,10,10,12,13,13,13,11,11,22,"","ndr",12.8,18,17,16,null,null,null,null,null,null,null,null,null,null,null,null,null,null,null,null,null,"dc","kc","sh",null,null,null,null,null,null,null,null,null,null,null,null,null,null,null,null,null,3]
["B",3,4,"CRF","Jimmy Martin",14.971990965794655,11,13,10,12,11,12,15,16,15,15,12,10,25,"s","","",20,12,16,17,16,14,null,null,null,null,null,null,null,null,null,null,null,null,null,null,"oh","oh","oh","sh","sh","sh",null,null,null,null,null,null,null,null,null,null,null,null,null,null,6]
["B",3,5,"CRF","Bill Fralich",12.762464147027353,12,13,11,12,11,11,13,14,14,14,12,12,25,"","","",18,20,13,15,null,null,null,null,null,null,null,null,null,null,null,null,null,null,null,null,"dc","sh","oh","drb",null,null,null,null,null,null,null,null,null,null,null,null,null,null,null,null,4]
["B",3,6,"CRF","Andy Hammonds",11.89602508055027,11,12,10,11,10,10,12,13,13,13,11,11,23,"","","",9,16,7,11,15,13,13,13,17,17,15,17,14,14,null,null,null,null,null,null,"oh","oh","oh","sh","kcb","oh","kc","kc","drb","dcb","dr","sh","sh","drb",null,null,null,null,null,null,14]
["B",3,7,"CRF","Bill Cochran",11.687993821293901,8,10,7,9,8,9,12,13,11,12,9,7,18,"s","","",10,9,17,11,15,11,null,null,null,null,null,null,null,null,null,null,null,null,null,null,"dc","oh","sh","dcb","dr","drb",null,null,null,null,null,null,null,null,null,null,null,null,null,null,6]
["B",3,8,"CRF","Josh Kampsen",8.7753082166501937,7,9,7,8,7,7,9,9,9,10,8,8,16,"","","",11,7,4,11,13,9,9,13,11,null,null,null,null,null,null,null,null,null,null,null,"oh","oh","dc","oh","kcb","oh","kc","drb","drb",null,null,null,null,null,null,null,null,null,null,null,9]
["B",3,9,"CRF","Larry Crosby",9.7182010224806312,8,10,8,9,8,8,10,10,10,11,9,9,18,"","","",13,10,null,null,null,null,null,null,null,null,null,null,null,null,null,null,null,null,null,null,"kcb","kc",null,null,null,null,null,null,null,null,null,null,null,null,null,null,null,null,null,null,2]
["B",3,10,"CRF","Grant Melvin",6.8844090532443039,5,7,5,6,5,5,7,7,7,8,6,6,12,"","ndr",94,17,11,6,10,6,14,null,null,null,null,null,null,null,null,null,null,null,null,null,null,"oh","oh","sh","oh","kc","sh",null,null,null,null,null,null,null,null,null,null,null,null,null,null,6]
["B",3,11,"CRF","Kendal Rapp",10.840981731228586,10,11,9,10,9,9,11,12,12,12,10,10,20,"","","",10,18,15,16,18,12,15,12,null,null,null,null,null,null,null,null,null,null,null,null,"oh","sh","kcb","kc","kc","dcb","sh","sh",null,null,null,null,null,null,null,null,null,null,null,null,8]
["B",3,12,"CRF","Kevin Faherty",11.473602259803732,10,12,10,10,10,10,12,12,12,13,10,11,22,"","","",16,17,25,24,12,8,12,17,12,8,11,19,17,11,null,null,null,null,null,null,"oh","oh","dc","oh","kcb","oh","kc","kc","drb","dcb","dr","sh","sh","drb",null,null,null,null,null,null,14]
["B",4,0,null,null,null,"","","","","","","","","","","","","","",null,null,null,null,null,null,null,null,null,null,null,null,null,null,null,null,null,null,null,null,null,null,null,null,null,null,null,null,null,null,null,null,null,null,null,null,null,null,null,null,null,null,""]
["B",4,1,"CVN","Chris Massiah",15.86454709044771,15,16,14,15,14,14,16,17,17,17,15,15,31,"","","",21,19,17,12,17,17,15,null,null,null,null,null,null,null,null,null,null,null,null,null,"kc","kcb","sh","drb","kc","oh","oh",null,null,null,null,null,null,null,null,null,null,null,null,null,7]
["B",4,2,"CVN","Jim Barner",11.481062787087662,8,10,7,9,8,9,12,12,11,12,9,7,18,"s","","",12,14,17,9,13,12,9,12,11,null,null,null,null,null,null,null,null,null,null,null,"kc","kc","sh","kc","sh","shb","oh","oh","oh",null,null,null,null,null,null,null,null,null,null,null,9]
["B",4,3,"CVN","Ryan Scott",14.495742997072703,13,15,13,14,13,13,15,16,16,16,14,14,28,"","ndr",94,20,17,20,22,13,null,null,null,null,null,null,null,null,null,null,null,null,null,null,null,"kc","kc","sh","shb","oh",null,null,null,null,null,null,null,null,null,null,null,null,null,null,null,5]
["B",4,4,"CVN","George Bradby",14.695163680677812,11,13,10,12,11,12,15,16,15,15,12,10,24,"s","","",18,17,19,15,null,null,null,null,null,null,null,null,null,null,null,null,null,null,null,null,"kc","kcb","sh","drb",null,null,null,null,null,null,null,null,null,null,null,null,null,null,null,null,4]
["B",4,5,"CVN","Mark Hardy",14.456337459425134,11,13,10,12,11,12,15,16,14,15,12,9,24,"s","","",19,16,15,19,11,null,null,null,null,null,null,null,null,null,null,null,null,null,null,null,"kcb","sh","kc","oh","oh",null,null,null,null,null,null,null,null,null,null,null,null,null,null,null,5]
["B",4,6,"CVN","Paul Toupin",17.483696381678705,14,16,13,15,14,15,18,18,18,18,15,12,30,"s","","",22,14,17,null,null,null,null,null,null,null,null,null,null,null,null,null,null,null,null,null,"kcb","kc","oh",null,null,null,null,null,null,null,null,null,null,null,null,null,null,null,null,null,3]
["B",4,7,"CVN","Michael Wolff",12.057157236824017,11,12,10,11,10,10,12,13,13,13,11,12,23,"","","",13,22,20,13,16,9,null,null,null,null,null,null,null,null,null,null,null,null,null,null,"kc","drb","kc","sh","oh","oh",null,null,null,null,null,null,null,null,null,null,null,null,null,null,6]
["B",4,8,"CVN","Jonathan McCloud",8.9970033130414997,8,9,7,8,7,7,9,9,10,10,8,8,17,"","","",12,12,12,10,12,11,9,9,8,9,9,8,null,null,null,null,null,null,null,null,"kc","kc","kcb","sh","drb","kc","sh","sh","kc","shb","oh","oh",null,null,null,null,null,null,null,null,12]
["B",4,9,"CVN","Stephen Reid",16.503474146643306,15,17,15,16,15,15,17,18,18,18,16,16,32,"","","",23,22,25,22,20,19,null,null,null,null,null,null,null,null,null,null,null,null,null,null,"kc","drb","kc","sh","shb","oh",null,null,null,null,null,null,null,null,null,null,null,null,null,null,6]
["B",4,10,"CVN","Samuel Bustamante",21.4074511940835,18,18,18,18,18,18,18,18,18,18,18,18,36,"","","",24,25,24,25,27,null,null,null,null,null,null,null,null,null,null,null,null,null,null,null,"kc","kc","sh","sh","shb",null,null,null,null,null,null,null,null,null,null,null,null,null,null,null,5]
["B",4,11,"CVN","David Krejcarek",13.611380695082635,10,12,9,11,10,11,14,15,13,14,11,9,22,"s","","",14,9,19,12,13,12,null,null,null,null,null,null,null,null,null,null,null,null,null,null,"kc","sh","kc","shb","oh","oh",null,null,null,null,null,null,null,null,null,null,null,null,null,null,6]
["B",4,12,"CVN","Joshua Hudson",5.0141897478584765,3,5,3,4,3,3,5,5,5,6,4,4,8,"","ndr",10,5,11,6,15,11,6,null,null,null,null,null,null,null,null,null,null,null,null,null,null,"kcb","sh","drb","sh","sh","kc",null,null,null,null,null,null,null,null,null,null,null,null,null,null,6]
["B",5,0,null,null,null,"","","","","","","","","","","","","","",null,null,null,null,null,null,null,null,null,null,null,null,null,null,null,null,null,null,null,null,null,null,null,null,null,null,null,null,null,null,null,null,null,null,null,null,null,null,null,null,null,null,""]
["B",5,1,"O46","David Crews",7.9461688984156975,6,8,6,7,6,6,8,8,8,9,7,7,14,"","","",12,15,19,14,14,8,10,15,null,null,null,null,null,null,null,null,null,null,null,null,"oh","oh","kc","sh","dr","oh","oh","sh",null,null,null,null,null,null,null,null,null,null,null,null,8]
["B",5,2,"O46","Steve Gilliland",11.723350354691419,10,12,10,11,10,10,12,13,13,13,11,11,22,"","","",16,10,13,16,13,13,null,null,null,null,null,null,null,null,null,null,null,null,null,null,"kcb","oh","sh","kc","oh","sh",null,null,null,null,null,null,null,null,null,null,null,null,null,null,6]
["B",5,3,"O46","Charkes Walker Jr",15.932457844133914,15,16,14,15,14,14,16,17,17,18,15,16,31,"","ndr",19,20,19,15,20,19,20,null,null,null,null,null,null,null,null,null,null,null,null,null,null,"oh","oh","drb","kcb","drb","sh",null,null,null,null,null,null,null,null,null,null,null,null,null,null,6]
["B",5,4,"O46","Jordon Auerbach",7.366029569942059,6,7,5,6,6,6,7,8,8,8,6,7,13,"","","",13,12,4,8,8,7,7,13,null,null,null,null,null,null,null,null,null,null,null,null,"oh","oh","kc","drb","drb","kc","sh","kcb",null,null,null,null,null,null,null,null,null,null,null,null,8]
["B",5,5,"O46","Jean Schaedig",9.0611594729642952,8,9,7,8,7,7,9,10,10,10,8,9,17,"","","",12,7,18,10,10,10,9,8,8,11,4,null,null,null,null,null,null,null,null,null,"oh","oh","kc","drb","oh","dr","kc","sh","oh","kcb","sh",null,null,null,null,null,null,null,null,null,11]
["B",5,6,"O46","Ronnie Gray",6.9921362161889675,6,7,5,6,5,5,7,7,7,8,6,6,12,"","","",7,13,9,13,11,7,11,12,12,8,5,5,null,null,null,null,null,null,null,null,"oh","kc","drb","kcb","oh","sh","drb","dr","kc","oh","kcb","sh",null,null,null,null,null,null,null,null,12]
["B",5,7,"O46","Doug Jay",4.720919707911837,3,4,3,3,3,3,4,5,5,6,3,4,7,"","","",6,9,4,null,null,null,null,null,null,null,null,null,null,null,null,null,null,null,null,null,"oh","drb","dr",null,null,null,null,null,null,null,null,null,null,null,null,null,null,null,null,null,3]
["B",5,8,"O46","Daniel Lintemoot",17.465661628873029,16,18,16,17,16,16,18,18,18,18,17,17,34,"","","",17,18,20,26,20,null,null,null,null,null,null,null,null,null,null,null,null,null,null,null,"oh","kc","kcb","sh","oh",null,null,null,null,null,null,null,null,null,null,null,null,null,null,null,5]
["B",5,9,"O46","Mike Geiger",9.2528481374784946,8,9,7,8,8,7,9,10,10,10,8,9,17,"","","",9,13,5,4,13,null,null,null,null,null,null,null,null,null,null,null,null,null,null,null,"sh","kc","oh","kcb","sh",null,null,null,null,null,null,null,null,null,null,null,null,null,null,null,5]
["B",5,10,"O46","Mark Auerbach",8.8030265967479835,7,9,7,8,7,7,9,9,9,10,8,8,16,"","","",10,6,12,15,12,8,6,14,8,15,null,null,null,null,null,null,null,null,null,null,"oh","kc","kcb","oh","drb","kc","sh","oh","kcb","sh",null,null,null,null,null,null,null,null,null,null,10]
["B",5,11,"O46","Mike Wallace",7.9788098668945313,7,8,6,7,6,6,8,8,9,9,7,7,14,"","","",17,19,7,9,7,10,9,12,null,null,null,null,null,null,null,null,null,null,null,null,"oh","drb","sh","dr","oh","sh","oh","sh",null,null,null,null,null,null,null,null,null,null,null,null,8]
["B",5,12,"O46","Chris Jones",4.6222711325969659,3,4,3,3,3,3,4,5,5,5,3,4,7,"","","",5,2,6,6,3,3,5,6,null,null,null,null,null,null,null,null,null,null,null,null,"drb","kcb","oh","drb","dr","oh","oh","kcb",null,null,null,null,null,null,null,null,null,null,null,null,8]
["B",6,0,null,null,null,"","","","","","","","","","","","","","",null,null,null,null,null,null,null,null,null,null,null,null,null,null,null,null,null,null,null,null,null,null,null,null,null,null,null,null,null,null,null,null,null,null,null,null,null,null,null,null,null,null,""]
["B",6,1,"E25","Terry Dishmon",12.941422770073615,12,13,11,12,11,11,13,14,14,14,12,12,25,"","ndr",94,16,15,13,13,16,21,11,null,null,null,null,null,null,null,null,null,null,null,null,null,"sh","oh","oh","dr","sh","kcb","oh",null,null,null,null,null,null,null,null,null,null,null,null,null,7]
["B",6,2,"E25","Al Fuller",8.5164010163960366,5,7,4,6,5,6,8,9,8,8,6,4,12,"s","","",10,9,15,15,13,20,null,null,null,null,null,null,null,null,null,null,null,null,null,null,"kc","oh","dr","dr","sh","oh",null,null,null,null,null,null,null,null,null,null,null,null,null,null,6]
["B",6,3,"E25","Tim Moore",3.835142542320757,2,3,2,2,2,2,3,4,4,5,2,3,6,"","ndr",7.1,1,7,14,6,5,9,8,6,null,null,null,null,null,null,null,null,null,null,null,null,"kc","sh","kc","kcb","drb","dr","oh","oh",null,null,null,null,null,null,null,null,null,null,null,null,8]
["B",6,4,"E25","Gordon Burr",9.4662875796004808,8,9,8,8,8,8,9,10,10,11,8,9,18,"","","",12,12,8,16,8,8,null,null,null,null,null,null,null,null,null,null,null,null,null,null,"kc","sh","oh","kc","kcb","drb",null,null,null,null,null,null,null,null,null,null,null,null,null,null,6]
["B",6,5,"E25","Robert Perricelli",16.310342661575664,15,17,14,16,14,15,17,18,18,18,16,16,32,"","ndr",94,16,19,15,22,24,22,17,null,null,null,null,null,null,null,null,null,null,null,null,null,"sh","kc","oh","dr","sh","drb","oh",null,null,null,null,null,null,null,null,null,null,null,null,null,7]
["B",6,6,"E25","Tavin Keys",10.061050642013351,9,10,8,9,8,8,10,11,11,11,9,10,19,"","ndr",13.3,19,13,11,15,12,8,8,null,null,null,null,null,null,null,null,null,null,null,null,null,"kc","sh","oh","oh","dr","oh","oh",null,null,null,null,null,null,null,null,null,null,null,null,null,7]
["B",6,7,"E25","Bob Garrison",6.0249229455783606,4,6,4,5,4,4,6,6,6,7,5,5,10,"","","",7,11,8,12,7,7,5,6,null,null,null,null,null,null,null,null,null,null,null,null,"kc","sh","sh","kc","sh","kcb","sh","oh",null,null,null,null,null,null,null,null,null,null,null,null,8]
["B",6,8,"E25","John Szukelwicz",10.539979571637611,9,11,9,9,9,9,11,11,11,12,9,10,20,"","","",19,19,13,10,9,10,null,null,null,null,null,null,null,null,null,null,null,null,null,null,"sh","kc","sh","drb","dr","sh",null,null,null,null,null,null,null,null,null,null,null,null,null,null,6]
["B",6,9,"E25","Adrian Shirley",20.564536792203533,18,18,18,18,18,18,18,18,18,18,18,18,36,"","","",25,22,24,25,27,20,22,24,null,null,null,null,null,null,null,null,null,null,null,null,"sh","dr","sh","kcb","drb","sh","oh","oh",null,null,null,null,null,null,null,null,null,null,null,null,8]
["B",6,10,"E25","Nicholas Myszak",13.632362711864404,12,14,12,13,12,12,14,15,15,15,13,13,26,"","ndr",15.3,14,16,15,18,null,null,null,null,null,null,null,null,null,null,null,null,null,null,null,null,"sh","oh","oh","dr",null,null,null,null,null,null,null,null,null,null,null,null,null,null,null,null,4]
["B",6,11,"E25","Benjamin Markiewicz",22.476100713882765,18,18,18,18,18,18,18,18,18,18,18,18,36,"","ndr",94,27,26,26,26,24,26,24,24,null,null,null,null,null,null,null,null,null,null,null,null,"sh","kc","oh","sh","kcb","dr","sh","oh",null,null,null,null,null,null,null,null,null,null,null,null,8]
["B",6,12,"E25","Steven Ambill",13.101856901227896,12,13,11,12,11,11,13,14,14,15,12,13,25,"","","",19,15,11,14,13,13,11,null,null,null,null,null,null,null,null,null,null,null,null,null,"kc","sh","oh","oh","drb","dr","oh",null,null,null,null,null,null,null,null,null,null,null,null,null,7]
["B",7,0,null,null,null,"","","","","","","","","","","","","","",null,null,null,null,null,null,null,null,null,null,null,null,null,null,null,null,null,null,null,null,null,null,null,null,null,null,null,null,null,null,null,null,null,null,null,null,null,null,null,null,null,null,""]
["B",7,1,"M10","Jon Malone",2.7397524533470281,1,2,1,1,1,1,2,2,3,3,1,2,3,"","ndr",5,6,6,5,2,1,8,null,null,null,null,null,null,null,null,null,null,null,null,null,null,"kcb","dr","oh","sh","sh","sh",null,null,null,null,null,null,null,null,null,null,null,null,null,null,6]
["B",7,2,"M10","Mike Mulcahy",15.114918670173239,14,16,13,14,13,14,16,16,16,17,14,15,30,"","","",19,17,17,20,19,14,null,null,null,null,null,null,null,null,null,null,null,null,null,null,"kc","dr","shb","oh","kc","dr",null,null,null,null,null,null,null,null,null,null,null,null,null,null,6]
["B",7,3,"M10","Chris Hildebrand",7.4752999928053825,6,7,6,6,6,6,7,8,8,9,6,7,13,"","","",10,13,11,12,7,6,11,14,7.5,null,null,null,null,null,null,null,null,null,null,null,"kc","kcb","shb","kc","kc","kc","oh","sh","ohb",null,null,null,null,null,null,null,null,null,null,null,9]
["B",7,4,"M10","Mark Davis",12.312988687088382,11,12,10,11,11,11,13,13,13,14,11,12,24,"","","",20,14,10,15,15,18,11,19,12,15,null,null,null,null,null,null,null,null,null,null,"drb","kcb","kc","oh","kc","kc","oh","sh","sh","sh",null,null,null,null,null,null,null,null,null,null,10]
["B",7,5,"M10","Chris Glidewell",4.5871999999999984,3,4,3,3,3,3,4,4,5,5,3,4,7,"","ndr",6.4,8,11,4,6,null,null,null,null,null,null,null,null,null,null,null,null,null,null,null,null,"drb","dr","dr","ohb",null,null,null,null,null,null,null,null,null,null,null,null,null,null,null,null,4]
["B",7,6,"M10","Chris Harris",8.4038996598414553,7,8,6,7,7,7,8,9,9,9,7,8,15,"","","",12,11,7,10,10,8,10,19,6,null,null,null,null,null,null,null,null,null,null,null,"kc","drb","oh","kc","oh","sh","dr","sh","ohb",null,null,null,null,null,null,null,null,null,null,null,9]
["B",7,7,"M10","Jimmy Gollihugh",9.2983700111751748,8,9,7,8,8,8,9,10,10,10,8,9,17,"","","",10,14,14,17,11,12,10,8,11,7.5,null,null,null,null,null,null,null,null,null,null,"kc","drb","dr","shb","kc","kc","kc","oh","dr","ohb",null,null,null,null,null,null,null,null,null,null,10]
["B",7,8,"M10","Devin Butler",17.040669220756037,16,18,15,16,15,15,18,18,18,18,16,17,34,"","","",20,21,21,23,19,null,null,null,null,null,null,null,null,null,null,null,null,null,null,null,"kc","kcb","shb","oh","sh",null,null,null,null,null,null,null,null,null,null,null,null,null,null,null,5]
["B",7,9,"M10","Hayden Champigny",13.504656609652177,12,14,12,13,12,12,14,15,14,15,13,13,26,"","","",14,16,22,17,17,15,11,13.5,null,null,null,null,null,null,null,null,null,null,null,null,"kcb","shb","kc","kc","kc","oh","sh","ohb",null,null,null,null,null,null,null,null,null,null,null,null,8]
["B",7,10,"M10","Austin Davis",6.740008146176713,5,6,5,5,5,5,6,7,7,8,5,6,12,"","ndr",7.8,10,10,10,6,8,5,14,null,null,null,null,null,null,null,null,null,null,null,null,null,"drb","kcb","oh","sh","sh","dr","sh",null,null,null,null,null,null,null,null,null,null,null,null,null,7]
["B",7,11,"M10","Jason Roach",17.231883965607089,16,18,15,17,15,16,18,18,18,18,16,17,34,"","","",18,22,21,22.5,null,null,null,null,null,null,null,null,null,null,null,null,null,null,null,null,"dr","kc","sh","ohb",null,null,null,null,null,null,null,null,null,null,null,null,null,null,null,null,4]
["B",7,12,"M10","Steven Torres",9.2794513977323909,8,9,7,8,8,8,9,10,10,10,8,9,17,"","","",11,10,15,15,10,12,17,4,10,10,8,14,null,null,null,null,null,null,null,null,"kc","drb","dr","shb","kc","kc","kc","oh","sh","sh","dr","sh",null,null,null,null,null,null,null,null,12]
["B",8,0,null,null,null,"","","","","","","","","","","","","","",null,null,null,null,null,null,null,null,null,null,null,null,null,null,null,null,null,null,null,null,null,null,null,null,null,null,null,null,null,null,null,null,null,null,null,null,null,null,null,null,null,null,""]
["B",8,1,"ARG","E.C. Byrd",10.186206020333483,7,8,6,7,7,8,10,11,10,10,7,5,15,"s","","",13,7,14,13,null,null,null,null,null,null,null,null,null,null,null,null,null,null,null,null,"ohb","drb","sh","oh",null,null,null,null,null,null,null,null,null,null,null,null,null,null,null,null,4]
["B",8,2,"ARG","Ryan  Scott",3.1967122188071357,2,3,1,2,2,1,3,3,3,4,2,2,4,"","","",7,9,6,1,4,0,5,null,null,null,null,null,null,null,null,null,null,null,null,null,"shb","dr","drb","sh","kc","kcb","kc",null,null,null,null,null,null,null,null,null,null,null,null,null,7]
["B",8,3,"ARG","Bobby Gulaskey",8.2978490368297102,7,8,6,7,7,7,8,9,9,9,7,8,15,"","","",11,11,8,11,12,null,null,null,null,null,null,null,null,null,null,null,null,null,null,null,"kc","dr","oh","kcb","oh",null,null,null,null,null,null,null,null,null,null,null,null,null,null,null,5]
["B",8,4,"ARG","David Scarlett",7.5695011907293859,4,6,3,5,4,5,7,8,7,7,5,3,10,"s","","",6,10,8,3,10,4,7,3,null,null,null,null,null,null,null,null,null,null,null,null,"sh","dc","shb","kc","oh","kc","oh","kc",null,null,null,null,null,null,null,null,null,null,null,null,8]
["B",8,5,"ARG","Dave White",6.5114190747471499,5,6,5,5,5,5,6,7,7,7,5,6,11,"","","",7,10,10,2,5,12,null,null,null,null,null,null,null,null,null,null,null,null,null,null,"drb","dr","oh","drb","kc","kc",null,null,null,null,null,null,null,null,null,null,null,null,null,null,6]
["B",8,6,"ARG","Dell Dellamura",8.2872691393399087,7,8,6,7,7,7,8,9,9,9,7,8,15,"","","",3,11,17,16,12,10,12,null,null,null,null,null,null,null,null,null,null,null,null,null,"sh","ohb","dc","kc","dr","sh","kcb",null,null,null,null,null,null,null,null,null,null,null,null,null,7]
["B",8,7,"ARG","Mike Joyner",5.3325630517962281,4,5,3,4,4,3,5,5,6,6,4,5,9,"","","",7,3,6,13,10,8,null,null,null,null,null,null,null,null,null,null,null,null,null,null,"ohb","shb","kc","sh","kcb","kc",null,null,null,null,null,null,null,null,null,null,null,null,null,null,6]
["B",8,8,"ARG","Mike Simmons",9.004598841533074,8,9,7,8,7,7,9,9,10,10,8,8,17,"","","",9,13,9,12,10,12,13,null,null,null,null,null,null,null,null,null,null,null,null,null,"sh","dc","drb","shb","sh","kc","oh",null,null,null,null,null,null,null,null,null,null,null,null,null,7]
["B",8,9,"ARG","Joe Loch",13.664302768962182,12,14,12,13,12,12,14,15,15,15,13,13,26,"","","",16,17,11,18,19,19,20,14,12,null,null,null,null,null,null,null,null,null,null,null,"ohb","dc","drb","kc","oh","drb","kcb","oh","kc",null,null,null,null,null,null,null,null,null,null,null,9]
["B",8,10,"ARG","Doug Mintz",8.8529862486042301,7,9,7,8,7,7,9,9,9,10,8,8,16,"","","",8,6,18,12,7,7,13,15,9,null,null,null,null,null,null,null,null,null,null,null,"sh","ohb","dc","drb","dr","oh","drb","kc","oh",null,null,null,null,null,null,null,null,null,null,null,9]
["B",8,11,"ARG","Scott Jones",12.251722788160819,11,12,10,11,11,11,12,13,13,14,11,12,23,"","","",9,16,15,13,17,15,null,null,null,null,null,null,null,null,null,null,null,null,null,null,"sh","shb","dr","drb","sh","kc",null,null,null,null,null,null,null,null,null,null,null,null,null,null,6]
["B",8,12,"ARG","John Weisflog",7.0719195238283374,6,7,5,6,5,5,7,7,8,8,6,6,12,"","","",7,8,10,7,13,9,7,10,9,4,null,null,null,null,null,null,null,null,null,null,"sh","ohb","dc","drb","shb","kc","oh","drb","kcb","kc",null,null,null,null,null,null,null,null,null,null,10]
["B",9,0,null,null,null,"","","","","","","","","","","","","","",null,null,null,null,null,null,null,null,null,null,null,null,null,null,null,null,null,null,null,null,null,null,null,null,null,null,null,null,null,null,null,null,null,null,null,null,null,null,null,null,null,null,""]
["B",9,1,"X10","Ruben Morales",13.923961310849784,13,14,12,13,12,12,14,15,15,15,13,13,27,"","","",18,22,18,17,16,15,19,null,null,null,null,null,null,null,null,null,null,null,null,null,"dr","kcb","oh","sh","drb","kc","oh",null,null,null,null,null,null,null,null,null,null,null,null,null,7]
["B",9,2,"X10","Keith Shelton",14.940192412341153,14,15,13,14,13,13,15,16,16,16,14,15,29,"","","",22,13,18,17,14,null,null,null,null,null,null,null,null,null,null,null,null,null,null,null,"kcb","oh","oh","oh","sh",null,null,null,null,null,null,null,null,null,null,null,null,null,null,null,5]
["B",9,3,"X10","Jen Howard",13.102652582361804,11,14,12,12,11,13,12,14,13,13,9,12,25,"w","","",17,24,13,14,19,15,null,null,null,null,null,null,null,null,null,null,null,null,null,null,"sh","kcb","dr","sh","drb","kc",null,null,null,null,null,null,null,null,null,null,null,null,null,null,6]
["B",9,4,"X10","Ryan Ettus",5.9142666214883617,4,6,4,5,4,4,5,6,6,7,4,5,10,"","","",12,9,9,10,7,10,8,null,null,null,null,null,null,null,null,null,null,null,null,null,"dr","kcb","sh","sh","kc","kc","kc",null,null,null,null,null,null,null,null,null,null,null,null,null,7]
["B",9,5,"X10","Brian Stockunas",14.893906308186171,14,15,13,14,13,13,15,16,16,16,14,14,29,"","","",21,18,null,null,null,null,null,null,null,null,null,null,null,null,null,null,null,null,null,null,"oh","kc",null,null,null,null,null,null,null,null,null,null,null,null,null,null,null,null,null,null,2]
["B",9,6,"X10","Thomas Crosby",14.834528239398953,14,15,13,14,13,13,15,16,16,16,14,14,29,"","","",16,17,13,15,22,16,11,17,null,null,null,null,null,null,null,null,null,null,null,null,"dr","oh","sh","sh","kc","oh","sh","kc",null,null,null,null,null,null,null,null,null,null,null,null,8]
["B",9,7,"X10","Dan Morgan",8.8716449270084095,7,9,7,8,7,7,9,9,9,10,8,8,16,"","","",11,6,9,13,14,14,6,14,null,null,null,null,null,null,null,null,null,null,null,null,"sh","dr","oh","sh","sh","kc","sh","oh",null,null,null,null,null,null,null,null,null,null,null,null,8]
["B",9,8,"X10","Dan Cooney",8.1810198348025978,7,8,6,7,7,6,8,9,9,9,7,8,15,"","","",8,6,8,9,8,15,8,7,7,null,null,null,null,null,null,null,null,null,null,null,"sh","dr","oh","oh","dr","drb","kc","oh","kc",null,null,null,null,null,null,null,null,null,null,null,9]
["B",9,9,"X10","Sarah Crawford",11.264702790648021,9,12,10,10,9,11,10,12,11,11,7,10,21,"w","","",17,20,9,19,16,14,10,13,12,18,null,null,null,null,null,null,null,null,null,null,"sh","kcb","oh","sh","dr","drb","kc","kc","sh","oh",null,null,null,null,null,null,null,null,null,null,10]
["B",9,10,"X10","David Briggs",3.7213217190762071,2,3,2,2,2,2,3,4,4,4,2,3,5,"","ndr",5.7,5,7,9,5,4,5,4,3,null,null,null,null,null,null,null,null,null,null,null,null,"oh","oh","dr","sh","kc","oh","sh","kc",null,null,null,null,null,null,null,null,null,null,null,null,8]
["B",9,11,"X10","Dave Dunlap",5.4831762576903973,4,5,3,4,4,4,5,6,6,6,4,5,9,"","","",6,2,15,8,6,3,8,5,3,5,null,null,null,null,null,null,null,null,null,null,"sh","dr","oh","sh","dr","drb","kc","kc","sh","oh",null,null,null,null,null,null,null,null,null,null,10]
["B",9,12,"X10","Steven Stern",12.370879306327055,11,13,10,11,11,11,13,13,13,14,11,12,24,"","","",20,16,15,15,21,10,11,null,null,null,null,null,null,null,null,null,null,null,null,null,"sh","kcb","dr","sh","drb","oh","oh",null,null,null,null,null,null,null,null,null,null,null,null,null,7]
["B",10,0,null,null,null,"","","","","","","","","","","","","","",null,null,null,null,null,null,null,null,null,null,null,null,null,null,null,null,null,null,null,null,null,null,null,null,null,null,null,null,null,null,null,null,null,null,null,null,null,null,null,null,null,null,""]
["B",10,1,"SCM","Guy Manicone",16.879344405324495,16,17,15,16,15,15,18,18,18,18,16,17,33,"","","",14,19,19,17,21,18,23,23,null,null,null,null,null,null,null,null,null,null,null,null,"kc","oh","oh","dr","sh","dcb","kc","kc",null,null,null,null,null,null,null,null,null,null,null,null,8]
["B",10,2,"SCM","Alex Metcalfe",8.1409233113881516,7,8,6,7,7,6,8,9,9,9,7,8,15,"","","",8,12,14,6,8,12,6,6,null,null,null,null,null,null,null,null,null,null,null,null,"sh","oh","sh","oh","sh","kcb","oh","kc",null,null,null,null,null,null,null,null,null,null,null,null,8]
["B",10,3,"SCM","Joe Osso",6.603460618144112,5,6,5,5,5,5,6,7,7,8,5,6,11,"","","",8,6,7,8,8,null,null,null,null,null,null,null,null,null,null,null,null,null,null,null,"sh","oh","sh","sh","kc",null,null,null,null,null,null,null,null,null,null,null,null,null,null,null,5]
["B",10,4,"SCM","Wesley Shelton",8.480796599248503,7,8,7,7,7,7,8,9,9,10,7,8,15,"","","",12,7,14,14,8,null,null,null,null,null,null,null,null,null,null,null,null,null,null,null,"dr","dr","dcb","kcb","oh",null,null,null,null,null,null,null,null,null,null,null,null,null,null,null,5]
["B",10,5,"SCM","Aaron Riggleman",6.0180985787499139,4,6,4,5,4,4,6,6,6,7,5,5,10,"","","",9,9,8,7,5,3,null,null,null,null,null,null,null,null,null,null,null,null,null,null,"kc","oh","sh","sh","dcb","kc",null,null,null,null,null,null,null,null,null,null,null,null,null,null,6]
["B",10,6,"SCM","Charlie Young",14.080063369852684,13,14,12,13,12,12,14,15,15,16,13,14,27,"st","","",19,21,12,18,15,17,20,11,10,13,15,19,null,null,null,null,null,null,null,null,"kc","sh","dr","oh","oh","oh","sh","dr","dcb","kcb","kc","kc",null,null,null,null,null,null,null,null,12]
["B",10,7,"SCM","Perry Barber",4.8339254968392096,3,4,3,3,3,3,4,5,5,6,3,4,8,"","","",13,6,5,4,8,8,6,5,2,4,7,7,null,null,null,null,null,null,null,null,"kc","sh","dr","oh","oh","sh","dr","dcb","kcb","oh","kc","kc",null,null,null,null,null,null,null,null,12]
["B",10,8,"SCM","Steve Martin",5.8954144446187469,4,6,4,5,4,4,5,6,6,7,4,5,10,"","","",3,7,7,3,7,6,7,2,null,null,null,null,null,null,null,null,null,null,null,null,"dr","sh","sh","dr","sh","dcb","oh","kc",null,null,null,null,null,null,null,null,null,null,null,null,8]
["B",10,9,"SCM","John Sammons",18.784290987618661,18,18,17,18,17,17,18,18,18,18,18,18,36,"","","",23,22,24,22,23,null,null,null,null,null,null,null,null,null,null,null,null,null,null,null,"sh","oh","oh","sh","sh",null,null,null,null,null,null,null,null,null,null,null,null,null,null,null,5]
["B",10,10,"SCM","Kyle Williams",11.947321435672482,11,12,10,11,10,10,12,13,13,13,11,11,23,"","","",13,13,13,13,null,null,null,null,null,null,null,null,null,null,null,null,null,null,null,null,"kc","sh","oh","kc",null,null,null,null,null,null,null,null,null,null,null,null,null,null,null,null,4]
["B",10,11,"SCM","Dave Buchanan",18.106416133039723,17,18,16,18,16,17,18,18,18,18,17,18,36,"","","",19,20,17,20,20,18,21,20,15,null,null,null,null,null,null,null,null,null,null,null,"kc","dr","oh","oh","sh","dr","sh","kcb","oh",null,null,null,null,null,null,null,null,null,null,null,9]
["B",10,12,"SCM","John Bosco",8.3507092004032017,7,8,6,7,7,7,8,9,9,9,7,8,15,"","","",11,10,13,5,7,14,null,null,null,null,null,null,null,null,null,null,null,null,null,null,"dr","sh","oh","sh","oh","kc",null,null,null,null,null,null,null,null,null,null,null,null,null,null,6]
["B",11,0,null,null,null,"","","","","","","","","","","","","","",null,null,null,null,null,null,null,null,null,null,null,null,null,null,null,null,null,null,null,null,null,null,null,null,null,null,null,null,null,null,null,null,null,null,null,null,null,null,null,null,null,null,""]
["B",11,1,"E20","Jeff Hammack",16.596078738604369,16,17,15,16,15,15,17,18,18,18,16,16,33,"","","",20,21,20,23,17,16,15,null,null,null,null,null,null,null,null,null,null,null,null,null,"oh","kc","sh","sh","sh","oh","sh",null,null,null,null,null,null,null,null,null,null,null,null,null,7]
["B",11,2,"E20","Anthony Pale",10.799356224717695,9,11,9,10,9,9,11,12,12,12,10,10,20,"","","",15,10,9,11,12,14,9,11,17,14,null,null,null,null,null,null,null,null,null,null,"oh","kcb","dr","sh","sh","sh","oh","oh","sh","kcb",null,null,null,null,null,null,null,null,null,null,10]
["B",11,3,"E20","Gary Leonard",17.683826289863518,17,18,16,17,16,16,18,18,18,18,17,17,35,"","","",26,25,22,20,26,19,16,null,null,null,null,null,null,null,null,null,null,null,null,null,"oh","kcb","dr","sh","oh","oh","kcb",null,null,null,null,null,null,null,null,null,null,null,null,null,7]
["B",11,4,"E20","Daniel Hebert",4.2038811248861707,3,4,2,3,3,2,4,4,4,5,3,4,6,"","","",5,4,6,4,null,null,null,null,null,null,null,null,null,null,null,null,null,null,null,null,"kcb","kc","sh","oh",null,null,null,null,null,null,null,null,null,null,null,null,null,null,null,null,4]
["B",11,5,"E20","Ron Barnett",6.5758394431479088,5,6,5,5,5,5,6,7,7,8,5,6,11,"","","",8,5,6,null,null,null,null,null,null,null,null,null,null,null,null,null,null,null,null,null,"dc","oh","sh",null,null,null,null,null,null,null,null,null,null,null,null,null,null,null,null,null,3]
["B",11,6,"E20","Les Smith",9.1620733228727964,8,9,7,8,8,7,9,10,10,10,8,9,17,"","","",11,12,9,8,8,12,9,7,null,null,null,null,null,null,null,null,null,null,null,null,"oh","ohb","dr","sh","oh","sh","kcb","drb",null,null,null,null,null,null,null,null,null,null,null,null,8]
["B",11,7,"E20","Tanner Woods",7.8633596582213601,6,8,6,7,6,6,8,8,8,9,7,7,14,"","","",14,6,11,12,11,8,12,5,9,null,null,null,null,null,null,null,null,null,null,null,"dc","ohb","kc","dr","sh","sh","oh","oh","drb",null,null,null,null,null,null,null,null,null,null,null,9]
["B",11,8,"E20","James Absher",8.6179262222296646,5,7,4,6,5,6,8,9,8,9,6,4,12,"s","","",3,15,10,11,8,7,6,7,8,11,3,null,null,null,null,null,null,null,null,null,"oh","kcb","dr","sh","sh","sh","oh","oh","oh","kcb","drb",null,null,null,null,null,null,null,null,null,11]
["B",11,9,"E20","Greg McKean",14.081030660687361,13,14,12,13,12,12,14,15,15,16,13,14,27,"","","",22,16,22,19,14,15,13,14,18,null,null,null,null,null,null,null,null,null,null,null,"dc","ohb","kcb","kc","oh","oh","sh","kcb","drb",null,null,null,null,null,null,null,null,null,null,null,9]
["B",11,10,"E20","Terry Woods",9.0176654203132536,8,9,7,8,7,7,9,10,10,10,8,8,17,"","","",11.3,4,13,10,19,9,8,4,12,null,null,null,null,null,null,null,null,null,null,null,"dc","ohb","kc","sh","sh","oh","oh","sh","drb",null,null,null,null,null,null,null,null,null,null,null,9]
["B",11,11,"E20","Hunter Woods",10.856052817610031,10,11,9,10,9,9,11,12,12,12,10,10,20,"","","",14,12,10,13,10,9,22,null,null,null,null,null,null,null,null,null,null,null,null,null,"dc","ohb","kc","sh","oh","sh","drb",null,null,null,null,null,null,null,null,null,null,null,null,null,7]
["B",11,12,"E20","Bill Evans",10.936135257831461,10,11,9,10,9,9,11,12,12,12,10,10,21,"","","",15.8,10,12,14,15,17,null,null,null,null,null,null,null,null,null,null,null,null,null,null,"dc","ohb","kcb","dr","oh","kcb",null,null,null,null,null,null,null,null,null,null,null,null,null,null,6]
["B",12,0,null,null,null,"","","","","","","","","","","","","","",null,null,null,null,null,null,null,null,null,null,null,null,null,null,null,null,null,null,null,null,null,null,null,null,null,null,null,null,null,null,null,null,null,null,null,null,null,null,null,null,null,null,""]
["B",12,1,"O19","Scott McKeel",12.386542722858101,11,13,11,11,11,11,13,13,13,14,11,12,24,"","","",14,19,12,17,13,18,13,null,null,null,null,null,null,null,null,null,null,null,null,null,"kc","oh","drb","drb","sh","kcb","sh",null,null,null,null,null,null,null,null,null,null,null,null,null,7]
["B",12,2,"O19","Dave Cash",11.256216983122499,10,11,9,10,10,10,11,12,12,13,10,11,21,"","","",12,15,11,11,10,12,15,12,13,null,null,null,null,null,null,null,null,null,null,null,"oh","oh","drb","drb","oh","kc","dr","sh","oh",null,null,null,null,null,null,null,null,null,null,null,9]
["B",12,3,"O19","Andre' Jones",10.215388614008933,9,10,8,9,9,8,10,11,11,11,9,10,19,"","","",11,15,10,10,12,17,10,6,null,null,null,null,null,null,null,null,null,null,null,null,"sh","drb","sh","oh","kc","kcb","sh","oh",null,null,null,null,null,null,null,null,null,null,null,null,8]
["B",12,4,"O19","Rob Brunoni",19.163918337203171,18,18,17,18,17,18,18,18,18,18,18,18,36,"","","",22,20,17,23,25,null,null,null,null,null,null,null,null,null,null,null,null,null,null,null,"kc","dr","drb","kc","kcb",null,null,null,null,null,null,null,null,null,null,null,null,null,null,null,5]
["B",12,5,"O19","Scott Speight",9.485728925597213,8,9,8,8,8,8,9,10,10,11,8,9,18,"","","",12,9,14,10,14,8,13,15,null,null,null,null,null,null,null,null,null,null,null,null,"kc","sh","oh","drb","sh","oh","dr","kcb",null,null,null,null,null,null,null,null,null,null,null,null,8]
["B",12,6,"O19","Chris Smith",9.1476355260598492,8,9,7,8,8,7,9,10,10,10,8,9,17,"","","",6,11,11,9,9,11,6,13,14,10,11,null,null,null,null,null,null,null,null,null,"kc","sh","oh","dr","drb","sh","oh","kc","dr","sh","oh",null,null,null,null,null,null,null,null,null,11]
["B",12,7,"O19","Steve Speight",9.2264866872132245,8,9,7,8,8,7,9,10,10,10,8,9,17,"","","",10,9,18,12,13,4,9,13,12,null,null,null,null,null,null,null,null,null,null,null,"drb","dr","oh","oh","kc","dr","kcb","sh","oh",null,null,null,null,null,null,null,null,null,null,null,9]
["B",12,8,"O19","Dominick Moore",16.298789524202526,15,17,14,16,14,15,17,18,17,18,16,16,32,"","","",20,20,18,24,18,19,19,15,20,18,null,null,null,null,null,null,null,null,null,null,"kc","sh","oh","drb","drb","sh","kc","dr","kcb","oh",null,null,null,null,null,null,null,null,null,null,10]
["B",12,9,"O19","Brian Williams",19.156637963504117,18,18,17,18,17,18,18,18,18,18,18,18,36,"","ndr",23,22,23,21,null,null,null,null,null,null,null,null,null,null,null,null,null,null,null,null,null,"drb","oh","sh",null,null,null,null,null,null,null,null,null,null,null,null,null,null,null,null,null,3]
["B",12,10,"O19","Ford Sheffield",11.840312102068264,11,12,10,11,10,10,12,13,13,13,11,11,23,"","","",17,18,16,8,19,20,null,null,null,null,null,null,null,null,null,null,null,null,null,null,"sh","oh","dr","oh","drb","drb",null,null,null,null,null,null,null,null,null,null,null,null,null,null,6]
["B",12,11,"O19","Willie Adams",4.5377478311691561,3,4,3,3,3,3,4,4,5,5,3,4,7,"","","",7,5,3,4,3,6,7,4,null,null,null,null,null,null,null,null,null,null,null,null,"oh","drb","dr","oh","drb","drb","sh","oh",null,null,null,null,null,null,null,null,null,null,null,null,8]
["B",12,12,"O19","Glenn Rollins",16.706029158135976,16,17,15,16,15,15,17,18,18,18,16,16,33,"","","",20,19,19,22,null,null,null,null,null,null,null,null,null,null,null,null,null,null,null,null,"drb","dr","oh","dr",null,null,null,null,null,null,null,null,null,null,null,null,null,null,null,null,4]
["B",13,0,null,null,null,"","","","","","","","","","","","","","",null,null,null,null,null,null,null,null,null,null,null,null,null,null,null,null,null,null,null,null,null,null,null,null,null,null,null,null,null,null,null,null,null,null,null,null,null,null,null,null,null,null,""]
["B",13,1,"X31","Tommy Hall",7.8076731224823321,6,8,6,7,6,6,8,8,8,9,6,7,14,"","","",8,7,11,10,null,null,null,null,null,null,null,null,null,null,null,null,null,null,null,null,"kc","sh","drb","sh",null,null,null,null,null,null,null,null,null,null,null,null,null,null,null,null,4]
["B",13,2,"X31","BJ Maben",0.18957819334372061,-2,-1,-2,-2,-1,-2,-1,1E-4,1E-4,1,-2,-1,-2,"","","",-1,-1,1,3,0,1,2,null,null,null,null,null,null,null,null,null,null,null,null,null,"kcb","sh","kc","sh","oh","oh","dc",null,null,null,null,null,null,null,null,null,null,null,null,null,7]
["B",13,3,"X31","Tom Sweeney",9.8776145939265323,6,8,6,7,7,7,10,10,9,10,7,5,14,"s","","",11,12,9,11,11.4,9,null,null,null,null,null,null,null,null,null,null,null,null,null,null,"drb","sh","kc","sh","dc","kc",null,null,null,null,null,null,null,null,null,null,null,null,null,null,6]
["B",13,4,"X31","Tyler Evans",12.013209218251587,11,12,10,11,10,10,12,13,13,13,11,12,23,"","ndr",14,16,11,14,16,14,15,null,null,null,null,null,null,null,null,null,null,null,null,null,null,"sh","sh","oh","oh","dc","kc",null,null,null,null,null,null,null,null,null,null,null,null,null,null,6]
["B",13,5,"X31","Joe Kujawski",5.8139753865574928,4,5,4,4,4,4,5,6,6,7,4,5,10,"","","",9,8,1,5,4,5,7,null,null,null,null,null,null,null,null,null,null,null,null,null,"kc","sh","kcb","kc","drb","oh","dc",null,null,null,null,null,null,null,null,null,null,null,null,null,7]
["B",13,6,"X31","James Tierney",7.707691673304522,6,8,6,6,6,6,7,8,8,9,6,7,14,"","","",5,9,14,12,7,10,7,9,8,11,null,null,null,null,null,null,null,null,null,null,"sh","sh","kc","drb","sh","kc","drb","sh","oh","kc",null,null,null,null,null,null,null,null,null,null,10]
["B",13,7,"X31","Chuck Forrester",15.506813134532242,14,16,14,15,14,14,16,17,17,17,15,15,30,"","","",18,18,16,15,12,18,null,null,null,null,null,null,null,null,null,null,null,null,null,null,"kc","kc","kcb","drb","oh","dc",null,null,null,null,null,null,null,null,null,null,null,null,null,null,6]
["B",13,8,"X31","Kevin Beckner",12.848985052440744,12,13,11,12,11,11,13,14,14,14,12,12,25,"","","",12,14,17,19,15,16,null,null,null,null,null,null,null,null,null,null,null,null,null,null,"kc","kcb","drb","sh","dc","kc",null,null,null,null,null,null,null,null,null,null,null,null,null,null,6]
["B",13,9,"X31","Johnny Giles",8.1980609926499177,7,8,6,7,7,6,8,9,9,9,7,8,15,"st","","",11,11,5,6,9,13,null,null,null,null,null,null,null,null,null,null,null,null,null,null,"sh","sh","sh","oh","oh","kc",null,null,null,null,null,null,null,null,null,null,null,null,null,null,6]
["B",13,10,"X31","David Riddle",10.163676883631487,9,10,8,9,8,8,10,11,11,11,9,10,19,"","","",14,12,12,15,13,11,15,10,null,null,null,null,null,null,null,null,null,null,null,null,"sh","kc","kc","drb","sh","kc","drb","oh",null,null,null,null,null,null,null,null,null,null,null,null,8]
["B",13,11,"X31","George Riefler",1.5829085942065126,1E-4,1,1E-4,1E-4,1E-4,1E-4,1,1,2,2,1E-4,1,1,"","","",9,8,8,4,4,null,null,null,null,null,null,null,null,null,null,null,null,null,null,null,"sh","kc","kc","drb","kcb",null,null,null,null,null,null,null,null,null,null,null,null,null,null,null,5]
["B",13,12,"X31","Todd Davis",6.1171575694746307,5,6,4,5,5,4,6,6,7,7,5,5,10,"","","",4,8,3,5,17,9,9,6,7,4,6,7,10,null,null,null,null,null,null,null,"sh","kc","sh","kc","drb","kcb","sh","kc","drb","sh","oh","oh","kc",null,null,null,null,null,null,null,13]
["B",14,0,null,null,null,"","","","","","","","","","","","","","",null,null,null,null,null,null,null,null,null,null,null,null,null,null,null,null,null,null,null,null,null,null,null,null,null,null,null,null,null,null,null,null,null,null,null,null,null,null,null,null,null,null,""]
["B",14,1,"ENGR","Yakong Wong",11.043722108442902,10,11,9,10,9,9,11,12,12,12,10,11,21,"","","",13,14,11,20,10,12,10,null,null,null,null,null,null,null,null,null,null,null,null,null,"oh","drb","oh","shb","oh","oh","kcb",null,null,null,null,null,null,null,null,null,null,null,null,null,7]
["B",14,2,"ENGR","Devin Leithauser",13.242558781377273,12,13,11,12,11,12,14,14,14,15,12,13,26,"","","",18,20,15,16,14,10,null,null,null,null,null,null,null,null,null,null,null,null,null,null,"kcb","sh","oh","oh","drb","kcb",null,null,null,null,null,null,null,null,null,null,null,null,null,null,6]
["B",14,3,"ENGR","Bob Hafer",10.711541663537705,7,9,6,8,7,8,11,11,10,11,8,6,16,"s","","",12,10,15,12,14,5,9,13,null,null,null,null,null,null,null,null,null,null,null,null,"oh","drb","kc","kcb","sh","drb","kc","dr",null,null,null,null,null,null,null,null,null,null,null,null,8]
["B",14,4,"ENGR","Rod Rickli",10.53585649607958,9,11,9,9,9,9,11,11,11,12,9,10,20,"","","",19,11,17,23,17,20,10,10,null,null,null,null,null,null,null,null,null,null,null,null,"sh","drb","oh","shb","sh","kcb","kc","dr",null,null,null,null,null,null,null,null,null,null,null,null,8]
["B",14,5,"ENGR","Roger Rush",11.116556626902476,10,11,9,10,9,9,11,12,12,12,10,11,21,"","","",10,11,15,null,null,null,null,null,null,null,null,null,null,null,null,null,null,null,null,null,"kcb","drb","kc",null,null,null,null,null,null,null,null,null,null,null,null,null,null,null,null,null,3]
["B",14,6,"ENGR","Darrel Schrock",11.262275841959397,8,9,7,8,8,9,11,12,11,11,9,6,17,"s","","",11,13,7,8,9,11,9,10,3,null,null,null,null,null,null,null,null,null,null,null,"oh","sh","drb","oh","kc","sh","oh","drb","dr",null,null,null,null,null,null,null,null,null,null,null,9]
["B",14,7,"ENGR","Jonathan McGee",8.7698496701700268,7,9,7,8,7,7,9,9,9,10,8,8,16,"","","",14,6,11,15,7,13,9,9,13,null,null,null,null,null,null,null,null,null,null,null,"drb","oh","kc","shb","kcb","sh","oh","kcb","dr",null,null,null,null,null,null,null,null,null,null,null,9]
["B",14,8,"ENGR","Landon Leithauser",15.339567885086733,14,16,14,15,14,14,16,17,16,17,14,15,30,"","","",17,16,10,14,15,null,null,null,null,null,null,null,null,null,null,null,null,null,null,null,"kcb","sh","oh","oh","drb",null,null,null,null,null,null,null,null,null,null,null,null,null,null,null,5]
["B",14,9,"ENGR","Jeffrey Tatum",12.315825660114731,11,12,10,11,11,11,13,13,13,14,11,12,24,"","","",17,16,19,23,18,17,15,null,null,null,null,null,null,null,null,null,null,null,null,null,"oh","sh","oh","shb","kcb","kc","dr",null,null,null,null,null,null,null,null,null,null,null,null,null,7]
["B",14,10,"ENGR","Dennis Herndon",9.4778452669323485,8,9,8,8,8,8,9,10,10,11,8,9,18,"","","",14,7,18,11,9,13,null,null,null,null,null,null,null,null,null,null,null,null,null,null,"oh","sh","kc","shb","oh","kc",null,null,null,null,null,null,null,null,null,null,null,null,null,null,6]
["B",14,11,"ENGR","James Johnson",11.007781175643453,7,9,7,8,8,8,11,12,11,11,8,6,17,"s","","",14,14,14,13,11,13,11,null,null,null,null,null,null,null,null,null,null,null,null,null,"oh","oh","kc","oh","oh","kcb","kc",null,null,null,null,null,null,null,null,null,null,null,null,null,7]
["B",14,12,"ENGR","Robert Diegel",10.559124454693407,9,11,9,10,9,9,11,11,11,12,9,10,20,"","","",14,18,12,16,12,15,10,13,null,null,null,null,null,null,null,null,null,null,null,null,"sh","drb","kc","shb","oh","drb","kcb","dr",null,null,null,null,null,null,null,null,null,null,null,null,8]
["B",15,0,null,null,null,"","","","","","","","","","","","","","",null,null,null,null,null,null,null,null,null,null,null,null,null,null,null,null,null,null,null,null,null,null,null,null,null,null,null,null,null,null,null,null,null,null,null,null,null,null,null,null,null,null,""]
["B",15,1,"A572","Jason Binns",9.2069653651512233,8,9,7,8,8,7,9,10,10,10,8,9,17,"","","",14,15,14,13,null,null,null,null,null,null,null,null,null,null,null,null,null,null,null,null,"kc","sh","drb","kc",null,null,null,null,null,null,null,null,null,null,null,null,null,null,null,null,4]
["B",15,2,"A572","Jim Vaughan",11.449947020088064,10,12,10,10,10,10,12,12,12,13,10,11,22,"","","",14,11,11,15,null,null,null,null,null,null,null,null,null,null,null,null,null,null,null,null,"kc","drb","shb","oh",null,null,null,null,null,null,null,null,null,null,null,null,null,null,null,null,4]
["B",15,3,"A572","Marc Morotini",9.2926610153500118,8,9,7,8,8,8,9,10,10,10,8,9,17,"","","",15,7,8,15,17,8,8,18,15,7.5,null,null,null,null,null,null,null,null,null,null,"dr","dr","oh","sh","drb","kcb","oh","kc","oh","ohb",null,null,null,null,null,null,null,null,null,null,10]
["B",15,4,"A572","Bill Callis",8.8985537825967604,7,9,7,8,7,7,9,9,10,10,8,8,16,"","","",15,10,12,3,14,8,15,9,10.5,null,null,null,null,null,null,null,null,null,null,null,"dr","kc","oh","sh","kcb","oh","shb","kc","ohb",null,null,null,null,null,null,null,null,null,null,null,9]
["B",15,5,"A572","Perry Barber, Jr",1.1166644776140657,-1,1E-4,-1,-1,1E-4,-1,1E-4,1,1,2,-1,1E-4,1E-4,"","","",0,-2,2,0,4,null,null,null,null,null,null,null,null,null,null,null,null,null,null,null,"dr","oh","kc","drb","oh",null,null,null,null,null,null,null,null,null,null,null,null,null,null,null,5]
["B",15,6,"A572","Kevin Beagle",8.1476496756468126,7,8,6,7,7,6,8,9,9,9,7,8,15,"","","",10,12,14,12,2,10,8,null,null,null,null,null,null,null,null,null,null,null,null,null,"dr","dr","kc","drb","oh","kc","oh",null,null,null,null,null,null,null,null,null,null,null,null,null,7]
["B",15,7,"A572","Brenton Shapiro",3.8054172079559465,2,3,2,2,2,2,3,4,4,5,2,3,5,"","","",14,6,6,4,1,4,6,7,-1.5,null,null,null,null,null,null,null,null,null,null,null,"oh","drb","kc","kcb","drb","shb","kc","oh","ohb",null,null,null,null,null,null,null,null,null,null,null,9]
["B",15,8,"A572","Steve McFann",11.951463131420743,11,12,10,11,10,10,12,13,13,13,11,11,23,"","","",15,13,13,10,15,15,14,13,14,14,10.5,null,null,null,null,null,null,null,null,null,"dr","dr","kc","sh","drb","kc","oh","shb","kc","oh","ohb",null,null,null,null,null,null,null,null,null,11]
["B",15,9,"A572","Jason Boyce",10.435832483156215,9,10,9,9,9,9,10,11,11,12,9,10,20,"","","",11,11,10,11,20,8,13,9,23,null,null,null,null,null,null,null,null,null,null,null,"dr","kc","oh","oh","kc","kcb","drb","oh","shb",null,null,null,null,null,null,null,null,null,null,null,9]
["B",15,10,"A572","Brian Costello",18.065309150762467,17,18,16,18,16,17,18,18,18,18,17,18,36,"","","",23,21,21,22,24,15,21,17,24,21,null,null,null,null,null,null,null,null,null,null,"kc","oh","oh","sh","drb","kcb","drb","oh","kc","ohb",null,null,null,null,null,null,null,null,null,null,10]
["B",15,11,"A572","Tony McCormick",8.1712880422147833,7,8,6,7,7,6,8,9,9,9,7,8,15,"","","",12,8,14,10,null,null,null,null,null,null,null,null,null,null,null,null,null,null,null,null,"dr","oh","oh","kcb",null,null,null,null,null,null,null,null,null,null,null,null,null,null,null,null,4]
["B",15,12,"A572","Richard Henry",18.731666613872171,18,18,17,18,17,17,18,18,18,18,18,18,36,"","","",20,16,23,22,22,21,null,null,null,null,null,null,null,null,null,null,null,null,null,null,"dr","oh","oh","sh","drb","shb",null,null,null,null,null,null,null,null,null,null,null,null,null,null,6]
["B",16,0,null,null,null,"","","","","","","","","","","","","","",null,null,null,null,null,null,null,null,null,null,null,null,null,null,null,null,null,null,null,null,null,null,null,null,null,null,null,null,null,null,null,null,null,null,null,null,null,null,null,null,null,null,""]
["B",16,1,"O87","Gary Crockett",2.3890318014012109,1,2,1E-4,1,1,1E-4,2,2,2,3,1,2,2,"","","",3,2,2,4,1,1,3,4,null,null,null,null,null,null,null,null,null,null,null,null,"kc","dr","drb","kcb","sh","sh","kc","dc",null,null,null,null,null,null,null,null,null,null,null,null,8]
["B",16,2,"O87","Ryan Kellum",7.6171443870210833,6,7,6,6,6,6,7,8,8,9,6,7,14,"","ndr",94,15,10,10,7,9,9,null,null,null,null,null,null,null,null,null,null,null,null,null,null,"kc","dr","sh","sh","sh","kc",null,null,null,null,null,null,null,null,null,null,null,null,null,null,6]
["B",16,3,"O87","James Spencer",11.056345985996263,10,11,9,10,9,9,11,12,12,12,10,11,21,"","","",19,15,19,16,12,8,14,10,null,null,null,null,null,null,null,null,null,null,null,null,"drb","dr","kcb","kcb","sh","oh","drb","dc",null,null,null,null,null,null,null,null,null,null,null,null,8]
["B",16,4,"O87","Chase Brightman",4.9610789913767572,3,5,3,4,3,3,4,5,5,6,3,4,8,"","","",11,5,10,4,5,2,6,8,6,5,null,null,null,null,null,null,null,null,null,null,"drb","dr","sh","kcb","oh","oh","kc","drb","dc","oh",null,null,null,null,null,null,null,null,null,null,10]
["B",16,5,"O87","Bernard Martin",10.792478303752469,9,11,9,10,9,9,11,12,12,12,10,10,20,"","","",15,11,13,11,8,14,9,null,null,null,null,null,null,null,null,null,null,null,null,null,"drb","sh","sh","oh","oh","drb","oh",null,null,null,null,null,null,null,null,null,null,null,null,null,7]
["B",16,6,"O87","Steven Ward",11.087007645294525,10,11,9,10,9,9,11,12,12,12,10,11,21,"","","",13,14,16,10,15,14,null,null,null,null,null,null,null,null,null,null,null,null,null,null,"dr","drb","kcb","oh","sh","oh",null,null,null,null,null,null,null,null,null,null,null,null,null,null,6]
["B",16,7,"O87","Dion Wilder",8.1664609830044554,7,8,6,7,7,6,8,9,9,9,7,8,15,"","","",11,8,5,6,12,10,11,null,null,null,null,null,null,null,null,null,null,null,null,null,"drb","drb","kcb","kcb","oh","kc","dc",null,null,null,null,null,null,null,null,null,null,null,null,null,7]
["B",16,8,"O87","Xavion Elder",12.906159496075736,12,13,11,12,11,11,13,14,14,14,12,12,25,"","","",18,15,16,14,17,17,14,null,null,null,null,null,null,null,null,null,null,null,null,null,"kc","kcb","sh","kcb","sh","drb","dc",null,null,null,null,null,null,null,null,null,null,null,null,null,7]
["B",16,9,"O87","Keith Waddles",6.7253979341472228,5,6,5,5,5,5,6,7,7,8,5,6,12,"","","",10,4,13,9,8,9,16,15,null,null,null,null,null,null,null,null,null,null,null,null,"kc","dr","drb","kcb","kcb","oh","drb","oh",null,null,null,null,null,null,null,null,null,null,null,null,8]
["B",16,10,"O87","Dean Gonsalves",6.0092430678005515,4,6,4,5,4,4,6,6,6,7,5,5,10,"","","",10,9,9,6,3,7,8,5,null,null,null,null,null,null,null,null,null,null,null,null,"kc","sh","drb","kcb","oh","kc","drb","oh",null,null,null,null,null,null,null,null,null,null,null,null,8]
["B",16,11,"O87","Chaz Singleton",4.3186747102391383,3,4,2,3,3,2,4,4,5,5,3,4,7,"","","",4,3,10,3,5,5,4,4,null,null,null,null,null,null,null,null,null,null,null,null,"drb","kc","sh","sh","oh","oh","kc","dc",null,null,null,null,null,null,null,null,null,null,null,null,8]
["B",16,12,"O87","Joey Janus",13.154303512034424,12,13,11,12,11,12,13,14,14,15,12,13,25,"","ndr",94,20,22,12,11,14,23,18,null,null,null,null,null,null,null,null,null,null,null,null,null,"drb","sh","drb","sh","sh","oh","oh",null,null,null,null,null,null,null,null,null,null,null,null,null,7]
["B",17,0,null,null,null,"","","","","","","","","","","","","","",null,null,null,null,null,null,null,null,null,null,null,null,null,null,null,null,null,null,null,null,null,null,null,null,null,null,null,null,null,null,null,null,null,null,null,null,null,null,null,null,null,null,""]
["B",17,1,"","","","","","","","","","","","","","","","","","","",null,null,null,null,null,null,null,null,null,null,null,null,null,null,null,null,null,null,null,null,null,null,null,null,null,null,null,null,null,null,null,null,null,null,null,null,null,null,null,null,""]
["B",17,2,"","","","","","","","","","","","","","","","","","","",null,null,null,null,null,null,null,null,null,null,null,null,null,null,null,null,null,null,null,null,null,null,null,null,null,null,null,null,null,null,null,null,null,null,null,null,null,null,null,null,""]
["B",17,3,"","","","","","","","","","","","","","","","","","","",null,null,null,null,null,null,null,null,null,null,null,null,null,null,null,null,null,null,null,null,null,null,null,null,null,null,null,null,null,null,null,null,null,null,null,null,null,null,null,null,""]
["B",17,4,"","","","","","","","","","","","","","","","","","","",null,null,null,null,null,null,null,null,null,null,null,null,null,null,null,null,null,null,null,null,null,null,null,null,null,null,null,null,null,null,null,null,null,null,null,null,null,null,null,null,""]
["B",17,5,"","","","","","","","","","","","","","","","","","","",null,null,null,null,null,null,null,null,null,null,null,null,null,null,null,null,null,null,null,null,null,null,null,null,null,null,null,null,null,null,null,null,null,null,null,null,null,null,null,null,""]
["B",17,6,"","","","","","","","","","","","","","","","","","","",null,null,null,null,null,null,null,null,null,null,null,null,null,null,null,null,null,null,null,null,null,null,null,null,null,null,null,null,null,null,null,null,null,null,null,null,null,null,null,null,""]
["B",17,7,"","","","","","","","","","","","","","","","","","","",null,null,null,null,null,null,null,null,null,null,null,null,null,null,null,null,null,null,null,null,null,null,null,null,null,null,null,null,null,null,null,null,null,null,null,null,null,null,null,null,""]
["B",17,8,"","","","","","","","","","","","","","","","","","","",null,null,null,null,null,null,null,null,null,null,null,null,null,null,null,null,null,null,null,null,null,null,null,null,null,null,null,null,null,null,null,null,null,null,null,null,null,null,null,null,""]
["B",17,9,"","","","","","","","","","","","","","","","","","","",null,null,null,null,null,null,null,null,null,null,null,null,null,null,null,null,null,null,null,null,null,null,null,null,null,null,null,null,null,null,null,null,null,null,null,null,null,null,null,null,""]
["B",17,10,"","","","","","","","","","","","","","","","","","","",null,null,null,null,null,null,null,null,null,null,null,null,null,null,null,null,null,null,null,null,null,null,null,null,null,null,null,null,null,null,null,null,null,null,null,null,null,null,null,null,""]
["B",17,11,"","","","","","","","","","","","","","","","","","","",null,null,null,null,null,null,null,null,null,null,null,null,null,null,null,null,null,null,null,null,null,null,null,null,null,null,null,null,null,null,null,null,null,null,null,null,null,null,null,null,""]
["B",17,12,"","","","","","","","","","","","","","","","","","","",null,null,null,null,null,null,null,null,null,null,null,null,null,null,null,null,null,null,null,null,null,null,null,null,null,null,null,null,null,null,null,null,null,null,null,null,null,null,null,null,""]
[null,null,null,null,null,null,"","","","","","","","","","","","","","",null,null,null,null,null,null,null,null,null,null,null,null,null,null,null,null,null,null,null,null,null,null,null,null,null,null,null,null,null,null,null,null,null,null,null,null,null,null,null,null,null,null,""]

{"sheet":"Season","index":1,"n_rows":44,"n_cols":62,"rows_kept":44,"cut":false,"hidden":false,"merged":[]}
[]
[]
[null,null,null," Team",null,null,null,null,null,null,null,null,null,null,null,null,null,null,null,2024,null,null,null,null,null,null,null,null,null,null,null,null," - Adjusted scores"]
[1,null,null,{"$f":"  OFFSET(  $E$7,  A4,  0 )","v":"E17"},null,null,null,null,null,null,null,null,null,null,null,null,null,null,null,"SGL Season",null,null,null,null,null,null,null,null,null,null,null,null," - Make-up matches",null,null,null,null,null,null,null,null,null,null,null,null,null,null,null,null,null,null,null,null,2024,"SGL Season Average Scoring"]
[7,null,null,{"$f":"  OFFSET(  $E$25,  A5,  0 )","v":"E75"},null,null,null,null,null,null,null,null,null,null,null,null,null,null,null,null,null,null,null,null,null,null,null,null,null,null,null,null,null,null,null,null,null,null,null,null,null,null,null,null,null,null,null,null,null,null,null,null,null,"Both","Venue","Q1","Q2","Q3","Q4","Year"]
[null,null,null,null,"2024-03-25",null,null,"2024-04-01",null,null,"2024-04-08",null,null,"2024-04-15",null,null,"2024-04-22",null,null,"2024-04-29",null,null,"2024-05-06",null,null,"2024-05-13",null,null,"2024-05-20",null,null,"2024-06-03",null,null,"2024-06-10",null,null,"2024-06-17",null,null,"2024-06-24",null,null,"2024-07-08",null,null,"2024-07-15",null,null,null,null,null,null,null,"SH",{"$f":"  IF(  BD15*1 + BD27*1 = 0, 0,   (  BD14*BD15*1 + BD26 * BD27*1  ) / ( BD15*1+BD27*1 )  )","v":23.59375},{"$f":"  IF(  BE15*1 + BE27*1 = 0, 0,   (  BE14*BE15*1 + BE26 * BE27*1  ) / ( BE15*1+BE27*1 )  )","v":23.09375},{"$f":"  IF(  BF15*1 + BF27*1 = 0, 0,   (  BF14*BF15*1 + BF26 * BF27*1  ) / ( BF15*1+BF27*1 )  )","v":18.906281249999999},{"$f":"  IF(  BG15*1 + BG27*1 = 0, 0,   (  BG14*BG15*1 + BG26 * BG27*1  ) / ( BG15*1+BG27*1 )  )","v":18.25},{"$f":"  IF(  BH15*1 + BH27*1 = 0, 0,   (  BH14*BH15*1 + BH26 * BH27*1  ) / ( BH15*1+BH27*1 )  )","v":21.348223214285717}]
[null,"League","Course","Week",null,1,null,null,2,null,null,3,null,null,4,null,null,5,null,null,6,null,null,7,null,null,8,null,null,9,null,null,10,null,null,11,null,null,12,null,null,13,null,null,14,null,null,15,null,null,16,null,null,"per","CC",{"$f":"  IF(  BD17*1 + BD29*1 = 0, 0,   (  BD16*BD17*1 + BD28 * BD29*1  ) / ( BD17*1+BD29*1 )  )","v":20.625},{"$f":"  IF(  BE17*1 + BE29*1 = 0, 0,   (  BE16*BE17*1 + BE28 * BE29*1  ) / ( BE17*1+BE29*1 )  )","v":17.25357142857143},{"$f":"  IF(  BF17*1 + BF29*1 = 0, 0,   (  BF16*BF17*1 + BF28 * BF29*1  ) / ( BF17*1+BF29*1 )  )","v":15.936666666666667},{"$f":"  IF(  BG17*1 + BG29*1 = 0, 0,   (  BG16*BG17*1 + BG28 * BG29*1  ) / ( BG17*1+BG29*1 )  )","v":13.318181818181818},{"$f":"  IF(  BH17*1 + BH29*1 = 0, 0,   (  BH16*BH17*1 + BH28 * BH29*1  ) / ( BH17*1+BH29*1 )  )","v":17.091071428571428}]
[{"$f":"A7+1","v":1},null,"DR","Tue","E17","f","","E86",30,"","X88",23,"","E14",15,"","E60",1E-3,"","E17",16,"","X88",34.700000000000003,"","X04",20,"","X04","f","","AMSC",12,"","E86",25,"","E42",21,"","E14",5,"","E55a",12,"","SUBS",29,"",null,"","",null,"Team","OH",{"$f":"  IF(  BD19*1 + BD31*1 = 0, 0,   (  BD18*BD19*1 + BD30 * BD31*1  ) / ( BD19*1+BD31*1 )  )","v":21.4375},{"$f":"  IF(  BE19*1 + BE31*1 = 0, 0,   (  BE18*BE19*1 + BE30 * BE31*1  ) / ( BE19*1+BE31*1 )  )","v":22.0625},{"$f":"  IF(  BF19*1 + BF31*1 = 0, 0,   (  BF18*BF19*1 + BF30 * BF31*1  ) / ( BF19*1+BF31*1 )  )","v":13.6875},{"$f":"  IF(  BG19*1 + BG31*1 = 0, 0,   (  BG18*BG19*1 + BG30 * BG31*1  ) / ( BG19*1+BG31*1 )  )","v":18.75},{"$f":"  IF(  BH19*1 + BH31*1 = 0, 0,   (  BH18*BH19*1 + BH30 * BH31*1  ) / ( BH19*1+BH31*1 )  )","v":19}]
[{"$f":"A8+1","v":2},null,"DR","Tue","E55B",null,"","E83",16,"","AMSC",28,"","E83",4,"","E12",16,"","E42",17,"","E55B",15.000000000000002,"","E14",12,"","E55B",null,"","X01",2,"","AGS",26,"","X87",21,"","E60",18,"","X01",14,"","E42",32,"",null,"","",null,null,"RF",{"$f":"  IF(  BD21*1 + BD33*1 = 0, 0,   (  BD20*BD21*1 + BD32 * BD33*1  ) / ( BD21*1+BD33*1 )  )","v":22.875},{"$f":"  IF(  BE21*1 + BE33*1 = 0, 0,   (  BE20*BE21*1 + BE32 * BE33*1  ) / ( BE21*1+BE33*1 )  )","v":19.571428571428573},{"$f":"  IF(  BF21*1 + BF33*1 = 0, 0,   (  BF20*BF21*1 + BF32 * BF33*1  ) / ( BF21*1+BF33*1 )  )","v":10.4375},{"$f":"  IF(  BG21*1 + BG33*1 = 0, 0,   (  BG20*BG21*1 + BG32 * BG33*1  ) / ( BG21*1+BG33*1 )  )","v":19.600000000000001},{"$f":"  IF(  BH21*1 + BH33*1 = 0, 0,   (  BH20*BH21*1 + BH32 * BH33*1  ) / ( BH21*1+BH33*1 )  )","v":17.910714285714285}]
[3,null,"OH","Tue","E60",16,"","AGS",26,"","X04",22,"","X01",28,"","X01",13,"","E55a",17,"","E86",29,"","E42",10,"","X87",10,"","E55B",3,"","E14",21,"","E83",11,"","E55a",26,"","E14",23,"","X87",13,"",null,"","",null,null,"KC",{"$f":"BD34","v":14.6875},{"$f":"BE34","v":10.4375},{"$f":"BF34","v":5.3125},7.916666666666667,{"$f":"  IF(  BH23*0 + BH35*1 = 0, 0,   (  BH22*BH23*0 + BH34 * BH35*1  ) / ( BH23*0+BH35*1 )  )","v":9.6999999999999993}]
[4,null,"OH","Tue","AMSC",38,"","E12",28,"","SUBS",13,"","E86",18,"","E17",31,"","AMSC",21,"","X04",34,"","E83",18,"","E60",17,"","E12",11,"","E12",8,"","AGS",14,"","X88",26,"","E17",13,"","X01",20,"",null,"","",null,null,"DR",{"$f":"BD22","v":18.185714285714287},{"$f":"BE22","v":16.231312500000001},{"$f":"BF22","v":17},18.166666666666668,{"$f":"  IF(  BH23*1 + BH35*0 = 0, 0,   (  BH22*BH23*1 + BH34 * BH35*0  ) / ( BH23*1+BH35*0 )  )","v":17.326803571428574}]
[5,null,"SH","Tue","E83",30,"","E42",36,"","E55a",21,"","X87",7,"","AGS",30,"","E60",13,"","X87",18,"","E55a",18,"","E86",12,"","E55a",16,"","E83",25,"","E14",24,"","X01",8,"","AGS","f","","AMSC",null,"",null,"","",null,null,"Ave",{"$f":"  IF(  SUM(  BD24 ) = 0, 0,    ( BD25  )  /  BD24  )","v":20.742857142857144},{"$f":"  IF(  SUM(  BE24 ) = 0, 0,    ( BE25  )  /  BE24  )","v":18.654106557377048},{"$f":"  IF(  SUM(  BF24 ) = 0, 0,    ( BF25  )  /  BF24  )","v":14.452427419354839},15.702380952380953,17.544960526315791]
[6,null,"SH","Tue","X01",20,"","E60",25,"","E86",17,"","E17",26,"","E42",28,"","E55B",26,"","E12",17,"","E12",14,"","X88",12,"","SUBS",13,"","SUBS",34,"","X88",1E-3,"","X04",25,"","X04",null,"","AGS",null,"",null,"",""]
[7,null,"CC","Tue","SUBS",28,"","X87",17,"","E14",23,"","E42",24,"","E83",20,"","X88",-3,"","AGS",15,"","E86","f","","E17",8,"","E42",1,"","X04",28,"","E17",33,"","X87",9,"","SUBS",10,"","X88",9,"",null,"","",null,null,"SH",{"$f":"  IF(  BD15 = 0, 0,   AVERAGE(  F12:F13,I12:I13,L12:L13,O12:O13,   F20:F21,I20:I21,L20:L21,O20:O21  )   )","v":23.625},{"$f":"  IF(  BE15 = 0, 0,   AVERAGE(  R12:R13,U12:U13,X12:X13,AA12:AA13,   R20:R21,U20:U21,X20:X21,AA20:AA21  )   )","v":22.375},{"$f":"  IF(  BF15 = 0, 0,   AVERAGE(  AD12:AD13,AG12:AG13,AJ12:AJ13,AM12:AM13,   AD20:AD21,AG20:AG21,AJ20:AJ21,AM20:AM21  )   )","v":17.875062499999999},{"$f":"  IF(  BG15 = 0, 0,   AVERAGE(  AP12:AP13,AS12:AS13,AV12:AV13,AY12:AY13,   AP20:AP21,AS20:AS21,AV20:AV21,AY20:AY21  )   )","v":16},{"$f":"  SUMPRODUCT( BD14:BG14, BD15:BG15 ) /  IF(  BH15 = 0, 1, BH15  )","v":20.884634615384616}]
[8,"A","CC","Tue","E12",30,"","E55B",27,"","X87",16,"","AMSC",30,"","E55B",36,"","E83",18,"","E55a",22,"","AMSC",null,"","AMSC",7,"","E14",19,"","E55a",12.1,"","X04",13,"","SUBS",32,"","E60",3,"","E60",14,"",null,"","",null,null,null,{"$f":"  COUNT(  F12:F13, I12:I13, L12:L13, O12:O13,   F20:F21, I20:I21, L20:L21, O20:O21  ) / 2","v":8},{"$f":"  COUNT(  R12:R13, U12:U13, X12:X13, AA12:AA13,   R20:R21, U20:U21, X20:X21, AA20:AA21  ) / 2","v":8},{"$f":"  COUNT(  AD12:AD13, AG12:AG13, AJ12:AJ13, AM12:AM13,   AD20:AD21, AG20:AG21, AJ20:AJ21, AM20:AM21  ) / 2","v":8},{"$f":"  COUNT(  AP12:AP13, AS12:AS13, AV12:AV13, AY12:AY13,   AP20:AP21, AS20:AS21, AV20:AV21, AY20:AY21  ) / 2","v":2},{"$f":"SUM(BD15:BG15)","v":26}]
[9,null,"DR","Thu","E55a",7,"","X88",22.699999999999996,"","E55B",19,"","E12",16,"","AMSC",43,"","X04",29,"","E83",7,"","AGS",18,"","SUBS",26,"","AGS",14,"","X01",15,"","E60",5,"","E86",27,"","E12",23,"","E83",-6,"",null,"","",null,null,"CC",{"$f":"  IF(  BD17 = 0, 0,   AVERAGE(  F14:F15,I14:I15,L14:L15,O14:O15,   F22:F23,I22:I23,L22:L23,O22:O23  )   )","v":24.8125},{"$f":"  IF(  BE17 = 0, 0,   AVERAGE(  R14:R15,U14:U15,X14:X15,AA14:AA15,   R22:R23,U22:U23,X22:X23,AA22:AA23  )   )","v":18.071428571428573},{"$f":"  IF(  BF17 = 0, 0,   AVERAGE(  AD14:AD15,AG14:AG15,AJ14:AJ15,AM14:AM15,   AD22:AD23,AG22:AG23,AJ22:AJ23,AM22:AM23  )   )","v":15.864285714285714},{"$f":"  IF(  BG17 = 0, 0,   AVERAGE(  AP14:AP15,AS14:AS15,AV14:AV15,AY14:AY15,   AP22:AP23,AS22:AS23,AV22:AV23,AY22:AY23  )   )","v":13.083333333333334},{"$f":"  SUMPRODUCT( BD16:BG16, BD17:BG17 ) /  IF(  BH17 = 0, 1, BH17  )","v":18.376785714285713}]
[10,null,"DR","Thu","X87",23,"","SUBS",19.900000000000002,"","X01",14,"","X88",17,"","SUBS",12,"","X87",11,"","E60",2,"","X87",7,"","E14",38,"","E17",8,"","X88",6,"","E55a",19,"","E42",27,"","AMSC",23,"","E55a",14,"",null,"","",null,null,null,{"$f":"  COUNT(  F14:F15, I14:I15, L14:L15, O14:O15,   F22:F23, I22:I23, L22:L23, O22:O23  ) / 2","v":8},{"$f":"  COUNT(  R14:R15, U14:U15, X14:X15, AA14:AA15,   R22:R23, U22:U23, X22:X23, AA22:AA23  ) / 2","v":7},{"$f":"  COUNT(  AD14:AD15, AG14:AG15, AJ14:AJ15, AM14:AM15,   AD22:AD23, AG22:AG23, AJ22:AJ23, AM22:AM23  ) / 2","v":7},{"$f":"  COUNT(  AP14:AP15, AS14:AS15, AV14:AV15, AY14:AY15,   AP22:AP23, AS22:AS23, AV22:AV23, AY22:AY23  ) / 2","v":6},{"$f":"SUM(BD17:BG17)","v":28}]
[11,null,"OH","Thu","AGS",16,"","X04",32,"","E12",22,"","E60",10,"","E55a",29,"","AGS",26,"","E17",15,"","SUBS",6,"","E42",16,"","E60",24,"","AMSC",14,"","E12",3,"","AMSC",19,"","E42",30,"","E17","f","",null,"","",null,"A","OH",{"$f":"  IF(  BD19 = 0, 0,   AVERAGE(  F10:F11,I10:I11,L10:L11,O10:O11  )   )","v":23.625},{"$f":"  IF(  BE19 = 0, 0,   AVERAGE(  R10:R11,U10:U11,X10:X11,AA10:AA11  )   )","v":21.625},{"$f":"  IF(  BF19 = 0, 0,   AVERAGE(  AD10:AD11,AG10:AG11,AJ10:AJ11,AM10:AM11  )   )","v":11.875},{"$f":"  IF(  BG19 = 0, 0,   AVERAGE(  AP10:AP11,AS10:AS11,AV10:AV11,AY10:AY11  )   )","v":20.166666666666668},{"$f":"  SUMPRODUCT( BD18:BG18, BD19:BG19 ) /  IF(  BH19 = 0, 1, BH19  )","v":19.266666666666666}]
[12,null,"OH","Thu","X88",19,"","AMSC",31,"","E42",24,"","X04",27,"","E14",17,"","E14",13,"","SUBS",26,"","E55B",24,"","E55a",10,"","E86",12,"","X87",10,"","X01",5,"","E83",14,"","X88",8,"","E86",null,"",null,"","",null,null,null,{"$f":"  COUNT(  F10:F11, I10:I11, L10:L11, O10:O11    ) / 2","v":4},{"$f":"  COUNT(  R10:R11, U10:U11, X10:X11, AA10:AA11    ) / 2","v":4},{"$f":"  COUNT(  AD10:AD11, AG10:AG11, AJ10:AJ11, AM10:AM11    ) / 2","v":4},{"$f":"  COUNT(  AP10:AP11, AS10:AS11, AV10:AV11, AY10:AY11    ) / 2","v":3},{"$f":"SUM(BD19:BG19)","v":15}]
[13,null,"SH","Thu","E42",22,"","E17",30,"","E83",17,"","SUBS",25,"","X04",24,"","X01",35,"","AMSC",25,"","X01",17,"","E12",15,"","X88",28,"","E55B",15,"","AMSC",22,"","E12",17,"","E55B",null,"","E55B",null,"",null,"","",null,null,null,{"$f":"  IF(  BD21 = 0, 0,   AVERAGE(    F18:F19,I18:I19,L18:L19,O18:O19  )   )","v":22.625},{"$f":"  IF(  BE21 = 0, 0,   AVERAGE(    R18:R19,U18:U19,X18:X19,AA18:AA19  )   )","v":19.5},{"$f":"  IF(  BF21 = 0, 0,   AVERAGE(    AD18:AD19,AG18:AG19,AJ18:AJ19,AM18:AM19  )   )","v":11.75},{"$f":"  IF(  BG21 = 0, 0,   AVERAGE(    AP18:AP19,AS18:AS19,AV18:AV19,AY18:AY19  )   )","v":17.75},{"$f":"  SUMPRODUCT( BD20:BG20, BD21:BG21 ) /  IF(  BH21 = 0, 1, BH21  )","v":17.928571428571427}]
[14,null,"SH","Thu","X04",24,"","E55a",24,"","E17",30,"","AGS",24,"","X88",20,"","SUBS",28,"","E14",24,"","E60",21,"","E83",17,"","X87",10,"","E42",33,"","E55B",10,"","E17",14,"","E86","f","","E14","f","",null,"","",null,null,null,{"$f":"  COUNT(    F18:F19, I18:I19, L18:L19, O18:O19  ) / 2","v":4},{"$f":"  COUNT(    R18:R19, U18:U19, X18:X19, AA18:AA19  ) / 2","v":4},{"$f":"  COUNT(    AD18:AD19, AG18:AG19, AJ18:AJ19, AM18:AM19  ) / 2","v":4},{"$f":"  COUNT(    AP18:AP19, AS18:AS19, AV18:AV19, AY18:AY19  ) / 2","v":2},{"$f":"SUM(BD21:BG21)","v":14}]
[15,null,"CC","Thu","E86",17,"","E14",33,"","E60",17,"","E55B",34,"","X87",26,"","E12",21,"","X01",8,"","X88",16,"","X01",23,"","E83",16,"","E60",null,"","SUBS",21,"","E55B",17,"","X87",14,"","E12",-5,"",null,"","",null,null,"DR",{"$f":"  IF(  BD23 = 0, 0,   AVERAGE(  F8:F9,I8:I9,L8:L9,O8:O9,   F16:F17,I16:I17,L16:L17,O16:O17  )   )","v":18.185714285714287},{"$f":"  IF(  BE23 = 0, 0,   AVERAGE(  R8:R9,U8:U9,X8:X9,AA8:AA9,   R16:R17,U16:U17,X16:X17,AA16:AA17  )   )","v":16.231312500000001},{"$f":"  IF(  BF23 = 0, 0,   AVERAGE(  AD8:AD9,AG8:AG9,AJ8:AJ9,AM8:AM9,   AD16:AD17,AG16:AG17,AJ16:AJ17,AM16:AM17  )   )","v":17},{"$f":"  IF(  BG23 = 0, 0,   AVERAGE(  AP8:AP9,AS8:AS9,AV8:AV9,AY8:AY9,   AP16:AP17,AS16:AS17,AV16:AV17,AY16:AY17  )   )","v":18.166666666666668},{"$f":"  SUMPRODUCT( BD22:BG22, BD23:BG23 ) /  IF(  BH23 = 0, 1, BH23  )","v":17.326803571428574}]
[16,null,"CC","Thu","E14",23,"","X01",27,"","AGS",19,"","E55a",32,"","E86",21,"","E86",13,"","E42",6,"","E17",34,"","AGS",11,"","X04",12,"","E17","f","","E86",18,"","AGS",15,"","E83",4,"","X04",35,"",null,"","",null,null,null,{"$f":"  COUNT(  F8:F9, I8:I9, L8:L9, O8:O9,   F16:F17, I16:I17, L16:L17, O16:O17  ) / 2","v":7},{"$f":"  COUNT(  R8:R9, U8:U9, X8:X9, AA8:AA9,   R16:R17, U16:U17, X16:X17, AA16:AA17  ) / 2","v":8},{"$f":"  COUNT(  AD8:AD9, AG8:AG9, AJ8:AJ9, AM8:AM9,   AD16:AD17, AG16:AG17, AJ16:AJ17, AM16:AM17  ) / 2","v":7},{"$f":"  COUNT(  AP8:AP9, AS8:AS9, AV8:AV9, AY8:AY9,   AP16:AP17, AS16:AS17, AV16:AV17, AY16:AY17  ) / 2","v":6},{"$f":"SUM(BD23:BG23)","v":28}]
[17,"C",0,"Mon",0,null,"",0,null,"",0,null,"",0,null,"",0,null,"",0,null,"",0,null,"",0,null,"",0,null,"",0,null,"",0,null,"",0,null,"",0,null,"",0,null,"",0,null,"",null,"","",null,null,"SH",{"$f":" SUM(  BD15,BD17,BD19,BD21,BD23,BD27,BD29,BD31,BD33,BD35 )","v":63},{"$f":" SUM(  BE15,BE17,BE19,BE21,BE23,BE27,BE29,BE31,BE33,BE35 )","v":61},62,42,228]
[18,null,0,"Mon",0,null,"",0,null,"",0,null,"",0,null,"",0,null,"",0,null,"",0,null,"",0,null,"",0,null,"",0,null,"",0,null,"",0,null,"",0,null,"",0,null,"",0,null,"",null,"","",null,null,null,{"$f":"  BD14*BD15 + BD16*BD17 + BD18*BD19 + BD20*BD21 + BD22*BD23 + BD26*BD27 + BD28*BD29 + BD30*BD31 + BD32*BD33 + BD34*BD35","v":1306.8},{"$f":"  BE14*BE15 + BE16*BE17 + BE18*BE19 + BE20*BE21 + BE22*BE23 + BE26*BE27 + BE28*BE29 + BE30*BE31 + BE32*BE33 + BE34*BE35","v":1137.9005},896.05050000000006,659.5,4000.2510000000002]
[19,null,"KC","Mon","E25",11,"","O19",19,"","CVN",21,"","A572",14,"","ENGR",14,"","E25",39,"","CVN",25,"","CRF",12,"","CRF",8,"","O46",6,"","O19",14,"","ARG",4,"","A572",18,"","SCM",-5,"","E75",13,"",null,"","",null,null,"DR",{"$f":"  IF(  BD27 = 0, 0,   AVERAGE(  F30:F31,I30:I31,L30:L31,O30:O31,   F38:F39,I38:I39,L38:L39,O38:O39  )   )","v":23.5625},{"$f":"  IF(  BE27 = 0, 0,   AVERAGE(  R30:R31,U30:U31,X30:X31,AA30:AA31,   R38:R39,U38:U39,X38:X39,AA38:AA39  )   )","v":23.8125},{"$f":"  IF(  BF27 = 0, 0,   AVERAGE(  AD30:AD31,AG30:AG31,AJ30:AJ31,AM30:AM31,   AD38:AD39,AG38:AG39,AJ38:AJ39,AM38:AM39  )   )","v":19.9375},{"$f":"  IF(  BG27 = 0, 0,   AVERAGE(  AP30:AP31,AS30:AS31,AV30:AV31,AY30:AY31,   AP38:AP39,AS38:AS39,AV38:AV39,AY38:AY39  )   )","v":19},{"$f":"  SUMPRODUCT( BD26:BG26, BD27:BG27 ) /  IF(  BH27 = 0, 1, BH27  )","v":21.75}]
[20,null,"KC","Mon","M10",10,"","X31",13,"","O46",11,"","X31",13,"","E20",15,"","ARG",9,"","M10",12,"","A572",16,"","M10",11,"","X10",10,"","NNIT",6,"","O87",2,"","ENGR",6,"","X10",11,"","ARG",-2,"",null,"","",null,null,null,{"$f":"  COUNT(  F30:F31, I30:I31, L30:L31, O30:O31,   F38:F39, I38:I39, L38:L39, O38:O39  ) / 2","v":8},{"$f":"  COUNT(  R30:R31, U30:U31, X30:X31, AA30:AA31,   R38:R39, U38:U39, X38:X39, AA38:AA39  ) / 2","v":8},{"$f":"  COUNT(  AD30:AD31, AG30:AG31, AJ30:AJ31, AM30:AM31,   AD38:AD39, AG38:AG39, AJ38:AJ39, AM38:AM39  ) / 2","v":8},{"$f":"  COUNT(  AP30:AP31, AS30:AS31, AV30:AV31, AY30:AY31,   AP38:AP39, AS38:AS39, AV38:AV39, AY38:AY39  ) / 2","v":6},{"$f":"SUM(BD27:BG27)","v":30}]
[21,null,"OH","Mon","ENGR",29,"","NNIT",32,"","CRF",20,"","X10",11,"","X10",24,"","SCM",16,"","O19",26,"","ARG",null,"","O87",10,"","M10",8,"","A572",-1,"","X31",11,"","SCM",2,"","A572",26,"","O87",22,"",null,"","",null,"B","OH",{"$f":"  IF(  BD29 = 0, 0,   AVERAGE(  F32:F33,I32:I33,L32:L33,O32:O33,   F40:F41,I40:I41,L40:L41,O40:O41  )   )","v":16.4375},{"$f":"  IF(  BE29 = 0, 0,   AVERAGE(  R32:R33,U32:U33,X32:X33,AA32:AA33,   R40:R41,U40:U41,X40:X41,AA40:AA41  )   )","v":16.435714285714287},{"$f":"  IF(  BF29 = 0, 0,   AVERAGE(  AD32:AD33,AG32:AG33,AJ32:AJ33,AM32:AM33,   AD40:AD41,AG40:AG41,AJ40:AJ41,AM40:AM41  )   )","v":16},{"$f":"  IF(  BG29 = 0, 0,   AVERAGE(  AP32:AP33,AS32:AS33,AV32:AV33,AY32:AY33,   AP40:AP41,AS40:AS41,AV40:AV41,AY40:AY41  )   )","v":13.6},{"$f":"  SUMPRODUCT( BD28:BG28, BD29:BG29 ) /  IF(  BH29 = 0, 1, BH29  )","v":15.805357142857144}]
[22,null,"OH","Mon","O46",25,"","E20",19,"","E75",18,"","O19",31,"","E25",15,"","O46",21,"","CRF",16,"","X31","f","","ENGR",7,"","E20",13,"","E20",10,"","NNIT",15,"","CVN",22,"","E25",19,"","X10",34,"",null,"","",null,null,null,{"$f":"  COUNT(  F32:F33, I32:I33, L32:L33, O32:O33,   F40:F41, I40:I41, L40:L41, O40:O41  ) / 2","v":8},{"$f":"  COUNT(  R32:R33, U32:U33, X32:X33, AA32:AA33,   R40:R41, U40:U41, X40:X41, AA40:AA41  ) / 2","v":7},{"$f":"  COUNT(  AD32:AD33, AG32:AG33, AJ32:AJ33, AM32:AM33,   AD40:AD41, AG40:AG41, AJ40:AJ41, AM40:AM41  ) / 2","v":8},{"$f":"  COUNT(  AP32:AP33, AS32:AS33, AV32:AV33, AY32:AY33,   AP40:AP41, AS40:AS41, AV40:AV41, AY40:AY41  ) / 2","v":5},{"$f":"SUM(BD29:BG29)","v":28}]
[23,null,"SH","Mon","X31",26,"","ARG",-1,"","SCM",20,"","O87",37,"","NNIT",31,"","ENGR",38,"","O87",11,"","SCM",23,"","O19",20,"","SCM",20,"","X31",20,"","A572",18,"","X10",-2,"","NNIT",16,"","O46",22,"",null,"","",null,null,null,{"$f":"  IF(  BD31 = 0, 0,   AVERAGE(    F36:F37,I36:I37,L36:L37,O36:O37  )   )","v":19.25},{"$f":"  IF(  BE31 = 0, 0,   AVERAGE(    R36:R37,U36:U37,X36:X37,AA36:AA37  )   )","v":22.5},{"$f":"  IF(  BF31 = 0, 0,   AVERAGE(    AD36:AD37,AG36:AG37,AJ36:AJ37,AM36:AM37  )   )","v":15.5},{"$f":"  IF(  BG31 = 0, 0,   AVERAGE(    AP36:AP37,AS36:AS37,AV36:AV37,AY36:AY37  )   )","v":17.333333333333332},{"$f":"  SUMPRODUCT( BD30:BG30, BD31:BG31 ) /  IF(  BH31 = 0, 1, BH31  )","v":18.733333333333334}]
[24,null,"SH","Mon","X10",26,"","ENGR",34,"","O19",29,"","E25",41,"","ARG",19,"","M10",25,"","E20",20,"","E20",22,"","CVN",31,"","E75",8,"","E75",26,"","CVN",23,"","CRF",39,"","CRF",23,"","NNIT",12,"",null,"","",null,null,null,{"$f":"  COUNT(    F36:F37, I36:I37, L36:L37, O36:O37  ) / 2","v":4},{"$f":"  COUNT(    R36:R37, U36:U37, X36:X37, AA36:AA37  ) / 2","v":4},{"$f":"  COUNT(    AD36:AD37, AG36:AG37, AJ36:AJ37, AM36:AM37  ) / 2","v":4},{"$f":"  COUNT(    AP36:AP37, AS36:AS37, AV36:AV37, AY36:AY37  ) / 2","v":3},{"$f":"SUM(BD31:BG31)","v":15}]
[25,null,"DR","Mon","E75",14,"","O87",30,"","A572",16,"","ARG",7,"","X31",0.1,"","CVN",23,"","NNIT",23,"","O19",19,"","E25",37,"","ARG",13,"","CRF",8,"","E25",25,"","O87",26,"","E75",17,"","CVN","f","",null,"","",null,null,"KC",{"$f":"  IF(  BD33 = 0, 0,   AVERAGE(  F28:F29,I28:I29,L28:L29,O28:O29  )   )","v":23.125},{"$f":"  IF(  BE33 = 0, 0,   AVERAGE(  R28:R29,U28:U29,X28:X29,AA28:AA29  )   )","v":19.666666666666668},{"$f":"  IF(  BF33 = 0, 0,   AVERAGE(  AD28:AD29,AG28:AG29,AJ28:AJ29,AM28:AM29  )   )","v":9.125},{"$f":"  IF(  BG33 = 0, 0,   AVERAGE(  AP28:AP29,AS28:AS29,AV28:AV29,AY28:AY29  )   )","v":20.833333333333332},{"$f":"  SUMPRODUCT( BD32:BG32, BD33:BG33 ) /  IF(  BH33 = 0, 1, BH33  )","v":17.892857142857142}]
[26,"B","DR","Mon","E20",24,"","M10",15,"","O87",15,"","O46",9,"","M10",14,"","X31",31,"","SCM",-3,"","O46",24,"","O46",18,"","A572",6,"","SCM",-6,"","CRF",22,"","E75",12,"","ENGR",14,"","ENGR",null,"",null,"","",null,null,null,{"$f":"  COUNT(  F28:F29, I28:I29, L28:L29, O28:O29    ) / 2","v":4},{"$f":"  COUNT(  R28:R29, U28:U29, X28:X29, AA28:AA29    ) / 2","v":3},{"$f":"  COUNT(  AD28:AD29, AG28:AG29, AJ28:AJ29, AM28:AM29    ) / 2","v":4},{"$f":"  COUNT(  AP28:AP29, AS28:AS29, AV28:AV29, AY28:AY29    ) / 2","v":3},{"$f":"SUM(BD33:BG33)","v":14}]
[27,null,"KC","Wed","SCM",7,"","CVN",17,"","M10",6,"","E20",19,"","O46",14,"","CRF",12,"","X31",-8,"","NNIT",-11,"","E75",-6,"","NNIT",5,"","X10",4,"","ENGR",-3,"","O19",22,"","E20",4,"","X31",12,"",null,"","",null,null,null,{"$f":"  IF(  BD35 = 0, 0,   AVERAGE(  F26:F27,I26:I27,L26:L27,O26:O27,   F34:F35,I34:I35,L34:L35,O34:O35  )   )","v":14.6875},{"$f":"  IF(  BE35 = 0, 0,   AVERAGE(  R26:R27,U26:U27,X26:X27,AA26:AA27,   R34:R35,U34:U35,X34:X35,AA34:AA35  )   )","v":10.4375},{"$f":"  IF(  BF35 = 0, 0,   AVERAGE(  AD26:AD27,AG26:AG27,AJ26:AJ27,AM26:AM27,   AD34:AD35,AG34:AG35,AJ34:AJ35,AM34:AM35  )   )","v":5.3125},{"$f":"  IF(  BG35 = 0, 0,   AVERAGE(  AP26:AP27,AS26:AS27,AV26:AV27,AY26:AY27,   AP34:AP35,AS34:AS35,AV34:AV35,AY34:AY35  )   )","v":7.916666666666667},{"$f":"  SUMPRODUCT( BD34:BG34, BD35:BG35 ) /  IF(  BH35 = 0, 1, BH35  )","v":9.6999999999999993}]
[28,null,"KC","Wed","O87",18,"","E75",13,"","X10",34,"","CVN",9,"","E75",12,"","O87",8,"","ENGR",2,"","O87",-4,"","A572",-6,"","E25",20,"","CVN",-1,"","SCM",11,"","ARG",10,"","O46",-7,"","SCM",13,"",null,"","",null,null,"SH",{"$f":"  COUNT(  F26:F27, I26:I27, L26:L27, O26:O27,   F34:F35, I34:I35, L34:L35, O34:O35  ) / 2","v":8},{"$f":"  COUNT(  R26:R27, U26:U27, X26:X27, AA26:AA27,   R34:R35, U34:U35, X34:X35, AA34:AA35  ) / 2","v":8},{"$f":"  COUNT(  AD26:AD27, AG26:AG27, AJ26:AJ27, AM26:AM27,   AD34:AD35, AG34:AG35, AJ34:AJ35, AM34:AM35  ) / 2","v":8},{"$f":"  COUNT(  AP26:AP27, AS26:AS27, AV26:AV27, AY26:AY27,   AP34:AP35, AS34:AS35, AV34:AV35, AY34:AY35  ) / 2","v":6},{"$f":"SUM(BD35:BG35)","v":30}]
[29,null,"OH","Wed","NNIT",22,"","CRF",17,"","E20",10,"","ENGR",21,"","SCM",31,"","NNIT",12,"","E25",26,"","E75",18,"","ARG",17,"","ENGR",19,"","O46",12,"","E20",15,"","O46",13,"","ARG",23,"","E25",15,"",null,"","",null,"per","CC"]
[30,null,"OH","Wed","CVN",18,"","O46",24,"","ARG",21,"","CRF",21,"","A572",11,"","A572",28,"","E75",25,"","M10",29,"","SCM",20,"","O19",11,"","O87",12,"","X10",18,"","X31",18,"","CVN",20,"","O19",15,"",null,"","",null,"Player","OH",{"$f":"BD6/6","v":3.9322916666666665},3.8489583333333335,{"$f":"BF6/6","v":3.151046875},{"$f":"BG6/6","v":3.0416666666666665},3.558037202380953]
[31,null,"SH","Wed","ARG",30,"","E25",32,"","X31",13,"","E75",16,"","CRF",27,"","X10",23,"","O46",19,"","X10",21,"","E20",18,"","CVN",28,"","M10",17,"","O46",10,"","E20",6,"","M10",41,"","M10",12,"",null,"","",null,null,"RF",3.4375,2.8755952380952383,2.6561111111111111,2.2196969696969697,2.8485119047619047]
[32,null,"SH","Wed","CRF",23,"","SCM",13,"","E25",21,"","NNIT",17,"","CVN",35,"","E75",21,"","A572",15,"","ENGR",31,"","X31",23,"","O87",21,"","ARG",28,"","M10",8,"","E25",27,"","O19",17,"","A572",15,"",null,"","",null,null,"KC",3.5729166666666665,3.6770833333333335,2.28125,3.125,3.1666666666666665]
[33,null,"DR","Wed","O19",11,"","A572",27,"","ENGR",20,"","M10",25,"","O87",8,"","E20",21,"","X10",18,"","CVN","f","","X10",25,"","X31",10,"","ENGR",8,"","E75",14,"","M10",7,"","O87",9,"","E20",16,"",null,"","",null,null,"DR",3.8125,3.2619047619047623,1.7395833333333333,3.2666666666666671,2.9851190476190474]
[34,null,"DR","Wed","A572",29,"","X10",8,"","NNIT",7,"","SCM",6,"","O19",19,"","O19",14,"","ARG",19,"","E25",null,"","NNIT",14,"","CRF",26,"","E25",17,"","O19",19,"","NNIT",7,"","X31",11,"","CRF",17,"",null,"","",null,null,"Ave",2.4479166666666665,1.7395833333333333,0.88541666666666663,1.3194444444444444,1.6166666666666665]
[null,null,null,null,null,null,null,null,null,null,null,null,null,null,null,null,null,null,null,null,null,null,null,null,null,null,null,null,null,null,null,null,null,null,null,null,null,null,null,null,null,null,null,null,null,null,null,null,null,null,null,null,null,null,"DR",3.0309523809523813,2.7052187500000002,2.8333333333333335,3.0277777777777781,2.8878005952380956]
[null,null,"Matches: ",32,null,32,0,null,32,0,null,32,0,null,32,0,null,32,0,null,32,0,null,32,0,null,32,0,null,32,0,null,32,0,null,32,0,null,32,0,null,32,0,null,32,0,null,30,0,null,null,null,null,null,"Ave",{"$f":" BD12 / 6","v":3.4571428571428573},{"$f":" BE12 / 6","v":3.1090177595628412},2.4087379032258065,2.6170634920634921,{"$f":" BH12 / 6","v":2.9241600877192986},null,"SGL Ave Net"]
[null,null,null,null,null,null,null,null,null,null,null,null,null,null,null,null,null,null,null,null,null,null,null,null,null,null,null,null,null,null,null,null,null,null,null,null,null,null,null,null,null,null,null,null,null,null,null,null,null,null,null,null,null,{"$f":" COUNTIF( BB12:BC28, \">0\" )","v":0}]

{"sheet":"Standings","index":2,"n_rows":276,"n_cols":64,"rows_kept":276,"cut":false,"hidden":false,"merged":[]}
[null,null,null,null,null,null,null,null,null,null,null,null,null,null,null,null,null,null,null,null,null,null,null,null,null,null,null,null,null,null,null,null,null,null,null,null,null,null,null,null,null,"Season",null,null,null,null,null,null,null,null,"Head-to-Head"]
[null,null,null,null,null,null,null,null,null,null,null,null,null,"Sorts by Pts",null,null,null,null,null,null,null,null,2,{"$f":" IF( W2 = 1,  \"A\", \"B\" )","v":"B"}," League Tie Breakers",null,null,null,null,null,null,null,null,null,null,null,null,null,null,null,null,null,null,null,null,null,null,null,"Sort Standings",null,null,"Head-to-Head Points"]
[null,null,null,null,null,null,null,null,null,null,null,null,null,"then GB (before July)",null,null,null,null,null,null,null,null,null,null,null,null,null,null,null,null,null,null,"Tiebreak",null,null,null,"All League Matches",null,null,null,null,null,null,"To organized standings in accordance with tie-break rules (2015 Rule 25):",null,null,null,null,null,null,null,"Automatic for 3 teams"]
[null,null,null,null,"Division A Teams",null,null,null,null,null,null,null,null,"Division B Teams",null,null,null,null,null,null,null,null,8,null,{"$f":" IF( W2 = 1, BB35, BC35 )","v":15}," Points",null,null,null,null,"Week","Match","Match","Home","Pts","Away","Pts","Won","Lost","Tied","Tied",null,null,null,null,null,null,null,null,null,null,null,"Relevant Matches",null,null,null,null,null,null,"Points For and Against"]
[null,null,"Team","W","L","T","Pts","GB","#",null,null,"Team","W","L","T","Pts","GB","#",null,null,null,null,null,null,null,null,null,null,null,null,1,1,{"$f":"  IF(  OR(  ISNA(  MATCH( AH5, $W$8:$W$13, 0 )   ),   ISNA( MATCH(  AJ5,  $W$8:$W$13, 0 )  )    ), \" . \",   MAX( $AG$4:AG4 ) + 1  )","v":" . "},{"$f":"  IF( $AE5 = \"\", \"\",    OFFSET( Season!$E$7,     2 * $AF5 - 1  +  IF( AH$4 = $AJ$4, 1, 0 ),     3*( $AE5-1) + 0  )     )","v":"E17"},{"$f":"  IF( $AE5 = \"\", 0,    OFFSET( Season!$E$7,     2 * $AF5 - 1  +  IF( AH$4 = $AJ$4, 1, 0 ),     3*( $AE5-1) + 1  )     )","v":"f"},{"$f":"  IF( $AE5 = \"\", \"\",    OFFSET( Season!$E$7,     2 * $AF5 - 1  +  IF( AJ$4 = $AJ$4, 1, 0 ),     3*( $AE5-1) + 0  )     )","v":"E55B"},{"$f":"  IF( $AE5 = \"\", 0,    OFFSET( Season!$E$7,     2 * $AF5 - 1  +  IF( AJ$4 = $AJ$4, 1, 0 ),     3*( $AE5-1) + 1  )     )","v":0},{"$f":"  IF(  LEFT( $AI5, 1 ) = \"f\",  $AJ5,    IF(  LEFT( $AK5, 1 ) = \"f\", $AH5,    IF(  AND(  $AI5 = \"\",  $AK5 = \"\"  ), \".\",    IF(  $AI5^2 + $AK5^2 = 0,  \"x\",    IF(  $AI5 = $AK5, \"Tie\",    IF(   $AI5 < $AK5,  $AH5,  $AJ5 )    )  )  ) )  )","v":"E55B"},{"$f":"  IF(  LEFT( $AI5, 1 ) = \"f\",  $AH5,    IF(  LEFT( $AK5, 1 ) = \"f\", $AJ5,    IF(  AND(  $AI5 = \"\",  $AK5 = \"\"  ), \".\",    IF(  $AI5^2 + $AK5^2 = 0,  \"x\",    IF(  $AI5 = $AK5, \"Tie\",    IF(   $AI5 > $AK5,  $AH5,  $AJ5 )    )  )  ) )  )","v":"E17"},{"$f":"   IF( AL5 = \"Tie\", $AH5, \"\" )","v":""},{"$f":"   IF( AM5 = \"Tie\", $AJ5, \"\" )","v":""},null,null,"Tiebreak","  Instructions",null,null,null,null,null,null,1,{"$f":"  OFFSET(W$16,  $AZ5 + 1,  0  )","v":"ENGR"},{"$f":"  OFFSET(X$16,  $AZ5 + 1,  0  )","v":21},{"$f":"  OFFSET(Y$16,  $AZ5 + 1,  0  )","v":"CRF"},{"$f":"  OFFSET(Z$16,  $AZ5 + 1,  0  )","v":21},{"$f":" MATCH( BA5, $BH$6:$BH$8, 0 ) * 10  +  MATCH( BC5, $BH$6:$BH$8, 0 )","v":21},null,null,"Team",{"$f":"BH6","v":"CRF"},{"$f":"BH7","v":"ENGR"},{"$f":"BH8","v":""},"For"]
[{"$f":"A5+1","v":1},null,{"$f":"  Season!E22","v":"E86"},{"$f":"  COUNTIF($AL:$AL,  $C6  ) + B6","v":10},{"$f":"  COUNTIF($AM:$AM,  $C6  )","v":3},{"$f":"  COUNTIF($AN:$AO,  $C6  )","v":2},{"$f":" 2 * D6 + F6","v":22},{"$f":"  ( D$6 - E$6 - D6 + E6 ) / 2","v":0},{"$f":"SUM(D6:F6)","v":15},null,null,{"$f":"  Season!E32","v":"E75"},{"$f":"  COUNTIF($AL:$AL,  $L6  ) + K6","v":11},{"$f":"  COUNTIF($AM:$AM,  $L6  )","v":3},{"$f":"  COUNTIF($AN:$AO,  $L6  )","v":1},{"$f":" 2 * M6 + O6","v":23},{"$f":"  ( M$6 - N$6 - M6 + N6 ) / 2","v":0},{"$f":"SUM(M6:O6)","v":15},null,null,null,{"$f":"  X2 &  \" Head-to-Head Record\"","v":"B Head-to-Head Record"},null,null,null,"  Season",null,null,null,null,{"$f":"AE5","v":1},{"$f":"AF5+1","v":2},{"$f":"  IF(  OR(  ISNA(  MATCH( AH6, $W$8:$W$13, 0 )   ),   ISNA( MATCH(  AJ6,  $W$8:$W$13, 0 )  )    ), \" . \",   MAX( $AG$4:AG5 ) + 1  )","v":" . "},{"$f":"  IF( $AE6 = \"\", \"\",    OFFSET( Season!$E$7,     2 * $AF6 - 1  +  IF( AH$4 = $AJ$4, 1, 0 ),     3*( $AE6-1) + 0  )     )","v":"E60"},{"$f":"  IF( $AE6 = \"\", \"\",    OFFSET( Season!$E$7,     2 * $AF6 - 1  +  IF( AH$4 = $AJ$4, 1, 0 ),     3*( $AE6-1) + 1  )     )","v":16},{"$f":"  IF( $AE6 = \"\", \"\",    OFFSET( Season!$E$7,     2 * $AF6 - 1  +  IF( AJ$4 = $AJ$4, 1, 0 ),     3*( $AE6-1) + 0  )     )","v":"AMSC"},{"$f":"  IF( $AE6 = \"\", \"\",    OFFSET( Season!$E$7,     2 * $AF6 - 1  +  IF( AJ$4 = $AJ$4, 1, 0 ),     3*( $AE6-1) + 1  )     )","v":38},"E60","AMSC","","",null,null,1,"Teams sorted based on points (click on \"Sort Standings\" button, cell J2)",null,null,null,null,null,null,2,{"$f":"  OFFSET(W$16,  $AZ6 + 1,  0  )","v":""},"","","",{"$f":" MATCH( BA6, $BH$6:$BH$8, 0 ) * 10  +  MATCH( BC6, $BH$6:$BH$8, 0 )","v":33},null,1,{"$f":"W8","v":"CRF"},{"$f":"   IF( BB$14 = $BG6, \" - \",   IF(   ISNA(  MATCH( $BG6 * 10 + BB$14, $BE$5:$BE$7, 0 )  ),   OFFSET( $BB$4,  MATCH( $BG6 + BB$14 * 10, $BE$5:$BE$7, 0 ), 2 ),   OFFSET( $BB$4,  MATCH( $BG6 * 10 + BB$14, $BE$5:$BE$7, 0 ), 0 )       )  )","v":" - "},21,{"$error":"#N/A"},{"$f":"SUM(BI6:BK6)","v":{"$error":"#N/A"}}]
[{"$f":"A6+1","v":2},null,{"$f":"  Season!E17","v":"X87"},10,4,1,21,0.5,15,null,null,{"$f":"  Season!E30","v":"X31"},9,5,1,19,2,15,null,null,null,"Position","Team","W","L","  Net Pts",null,null,null,null,1,{"$f":"AF6+1","v":3},{"$f":"  IF(  OR(  ISNA(  MATCH( AH7, $W$8:$W$13, 0 )   ),   ISNA( MATCH(  AJ7,  $W$8:$W$13, 0 )  )    ), \" . \",   MAX( $AG$4:AG6 ) + 1  )","v":" . "},{"$f":"  IF( $AE7 = \"\", \"\",    OFFSET( Season!$E$7,     2 * $AF7 - 1  +  IF( AH$4 = $AJ$4, 1, 0 ),     3*( $AE7-1) + 0  )     )","v":"E83"},{"$f":"  IF( $AE7 = \"\", \"\",    OFFSET( Season!$E$7,     2 * $AF7 - 1  +  IF( AH$4 = $AJ$4, 1, 0 ),     3*( $AE7-1) + 1  )     )","v":30},{"$f":"  IF( $AE7 = \"\", \"\",    OFFSET( Season!$E$7,     2 * $AF7 - 1  +  IF( AJ$4 = $AJ$4, 1, 0 ),     3*( $AE7-1) + 0  )     )","v":"X01"},{"$f":"  IF( $AE7 = \"\", \"\",    OFFSET( Season!$E$7,     2 * $AF7 - 1  +  IF( AJ$4 = $AJ$4, 1, 0 ),     3*( $AE7-1) + 1  )     )","v":20},"X01","E83","","",null,null,"Next",null,"Manipulate the sliders in cells V2 and V4 to select teams for tie-break (equal total points)",null,null,null,null,null,3,"","","","",{"$f":" MATCH( BA7, $BH$6:$BH$8, 0 ) * 10  +  MATCH( BC7, $BH$6:$BH$8, 0 )","v":33},null,2,{"$f":"W9","v":"ENGR"},21," - ",{"$error":"#N/A"},{"$f":"SUM(BI7:BK7)","v":{"$error":"#N/A"}}]
[3,null,{"$f":"  Season!E10","v":"E60"},10,5,0,20,1,15,null,null,{"$f":"  Season!E35","v":"O87"},9,5,1,19,2,15,null,null,null,{"$f":" IF( $W$2 = 1,   BB36,  BC36   )","v":8},{"$f":" IF( V8 = \"\", \"\", OFFSET(  C$5, V8, 9 * ( $W$2 - 1 )   )  )","v":"CRF"},{"$f":"IF( $W8 = \"\", \"\", COUNTIF( AA$18:AA$33, $W8 )   )","v":0},0,null,{"$f":" IF(  W8 = \"\",  \"\",  OFFSET(  Scoring!$AW$1,  MATCH(  W8,  Scoring!$AT:$AT,  0  ) - 1,  0    )   )","v":2.8666666666666636},null,null,null,1,4,{"$f":"  IF(  OR(  ISNA(  MATCH( AH8, $W$8:$W$13, 0 )   ),   ISNA( MATCH(  AJ8,  $W$8:$W$13, 0 )  )    ), \" . \",   MAX( $AG$4:AG7 ) + 1  )","v":" . "},{"$f":"  IF( $AE8 = \"\", \"\",    OFFSET( Season!$E$7,     2 * $AF8 - 1  +  IF( AH$4 = $AJ$4, 1, 0 ),     3*( $AE8-1) + 0  )     )","v":"SUBS"},{"$f":"  IF( $AE8 = \"\", \"\",    OFFSET( Season!$E$7,     2 * $AF8 - 1  +  IF( AH$4 = $AJ$4, 1, 0 ),     3*( $AE8-1) + 1  )     )","v":28},{"$f":"  IF( $AE8 = \"\", \"\",    OFFSET( Season!$E$7,     2 * $AF8 - 1  +  IF( AJ$4 = $AJ$4, 1, 0 ),     3*( $AE8-1) + 0  )     )","v":"E12"},{"$f":"  IF( $AE8 = \"\", \"\",    OFFSET( Season!$E$7,     2 * $AF8 - 1  +  IF( AJ$4 = $AJ$4, 1, 0 ),     3*( $AE8-1) + 1  )     )","v":30},"SUBS","E12","","",null,null,2,"Use the \"Head-to-Head Record\" at cell V6",null,null,null,null,null,null,null,null,null,null,null,null,null,3,"",{"$error":"#N/A"},{"$error":"#N/A"}," - ",{"$f":"SUM(BI8:BK8)","v":{"$error":"#N/A"}}]
[4,null,{"$f":"  Season!E14","v":"SUBS"},9,6,0,18,2,15,null,null,{"$f":"  Season!E27","v":"M10"},9,5,1,19,2,15,null,null,null,{"$f":" IF( MAX($V$8:V8) - $V$8 > IF(  $W$2 =1,  $BB$37,  $BC$37 ) - 2, \"\", V8 + 1 )","v":9},"ENGR",0,0,null,{"$f":" IF(  W9 = \"\",  \"\",  OFFSET(  Scoring!$AW$1,  MATCH(  W9,  Scoring!$AT:$AT,  0  ) - 1,  0    )   )","v":3.6428571428571423},null,null,null,1,5,{"$f":"  IF(  OR(  ISNA(  MATCH( AH9, $W$8:$W$13, 0 )   ),   ISNA( MATCH(  AJ9,  $W$8:$W$13, 0 )  )    ), \" . \",   MAX( $AG$4:AG8 ) + 1  )","v":" . "},{"$f":"  IF( $AE9 = \"\", \"\",    OFFSET( Season!$E$7,     2 * $AF9 - 1  +  IF( AH$4 = $AJ$4, 1, 0 ),     3*( $AE9-1) + 0  )     )","v":"E55a"},{"$f":"  IF( $AE9 = \"\", \"\",    OFFSET( Season!$E$7,     2 * $AF9 - 1  +  IF( AH$4 = $AJ$4, 1, 0 ),     3*( $AE9-1) + 1  )     )","v":7},{"$f":"  IF( $AE9 = \"\", \"\",    OFFSET( Season!$E$7,     2 * $AF9 - 1  +  IF( AJ$4 = $AJ$4, 1, 0 ),     3*( $AE9-1) + 0  )     )","v":"X87"},{"$f":"  IF( $AE9 = \"\", \"\",    OFFSET( Season!$E$7,     2 * $AF9 - 1  +  IF( AJ$4 = $AJ$4, 1, 0 ),     3*( $AE9-1) + 1  )     )","v":23},"E55a","X87","","",null,null,3,"Use Head-to-Head Points",null,null,null,null,null,null,null,"Point Difference ",null,null,null,null,null,null,"Against",{"$f":"SUM(BI6:BI8)","v":{"$error":"#N/A"}},{"$f":"SUM(BJ6:BJ8)","v":{"$error":"#N/A"}},{"$f":"SUM(BK6:BK8)","v":{"$error":"#N/A"}}]
[5,null,{"$f":"  Season!E12","v":"E83"},9,6,0,18,2,15,null,null,{"$f":"  Season!E34","v":"SCM"},9,6,0,18,2.5,15,null,null,null,{"$f":" IF( MAX($V$8:V9) - $V$8 > IF(  $W$2 =1,  $BB$37,  $BC$37 ) - 2, \"\", V9 + 1 )","v":""},"","","",null,{"$f":" IF(  W10 = \"\",  \"\",  OFFSET(  Scoring!$AW$1,  MATCH(  W10,  Scoring!$AT:$AT,  0  ) - 1,  0    )   )","v":""},null,null,null,1,6,{"$f":"  IF(  OR(  ISNA(  MATCH( AH10, $W$8:$W$13, 0 )   ),   ISNA( MATCH(  AJ10,  $W$8:$W$13, 0 )  )    ), \" . \",   MAX( $AG$4:AG9 ) + 1  )","v":" . "},{"$f":"  IF( $AE10 = \"\", \"\",    OFFSET( Season!$E$7,     2 * $AF10 - 1  +  IF( AH$4 = $AJ$4, 1, 0 ),     3*( $AE10-1) + 0  )     )","v":"AGS"},{"$f":"  IF( $AE10 = \"\", \"\",    OFFSET( Season!$E$7,     2 * $AF10 - 1  +  IF( AH$4 = $AJ$4, 1, 0 ),     3*( $AE10-1) + 1  )     )","v":16},{"$f":"  IF( $AE10 = \"\", \"\",    OFFSET( Season!$E$7,     2 * $AF10 - 1  +  IF( AJ$4 = $AJ$4, 1, 0 ),     3*( $AE10-1) + 0  )     )","v":"X88"},{"$f":"  IF( $AE10 = \"\", \"\",    OFFSET( Season!$E$7,     2 * $AF10 - 1  +  IF( AJ$4 = $AJ$4, 1, 0 ),     3*( $AE10-1) + 1  )     )","v":19},"AGS","X88","","",null,null,null,null,"For 2 tied teams, use the \"Head-to-Head\" match result",null,null,null,null,null,null,"Team",{"$f":"BI5","v":"CRF"},{"$f":"BJ5","v":"ENGR"},{"$f":"BK5","v":""}]
[6,null,{"$f":"  Season!E19","v":"X88"},8,5,2,18,2,15,null,null,{"$f":"  Season!E36","v":"NNIT"},8,6,1,17,3,15,null,null,null,{"$f":" IF( MAX($V$8:V10) - $V$8 > IF(  $W$2 =1,  $BB$37,  $BC$37 ) - 2, \"\", V10 + 1 )","v":""},"","","",null,{"$f":" IF(  W11 = \"\",  \"\",  OFFSET(  Scoring!$AW$1,  MATCH(  W11,  Scoring!$AT:$AT,  0  ) - 1,  0    )   )","v":""},null,null,null,1,7,{"$f":"  IF(  OR(  ISNA(  MATCH( AH11, $W$8:$W$13, 0 )   ),   ISNA( MATCH(  AJ11,  $W$8:$W$13, 0 )  )    ), \" . \",   MAX( $AG$4:AG10 ) + 1  )","v":" . "},{"$f":"  IF( $AE11 = \"\", \"\",    OFFSET( Season!$E$7,     2 * $AF11 - 1  +  IF( AH$4 = $AJ$4, 1, 0 ),     3*( $AE11-1) + 0  )     )","v":"E42"},{"$f":"  IF( $AE11 = \"\", \"\",    OFFSET( Season!$E$7,     2 * $AF11 - 1  +  IF( AH$4 = $AJ$4, 1, 0 ),     3*( $AE11-1) + 1  )     )","v":22},{"$f":"  IF( $AE11 = \"\", \"\",    OFFSET( Season!$E$7,     2 * $AF11 - 1  +  IF( AJ$4 = $AJ$4, 1, 0 ),     3*( $AE11-1) + 0  )     )","v":"X04"},{"$f":"  IF( $AE11 = \"\", \"\",    OFFSET( Season!$E$7,     2 * $AF11 - 1  +  IF( AJ$4 = $AJ$4, 1, 0 ),     3*( $AE11-1) + 1  )     )","v":24},"E42","X04","","",null,null,null,null,null,"If teams tied or didn't play each other, go to Tiebreak 4",null,null,null,null,null,"PF",{"$f":"SUM(BI6:BK6)","v":{"$error":"#N/A"}},{"$f":"SUM(BI7:BK7)","v":{"$error":"#N/A"}},{"$f":"SUM(BI8:BK8)","v":{"$error":"#N/A"}}]
[7,null,{"$f":"  Season!E15","v":"E12"},8,6,1,17,2.5,15,null,null,{"$f":"  Season!E38","v":"ARG"},8,7,0,16,3.5,15,null,null,null,{"$f":" IF( MAX($V$8:V11) - $V$8 > IF(  $W$2 =1,  $BB$37,  $BC$37 ) - 2, \"\", V11 + 1 )","v":""},"","","",null,{"$f":" IF(  W12 = \"\",  \"\",  OFFSET(  Scoring!$AW$1,  MATCH(  W12,  Scoring!$AT:$AT,  0  ) - 1,  0    )   )","v":""},null,null,null,1,8,{"$f":"  IF(  OR(  ISNA(  MATCH( AH12, $W$8:$W$13, 0 )   ),   ISNA( MATCH(  AJ12,  $W$8:$W$13, 0 )  )    ), \" . \",   MAX( $AG$4:AG11 ) + 1  )","v":" . "},{"$f":"  IF( $AE12 = \"\", \"\",    OFFSET( Season!$E$7,     2 * $AF12 - 1  +  IF( AH$4 = $AJ$4, 1, 0 ),     3*( $AE12-1) + 0  )     )","v":"E86"},{"$f":"  IF( $AE12 = \"\", \"\",    OFFSET( Season!$E$7,     2 * $AF12 - 1  +  IF( AH$4 = $AJ$4, 1, 0 ),     3*( $AE12-1) + 1  )     )","v":17},{"$f":"  IF( $AE12 = \"\", \"\",    OFFSET( Season!$E$7,     2 * $AF12 - 1  +  IF( AJ$4 = $AJ$4, 1, 0 ),     3*( $AE12-1) + 0  )     )","v":"E14"},{"$f":"  IF( $AE12 = \"\", \"\",    OFFSET( Season!$E$7,     2 * $AF12 - 1  +  IF( AJ$4 = $AJ$4, 1, 0 ),     3*( $AE12-1) + 1  )     )","v":23},"E86","E14","","",null,null,null,null,"For 3 tied teams, input relevant match data at cell V15 into cells at BA4",null,null,null,null,null,null,"PA",{"$f":"SUM(BI6:BI8)","v":{"$error":"#N/A"}},{"$f":"SUM(BJ6:BJ8)","v":{"$error":"#N/A"}},{"$f":"SUM(BK6:BK8)","v":{"$error":"#N/A"}}]
[8,null,{"$f":"  Season!E9","v":"E55B"},8,7,0,16,3,15,null,null,{"$f":"  Season!E39","v":"CRF"},7,7,1,15,4,15,null,null,null,{"$f":" IF( MAX($V$8:V12) - $V$8 > IF(  $W$2 =1,  $BB$37,  $BC$37 ) - 2, \"\", V12 + 1 )","v":""},"","","",null,{"$f":" IF(  W13 = \"\",  \"\",  OFFSET(  Scoring!$AW$1,  MATCH(  W13,  Scoring!$AT:$AT,  0  ) - 1,  0    )   )","v":""},null,null,null,1,9,{"$f":"  IF(  OR(  ISNA(  MATCH( AH13, $W$8:$W$13, 0 )   ),   ISNA( MATCH(  AJ13,  $W$8:$W$13, 0 )  )    ), \" . \",   MAX( $AG$4:AG12 ) + 1  )","v":" . "},{"$f":"  IF( $AE13 = \"\", \"\",    OFFSET( Season!$E$7,     2 * $AF13 - 1  +  IF( AH$4 = $AJ$4, 1, 0 ),     3*( $AE13-1) + 0  )     )","v":0},{"$f":"  IF( $AE13 = \"\", \"\",    OFFSET( Season!$E$7,     2 * $AF13 - 1  +  IF( AH$4 = $AJ$4, 1, 0 ),     3*( $AE13-1) + 1  )     )","v":0},{"$f":"  IF( $AE13 = \"\", \"\",    OFFSET( Season!$E$7,     2 * $AF13 - 1  +  IF( AJ$4 = $AJ$4, 1, 0 ),     3*( $AE13-1) + 0  )     )","v":0},{"$f":"  IF( $AE13 = \"\", \"\",    OFFSET( Season!$E$7,     2 * $AF13 - 1  +  IF( AJ$4 = $AJ$4, 1, 0 ),     3*( $AE13-1) + 1  )     )","v":0},"x","x","","",null,null,null,null,"For more than 3 tied teams, use the same method as for 3 tied teams.",null,null,null,null,null,null,"Diff",{"$f":"BB11-BB12","v":{"$error":"#N/A"}},{"$f":"BC11-BC12","v":{"$error":"#N/A"}},{"$f":"BD11-BD12","v":{"$error":"#N/A"}}," <-- The lower the score, the better"]
[9,null,{"$f":"  Season!E16","v":"E55a"},7,7,1,15,3.5,15,null,null,{"$f":"  Season!E28","v":"ENGR"},7,7,1,15,4,15,null,null,null,null,null,null,null,null,null,null,null,null,1,10,{"$f":"  IF(  OR(  ISNA(  MATCH( AH14, $W$8:$W$13, 0 )   ),   ISNA( MATCH(  AJ14,  $W$8:$W$13, 0 )  )    ), \" . \",   MAX( $AG$4:AG13 ) + 1  )","v":" . "},{"$f":"  IF( $AE14 = \"\", \"\",    OFFSET( Season!$E$7,     2 * $AF14 - 1  +  IF( AH$4 = $AJ$4, 1, 0 ),     3*( $AE14-1) + 0  )     )","v":"E25"},{"$f":"  IF( $AE14 = \"\", \"\",    OFFSET( Season!$E$7,     2 * $AF14 - 1  +  IF( AH$4 = $AJ$4, 1, 0 ),     3*( $AE14-1) + 1  )     )","v":11},{"$f":"  IF( $AE14 = \"\", \"\",    OFFSET( Season!$E$7,     2 * $AF14 - 1  +  IF( AJ$4 = $AJ$4, 1, 0 ),     3*( $AE14-1) + 0  )     )","v":"M10"},{"$f":"  IF( $AE14 = \"\", \"\",    OFFSET( Season!$E$7,     2 * $AF14 - 1  +  IF( AJ$4 = $AJ$4, 1, 0 ),     3*( $AE14-1) + 1  )     )","v":10},"M10","E25","","",null,null,4,"If still tied, then use \"Season Net Pts\" at cell Z6  (lower is better)",null,null,null,null,null,null,null,null,1,2,3,{"$f":"  CONCATENATE(  \"   \", BB13,  \" is better than \",  BD13 )","v":{"$error":"#N/A"}}]
[10,null,{"$f":"  Season!E20","v":"E42"},6,7,2,14,4,15,null,null,{"$f":"  Season!E33","v":"E20"},7,8,0,14,4.5,15,null,null,null,{"$f":"  X2  &  \" Head-to-Head Matches\"","v":"B Head-to-Head Matches"},null,null,null,null,null,null,null,null,1,11,{"$f":"  IF(  OR(  ISNA(  MATCH( AH15, $W$8:$W$13, 0 )   ),   ISNA( MATCH(  AJ15,  $W$8:$W$13, 0 )  )    ), \" . \",   MAX( $AG$4:AG14 ) + 1  )","v":" . "},{"$f":"  IF( $AE15 = \"\", \"\",    OFFSET( Season!$E$7,     2 * $AF15 - 1  +  IF( AH$4 = $AJ$4, 1, 0 ),     3*( $AE15-1) + 0  )     )","v":"ENGR"},{"$f":"  IF( $AE15 = \"\", \"\",    OFFSET( Season!$E$7,     2 * $AF15 - 1  +  IF( AH$4 = $AJ$4, 1, 0 ),     3*( $AE15-1) + 1  )     )","v":29},{"$f":"  IF( $AE15 = \"\", \"\",    OFFSET( Season!$E$7,     2 * $AF15 - 1  +  IF( AJ$4 = $AJ$4, 1, 0 ),     3*( $AE15-1) + 0  )     )","v":"O46"},{"$f":"  IF( $AE15 = \"\", \"\",    OFFSET( Season!$E$7,     2 * $AF15 - 1  +  IF( AJ$4 = $AJ$4, 1, 0 ),     3*( $AE15-1) + 1  )     )","v":25},"O46","ENGR","","",null,null,null,null," Data also found in Col AU on \"Scoring\" sheet",null,null,null,null,null,null,null,null,null,null,{"$f":"  CONCATENATE(  \"   \", BH6, \" would be ranked above \", BH8  )","v":"   CRF would be ranked above "}]
[11,null,{"$f":"  Season!E13","v":"X01"},7,8,0,14,4,15,null,null,{"$f":"  Season!E29","v":"O46"},6,8,1,13,5,15,null,null,"Match","Week","Home","Pts","Away","Pts","Won","Lost",null,null,1,12,{"$f":"  IF(  OR(  ISNA(  MATCH( AH16, $W$8:$W$13, 0 )   ),   ISNA( MATCH(  AJ16,  $W$8:$W$13, 0 )  )    ), \" . \",   MAX( $AG$4:AG15 ) + 1  )","v":" . "},{"$f":"  IF( $AE16 = \"\", \"\",    OFFSET( Season!$E$7,     2 * $AF16 - 1  +  IF( AH$4 = $AJ$4, 1, 0 ),     3*( $AE16-1) + 0  )     )","v":"X31"},{"$f":"  IF( $AE16 = \"\", \"\",    OFFSET( Season!$E$7,     2 * $AF16 - 1  +  IF( AH$4 = $AJ$4, 1, 0 ),     3*( $AE16-1) + 1  )     )","v":26},{"$f":"  IF( $AE16 = \"\", \"\",    OFFSET( Season!$E$7,     2 * $AF16 - 1  +  IF( AJ$4 = $AJ$4, 1, 0 ),     3*( $AE16-1) + 0  )     )","v":"X10"},{"$f":"  IF( $AE16 = \"\", \"\",    OFFSET( Season!$E$7,     2 * $AF16 - 1  +  IF( AJ$4 = $AJ$4, 1, 0 ),     3*( $AE16-1) + 1  )     )","v":26},"Tie","Tie","X31","X10",null,null,5,"If still tied, then flip a coin"]
[12,null,{"$f":"  Season!E18","v":"AGS"},6,8,0,12,4.5,{"$f":"SUM(D17:F17)","v":14},null,null,{"$f":"  Season!E40","v":"O19"},6,8,1,13,5,{"$f":"SUM(M17:O17)","v":15},null,null,null,null,null,null,null,null,null,null,null,null,1,13,{"$f":"  IF(  OR(  ISNA(  MATCH( AH17, $W$8:$W$13, 0 )   ),   ISNA( MATCH(  AJ17,  $W$8:$W$13, 0 )  )    ), \" . \",   MAX( $AG$4:AG16 ) + 1  )","v":" . "},{"$f":"  IF( $AE17 = \"\", \"\",    OFFSET( Season!$E$7,     2 * $AF17 - 1  +  IF( AH$4 = $AJ$4, 1, 0 ),     3*( $AE17-1) + 0  )     )","v":"E75"},{"$f":"  IF( $AE17 = \"\", \"\",    OFFSET( Season!$E$7,     2 * $AF17 - 1  +  IF( AH$4 = $AJ$4, 1, 0 ),     3*( $AE17-1) + 1  )     )","v":14},{"$f":"  IF( $AE17 = \"\", \"\",    OFFSET( Season!$E$7,     2 * $AF17 - 1  +  IF( AJ$4 = $AJ$4, 1, 0 ),     3*( $AE17-1) + 0  )     )","v":"E20"},{"$f":"  IF( $AE17 = \"\", \"\",    OFFSET( Season!$E$7,     2 * $AF17 - 1  +  IF( AJ$4 = $AJ$4, 1, 0 ),     3*( $AE17-1) + 1  )     )","v":24},"E75","E20","","",null,null,null,null,"President or designee to execute"]
[13,null,{"$f":"  Season!E23","v":"E14"},5,10,0,10,6,15,null,null,{"$f":"  Season!E41","v":"A572"},5,9,1,11,6,15,null,null,{"$f":"  IF(  OR(    MAX(AG:AG ) = 0,  IF( $W$2 = 1,  $BB$37, $BC$37 ) = 1     ), \"\", 1 )","v":1},{"$f":"  IF(  $U18 = \"\", \"\",  OFFSET( $AE$1,  MATCH( $U18,$AG:$AG, 0 ) - 1,  0 )    )","v":4},{"$f":"  IF(  $U18 = \"\", \"\",  OFFSET( AH$1,  MATCH( $U18,$AG:$AG, 0 ) - 1,  0 )    )","v":"ENGR"},{"$f":"  IF(  $U18 = \"\", \"\",  OFFSET( AI$1,  MATCH( $U18,$AG:$AG, 0 ) - 1,  0 )    )","v":21},{"$f":"  IF(  $U18 = \"\", \"\",  OFFSET( AJ$1,  MATCH( $U18,$AG:$AG, 0 ) - 1,  0 )    )","v":"CRF"},{"$f":"  IF(  $U18 = \"\", \"\",  OFFSET( AK$1,  MATCH( $U18,$AG:$AG, 0 ) - 1,  0 )    )","v":21},{"$f":"  IF(  $U18 = \"\", \"\",  IF( $X18 = \"\", \"\",  OFFSET( AL$1,  MATCH( $U18,$AG:$AG, 0 ) - 1,  0 )    ) )","v":"Tie"},{"$f":"  IF(  $U18 = \"\", \"\",  IF( $X18 = \"\", \"\",  OFFSET( AM$1,  MATCH( $U18,$AG:$AG, 0 ) - 1,  0 )    ) )","v":"Tie"},null,null,1,14,{"$f":"  IF(  OR(  ISNA(  MATCH( AH18, $W$8:$W$13, 0 )   ),   ISNA( MATCH(  AJ18,  $W$8:$W$13, 0 )  )    ), \" . \",   MAX( $AG$4:AG17 ) + 1  )","v":" . "},{"$f":"  IF( $AE18 = \"\", \"\",    OFFSET( Season!$E$7,     2 * $AF18 - 1  +  IF( AH$4 = $AJ$4, 1, 0 ),     3*( $AE18-1) + 0  )     )","v":"SCM"},{"$f":"  IF( $AE18 = \"\", \"\",    OFFSET( Season!$E$7,     2 * $AF18 - 1  +  IF( AH$4 = $AJ$4, 1, 0 ),     3*( $AE18-1) + 1  )     )","v":7},{"$f":"  IF( $AE18 = \"\", \"\",    OFFSET( Season!$E$7,     2 * $AF18 - 1  +  IF( AJ$4 = $AJ$4, 1, 0 ),     3*( $AE18-1) + 0  )     )","v":"O87"},{"$f":"  IF( $AE18 = \"\", \"\",    OFFSET( Season!$E$7,     2 * $AF18 - 1  +  IF( AJ$4 = $AJ$4, 1, 0 ),     3*( $AE18-1) + 1  )     )","v":18},"SCM","O87","","",null,null,null,null,null,null,null,null,null,null,"Example"]
[14,null,{"$f":"  Season!E8","v":"E17"},5,10,0,10,6,15,null,null,{"$f":"  Season!E31","v":"X10"},5,9,1,11,6,15,null,null,{"$f":" IF( MAX(AG:AG ) = MAX( $U$18:U18 ), \"\", U18 + 1 )","v":""},"","","","","","","",null,null,1,15,{"$f":"  IF(  OR(  ISNA(  MATCH( AH19, $W$8:$W$13, 0 )   ),   ISNA( MATCH(  AJ19,  $W$8:$W$13, 0 )  )    ), \" . \",   MAX( $AG$4:AG18 ) + 1  )","v":" . "},{"$f":"  IF( $AE19 = \"\", \"\",    OFFSET( Season!$E$7,     2 * $AF19 - 1  +  IF( AH$4 = $AJ$4, 1, 0 ),     3*( $AE19-1) + 0  )     )","v":"NNIT"},{"$f":"  IF( $AE19 = \"\", \"\",    OFFSET( Season!$E$7,     2 * $AF19 - 1  +  IF( AH$4 = $AJ$4, 1, 0 ),     3*( $AE19-1) + 1  )     )","v":22},{"$f":"  IF( $AE19 = \"\", \"\",    OFFSET( Season!$E$7,     2 * $AF19 - 1  +  IF( AJ$4 = $AJ$4, 1, 0 ),     3*( $AE19-1) + 0  )     )","v":"CVN"},{"$f":"  IF( $AE19 = \"\", \"\",    OFFSET( Season!$E$7,     2 * $AF19 - 1  +  IF( AJ$4 = $AJ$4, 1, 0 ),     3*( $AE19-1) + 1  )     )","v":18},"CVN","NNIT","","",null,null,null,"Standings Manipulation",null,null,null,null,null,null,null,"Enter Relevant Matches",null,null,null,null,null,null,"Points For and Against"]
[15,null,{"$f":"  Season!E11","v":"AMSC"},3,10,1,7,7,14,null,null,{"$f":"  Season!E37","v":"CVN"},5,10,0,10,6.5,15,null,null,{"$f":" IF( MAX(AG:AG ) = MAX( $U$18:U19 ), \"\", U19 + 1 )","v":""},"","","","","","","",null,null,1,16,{"$f":"  IF(  OR(  ISNA(  MATCH( AH20, $W$8:$W$13, 0 )   ),   ISNA( MATCH(  AJ20,  $W$8:$W$13, 0 )  )    ), \" . \",   MAX( $AG$4:AG19 ) + 1  )","v":" . "},{"$f":"  IF( $AE20 = \"\", \"\",    OFFSET( Season!$E$7,     2 * $AF20 - 1  +  IF( AH$4 = $AJ$4, 1, 0 ),     3*( $AE20-1) + 0  )     )","v":"ARG"},{"$f":"  IF( $AE20 = \"\", \"\",    OFFSET( Season!$E$7,     2 * $AF20 - 1  +  IF( AH$4 = $AJ$4, 1, 0 ),     3*( $AE20-1) + 1  )     )","v":30},{"$f":"  IF( $AE20 = \"\", \"\",    OFFSET( Season!$E$7,     2 * $AF20 - 1  +  IF( AJ$4 = $AJ$4, 1, 0 ),     3*( $AE20-1) + 0  )     )","v":"CRF"},{"$f":"  IF( $AE20 = \"\", \"\",    OFFSET( Season!$E$7,     2 * $AF20 - 1  +  IF( AJ$4 = $AJ$4, 1, 0 ),     3*( $AE20-1) + 1  )     )","v":23},"CRF","ARG","","",null,null,1," To elevate a team in the standings:",null,null,null,null,null,null,null,"CVN",28,"E82",29,{"$f":" MATCH( BA20, $BH$21:$BH$23, 0 ) * 10  +  MATCH( BC20, $BH$21:$BH$23, 0 )","v":21},null,null,"Team",{"$f":"BH21","v":"E82"},{"$f":"BH22","v":"CVN"},{"$f":"BH23","v":"ARG"},"For"]
[16,null,{"$f":"  Season!E21","v":"X04"},3,12,0,6,8,15,null,null,{"$f":"  Season!E26","v":"E25"},3,11,1,7,8,15,null,null,{"$f":" IF( MAX(AG:AG ) = MAX( $U$18:U20 ), \"\", U20 + 1 )","v":""},"","","","","","","",null,null,1,17,{"$f":"  IF(  OR(  ISNA(  MATCH( AH21, $W$8:$W$13, 0 )   ),   ISNA( MATCH(  AJ21,  $W$8:$W$13, 0 )  )    ), \" . \",   MAX( $AG$4:AG20 ) + 1  )","v":" . "},{"$f":"  IF( $AE21 = \"\", \"\",    OFFSET( Season!$E$7,     2 * $AF21 - 1  +  IF( AH$4 = $AJ$4, 1, 0 ),     3*( $AE21-1) + 0  )     )","v":"O19"},{"$f":"  IF( $AE21 = \"\", \"\",    OFFSET( Season!$E$7,     2 * $AF21 - 1  +  IF( AH$4 = $AJ$4, 1, 0 ),     3*( $AE21-1) + 1  )     )","v":11},{"$f":"  IF( $AE21 = \"\", \"\",    OFFSET( Season!$E$7,     2 * $AF21 - 1  +  IF( AJ$4 = $AJ$4, 1, 0 ),     3*( $AE21-1) + 0  )     )","v":"A572"},{"$f":"  IF( $AE21 = \"\", \"\",    OFFSET( Season!$E$7,     2 * $AF21 - 1  +  IF( AJ$4 = $AJ$4, 1, 0 ),     3*( $AE21-1) + 1  )     )","v":29},"O19","A572","","",null,null,null,null,"Place a value of 1 or more in front of the team name (cells B6:22 or K6:22)",null,null,null,null,null,null,"E82",32,"ARG",36,{"$f":" MATCH( BA21, $BH$21:$BH$23, 0 ) * 10  +  MATCH( BC21, $BH$21:$BH$23, 0 )","v":13},null,1,{"$f":"  BA21","v":"E82"},{"$f":"   IF( BB$29 = $BG21, \" - \",   IF(   ISNA(  MATCH( $BG21 * 10 + BB$29, $BE$20:$BE$22, 0 )  ),   OFFSET( $BB$19,  MATCH( $BG21 + BB$29 * 10, $BE$20:$BE$22, 0 ), 2 ),   OFFSET( $BB$19,  MATCH( $BG21 * 10 + BB$29, $BE$20:$BE$22, 0 ), 0 )       )  )","v":" - "},{"$f":"   IF( BC$29 = $BG21, \" - \",   IF(   ISNA(  MATCH( $BG21 * 10 + BC$29, $BE$20:$BE$22, 0 )  ),   OFFSET( $BB$19,  MATCH( $BG21 + BC$29 * 10, $BE$20:$BE$22, 0 ), 2 ),   OFFSET( $BB$19,  MATCH( $BG21 * 10 + BC$29, $BE$20:$BE$22, 0 ), 0 )       )  )","v":29},{"$f":"   IF( BD$29 = $BG21, \" - \",   IF(   ISNA(  MATCH( $BG21 * 10 + BD$29, $BE$20:$BE$22, 0 )  ),   OFFSET( $BB$19,  MATCH( $BG21 + BD$29 * 10, $BE$20:$BE$22, 0 ), 2 ),   OFFSET( $BB$19,  MATCH( $BG21 * 10 + BD$29, $BE$20:$BE$22, 0 ), 0 )       )  )","v":32},{"$f":"SUM(BI21:BK21)","v":61}]
[17,null,null,null,null,null,null,null,null,null,null,null,null,null,null,null,null,null,null,null,{"$f":" IF( MAX(AG:AG ) = MAX( $U$18:U21 ), \"\", U21 + 1 )","v":""},"","","","","","","",null,null,{"$f":"AE5 + 1","v":2},{"$f":"AF5","v":1},{"$f":"  IF(  OR(  ISNA(  MATCH( AH22, $W$8:$W$13, 0 )   ),   ISNA( MATCH(  AJ22,  $W$8:$W$13, 0 )  )    ), \" . \",   MAX( $AG$4:AG21 ) + 1  )","v":" . "},{"$f":"  IF( $AE22 = \"\", \"\",    OFFSET( Season!$E$7,     2 * $AF22 - 1  +  IF( AH$4 = $AJ$4, 1, 0 ),     3*( $AE22-1) + 0  )     )","v":"E86"},{"$f":"  IF( $AE22 = \"\", \"\",    OFFSET( Season!$E$7,     2 * $AF22 - 1  +  IF( AH$4 = $AJ$4, 1, 0 ),     3*( $AE22-1) + 1  )     )","v":30},{"$f":"  IF( $AE22 = \"\", \"\",    OFFSET( Season!$E$7,     2 * $AF22 - 1  +  IF( AJ$4 = $AJ$4, 1, 0 ),     3*( $AE22-1) + 0  )     )","v":"E83"},{"$f":"  IF( $AE22 = \"\", \"\",    OFFSET( Season!$E$7,     2 * $AF22 - 1  +  IF( AJ$4 = $AJ$4, 1, 0 ),     3*( $AE22-1) + 1  )     )","v":16},"E83","E86","","",null,null,2," To demote a team in the standings:",null,null,null,null,null,null,null,"CVN",28,"ARG",26,{"$f":" MATCH( BA22, $BH$21:$BH$23, 0 ) * 10  +  MATCH( BC22, $BH$21:$BH$23, 0 )","v":23},null,2,"CVN",{"$f":"   IF( BB$29 = $BG22, \" - \",   IF(   ISNA(  MATCH( $BG22 * 10 + BB$29, $BE$20:$BE$22, 0 )  ),   OFFSET( $BB$19,  MATCH( $BG22 + BB$29 * 10, $BE$20:$BE$22, 0 ), 2 ),   OFFSET( $BB$19,  MATCH( $BG22 * 10 + BB$29, $BE$20:$BE$22, 0 ), 0 )       )  )","v":28}," - ",28,{"$f":"SUM(BI22:BK22)","v":56}]
[null,null,null,{"$f":"SUM(D6:D22)","v":114},{"$f":"SUM(E6:E22)","v":114},{"$f":"SUM(F6:F22)","v":10},null,null,{"$f":" MAX( I6:I22 )","v":15},null,null,null,{"$f":"SUM(M6:M22)","v":114},{"$f":"SUM(N6:N22)","v":114},{"$f":"SUM(O6:O22)","v":12},null,null,{"$f":" MAX( R6:R22 )","v":15},null,null,{"$f":" IF( MAX(AG:AG ) = MAX( $U$18:U22 ), \"\", U22 + 1 )","v":""},"","","","","","","",null,null,{"$f":"AE6 + 1","v":2},{"$f":"AF6","v":2},{"$f":"  IF(  OR(  ISNA(  MATCH( AH23, $W$8:$W$13, 0 )   ),   ISNA( MATCH(  AJ23,  $W$8:$W$13, 0 )  )    ), \" . \",   MAX( $AG$4:AG22 ) + 1  )","v":" . "},{"$f":"  IF( $AE23 = \"\", \"\",    OFFSET( Season!$E$7,     2 * $AF23 - 1  +  IF( AH$4 = $AJ$4, 1, 0 ),     3*( $AE23-1) + 0  )     )","v":"AGS"},{"$f":"  IF( $AE23 = \"\", \"\",    OFFSET( Season!$E$7,     2 * $AF23 - 1  +  IF( AH$4 = $AJ$4, 1, 0 ),     3*( $AE23-1) + 1  )     )","v":26},{"$f":"  IF( $AE23 = \"\", \"\",    OFFSET( Season!$E$7,     2 * $AF23 - 1  +  IF( AJ$4 = $AJ$4, 1, 0 ),     3*( $AE23-1) + 0  )     )","v":"E12"},{"$f":"  IF( $AE23 = \"\", \"\",    OFFSET( Season!$E$7,     2 * $AF23 - 1  +  IF( AJ$4 = $AJ$4, 1, 0 ),     3*( $AE23-1) + 1  )     )","v":28},"AGS","E12","","",null,null,null,null,"Place a value of -1 or less in front of the team name (cells B6:22 or K6:22)",null,null,null,null,null,null,null,null,null,null,null,null,3,{"$f":"  BC21","v":"ARG"},36,26," - ",{"$f":"SUM(BI23:BK23)","v":62}]
[null,null,null,null,null,null,null,null,null,null,null,null,null,null,null,null,null,null,null,null,{"$f":" IF( MAX(AG:AG ) = MAX( $U$18:U23 ), \"\", U23 + 1 )","v":""},"","","","","","","",null,null,2,3,{"$f":"  IF(  OR(  ISNA(  MATCH( AH24, $W$8:$W$13, 0 )   ),   ISNA( MATCH(  AJ24,  $W$8:$W$13, 0 )  )    ), \" . \",   MAX( $AG$4:AG23 ) + 1  )","v":" . "},{"$f":"  IF( $AE24 = \"\", \"\",    OFFSET( Season!$E$7,     2 * $AF24 - 1  +  IF( AH$4 = $AJ$4, 1, 0 ),     3*( $AE24-1) + 0  )     )","v":"E42"},{"$f":"  IF( $AE24 = \"\", \"\",    OFFSET( Season!$E$7,     2 * $AF24 - 1  +  IF( AH$4 = $AJ$4, 1, 0 ),     3*( $AE24-1) + 1  )     )","v":36},{"$f":"  IF( $AE24 = \"\", \"\",    OFFSET( Season!$E$7,     2 * $AF24 - 1  +  IF( AJ$4 = $AJ$4, 1, 0 ),     3*( $AE24-1) + 0  )     )","v":"E60"},{"$f":"  IF( $AE24 = \"\", \"\",    OFFSET( Season!$E$7,     2 * $AF24 - 1  +  IF( AJ$4 = $AJ$4, 1, 0 ),     3*( $AE24-1) + 1  )     )","v":25},"E60","E42","","",null,null,3," Click on the \"Sort Standings\" button (cell J2)",null,null,null,null,null,null,null,"Point Difference ",null,null,null,null,null,null,"Against",{"$f":"SUM(BI21:BI23)","v":64},{"$f":"SUM(BJ21:BJ23)","v":55},{"$f":"SUM(BK21:BK23)","v":60}]
[null,null,null,null,null,null,null,null,null,null,null,null,null,null,null,null,null,null,null,null,{"$f":" IF( MAX(AG:AG ) = MAX( $U$18:U24 ), \"\", U24 + 1 )","v":""},"","","","","","","",null,null,2,4,{"$f":"  IF(  OR(  ISNA(  MATCH( AH25, $W$8:$W$13, 0 )   ),   ISNA( MATCH(  AJ25,  $W$8:$W$13, 0 )  )    ), \" . \",   MAX( $AG$4:AG24 ) + 1  )","v":" . "},{"$f":"  IF( $AE25 = \"\", \"\",    OFFSET( Season!$E$7,     2 * $AF25 - 1  +  IF( AH$4 = $AJ$4, 1, 0 ),     3*( $AE25-1) + 0  )     )","v":"X87"},{"$f":"  IF( $AE25 = \"\", \"\",    OFFSET( Season!$E$7,     2 * $AF25 - 1  +  IF( AH$4 = $AJ$4, 1, 0 ),     3*( $AE25-1) + 1  )     )","v":17},{"$f":"  IF( $AE25 = \"\", \"\",    OFFSET( Season!$E$7,     2 * $AF25 - 1  +  IF( AJ$4 = $AJ$4, 1, 0 ),     3*( $AE25-1) + 0  )     )","v":"E55B"},{"$f":"  IF( $AE25 = \"\", \"\",    OFFSET( Season!$E$7,     2 * $AF25 - 1  +  IF( AJ$4 = $AJ$4, 1, 0 ),     3*( $AE25-1) + 1  )     )","v":27},"X87","E55B","","",null,null,null,null,"Before July, this button sorts by Points, then by GB.  After June, it is points only.",null,null,null,null,null,null,"Team",{"$f":"BI20","v":"E82"},{"$f":"BJ20","v":"CVN"},{"$f":"BK20","v":"ARG"}]
[null,null,null,null,null,null,null,null,null,null,null,null,null,null,null,null,null,null,null,null,{"$f":" IF( MAX(AG:AG ) = MAX( $U$18:U25 ), \"\", U25 + 1 )","v":""},"","","","","","","",null,null,2,5,{"$f":"  IF(  OR(  ISNA(  MATCH( AH26, $W$8:$W$13, 0 )   ),   ISNA( MATCH(  AJ26,  $W$8:$W$13, 0 )  )    ), \" . \",   MAX( $AG$4:AG25 ) + 1  )","v":" . "},{"$f":"  IF( $AE26 = \"\", \"\",    OFFSET( Season!$E$7,     2 * $AF26 - 1  +  IF( AH$4 = $AJ$4, 1, 0 ),     3*( $AE26-1) + 0  )     )","v":"X88"},{"$f":"  IF( $AE26 = \"\", \"\",    OFFSET( Season!$E$7,     2 * $AF26 - 1  +  IF( AH$4 = $AJ$4, 1, 0 ),     3*( $AE26-1) + 1  )     )","v":22.699999999999996},{"$f":"  IF( $AE26 = \"\", \"\",    OFFSET( Season!$E$7,     2 * $AF26 - 1  +  IF( AJ$4 = $AJ$4, 1, 0 ),     3*( $AE26-1) + 0  )     )","v":"SUBS"},{"$f":"  IF( $AE26 = \"\", \"\",    OFFSET( Season!$E$7,     2 * $AF26 - 1  +  IF( AJ$4 = $AJ$4, 1, 0 ),     3*( $AE26-1) + 1  )     )","v":19.900000000000002},"SUBS","X88","","",null,null,null,null,null,null,null,null,null,null,null,"PF",{"$f":"SUM(BI21:BK21)","v":61},{"$f":"SUM(BI22:BK22)","v":56},{"$f":"SUM(BI23:BK23)","v":62}]
[null,null,null,null,null,null,null,null,null,null,null,null,null,null,null,null,null,null,null,null,{"$f":" IF( MAX(AG:AG ) = MAX( $U$18:U26 ), \"\", U26 + 1 )","v":""},"","","","","","","",null,null,2,6,{"$f":"  IF(  OR(  ISNA(  MATCH( AH27, $W$8:$W$13, 0 )   ),   ISNA( MATCH(  AJ27,  $W$8:$W$13, 0 )  )    ), \" . \",   MAX( $AG$4:AG26 ) + 1  )","v":" . "},{"$f":"  IF( $AE27 = \"\", \"\",    OFFSET( Season!$E$7,     2 * $AF27 - 1  +  IF( AH$4 = $AJ$4, 1, 0 ),     3*( $AE27-1) + 0  )     )","v":"X04"},{"$f":"  IF( $AE27 = \"\", \"\",    OFFSET( Season!$E$7,     2 * $AF27 - 1  +  IF( AH$4 = $AJ$4, 1, 0 ),     3*( $AE27-1) + 1  )     )","v":32},{"$f":"  IF( $AE27 = \"\", \"\",    OFFSET( Season!$E$7,     2 * $AF27 - 1  +  IF( AJ$4 = $AJ$4, 1, 0 ),     3*( $AE27-1) + 0  )     )","v":"AMSC"},{"$f":"  IF( $AE27 = \"\", \"\",    OFFSET( Season!$E$7,     2 * $AF27 - 1  +  IF( AJ$4 = $AJ$4, 1, 0 ),     3*( $AE27-1) + 1  )     )","v":31},"AMSC","X04","","",null,null,null,null,null,null,null,null,null,null,null,"PA",{"$f":"SUM(BI21:BI23)","v":64},{"$f":"SUM(BJ21:BJ23)","v":55},{"$f":"SUM(BK21:BK23)","v":60},null,null," - Input fields"]
[null,null,null,null,null,null,null,null,null,null,null,null,null,null,null,null,null,null,null,null,{"$f":" IF( MAX(AG:AG ) = MAX( $U$18:U27 ), \"\", U27 + 1 )","v":""},"","","","","","","",null,null,2,7,{"$f":"  IF(  OR(  ISNA(  MATCH( AH28, $W$8:$W$13, 0 )   ),   ISNA( MATCH(  AJ28,  $W$8:$W$13, 0 )  )    ), \" . \",   MAX( $AG$4:AG27 ) + 1  )","v":" . "},{"$f":"  IF( $AE28 = \"\", \"\",    OFFSET( Season!$E$7,     2 * $AF28 - 1  +  IF( AH$4 = $AJ$4, 1, 0 ),     3*( $AE28-1) + 0  )     )","v":"E17"},{"$f":"  IF( $AE28 = \"\", \"\",    OFFSET( Season!$E$7,     2 * $AF28 - 1  +  IF( AH$4 = $AJ$4, 1, 0 ),     3*( $AE28-1) + 1  )     )","v":30},{"$f":"  IF( $AE28 = \"\", \"\",    OFFSET( Season!$E$7,     2 * $AF28 - 1  +  IF( AJ$4 = $AJ$4, 1, 0 ),     3*( $AE28-1) + 0  )     )","v":"E55a"},{"$f":"  IF( $AE28 = \"\", \"\",    OFFSET( Season!$E$7,     2 * $AF28 - 1  +  IF( AJ$4 = $AJ$4, 1, 0 ),     3*( $AE28-1) + 1  )     )","v":24},"E55a","E17","","",null,null,null,null,null,null,null,null,null,null,null,"Diff",{"$f":"BB26-BB27","v":-3},{"$f":"BC26-BC27","v":1},{"$f":"BD26-BD27","v":2}," <-- The lower the score, the better"]
[null,null,null,null,null,null,null,null,null,null,null,null,null,null,null,null,null,null,null,null,{"$f":" IF( MAX(AG:AG ) = MAX( $U$18:U28 ), \"\", U28 + 1 )","v":""},"","","","","","","",null,null,2,8,{"$f":"  IF(  OR(  ISNA(  MATCH( AH29, $W$8:$W$13, 0 )   ),   ISNA( MATCH(  AJ29,  $W$8:$W$13, 0 )  )    ), \" . \",   MAX( $AG$4:AG28 ) + 1  )","v":" . "},{"$f":"  IF( $AE29 = \"\", \"\",    OFFSET( Season!$E$7,     2 * $AF29 - 1  +  IF( AH$4 = $AJ$4, 1, 0 ),     3*( $AE29-1) + 0  )     )","v":"E14"},{"$f":"  IF( $AE29 = \"\", \"\",    OFFSET( Season!$E$7,     2 * $AF29 - 1  +  IF( AH$4 = $AJ$4, 1, 0 ),     3*( $AE29-1) + 1  )     )","v":33},{"$f":"  IF( $AE29 = \"\", \"\",    OFFSET( Season!$E$7,     2 * $AF29 - 1  +  IF( AJ$4 = $AJ$4, 1, 0 ),     3*( $AE29-1) + 0  )     )","v":"X01"},{"$f":"  IF( $AE29 = \"\", \"\",    OFFSET( Season!$E$7,     2 * $AF29 - 1  +  IF( AJ$4 = $AJ$4, 1, 0 ),     3*( $AE29-1) + 1  )     )","v":27},"X01","E14","","",null,null,null,null,null,null,null,null,null,null,null,null,1,2,3,{"$f":"  CONCATENATE(  \"   \", MIN( BB28:BD28),  \" is better than \",  MAX( BB28:BD28 ) )","v":"   -3 is better than 2"}]
[null,null,null,null,null,null,null,null,null,null,null,null,null,null,null,null,null,null,null,null,{"$f":" IF( MAX(AG:AG ) = MAX( $U$18:U29 ), \"\", U29 + 1 )","v":""},"","","","","","","",null,null,2,9,{"$f":"  IF(  OR(  ISNA(  MATCH( AH30, $W$8:$W$13, 0 )   ),   ISNA( MATCH(  AJ30,  $W$8:$W$13, 0 )  )    ), \" . \",   MAX( $AG$4:AG29 ) + 1  )","v":" . "},{"$f":"  IF( $AE30 = \"\", \"\",    OFFSET( Season!$E$7,     2 * $AF30 - 1  +  IF( AH$4 = $AJ$4, 1, 0 ),     3*( $AE30-1) + 0  )     )","v":0},{"$f":"  IF( $AE30 = \"\", \"\",    OFFSET( Season!$E$7,     2 * $AF30 - 1  +  IF( AH$4 = $AJ$4, 1, 0 ),     3*( $AE30-1) + 1  )     )","v":0},{"$f":"  IF( $AE30 = \"\", \"\",    OFFSET( Season!$E$7,     2 * $AF30 - 1  +  IF( AJ$4 = $AJ$4, 1, 0 ),     3*( $AE30-1) + 0  )     )","v":0},{"$f":"  IF( $AE30 = \"\", \"\",    OFFSET( Season!$E$7,     2 * $AF30 - 1  +  IF( AJ$4 = $AJ$4, 1, 0 ),     3*( $AE30-1) + 1  )     )","v":0},"x","x","","",null,null,null,null,null,null,null,null,null,null,null,null,null,null,null,{"$f":"  CONCATENATE(  \"   \", BH21, \" would be ranked above \", BH23  )","v":"   E82 would be ranked above ARG"}]
[null,null,null,null,null,null,null,null,null,null,null,null,null,null,null,null,null,null,null,null,{"$f":" IF( MAX(AG:AG ) = MAX( $U$18:U30 ), \"\", U30 + 1 )","v":""},"","","","","","","",null,null,2,10,{"$f":"  IF(  OR(  ISNA(  MATCH( AH31, $W$8:$W$13, 0 )   ),   ISNA( MATCH(  AJ31,  $W$8:$W$13, 0 )  )    ), \" . \",   MAX( $AG$4:AG30 ) + 1  )","v":" . "},{"$f":"  IF( $AE31 = \"\", \"\",    OFFSET( Season!$E$7,     2 * $AF31 - 1  +  IF( AH$4 = $AJ$4, 1, 0 ),     3*( $AE31-1) + 0  )     )","v":"O19"},{"$f":"  IF( $AE31 = \"\", \"\",    OFFSET( Season!$E$7,     2 * $AF31 - 1  +  IF( AH$4 = $AJ$4, 1, 0 ),     3*( $AE31-1) + 1  )     )","v":19},{"$f":"  IF( $AE31 = \"\", \"\",    OFFSET( Season!$E$7,     2 * $AF31 - 1  +  IF( AJ$4 = $AJ$4, 1, 0 ),     3*( $AE31-1) + 0  )     )","v":"X31"},{"$f":"  IF( $AE31 = \"\", \"\",    OFFSET( Season!$E$7,     2 * $AF31 - 1  +  IF( AJ$4 = $AJ$4, 1, 0 ),     3*( $AE31-1) + 1  )     )","v":13},"X31","O19","",""]
[null,null,null,null,null,null,null,null,null,null,null,null,null,null,null,null,null,null,null,null,{"$f":" IF( MAX(AG:AG ) = MAX( $U$18:U31 ), \"\", U31 + 1 )","v":""},"","","","","","","",null,null,2,11,{"$f":"  IF(  OR(  ISNA(  MATCH( AH32, $W$8:$W$13, 0 )   ),   ISNA( MATCH(  AJ32,  $W$8:$W$13, 0 )  )    ), \" . \",   MAX( $AG$4:AG31 ) + 1  )","v":" . "},{"$f":"  IF( $AE32 = \"\", \"\",    OFFSET( Season!$E$7,     2 * $AF32 - 1  +  IF( AH$4 = $AJ$4, 1, 0 ),     3*( $AE32-1) + 0  )     )","v":"NNIT"},{"$f":"  IF( $AE32 = \"\", \"\",    OFFSET( Season!$E$7,     2 * $AF32 - 1  +  IF( AH$4 = $AJ$4, 1, 0 ),     3*( $AE32-1) + 1  )     )","v":32},{"$f":"  IF( $AE32 = \"\", \"\",    OFFSET( Season!$E$7,     2 * $AF32 - 1  +  IF( AJ$4 = $AJ$4, 1, 0 ),     3*( $AE32-1) + 0  )     )","v":"E20"},{"$f":"  IF( $AE32 = \"\", \"\",    OFFSET( Season!$E$7,     2 * $AF32 - 1  +  IF( AJ$4 = $AJ$4, 1, 0 ),     3*( $AE32-1) + 1  )     )","v":19},"E20","NNIT","",""]
[null,null,null,null,null,null,null,null,null,null,null,null,null,null,null,null,null,null,null,null,{"$f":" IF( MAX(AG:AG ) = MAX( $U$18:U32 ), \"\", U32 + 1 )","v":""},"","","","","","","",null,null,2,12,{"$f":"  IF(  OR(  ISNA(  MATCH( AH33, $W$8:$W$13, 0 )   ),   ISNA( MATCH(  AJ33,  $W$8:$W$13, 0 )  )    ), \" . \",   MAX( $AG$4:AG32 ) + 1  )","v":" . "},{"$f":"  IF( $AE33 = \"\", \"\",    OFFSET( Season!$E$7,     2 * $AF33 - 1  +  IF( AH$4 = $AJ$4, 1, 0 ),     3*( $AE33-1) + 0  )     )","v":"ARG"},{"$f":"  IF( $AE33 = \"\", \"\",    OFFSET( Season!$E$7,     2 * $AF33 - 1  +  IF( AH$4 = $AJ$4, 1, 0 ),     3*( $AE33-1) + 1  )     )","v":-1},{"$f":"  IF( $AE33 = \"\", \"\",    OFFSET( Season!$E$7,     2 * $AF33 - 1  +  IF( AJ$4 = $AJ$4, 1, 0 ),     3*( $AE33-1) + 0  )     )","v":"ENGR"},{"$f":"  IF( $AE33 = \"\", \"\",    OFFSET( Season!$E$7,     2 * $AF33 - 1  +  IF( AJ$4 = $AJ$4, 1, 0 ),     3*( $AE33-1) + 1  )     )","v":34},"ARG","ENGR","",""]
[null,null,null,null,null,null,null,null,null,null,null,null,null,null,null,null,null,null,null,null,null,null,null,null,null,null,null,null,null,null,2,13,{"$f":"  IF(  OR(  ISNA(  MATCH( AH34, $W$8:$W$13, 0 )   ),   ISNA( MATCH(  AJ34,  $W$8:$W$13, 0 )  )    ), \" . \",   MAX( $AG$4:AG33 ) + 1  )","v":" . "},{"$f":"  IF( $AE34 = \"\", \"\",    OFFSET( Season!$E$7,     2 * $AF34 - 1  +  IF( AH$4 = $AJ$4, 1, 0 ),     3*( $AE34-1) + 0  )     )","v":"O87"},{"$f":"  IF( $AE34 = \"\", \"\",    OFFSET( Season!$E$7,     2 * $AF34 - 1  +  IF( AH$4 = $AJ$4, 1, 0 ),     3*( $AE34-1) + 1  )     )","v":30},{"$f":"  IF( $AE34 = \"\", \"\",    OFFSET( Season!$E$7,     2 * $AF34 - 1  +  IF( AJ$4 = $AJ$4, 1, 0 ),     3*( $AE34-1) + 0  )     )","v":"M10"},{"$f":"  IF( $AE34 = \"\", \"\",    OFFSET( Season!$E$7,     2 * $AF34 - 1  +  IF( AJ$4 = $AJ$4, 1, 0 ),     3*( $AE34-1) + 1  )     )","v":15},"M10","O87","","",null,null,null,null,null,null,null,null,null,null,null,null,"A","B"]
[null,null,null,null,null,null,null,null,null,null,null,null,null,null,null,null,null,null,null,null,null,null,null,null,null,null,null,null,null,null,2,14,{"$f":"  IF(  OR(  ISNA(  MATCH( AH35, $W$8:$W$13, 0 )   ),   ISNA( MATCH(  AJ35,  $W$8:$W$13, 0 )  )    ), \" . \",   MAX( $AG$4:AG34 ) + 1  )","v":" . "},{"$f":"  IF( $AE35 = \"\", \"\",    OFFSET( Season!$E$7,     2 * $AF35 - 1  +  IF( AH$4 = $AJ$4, 1, 0 ),     3*( $AE35-1) + 0  )     )","v":"CVN"},{"$f":"  IF( $AE35 = \"\", \"\",    OFFSET( Season!$E$7,     2 * $AF35 - 1  +  IF( AH$4 = $AJ$4, 1, 0 ),     3*( $AE35-1) + 1  )     )","v":17},{"$f":"  IF( $AE35 = \"\", \"\",    OFFSET( Season!$E$7,     2 * $AF35 - 1  +  IF( AJ$4 = $AJ$4, 1, 0 ),     3*( $AE35-1) + 0  )     )","v":"E75"},{"$f":"  IF( $AE35 = \"\", \"\",    OFFSET( Season!$E$7,     2 * $AF35 - 1  +  IF( AJ$4 = $AJ$4, 1, 0 ),     3*( $AE35-1) + 1  )     )","v":13},"E75","CVN","","",null,null,null,null,null,null,null,null,null,null,null,"Points",{"$f":" OFFSET( $G$5, $W$4, 0 )","v":16},{"$f":" OFFSET( $P$5, $W$4, 0 )","v":15}]
[null,null,null,null,null,null,null,null,null,null,null,null,null,null,null,null,null,null,null,null,null,null,null,null,null,null,null,null,null,null,2,15,{"$f":"  IF(  OR(  ISNA(  MATCH( AH36, $W$8:$W$13, 0 )   ),   ISNA( MATCH(  AJ36,  $W$8:$W$13, 0 )  )    ), \" . \",   MAX( $AG$4:AG35 ) + 1  )","v":" . "},{"$f":"  IF( $AE36 = \"\", \"\",    OFFSET( Season!$E$7,     2 * $AF36 - 1  +  IF( AH$4 = $AJ$4, 1, 0 ),     3*( $AE36-1) + 0  )     )","v":"CRF"},{"$f":"  IF( $AE36 = \"\", \"\",    OFFSET( Season!$E$7,     2 * $AF36 - 1  +  IF( AH$4 = $AJ$4, 1, 0 ),     3*( $AE36-1) + 1  )     )","v":17},{"$f":"  IF( $AE36 = \"\", \"\",    OFFSET( Season!$E$7,     2 * $AF36 - 1  +  IF( AJ$4 = $AJ$4, 1, 0 ),     3*( $AE36-1) + 0  )     )","v":"O46"},{"$f":"  IF( $AE36 = \"\", \"\",    OFFSET( Season!$E$7,     2 * $AF36 - 1  +  IF( AJ$4 = $AJ$4, 1, 0 ),     3*( $AE36-1) + 1  )     )","v":24},"CRF","O46","","",null,null,null,null,null,null,null,null,null,null,null,"Row",{"$f":" MATCH( BB$35, $G$6:$G$22, 0 )","v":8},{"$f":" MATCH( BC$35, $P$6:$P$22, 0 )","v":8}]
[null,null,null,null,null,null,null,null,null,null,null,null,null,null,null,null,null,null,null,null,null,null,null,null,null,null,null,null,null,null,2,16,{"$f":"  IF(  OR(  ISNA(  MATCH( AH37, $W$8:$W$13, 0 )   ),   ISNA( MATCH(  AJ37,  $W$8:$W$13, 0 )  )    ), \" . \",   MAX( $AG$4:AG36 ) + 1  )","v":" . "},{"$f":"  IF( $AE37 = \"\", \"\",    OFFSET( Season!$E$7,     2 * $AF37 - 1  +  IF( AH$4 = $AJ$4, 1, 0 ),     3*( $AE37-1) + 0  )     )","v":"E25"},{"$f":"  IF( $AE37 = \"\", \"\",    OFFSET( Season!$E$7,     2 * $AF37 - 1  +  IF( AH$4 = $AJ$4, 1, 0 ),     3*( $AE37-1) + 1  )     )","v":32},{"$f":"  IF( $AE37 = \"\", \"\",    OFFSET( Season!$E$7,     2 * $AF37 - 1  +  IF( AJ$4 = $AJ$4, 1, 0 ),     3*( $AE37-1) + 0  )     )","v":"SCM"},{"$f":"  IF( $AE37 = \"\", \"\",    OFFSET( Season!$E$7,     2 * $AF37 - 1  +  IF( AJ$4 = $AJ$4, 1, 0 ),     3*( $AE37-1) + 1  )     )","v":13},"SCM","E25","","",null,null,null,null,null,null,null,null,null,null,null,"Count",{"$f":" COUNTIF( $G$6:$G$22, $BB$35 )","v":1},{"$f":" COUNTIF( $P$6:$P$22, $BC$35 )","v":2}]
[null,null,null,null,null,null,null,null,null,null,null,null,null,null,null,null,null,null,null,null,null,null,null,null,null,null,null,null,null,null,2,17,{"$f":"  IF(  OR(  ISNA(  MATCH( AH38, $W$8:$W$13, 0 )   ),   ISNA( MATCH(  AJ38,  $W$8:$W$13, 0 )  )    ), \" . \",   MAX( $AG$4:AG37 ) + 1  )","v":" . "},{"$f":"  IF( $AE38 = \"\", \"\",    OFFSET( Season!$E$7,     2 * $AF38 - 1  +  IF( AH$4 = $AJ$4, 1, 0 ),     3*( $AE38-1) + 0  )     )","v":"A572"},{"$f":"  IF( $AE38 = \"\", \"\",    OFFSET( Season!$E$7,     2 * $AF38 - 1  +  IF( AH$4 = $AJ$4, 1, 0 ),     3*( $AE38-1) + 1  )     )","v":27},{"$f":"  IF( $AE38 = \"\", \"\",    OFFSET( Season!$E$7,     2 * $AF38 - 1  +  IF( AJ$4 = $AJ$4, 1, 0 ),     3*( $AE38-1) + 0  )     )","v":"X10"},{"$f":"  IF( $AE38 = \"\", \"\",    OFFSET( Season!$E$7,     2 * $AF38 - 1  +  IF( AJ$4 = $AJ$4, 1, 0 ),     3*( $AE38-1) + 1  )     )","v":8},"X10","A572","",""]
[null,null,null,null,null,null,null,null,null,null,null,null,null,null,null,null,null,null,null,null,null,null,null,null,null,null,null,null,null,null,3,1,{"$f":"  IF(  OR(  ISNA(  MATCH( AH39, $W$8:$W$13, 0 )   ),   ISNA( MATCH(  AJ39,  $W$8:$W$13, 0 )  )    ), \" . \",   MAX( $AG$4:AG38 ) + 1  )","v":" . "},{"$f":"  IF( $AE39 = \"\", \"\",    OFFSET( Season!$E$7,     2 * $AF39 - 1  +  IF( AH$4 = $AJ$4, 1, 0 ),     3*( $AE39-1) + 0  )     )","v":"X88"},{"$f":"  IF( $AE39 = \"\", \"\",    OFFSET( Season!$E$7,     2 * $AF39 - 1  +  IF( AH$4 = $AJ$4, 1, 0 ),     3*( $AE39-1) + 1  )     )","v":23},{"$f":"  IF( $AE39 = \"\", \"\",    OFFSET( Season!$E$7,     2 * $AF39 - 1  +  IF( AJ$4 = $AJ$4, 1, 0 ),     3*( $AE39-1) + 0  )     )","v":"AMSC"},{"$f":"  IF( $AE39 = \"\", \"\",    OFFSET( Season!$E$7,     2 * $AF39 - 1  +  IF( AJ$4 = $AJ$4, 1, 0 ),     3*( $AE39-1) + 1  )     )","v":28},"X88","AMSC","",""]
[null,null,null,null,null,null,null,null,null,null,null,null,null,null,null,null,null,null,null,null,null,null,null,null,null,null,null,null,null,null,3,2,{"$f":"  IF(  OR(  ISNA(  MATCH( AH40, $W$8:$W$13, 0 )   ),   ISNA( MATCH(  AJ40,  $W$8:$W$13, 0 )  )    ), \" . \",   MAX( $AG$4:AG39 ) + 1  )","v":" . "},{"$f":"  IF( $AE40 = \"\", \"\",    OFFSET( Season!$E$7,     2 * $AF40 - 1  +  IF( AH$4 = $AJ$4, 1, 0 ),     3*( $AE40-1) + 0  )     )","v":"X04"},{"$f":"  IF( $AE40 = \"\", \"\",    OFFSET( Season!$E$7,     2 * $AF40 - 1  +  IF( AH$4 = $AJ$4, 1, 0 ),     3*( $AE40-1) + 1  )     )","v":22},{"$f":"  IF( $AE40 = \"\", \"\",    OFFSET( Season!$E$7,     2 * $AF40 - 1  +  IF( AJ$4 = $AJ$4, 1, 0 ),     3*( $AE40-1) + 0  )     )","v":"SUBS"},{"$f":"  IF( $AE40 = \"\", \"\",    OFFSET( Season!$E$7,     2 * $AF40 - 1  +  IF( AJ$4 = $AJ$4, 1, 0 ),     3*( $AE40-1) + 1  )     )","v":13},"SUBS","X04","",""]
[null,null,null,null,null,null,null,null,null,null,null,null,null,null,null,null,null,null,null,null,null,null,null,null,null,null,null,null,null,null,3,3,{"$f":"  IF(  OR(  ISNA(  MATCH( AH41, $W$8:$W$13, 0 )   ),   ISNA( MATCH(  AJ41,  $W$8:$W$13, 0 )  )    ), \" . \",   MAX( $AG$4:AG40 ) + 1  )","v":" . "},{"$f":"  IF( $AE41 = \"\", \"\",    OFFSET( Season!$E$7,     2 * $AF41 - 1  +  IF( AH$4 = $AJ$4, 1, 0 ),     3*( $AE41-1) + 0  )     )","v":"E55a"},{"$f":"  IF( $AE41 = \"\", \"\",    OFFSET( Season!$E$7,     2 * $AF41 - 1  +  IF( AH$4 = $AJ$4, 1, 0 ),     3*( $AE41-1) + 1  )     )","v":21},{"$f":"  IF( $AE41 = \"\", \"\",    OFFSET( Season!$E$7,     2 * $AF41 - 1  +  IF( AJ$4 = $AJ$4, 1, 0 ),     3*( $AE41-1) + 0  )     )","v":"E86"},{"$f":"  IF( $AE41 = \"\", \"\",    OFFSET( Season!$E$7,     2 * $AF41 - 1  +  IF( AJ$4 = $AJ$4, 1, 0 ),     3*( $AE41-1) + 1  )     )","v":17},"E86","E55a","",""]
[null,null,null,null,null,null,null,null,null,null,null,null,null,null,null,null,null,null,null,null,null,null,null,null,null,null,null,null,null,null,3,4,{"$f":"  IF(  OR(  ISNA(  MATCH( AH42, $W$8:$W$13, 0 )   ),   ISNA( MATCH(  AJ42,  $W$8:$W$13, 0 )  )    ), \" . \",   MAX( $AG$4:AG41 ) + 1  )","v":" . "},{"$f":"  IF( $AE42 = \"\", \"\",    OFFSET( Season!$E$7,     2 * $AF42 - 1  +  IF( AH$4 = $AJ$4, 1, 0 ),     3*( $AE42-1) + 0  )     )","v":"E14"},{"$f":"  IF( $AE42 = \"\", \"\",    OFFSET( Season!$E$7,     2 * $AF42 - 1  +  IF( AH$4 = $AJ$4, 1, 0 ),     3*( $AE42-1) + 1  )     )","v":23},{"$f":"  IF( $AE42 = \"\", \"\",    OFFSET( Season!$E$7,     2 * $AF42 - 1  +  IF( AJ$4 = $AJ$4, 1, 0 ),     3*( $AE42-1) + 0  )     )","v":"X87"},{"$f":"  IF( $AE42 = \"\", \"\",    OFFSET( Season!$E$7,     2 * $AF42 - 1  +  IF( AJ$4 = $AJ$4, 1, 0 ),     3*( $AE42-1) + 1  )     )","v":16},"X87","E14","",""]
[null,null,null,null,null,null,null,null,null,null,null,null,null,null,null,null,null,null,null,null,null,null,null,null,null,null,null,null,null,null,3,5,{"$f":"  IF(  OR(  ISNA(  MATCH( AH43, $W$8:$W$13, 0 )   ),   ISNA( MATCH(  AJ43,  $W$8:$W$13, 0 )  )    ), \" . \",   MAX( $AG$4:AG42 ) + 1  )","v":" . "},{"$f":"  IF( $AE43 = \"\", \"\",    OFFSET( Season!$E$7,     2 * $AF43 - 1  +  IF( AH$4 = $AJ$4, 1, 0 ),     3*( $AE43-1) + 0  )     )","v":"E55B"},{"$f":"  IF( $AE43 = \"\", \"\",    OFFSET( Season!$E$7,     2 * $AF43 - 1  +  IF( AH$4 = $AJ$4, 1, 0 ),     3*( $AE43-1) + 1  )     )","v":19},{"$f":"  IF( $AE43 = \"\", \"\",    OFFSET( Season!$E$7,     2 * $AF43 - 1  +  IF( AJ$4 = $AJ$4, 1, 0 ),     3*( $AE43-1) + 0  )     )","v":"X01"},{"$f":"  IF( $AE43 = \"\", \"\",    OFFSET( Season!$E$7,     2 * $AF43 - 1  +  IF( AJ$4 = $AJ$4, 1, 0 ),     3*( $AE43-1) + 1  )     )","v":14},"X01","E55B","",""]
[null,null,null,null,null,null,null,null,null,null,null,null,null,null,null,null,null,null,null,null,null,null,null,null,null,null,null,null,null,null,3,6,{"$f":"  IF(  OR(  ISNA(  MATCH( AH44, $W$8:$W$13, 0 )   ),   ISNA( MATCH(  AJ44,  $W$8:$W$13, 0 )  )    ), \" . \",   MAX( $AG$4:AG43 ) + 1  )","v":" . "},{"$f":"  IF( $AE44 = \"\", \"\",    OFFSET( Season!$E$7,     2 * $AF44 - 1  +  IF( AH$4 = $AJ$4, 1, 0 ),     3*( $AE44-1) + 0  )     )","v":"E12"},{"$f":"  IF( $AE44 = \"\", \"\",    OFFSET( Season!$E$7,     2 * $AF44 - 1  +  IF( AH$4 = $AJ$4, 1, 0 ),     3*( $AE44-1) + 1  )     )","v":22},{"$f":"  IF( $AE44 = \"\", \"\",    OFFSET( Season!$E$7,     2 * $AF44 - 1  +  IF( AJ$4 = $AJ$4, 1, 0 ),     3*( $AE44-1) + 0  )     )","v":"E42"},{"$f":"  IF( $AE44 = \"\", \"\",    OFFSET( Season!$E$7,     2 * $AF44 - 1  +  IF( AJ$4 = $AJ$4, 1, 0 ),     3*( $AE44-1) + 1  )     )","v":24},"E12","E42","",""]
[null,null,null,null,null,null,null,null,null,null,null,null,null,null,null,null,null,null,null,null,null,null,null,null,null,null,null,null,null,null,{"$f":"AE28 + 1","v":3},{"$f":"AF28","v":7},{"$f":"  IF(  OR(  ISNA(  MATCH( AH45, $W$8:$W$13, 0 )   ),   ISNA( MATCH(  AJ45,  $W$8:$W$13, 0 )  )    ), \" . \",   MAX( $AG$4:AG44 ) + 1  )","v":" . "},{"$f":"  IF( $AE45 = \"\", \"\",    OFFSET( Season!$E$7,     2 * $AF45 - 1  +  IF( AH$4 = $AJ$4, 1, 0 ),     3*( $AE45-1) + 0  )     )","v":"E83"},{"$f":"  IF( $AE45 = \"\", \"\",    OFFSET( Season!$E$7,     2 * $AF45 - 1  +  IF( AH$4 = $AJ$4, 1, 0 ),     3*( $AE45-1) + 1  )     )","v":17},{"$f":"  IF( $AE45 = \"\", \"\",    OFFSET( Season!$E$7,     2 * $AF45 - 1  +  IF( AJ$4 = $AJ$4, 1, 0 ),     3*( $AE45-1) + 0  )     )","v":"E17"},{"$f":"  IF( $AE45 = \"\", \"\",    OFFSET( Season!$E$7,     2 * $AF45 - 1  +  IF( AJ$4 = $AJ$4, 1, 0 ),     3*( $AE45-1) + 1  )     )","v":30},"E83","E17","",""]
[null,null,null,null,null,null,null,null,null,null,null,null,null,null,null,null,null,null,null,null,null,null,null,null,null,null,null,null,null,null,3,8,{"$f":"  IF(  OR(  ISNA(  MATCH( AH46, $W$8:$W$13, 0 )   ),   ISNA( MATCH(  AJ46,  $W$8:$W$13, 0 )  )    ), \" . \",   MAX( $AG$4:AG45 ) + 1  )","v":" . "},{"$f":"  IF( $AE46 = \"\", \"\",    OFFSET( Season!$E$7,     2 * $AF46 - 1  +  IF( AH$4 = $AJ$4, 1, 0 ),     3*( $AE46-1) + 0  )     )","v":"E60"},{"$f":"  IF( $AE46 = \"\", \"\",    OFFSET( Season!$E$7,     2 * $AF46 - 1  +  IF( AH$4 = $AJ$4, 1, 0 ),     3*( $AE46-1) + 1  )     )","v":17},{"$f":"  IF( $AE46 = \"\", \"\",    OFFSET( Season!$E$7,     2 * $AF46 - 1  +  IF( AJ$4 = $AJ$4, 1, 0 ),     3*( $AE46-1) + 0  )     )","v":"AGS"},{"$f":"  IF( $AE46 = \"\", \"\",    OFFSET( Season!$E$7,     2 * $AF46 - 1  +  IF( AJ$4 = $AJ$4, 1, 0 ),     3*( $AE46-1) + 1  )     )","v":19},"E60","AGS","",""]
[null,null,null,null,null,null,null,null,null,null,null,null,null,null,null,null,null,null,null,null,null,null,null,null,null,null,null,null,null,null,3,9,{"$f":"  IF(  OR(  ISNA(  MATCH( AH47, $W$8:$W$13, 0 )   ),   ISNA( MATCH(  AJ47,  $W$8:$W$13, 0 )  )    ), \" . \",   MAX( $AG$4:AG46 ) + 1  )","v":" . "},{"$f":"  IF( $AE47 = \"\", \"\",    OFFSET( Season!$E$7,     2 * $AF47 - 1  +  IF( AH$4 = $AJ$4, 1, 0 ),     3*( $AE47-1) + 0  )     )","v":0},{"$f":"  IF( $AE47 = \"\", \"\",    OFFSET( Season!$E$7,     2 * $AF47 - 1  +  IF( AH$4 = $AJ$4, 1, 0 ),     3*( $AE47-1) + 1  )     )","v":0},{"$f":"  IF( $AE47 = \"\", \"\",    OFFSET( Season!$E$7,     2 * $AF47 - 1  +  IF( AJ$4 = $AJ$4, 1, 0 ),     3*( $AE47-1) + 0  )     )","v":0},{"$f":"  IF( $AE47 = \"\", \"\",    OFFSET( Season!$E$7,     2 * $AF47 - 1  +  IF( AJ$4 = $AJ$4, 1, 0 ),     3*( $AE47-1) + 1  )     )","v":0},"x","x","",""]
[null,null,null,null,null,null,null,null,null,null,null,null,null,null,null,null,null,null,null,null,null,null,null,null,null,null,null,null,null,null,3,10,{"$f":"  IF(  OR(  ISNA(  MATCH( AH48, $W$8:$W$13, 0 )   ),   ISNA( MATCH(  AJ48,  $W$8:$W$13, 0 )  )    ), \" . \",   MAX( $AG$4:AG47 ) + 1  )","v":" . "},{"$f":"  IF( $AE48 = \"\", \"\",    OFFSET( Season!$E$7,     2 * $AF48 - 1  +  IF( AH$4 = $AJ$4, 1, 0 ),     3*( $AE48-1) + 0  )     )","v":"CVN"},{"$f":"  IF( $AE48 = \"\", \"\",    OFFSET( Season!$E$7,     2 * $AF48 - 1  +  IF( AH$4 = $AJ$4, 1, 0 ),     3*( $AE48-1) + 1  )     )","v":21},{"$f":"  IF( $AE48 = \"\", \"\",    OFFSET( Season!$E$7,     2 * $AF48 - 1  +  IF( AJ$4 = $AJ$4, 1, 0 ),     3*( $AE48-1) + 0  )     )","v":"O46"},{"$f":"  IF( $AE48 = \"\", \"\",    OFFSET( Season!$E$7,     2 * $AF48 - 1  +  IF( AJ$4 = $AJ$4, 1, 0 ),     3*( $AE48-1) + 1  )     )","v":11},"O46","CVN","",""]
[null,null,null,null,null,null,null,null,null,null,null,null,null,null,null,null,null,null,null,null,null,null,null,null,null,null,null,null,null,null,3,11,{"$f":"  IF(  OR(  ISNA(  MATCH( AH49, $W$8:$W$13, 0 )   ),   ISNA( MATCH(  AJ49,  $W$8:$W$13, 0 )  )    ), \" . \",   MAX( $AG$4:AG48 ) + 1  )","v":" . "},{"$f":"  IF( $AE49 = \"\", \"\",    OFFSET( Season!$E$7,     2 * $AF49 - 1  +  IF( AH$4 = $AJ$4, 1, 0 ),     3*( $AE49-1) + 0  )     )","v":"CRF"},{"$f":"  IF( $AE49 = \"\", \"\",    OFFSET( Season!$E$7,     2 * $AF49 - 1  +  IF( AH$4 = $AJ$4, 1, 0 ),     3*( $AE49-1) + 1  )     )","v":20},{"$f":"  IF( $AE49 = \"\", \"\",    OFFSET( Season!$E$7,     2 * $AF49 - 1  +  IF( AJ$4 = $AJ$4, 1, 0 ),     3*( $AE49-1) + 0  )     )","v":"E75"},{"$f":"  IF( $AE49 = \"\", \"\",    OFFSET( Season!$E$7,     2 * $AF49 - 1  +  IF( AJ$4 = $AJ$4, 1, 0 ),     3*( $AE49-1) + 1  )     )","v":18},"E75","CRF","",""]
[null,null,null,null,null,null,null,null,null,null,null,null,null,null,null,null,null,null,null,null,null,null,null,null,null,null,null,null,null,null,3,12,{"$f":"  IF(  OR(  ISNA(  MATCH( AH50, $W$8:$W$13, 0 )   ),   ISNA( MATCH(  AJ50,  $W$8:$W$13, 0 )  )    ), \" . \",   MAX( $AG$4:AG49 ) + 1  )","v":" . "},{"$f":"  IF( $AE50 = \"\", \"\",    OFFSET( Season!$E$7,     2 * $AF50 - 1  +  IF( AH$4 = $AJ$4, 1, 0 ),     3*( $AE50-1) + 0  )     )","v":"SCM"},{"$f":"  IF( $AE50 = \"\", \"\",    OFFSET( Season!$E$7,     2 * $AF50 - 1  +  IF( AH$4 = $AJ$4, 1, 0 ),     3*( $AE50-1) + 1  )     )","v":20},{"$f":"  IF( $AE50 = \"\", \"\",    OFFSET( Season!$E$7,     2 * $AF50 - 1  +  IF( AJ$4 = $AJ$4, 1, 0 ),     3*( $AE50-1) + 0  )     )","v":"O19"},{"$f":"  IF( $AE50 = \"\", \"\",    OFFSET( Season!$E$7,     2 * $AF50 - 1  +  IF( AJ$4 = $AJ$4, 1, 0 ),     3*( $AE50-1) + 1  )     )","v":29},"SCM","O19","",""]
[null,null,null,null,null,null,null,null,null,null,null,null,null,null,null,null,null,null,null,null,null,null,null,null,null,null,null,null,null,null,3,13,{"$f":"  IF(  OR(  ISNA(  MATCH( AH51, $W$8:$W$13, 0 )   ),   ISNA( MATCH(  AJ51,  $W$8:$W$13, 0 )  )    ), \" . \",   MAX( $AG$4:AG50 ) + 1  )","v":" . "},{"$f":"  IF( $AE51 = \"\", \"\",    OFFSET( Season!$E$7,     2 * $AF51 - 1  +  IF( AH$4 = $AJ$4, 1, 0 ),     3*( $AE51-1) + 0  )     )","v":"A572"},{"$f":"  IF( $AE51 = \"\", \"\",    OFFSET( Season!$E$7,     2 * $AF51 - 1  +  IF( AH$4 = $AJ$4, 1, 0 ),     3*( $AE51-1) + 1  )     )","v":16},{"$f":"  IF( $AE51 = \"\", \"\",    OFFSET( Season!$E$7,     2 * $AF51 - 1  +  IF( AJ$4 = $AJ$4, 1, 0 ),     3*( $AE51-1) + 0  )     )","v":"O87"},{"$f":"  IF( $AE51 = \"\", \"\",    OFFSET( Season!$E$7,     2 * $AF51 - 1  +  IF( AJ$4 = $AJ$4, 1, 0 ),     3*( $AE51-1) + 1  )     )","v":15},"O87","A572","",""]
[null,null,null,null,null,null,null,null,null,null,null,null,null,null,null,null,null,null,null,null,null,null,null,null,null,null,null,null,null,null,3,14,{"$f":"  IF(  OR(  ISNA(  MATCH( AH52, $W$8:$W$13, 0 )   ),   ISNA( MATCH(  AJ52,  $W$8:$W$13, 0 )  )    ), \" . \",   MAX( $AG$4:AG51 ) + 1  )","v":" . "},{"$f":"  IF( $AE52 = \"\", \"\",    OFFSET( Season!$E$7,     2 * $AF52 - 1  +  IF( AH$4 = $AJ$4, 1, 0 ),     3*( $AE52-1) + 0  )     )","v":"M10"},{"$f":"  IF( $AE52 = \"\", \"\",    OFFSET( Season!$E$7,     2 * $AF52 - 1  +  IF( AH$4 = $AJ$4, 1, 0 ),     3*( $AE52-1) + 1  )     )","v":6},{"$f":"  IF( $AE52 = \"\", \"\",    OFFSET( Season!$E$7,     2 * $AF52 - 1  +  IF( AJ$4 = $AJ$4, 1, 0 ),     3*( $AE52-1) + 0  )     )","v":"X10"},{"$f":"  IF( $AE52 = \"\", \"\",    OFFSET( Season!$E$7,     2 * $AF52 - 1  +  IF( AJ$4 = $AJ$4, 1, 0 ),     3*( $AE52-1) + 1  )     )","v":34},"M10","X10","",""]
[null,null,null,null,null,null,null,null,null,null,null,null,null,null,null,null,null,null,null,null,null,null,null,null,null,null,null,null,null,null,3,15,{"$f":"  IF(  OR(  ISNA(  MATCH( AH53, $W$8:$W$13, 0 )   ),   ISNA( MATCH(  AJ53,  $W$8:$W$13, 0 )  )    ), \" . \",   MAX( $AG$4:AG52 ) + 1  )","v":" . "},{"$f":"  IF( $AE53 = \"\", \"\",    OFFSET( Season!$E$7,     2 * $AF53 - 1  +  IF( AH$4 = $AJ$4, 1, 0 ),     3*( $AE53-1) + 0  )     )","v":"E20"},{"$f":"  IF( $AE53 = \"\", \"\",    OFFSET( Season!$E$7,     2 * $AF53 - 1  +  IF( AH$4 = $AJ$4, 1, 0 ),     3*( $AE53-1) + 1  )     )","v":10},{"$f":"  IF( $AE53 = \"\", \"\",    OFFSET( Season!$E$7,     2 * $AF53 - 1  +  IF( AJ$4 = $AJ$4, 1, 0 ),     3*( $AE53-1) + 0  )     )","v":"ARG"},{"$f":"  IF( $AE53 = \"\", \"\",    OFFSET( Season!$E$7,     2 * $AF53 - 1  +  IF( AJ$4 = $AJ$4, 1, 0 ),     3*( $AE53-1) + 1  )     )","v":21},"E20","ARG","",""]
[null,null,null,null,null,null,null,null,null,null,null,null,null,null,null,null,null,null,null,null,null,null,null,null,null,null,null,null,null,null,3,16,{"$f":"  IF(  OR(  ISNA(  MATCH( AH54, $W$8:$W$13, 0 )   ),   ISNA( MATCH(  AJ54,  $W$8:$W$13, 0 )  )    ), \" . \",   MAX( $AG$4:AG53 ) + 1  )","v":" . "},{"$f":"  IF( $AE54 = \"\", \"\",    OFFSET( Season!$E$7,     2 * $AF54 - 1  +  IF( AH$4 = $AJ$4, 1, 0 ),     3*( $AE54-1) + 0  )     )","v":"X31"},{"$f":"  IF( $AE54 = \"\", \"\",    OFFSET( Season!$E$7,     2 * $AF54 - 1  +  IF( AH$4 = $AJ$4, 1, 0 ),     3*( $AE54-1) + 1  )     )","v":13},{"$f":"  IF( $AE54 = \"\", \"\",    OFFSET( Season!$E$7,     2 * $AF54 - 1  +  IF( AJ$4 = $AJ$4, 1, 0 ),     3*( $AE54-1) + 0  )     )","v":"E25"},{"$f":"  IF( $AE54 = \"\", \"\",    OFFSET( Season!$E$7,     2 * $AF54 - 1  +  IF( AJ$4 = $AJ$4, 1, 0 ),     3*( $AE54-1) + 1  )     )","v":21},"X31","E25","",""]
[null,null,null,null,null,null,null,null,null,null,null,null,null,null,null,null,null,null,null,null,null,null,null,null,null,null,null,null,null,null,3,17,{"$f":"  IF(  OR(  ISNA(  MATCH( AH55, $W$8:$W$13, 0 )   ),   ISNA( MATCH(  AJ55,  $W$8:$W$13, 0 )  )    ), \" . \",   MAX( $AG$4:AG54 ) + 1  )","v":" . "},{"$f":"  IF( $AE55 = \"\", \"\",    OFFSET( Season!$E$7,     2 * $AF55 - 1  +  IF( AH$4 = $AJ$4, 1, 0 ),     3*( $AE55-1) + 0  )     )","v":"ENGR"},{"$f":"  IF( $AE55 = \"\", \"\",    OFFSET( Season!$E$7,     2 * $AF55 - 1  +  IF( AH$4 = $AJ$4, 1, 0 ),     3*( $AE55-1) + 1  )     )","v":20},{"$f":"  IF( $AE55 = \"\", \"\",    OFFSET( Season!$E$7,     2 * $AF55 - 1  +  IF( AJ$4 = $AJ$4, 1, 0 ),     3*( $AE55-1) + 0  )     )","v":"NNIT"},{"$f":"  IF( $AE55 = \"\", \"\",    OFFSET( Season!$E$7,     2 * $AF55 - 1  +  IF( AJ$4 = $AJ$4, 1, 0 ),     3*( $AE55-1) + 1  )     )","v":7},"NNIT","ENGR","",""]
[null,null,null,null,null,null,null,null,null,null,null,null,null,null,null,null,null,null,null,null,null,null,null,null,null,null,null,null,null,null,4,1,{"$f":"  IF(  OR(  ISNA(  MATCH( AH56, $W$8:$W$13, 0 )   ),   ISNA( MATCH(  AJ56,  $W$8:$W$13, 0 )  )    ), \" . \",   MAX( $AG$4:AG55 ) + 1  )","v":" . "},{"$f":"  IF( $AE56 = \"\", \"\",    OFFSET( Season!$E$7,     2 * $AF56 - 1  +  IF( AH$4 = $AJ$4, 1, 0 ),     3*( $AE56-1) + 0  )     )","v":"E14"},{"$f":"  IF( $AE56 = \"\", \"\",    OFFSET( Season!$E$7,     2 * $AF56 - 1  +  IF( AH$4 = $AJ$4, 1, 0 ),     3*( $AE56-1) + 1  )     )","v":15},{"$f":"  IF( $AE56 = \"\", \"\",    OFFSET( Season!$E$7,     2 * $AF56 - 1  +  IF( AJ$4 = $AJ$4, 1, 0 ),     3*( $AE56-1) + 0  )     )","v":"E83"},{"$f":"  IF( $AE56 = \"\", \"\",    OFFSET( Season!$E$7,     2 * $AF56 - 1  +  IF( AJ$4 = $AJ$4, 1, 0 ),     3*( $AE56-1) + 1  )     )","v":4},"E83","E14","",""]
[null,null,null,null,null,null,null,null,null,null,null,null,null,null,null,null,null,null,null,null,null,null,null,null,null,null,null,null,null,null,4,2,{"$f":"  IF(  OR(  ISNA(  MATCH( AH57, $W$8:$W$13, 0 )   ),   ISNA( MATCH(  AJ57,  $W$8:$W$13, 0 )  )    ), \" . \",   MAX( $AG$4:AG56 ) + 1  )","v":" . "},{"$f":"  IF( $AE57 = \"\", \"\",    OFFSET( Season!$E$7,     2 * $AF57 - 1  +  IF( AH$4 = $AJ$4, 1, 0 ),     3*( $AE57-1) + 0  )     )","v":"X01"},{"$f":"  IF( $AE57 = \"\", \"\",    OFFSET( Season!$E$7,     2 * $AF57 - 1  +  IF( AH$4 = $AJ$4, 1, 0 ),     3*( $AE57-1) + 1  )     )","v":28},{"$f":"  IF( $AE57 = \"\", \"\",    OFFSET( Season!$E$7,     2 * $AF57 - 1  +  IF( AJ$4 = $AJ$4, 1, 0 ),     3*( $AE57-1) + 0  )     )","v":"E86"},{"$f":"  IF( $AE57 = \"\", \"\",    OFFSET( Season!$E$7,     2 * $AF57 - 1  +  IF( AJ$4 = $AJ$4, 1, 0 ),     3*( $AE57-1) + 1  )     )","v":18},"E86","X01","",""]
[null,null,null,null,null,null,null,null,null,null,null,null,null,null,null,null,null,null,null,null,null,null,null,null,null,null,null,null,null,null,4,3,{"$f":"  IF(  OR(  ISNA(  MATCH( AH58, $W$8:$W$13, 0 )   ),   ISNA( MATCH(  AJ58,  $W$8:$W$13, 0 )  )    ), \" . \",   MAX( $AG$4:AG57 ) + 1  )","v":" . "},{"$f":"  IF( $AE58 = \"\", \"\",    OFFSET( Season!$E$7,     2 * $AF58 - 1  +  IF( AH$4 = $AJ$4, 1, 0 ),     3*( $AE58-1) + 0  )     )","v":"X87"},{"$f":"  IF( $AE58 = \"\", \"\",    OFFSET( Season!$E$7,     2 * $AF58 - 1  +  IF( AH$4 = $AJ$4, 1, 0 ),     3*( $AE58-1) + 1  )     )","v":7},{"$f":"  IF( $AE58 = \"\", \"\",    OFFSET( Season!$E$7,     2 * $AF58 - 1  +  IF( AJ$4 = $AJ$4, 1, 0 ),     3*( $AE58-1) + 0  )     )","v":"E17"},{"$f":"  IF( $AE58 = \"\", \"\",    OFFSET( Season!$E$7,     2 * $AF58 - 1  +  IF( AJ$4 = $AJ$4, 1, 0 ),     3*( $AE58-1) + 1  )     )","v":26},"X87","E17","",""]
[null,null,null,null,null,null,null,null,null,null,null,null,null,null,null,null,null,null,null,null,null,null,null,null,null,null,null,null,null,null,4,4,{"$f":"  IF(  OR(  ISNA(  MATCH( AH59, $W$8:$W$13, 0 )   ),   ISNA( MATCH(  AJ59,  $W$8:$W$13, 0 )  )    ), \" . \",   MAX( $AG$4:AG58 ) + 1  )","v":" . "},{"$f":"  IF( $AE59 = \"\", \"\",    OFFSET( Season!$E$7,     2 * $AF59 - 1  +  IF( AH$4 = $AJ$4, 1, 0 ),     3*( $AE59-1) + 0  )     )","v":"E42"},{"$f":"  IF( $AE59 = \"\", \"\",    OFFSET( Season!$E$7,     2 * $AF59 - 1  +  IF( AH$4 = $AJ$4, 1, 0 ),     3*( $AE59-1) + 1  )     )","v":24},{"$f":"  IF( $AE59 = \"\", \"\",    OFFSET( Season!$E$7,     2 * $AF59 - 1  +  IF( AJ$4 = $AJ$4, 1, 0 ),     3*( $AE59-1) + 0  )     )","v":"AMSC"},{"$f":"  IF( $AE59 = \"\", \"\",    OFFSET( Season!$E$7,     2 * $AF59 - 1  +  IF( AJ$4 = $AJ$4, 1, 0 ),     3*( $AE59-1) + 1  )     )","v":30},"E42","AMSC","",""]
[null,null,null,null,null,null,null,null,null,null,null,null,null,null,null,null,null,null,null,null,null,null,null,null,null,null,null,null,null,null,4,5,{"$f":"  IF(  OR(  ISNA(  MATCH( AH60, $W$8:$W$13, 0 )   ),   ISNA( MATCH(  AJ60,  $W$8:$W$13, 0 )  )    ), \" . \",   MAX( $AG$4:AG59 ) + 1  )","v":" . "},{"$f":"  IF( $AE60 = \"\", \"\",    OFFSET( Season!$E$7,     2 * $AF60 - 1  +  IF( AH$4 = $AJ$4, 1, 0 ),     3*( $AE60-1) + 0  )     )","v":"E12"},{"$f":"  IF( $AE60 = \"\", \"\",    OFFSET( Season!$E$7,     2 * $AF60 - 1  +  IF( AH$4 = $AJ$4, 1, 0 ),     3*( $AE60-1) + 1  )     )","v":16},{"$f":"  IF( $AE60 = \"\", \"\",    OFFSET( Season!$E$7,     2 * $AF60 - 1  +  IF( AJ$4 = $AJ$4, 1, 0 ),     3*( $AE60-1) + 0  )     )","v":"X88"},{"$f":"  IF( $AE60 = \"\", \"\",    OFFSET( Season!$E$7,     2 * $AF60 - 1  +  IF( AJ$4 = $AJ$4, 1, 0 ),     3*( $AE60-1) + 1  )     )","v":17},"E12","X88","",""]
[null,null,null,null,null,null,null,null,null,null,null,null,null,null,null,null,null,null,null,null,null,null,null,null,null,null,null,null,null,null,4,6,{"$f":"  IF(  OR(  ISNA(  MATCH( AH61, $W$8:$W$13, 0 )   ),   ISNA( MATCH(  AJ61,  $W$8:$W$13, 0 )  )    ), \" . \",   MAX( $AG$4:AG60 ) + 1  )","v":" . "},{"$f":"  IF( $AE61 = \"\", \"\",    OFFSET( Season!$E$7,     2 * $AF61 - 1  +  IF( AH$4 = $AJ$4, 1, 0 ),     3*( $AE61-1) + 0  )     )","v":"E60"},{"$f":"  IF( $AE61 = \"\", \"\",    OFFSET( Season!$E$7,     2 * $AF61 - 1  +  IF( AH$4 = $AJ$4, 1, 0 ),     3*( $AE61-1) + 1  )     )","v":10},{"$f":"  IF( $AE61 = \"\", \"\",    OFFSET( Season!$E$7,     2 * $AF61 - 1  +  IF( AJ$4 = $AJ$4, 1, 0 ),     3*( $AE61-1) + 0  )     )","v":"X04"},{"$f":"  IF( $AE61 = \"\", \"\",    OFFSET( Season!$E$7,     2 * $AF61 - 1  +  IF( AJ$4 = $AJ$4, 1, 0 ),     3*( $AE61-1) + 1  )     )","v":27},"E60","X04","",""]
[null,null,null,null,null,null,null,null,null,null,null,null,null,null,null,null,null,null,null,null,null,null,null,null,null,null,null,null,null,null,4,7,{"$f":"  IF(  OR(  ISNA(  MATCH( AH62, $W$8:$W$13, 0 )   ),   ISNA( MATCH(  AJ62,  $W$8:$W$13, 0 )  )    ), \" . \",   MAX( $AG$4:AG61 ) + 1  )","v":" . "},{"$f":"  IF( $AE62 = \"\", \"\",    OFFSET( Season!$E$7,     2 * $AF62 - 1  +  IF( AH$4 = $AJ$4, 1, 0 ),     3*( $AE62-1) + 0  )     )","v":"SUBS"},{"$f":"  IF( $AE62 = \"\", \"\",    OFFSET( Season!$E$7,     2 * $AF62 - 1  +  IF( AH$4 = $AJ$4, 1, 0 ),     3*( $AE62-1) + 1  )     )","v":25},{"$f":"  IF( $AE62 = \"\", \"\",    OFFSET( Season!$E$7,     2 * $AF62 - 1  +  IF( AJ$4 = $AJ$4, 1, 0 ),     3*( $AE62-1) + 0  )     )","v":"AGS"},{"$f":"  IF( $AE62 = \"\", \"\",    OFFSET( Season!$E$7,     2 * $AF62 - 1  +  IF( AJ$4 = $AJ$4, 1, 0 ),     3*( $AE62-1) + 1  )     )","v":24},"AGS","SUBS","",""]
[null,null,null,null,null,null,null,null,null,null,null,null,null,null,null,null,null,null,null,null,null,null,null,null,null,null,null,null,null,null,4,8,{"$f":"  IF(  OR(  ISNA(  MATCH( AH63, $W$8:$W$13, 0 )   ),   ISNA( MATCH(  AJ63,  $W$8:$W$13, 0 )  )    ), \" . \",   MAX( $AG$4:AG62 ) + 1  )","v":" . "},{"$f":"  IF( $AE63 = \"\", \"\",    OFFSET( Season!$E$7,     2 * $AF63 - 1  +  IF( AH$4 = $AJ$4, 1, 0 ),     3*( $AE63-1) + 0  )     )","v":"E55B"},{"$f":"  IF( $AE63 = \"\", \"\",    OFFSET( Season!$E$7,     2 * $AF63 - 1  +  IF( AH$4 = $AJ$4, 1, 0 ),     3*( $AE63-1) + 1  )     )","v":34},{"$f":"  IF( $AE63 = \"\", \"\",    OFFSET( Season!$E$7,     2 * $AF63 - 1  +  IF( AJ$4 = $AJ$4, 1, 0 ),     3*( $AE63-1) + 0  )     )","v":"E55a"},{"$f":"  IF( $AE63 = \"\", \"\",    OFFSET( Season!$E$7,     2 * $AF63 - 1  +  IF( AJ$4 = $AJ$4, 1, 0 ),     3*( $AE63-1) + 1  )     )","v":32},"E55a","E55B","",""]
[null,null,null,null,null,null,null,null,null,null,null,null,null,null,null,null,null,null,null,null,null,null,null,null,null,null,null,null,null,null,4,9,{"$f":"  IF(  OR(  ISNA(  MATCH( AH64, $W$8:$W$13, 0 )   ),   ISNA( MATCH(  AJ64,  $W$8:$W$13, 0 )  )    ), \" . \",   MAX( $AG$4:AG63 ) + 1  )","v":" . "},{"$f":"  IF( $AE64 = \"\", \"\",    OFFSET( Season!$E$7,     2 * $AF64 - 1  +  IF( AH$4 = $AJ$4, 1, 0 ),     3*( $AE64-1) + 0  )     )","v":0},{"$f":"  IF( $AE64 = \"\", \"\",    OFFSET( Season!$E$7,     2 * $AF64 - 1  +  IF( AH$4 = $AJ$4, 1, 0 ),     3*( $AE64-1) + 1  )     )","v":0},{"$f":"  IF( $AE64 = \"\", \"\",    OFFSET( Season!$E$7,     2 * $AF64 - 1  +  IF( AJ$4 = $AJ$4, 1, 0 ),     3*( $AE64-1) + 0  )     )","v":0},{"$f":"  IF( $AE64 = \"\", \"\",    OFFSET( Season!$E$7,     2 * $AF64 - 1  +  IF( AJ$4 = $AJ$4, 1, 0 ),     3*( $AE64-1) + 1  )     )","v":0},"x","x","",""]
[null,null,null,null,null,null,null,null,null,null,null,null,null,null,null,null,null,null,null,null,null,null,null,null,null,null,null,null,null,null,4,10,{"$f":"  IF(  OR(  ISNA(  MATCH( AH65, $W$8:$W$13, 0 )   ),   ISNA( MATCH(  AJ65,  $W$8:$W$13, 0 )  )    ), \" . \",   MAX( $AG$4:AG64 ) + 1  )","v":" . "},{"$f":"  IF( $AE65 = \"\", \"\",    OFFSET( Season!$E$7,     2 * $AF65 - 1  +  IF( AH$4 = $AJ$4, 1, 0 ),     3*( $AE65-1) + 0  )     )","v":"A572"},{"$f":"  IF( $AE65 = \"\", \"\",    OFFSET( Season!$E$7,     2 * $AF65 - 1  +  IF( AH$4 = $AJ$4, 1, 0 ),     3*( $AE65-1) + 1  )     )","v":14},{"$f":"  IF( $AE65 = \"\", \"\",    OFFSET( Season!$E$7,     2 * $AF65 - 1  +  IF( AJ$4 = $AJ$4, 1, 0 ),     3*( $AE65-1) + 0  )     )","v":"X31"},{"$f":"  IF( $AE65 = \"\", \"\",    OFFSET( Season!$E$7,     2 * $AF65 - 1  +  IF( AJ$4 = $AJ$4, 1, 0 ),     3*( $AE65-1) + 1  )     )","v":13},"X31","A572","",""]
[null,null,null,null,null,null,null,null,null,null,null,null,null,null,null,null,null,null,null,null,null,null,null,null,null,null,null,null,null,null,4,11,{"$f":"  IF(  OR(  ISNA(  MATCH( AH66, $W$8:$W$13, 0 )   ),   ISNA( MATCH(  AJ66,  $W$8:$W$13, 0 )  )    ), \" . \",   MAX( $AG$4:AG65 ) + 1  )","v":" . "},{"$f":"  IF( $AE66 = \"\", \"\",    OFFSET( Season!$E$7,     2 * $AF66 - 1  +  IF( AH$4 = $AJ$4, 1, 0 ),     3*( $AE66-1) + 0  )     )","v":"X10"},{"$f":"  IF( $AE66 = \"\", \"\",    OFFSET( Season!$E$7,     2 * $AF66 - 1  +  IF( AH$4 = $AJ$4, 1, 0 ),     3*( $AE66-1) + 1  )     )","v":11},{"$f":"  IF( $AE66 = \"\", \"\",    OFFSET( Season!$E$7,     2 * $AF66 - 1  +  IF( AJ$4 = $AJ$4, 1, 0 ),     3*( $AE66-1) + 0  )     )","v":"O19"},{"$f":"  IF( $AE66 = \"\", \"\",    OFFSET( Season!$E$7,     2 * $AF66 - 1  +  IF( AJ$4 = $AJ$4, 1, 0 ),     3*( $AE66-1) + 1  )     )","v":31},"X10","O19","",""]
[null,null,null,null,null,null,null,null,null,null,null,null,null,null,null,null,null,null,null,null,null,null,null,null,null,null,null,null,null,null,4,12,{"$f":"  IF(  OR(  ISNA(  MATCH( AH67, $W$8:$W$13, 0 )   ),   ISNA( MATCH(  AJ67,  $W$8:$W$13, 0 )  )    ), \" . \",   MAX( $AG$4:AG66 ) + 1  )","v":" . "},{"$f":"  IF( $AE67 = \"\", \"\",    OFFSET( Season!$E$7,     2 * $AF67 - 1  +  IF( AH$4 = $AJ$4, 1, 0 ),     3*( $AE67-1) + 0  )     )","v":"O87"},{"$f":"  IF( $AE67 = \"\", \"\",    OFFSET( Season!$E$7,     2 * $AF67 - 1  +  IF( AH$4 = $AJ$4, 1, 0 ),     3*( $AE67-1) + 1  )     )","v":37},{"$f":"  IF( $AE67 = \"\", \"\",    OFFSET( Season!$E$7,     2 * $AF67 - 1  +  IF( AJ$4 = $AJ$4, 1, 0 ),     3*( $AE67-1) + 0  )     )","v":"E25"},{"$f":"  IF( $AE67 = \"\", \"\",    OFFSET( Season!$E$7,     2 * $AF67 - 1  +  IF( AJ$4 = $AJ$4, 1, 0 ),     3*( $AE67-1) + 1  )     )","v":41},"O87","E25","",""]
[null,null,null,null,null,null,null,null,null,null,null,null,null,null,null,null,null,null,null,null,null,null,null,null,null,null,null,null,null,null,4,13,{"$f":"  IF(  OR(  ISNA(  MATCH( AH68, $W$8:$W$13, 0 )   ),   ISNA( MATCH(  AJ68,  $W$8:$W$13, 0 )  )    ), \" . \",   MAX( $AG$4:AG67 ) + 1  )","v":" . "},{"$f":"  IF( $AE68 = \"\", \"\",    OFFSET( Season!$E$7,     2 * $AF68 - 1  +  IF( AH$4 = $AJ$4, 1, 0 ),     3*( $AE68-1) + 0  )     )","v":"ARG"},{"$f":"  IF( $AE68 = \"\", \"\",    OFFSET( Season!$E$7,     2 * $AF68 - 1  +  IF( AH$4 = $AJ$4, 1, 0 ),     3*( $AE68-1) + 1  )     )","v":7},{"$f":"  IF( $AE68 = \"\", \"\",    OFFSET( Season!$E$7,     2 * $AF68 - 1  +  IF( AJ$4 = $AJ$4, 1, 0 ),     3*( $AE68-1) + 0  )     )","v":"O46"},{"$f":"  IF( $AE68 = \"\", \"\",    OFFSET( Season!$E$7,     2 * $AF68 - 1  +  IF( AJ$4 = $AJ$4, 1, 0 ),     3*( $AE68-1) + 1  )     )","v":9},"ARG","O46","",""]
[null,null,null,null,null,null,null,null,null,null,null,null,null,null,null,null,null,null,null,null,null,null,null,null,null,null,null,null,null,null,4,14,{"$f":"  IF(  OR(  ISNA(  MATCH( AH69, $W$8:$W$13, 0 )   ),   ISNA( MATCH(  AJ69,  $W$8:$W$13, 0 )  )    ), \" . \",   MAX( $AG$4:AG68 ) + 1  )","v":" . "},{"$f":"  IF( $AE69 = \"\", \"\",    OFFSET( Season!$E$7,     2 * $AF69 - 1  +  IF( AH$4 = $AJ$4, 1, 0 ),     3*( $AE69-1) + 0  )     )","v":"E20"},{"$f":"  IF( $AE69 = \"\", \"\",    OFFSET( Season!$E$7,     2 * $AF69 - 1  +  IF( AH$4 = $AJ$4, 1, 0 ),     3*( $AE69-1) + 1  )     )","v":19},{"$f":"  IF( $AE69 = \"\", \"\",    OFFSET( Season!$E$7,     2 * $AF69 - 1  +  IF( AJ$4 = $AJ$4, 1, 0 ),     3*( $AE69-1) + 0  )     )","v":"CVN"},{"$f":"  IF( $AE69 = \"\", \"\",    OFFSET( Season!$E$7,     2 * $AF69 - 1  +  IF( AJ$4 = $AJ$4, 1, 0 ),     3*( $AE69-1) + 1  )     )","v":9},{"$f":"  IF(  LEFT( $AI69, 1 ) = \"f\",  $AJ69,    IF(  LEFT( $AK69, 1 ) = \"f\", $AH69,    IF(  AND(  $AI69 = \"\",  $AK69 = \"\"  ), \".\",    IF(  $AI69^2 + $AK69^2 = 0,  \"x\",    IF(  $AI69 = $AK69, \"Tie\",    IF(   $AI69 < $AK69,  $AH69,  $AJ69 )    )  )  ) )  )","v":"CVN"},{"$f":"  IF(  LEFT( $AI69, 1 ) = \"f\",  $AH69,    IF(  LEFT( $AK69, 1 ) = \"f\", $AJ69,    IF(  AND(  $AI69 = \"\",  $AK69 = \"\"  ), \".\",    IF(  $AI69^2 + $AK69^2 = 0,  \"x\",    IF(  $AI69 = $AK69, \"Tie\",    IF(   $AI69 > $AK69,  $AH69,  $AJ69 )    )  )  ) )  )","v":"E20"},{"$f":"   IF( AL69 = \"Tie\", $AH69, \"\" )","v":""},{"$f":"   IF( AM69 = \"Tie\", $AJ69, \"\" )","v":""}]
[null,null,null,null,null,null,null,null,null,null,null,null,null,null,null,null,null,null,null,null,null,null,null,null,null,null,null,null,null,null,4,15,{"$f":"  IF(  OR(  ISNA(  MATCH( AH70, $W$8:$W$13, 0 )   ),   ISNA( MATCH(  AJ70,  $W$8:$W$13, 0 )  )    ), \" . \",   MAX( $AG$4:AG69 ) + 1  )","v":1},{"$f":"  IF( $AE70 = \"\", \"\",    OFFSET( Season!$E$7,     2 * $AF70 - 1  +  IF( AH$4 = $AJ$4, 1, 0 ),     3*( $AE70-1) + 0  )     )","v":"ENGR"},{"$f":"  IF( $AE70 = \"\", \"\",    OFFSET( Season!$E$7,     2 * $AF70 - 1  +  IF( AH$4 = $AJ$4, 1, 0 ),     3*( $AE70-1) + 1  )     )","v":21},{"$f":"  IF( $AE70 = \"\", \"\",    OFFSET( Season!$E$7,     2 * $AF70 - 1  +  IF( AJ$4 = $AJ$4, 1, 0 ),     3*( $AE70-1) + 0  )     )","v":"CRF"},{"$f":"  IF( $AE70 = \"\", \"\",    OFFSET( Season!$E$7,     2 * $AF70 - 1  +  IF( AJ$4 = $AJ$4, 1, 0 ),     3*( $AE70-1) + 1  )     )","v":21},"Tie","Tie","ENGR","CRF"]
[null,null,null,null,null,null,null,null,null,null,null,null,null,null,null,null,null,null,null,null,null,null,null,null,null,null,null,null,null,null,4,16,{"$f":"  IF(  OR(  ISNA(  MATCH( AH71, $W$8:$W$13, 0 )   ),   ISNA( MATCH(  AJ71,  $W$8:$W$13, 0 )  )    ), \" . \",   MAX( $AG$4:AG70 ) + 1  )","v":" . "},{"$f":"  IF( $AE71 = \"\", \"\",    OFFSET( Season!$E$7,     2 * $AF71 - 1  +  IF( AH$4 = $AJ$4, 1, 0 ),     3*( $AE71-1) + 0  )     )","v":"E75"},{"$f":"  IF( $AE71 = \"\", \"\",    OFFSET( Season!$E$7,     2 * $AF71 - 1  +  IF( AH$4 = $AJ$4, 1, 0 ),     3*( $AE71-1) + 1  )     )","v":16},{"$f":"  IF( $AE71 = \"\", \"\",    OFFSET( Season!$E$7,     2 * $AF71 - 1  +  IF( AJ$4 = $AJ$4, 1, 0 ),     3*( $AE71-1) + 0  )     )","v":"NNIT"},{"$f":"  IF( $AE71 = \"\", \"\",    OFFSET( Season!$E$7,     2 * $AF71 - 1  +  IF( AJ$4 = $AJ$4, 1, 0 ),     3*( $AE71-1) + 1  )     )","v":17},"E75","NNIT","",""]
[null,null,null,null,null,null,null,null,null,null,null,null,null,null,null,null,null,null,null,null,null,null,null,null,null,null,null,null,null,null,4,17,{"$f":"  IF(  OR(  ISNA(  MATCH( AH72, $W$8:$W$13, 0 )   ),   ISNA( MATCH(  AJ72,  $W$8:$W$13, 0 )  )    ), \" . \",   MAX( $AG$4:AG71 ) + 1  )","v":" . "},{"$f":"  IF( $AE72 = \"\", \"\",    OFFSET( Season!$E$7,     2 * $AF72 - 1  +  IF( AH$4 = $AJ$4, 1, 0 ),     3*( $AE72-1) + 0  )     )","v":"M10"},{"$f":"  IF( $AE72 = \"\", \"\",    OFFSET( Season!$E$7,     2 * $AF72 - 1  +  IF( AH$4 = $AJ$4, 1, 0 ),     3*( $AE72-1) + 1  )     )","v":25},{"$f":"  IF( $AE72 = \"\", \"\",    OFFSET( Season!$E$7,     2 * $AF72 - 1  +  IF( AJ$4 = $AJ$4, 1, 0 ),     3*( $AE72-1) + 0  )     )","v":"SCM"},{"$f":"  IF( $AE72 = \"\", \"\",    OFFSET( Season!$E$7,     2 * $AF72 - 1  +  IF( AJ$4 = $AJ$4, 1, 0 ),     3*( $AE72-1) + 1  )     )","v":6},"SCM","M10","",""]
[null,null,null,null,null,null,null,null,null,null,null,null,null,null,null,null,null,null,null,null,null,null,null,null,null,null,null,null,null,null,5,1,{"$f":"  IF(  OR(  ISNA(  MATCH( AH73, $W$8:$W$13, 0 )   ),   ISNA( MATCH(  AJ73,  $W$8:$W$13, 0 )  )    ), \" . \",   MAX( $AG$4:AG72 ) + 1  )","v":" . "},{"$f":"  IF( $AE73 = \"\", \"\",    OFFSET( Season!$E$7,     2 * $AF73 - 1  +  IF( AH$4 = $AJ$4, 1, 0 ),     3*( $AE73-1) + 0  )     )","v":"E60"},{"$f":"  IF( $AE73 = \"\", \"\",    OFFSET( Season!$E$7,     2 * $AF73 - 1  +  IF( AH$4 = $AJ$4, 1, 0 ),     3*( $AE73-1) + 1  )     )","v":1E-3},{"$f":"  IF( $AE73 = \"\", \"\",    OFFSET( Season!$E$7,     2 * $AF73 - 1  +  IF( AJ$4 = $AJ$4, 1, 0 ),     3*( $AE73-1) + 0  )     )","v":"E12"},{"$f":"  IF( $AE73 = \"\", \"\",    OFFSET( Season!$E$7,     2 * $AF73 - 1  +  IF( AJ$4 = $AJ$4, 1, 0 ),     3*( $AE73-1) + 1  )     )","v":16},"E60","E12","",""]
[null,null,null,null,null,null,null,null,null,null,null,null,null,null,null,null,null,null,null,null,null,null,null,null,null,null,null,null,null,null,5,2,{"$f":"  IF(  OR(  ISNA(  MATCH( AH74, $W$8:$W$13, 0 )   ),   ISNA( MATCH(  AJ74,  $W$8:$W$13, 0 )  )    ), \" . \",   MAX( $AG$4:AG73 ) + 1  )","v":" . "},{"$f":"  IF( $AE74 = \"\", \"\",    OFFSET( Season!$E$7,     2 * $AF74 - 1  +  IF( AH$4 = $AJ$4, 1, 0 ),     3*( $AE74-1) + 0  )     )","v":"X01"},{"$f":"  IF( $AE74 = \"\", \"\",    OFFSET( Season!$E$7,     2 * $AF74 - 1  +  IF( AH$4 = $AJ$4, 1, 0 ),     3*( $AE74-1) + 1  )     )","v":13},{"$f":"  IF( $AE74 = \"\", \"\",    OFFSET( Season!$E$7,     2 * $AF74 - 1  +  IF( AJ$4 = $AJ$4, 1, 0 ),     3*( $AE74-1) + 0  )     )","v":"E17"},{"$f":"  IF( $AE74 = \"\", \"\",    OFFSET( Season!$E$7,     2 * $AF74 - 1  +  IF( AJ$4 = $AJ$4, 1, 0 ),     3*( $AE74-1) + 1  )     )","v":31},"X01","E17","",""]
[null,null,null,null,null,null,null,null,null,null,null,null,null,null,null,null,null,null,null,null,null,null,null,null,null,null,null,null,null,null,5,3,{"$f":"  IF(  OR(  ISNA(  MATCH( AH75, $W$8:$W$13, 0 )   ),   ISNA( MATCH(  AJ75,  $W$8:$W$13, 0 )  )    ), \" . \",   MAX( $AG$4:AG74 ) + 1  )","v":" . "},{"$f":"  IF( $AE75 = \"\", \"\",    OFFSET( Season!$E$7,     2 * $AF75 - 1  +  IF( AH$4 = $AJ$4, 1, 0 ),     3*( $AE75-1) + 0  )     )","v":"AGS"},{"$f":"  IF( $AE75 = \"\", \"\",    OFFSET( Season!$E$7,     2 * $AF75 - 1  +  IF( AH$4 = $AJ$4, 1, 0 ),     3*( $AE75-1) + 1  )     )","v":30},{"$f":"  IF( $AE75 = \"\", \"\",    OFFSET( Season!$E$7,     2 * $AF75 - 1  +  IF( AJ$4 = $AJ$4, 1, 0 ),     3*( $AE75-1) + 0  )     )","v":"E42"},{"$f":"  IF( $AE75 = \"\", \"\",    OFFSET( Season!$E$7,     2 * $AF75 - 1  +  IF( AJ$4 = $AJ$4, 1, 0 ),     3*( $AE75-1) + 1  )     )","v":28},"E42","AGS","",""]
[null,null,null,null,null,null,null,null,null,null,null,null,null,null,null,null,null,null,null,null,null,null,null,null,null,null,null,null,null,null,5,4,{"$f":"  IF(  OR(  ISNA(  MATCH( AH76, $W$8:$W$13, 0 )   ),   ISNA( MATCH(  AJ76,  $W$8:$W$13, 0 )  )    ), \" . \",   MAX( $AG$4:AG75 ) + 1  )","v":" . "},{"$f":"  IF( $AE76 = \"\", \"\",    OFFSET( Season!$E$7,     2 * $AF76 - 1  +  IF( AH$4 = $AJ$4, 1, 0 ),     3*( $AE76-1) + 0  )     )","v":"E83"},{"$f":"  IF( $AE76 = \"\", \"\",    OFFSET( Season!$E$7,     2 * $AF76 - 1  +  IF( AH$4 = $AJ$4, 1, 0 ),     3*( $AE76-1) + 1  )     )","v":20},{"$f":"  IF( $AE76 = \"\", \"\",    OFFSET( Season!$E$7,     2 * $AF76 - 1  +  IF( AJ$4 = $AJ$4, 1, 0 ),     3*( $AE76-1) + 0  )     )","v":"E55B"},{"$f":"  IF( $AE76 = \"\", \"\",    OFFSET( Season!$E$7,     2 * $AF76 - 1  +  IF( AJ$4 = $AJ$4, 1, 0 ),     3*( $AE76-1) + 1  )     )","v":36},"E83","E55B","",""]
[null,null,null,null,null,null,null,null,null,null,null,null,null,null,null,null,null,null,null,null,null,null,null,null,null,null,null,null,null,null,5,5,{"$f":"  IF(  OR(  ISNA(  MATCH( AH77, $W$8:$W$13, 0 )   ),   ISNA( MATCH(  AJ77,  $W$8:$W$13, 0 )  )    ), \" . \",   MAX( $AG$4:AG76 ) + 1  )","v":" . "},{"$f":"  IF( $AE77 = \"\", \"\",    OFFSET( Season!$E$7,     2 * $AF77 - 1  +  IF( AH$4 = $AJ$4, 1, 0 ),     3*( $AE77-1) + 0  )     )","v":"AMSC"},{"$f":"  IF( $AE77 = \"\", \"\",    OFFSET( Season!$E$7,     2 * $AF77 - 1  +  IF( AH$4 = $AJ$4, 1, 0 ),     3*( $AE77-1) + 1  )     )","v":43},{"$f":"  IF( $AE77 = \"\", \"\",    OFFSET( Season!$E$7,     2 * $AF77 - 1  +  IF( AJ$4 = $AJ$4, 1, 0 ),     3*( $AE77-1) + 0  )     )","v":"SUBS"},{"$f":"  IF( $AE77 = \"\", \"\",    OFFSET( Season!$E$7,     2 * $AF77 - 1  +  IF( AJ$4 = $AJ$4, 1, 0 ),     3*( $AE77-1) + 1  )     )","v":12},"SUBS","AMSC","",""]
[null,null,null,null,null,null,null,null,null,null,null,null,null,null,null,null,null,null,null,null,null,null,null,null,null,null,null,null,null,null,5,6,{"$f":"  IF(  OR(  ISNA(  MATCH( AH78, $W$8:$W$13, 0 )   ),   ISNA( MATCH(  AJ78,  $W$8:$W$13, 0 )  )    ), \" . \",   MAX( $AG$4:AG77 ) + 1  )","v":" . "},{"$f":"  IF( $AE78 = \"\", \"\",    OFFSET( Season!$E$7,     2 * $AF78 - 1  +  IF( AH$4 = $AJ$4, 1, 0 ),     3*( $AE78-1) + 0  )     )","v":"E55a"},{"$f":"  IF( $AE78 = \"\", \"\",    OFFSET( Season!$E$7,     2 * $AF78 - 1  +  IF( AH$4 = $AJ$4, 1, 0 ),     3*( $AE78-1) + 1  )     )","v":29},{"$f":"  IF( $AE78 = \"\", \"\",    OFFSET( Season!$E$7,     2 * $AF78 - 1  +  IF( AJ$4 = $AJ$4, 1, 0 ),     3*( $AE78-1) + 0  )     )","v":"E14"},{"$f":"  IF( $AE78 = \"\", \"\",    OFFSET( Season!$E$7,     2 * $AF78 - 1  +  IF( AJ$4 = $AJ$4, 1, 0 ),     3*( $AE78-1) + 1  )     )","v":17},"E14","E55a","",""]
[null,null,null,null,null,null,null,null,null,null,null,null,null,null,null,null,null,null,null,null,null,null,null,null,null,null,null,null,null,null,5,7,{"$f":"  IF(  OR(  ISNA(  MATCH( AH79, $W$8:$W$13, 0 )   ),   ISNA( MATCH(  AJ79,  $W$8:$W$13, 0 )  )    ), \" . \",   MAX( $AG$4:AG78 ) + 1  )","v":" . "},{"$f":"  IF( $AE79 = \"\", \"\",    OFFSET( Season!$E$7,     2 * $AF79 - 1  +  IF( AH$4 = $AJ$4, 1, 0 ),     3*( $AE79-1) + 0  )     )","v":"X04"},{"$f":"  IF( $AE79 = \"\", \"\",    OFFSET( Season!$E$7,     2 * $AF79 - 1  +  IF( AH$4 = $AJ$4, 1, 0 ),     3*( $AE79-1) + 1  )     )","v":24},{"$f":"  IF( $AE79 = \"\", \"\",    OFFSET( Season!$E$7,     2 * $AF79 - 1  +  IF( AJ$4 = $AJ$4, 1, 0 ),     3*( $AE79-1) + 0  )     )","v":"X88"},{"$f":"  IF( $AE79 = \"\", \"\",    OFFSET( Season!$E$7,     2 * $AF79 - 1  +  IF( AJ$4 = $AJ$4, 1, 0 ),     3*( $AE79-1) + 1  )     )","v":20},"X88","X04","",""]
[null,null,null,null,null,null,null,null,null,null,null,null,null,null,null,null,null,null,null,null,null,null,null,null,null,null,null,null,null,null,5,8,{"$f":"  IF(  OR(  ISNA(  MATCH( AH80, $W$8:$W$13, 0 )   ),   ISNA( MATCH(  AJ80,  $W$8:$W$13, 0 )  )    ), \" . \",   MAX( $AG$4:AG79 ) + 1  )","v":" . "},{"$f":"  IF( $AE80 = \"\", \"\",    OFFSET( Season!$E$7,     2 * $AF80 - 1  +  IF( AH$4 = $AJ$4, 1, 0 ),     3*( $AE80-1) + 0  )     )","v":"X87"},{"$f":"  IF( $AE80 = \"\", \"\",    OFFSET( Season!$E$7,     2 * $AF80 - 1  +  IF( AH$4 = $AJ$4, 1, 0 ),     3*( $AE80-1) + 1  )     )","v":26},{"$f":"  IF( $AE80 = \"\", \"\",    OFFSET( Season!$E$7,     2 * $AF80 - 1  +  IF( AJ$4 = $AJ$4, 1, 0 ),     3*( $AE80-1) + 0  )     )","v":"E86"},{"$f":"  IF( $AE80 = \"\", \"\",    OFFSET( Season!$E$7,     2 * $AF80 - 1  +  IF( AJ$4 = $AJ$4, 1, 0 ),     3*( $AE80-1) + 1  )     )","v":21},"E86","X87","",""]
[null,null,null,null,null,null,null,null,null,null,null,null,null,null,null,null,null,null,null,null,null,null,null,null,null,null,null,null,null,null,5,9,{"$f":"  IF(  OR(  ISNA(  MATCH( AH81, $W$8:$W$13, 0 )   ),   ISNA( MATCH(  AJ81,  $W$8:$W$13, 0 )  )    ), \" . \",   MAX( $AG$4:AG80 ) + 1  )","v":" . "},{"$f":"  IF( $AE81 = \"\", \"\",    OFFSET( Season!$E$7,     2 * $AF81 - 1  +  IF( AH$4 = $AJ$4, 1, 0 ),     3*( $AE81-1) + 0  )     )","v":0},{"$f":"  IF( $AE81 = \"\", \"\",    OFFSET( Season!$E$7,     2 * $AF81 - 1  +  IF( AH$4 = $AJ$4, 1, 0 ),     3*( $AE81-1) + 1  )     )","v":0},{"$f":"  IF( $AE81 = \"\", \"\",    OFFSET( Season!$E$7,     2 * $AF81 - 1  +  IF( AJ$4 = $AJ$4, 1, 0 ),     3*( $AE81-1) + 0  )     )","v":0},{"$f":"  IF( $AE81 = \"\", \"\",    OFFSET( Season!$E$7,     2 * $AF81 - 1  +  IF( AJ$4 = $AJ$4, 1, 0 ),     3*( $AE81-1) + 1  )     )","v":0},"x","x","",""]
[null,null,null,null,null,null,null,null,null,null,null,null,null,null,null,null,null,null,null,null,null,null,null,null,null,null,null,null,null,null,5,10,{"$f":"  IF(  OR(  ISNA(  MATCH( AH82, $W$8:$W$13, 0 )   ),   ISNA( MATCH(  AJ82,  $W$8:$W$13, 0 )  )    ), \" . \",   MAX( $AG$4:AG81 ) + 1  )","v":" . "},{"$f":"  IF( $AE82 = \"\", \"\",    OFFSET( Season!$E$7,     2 * $AF82 - 1  +  IF( AH$4 = $AJ$4, 1, 0 ),     3*( $AE82-1) + 0  )     )","v":"ENGR"},{"$f":"  IF( $AE82 = \"\", \"\",    OFFSET( Season!$E$7,     2 * $AF82 - 1  +  IF( AH$4 = $AJ$4, 1, 0 ),     3*( $AE82-1) + 1  )     )","v":14},{"$f":"  IF( $AE82 = \"\", \"\",    OFFSET( Season!$E$7,     2 * $AF82 - 1  +  IF( AJ$4 = $AJ$4, 1, 0 ),     3*( $AE82-1) + 0  )     )","v":"E20"},{"$f":"  IF( $AE82 = \"\", \"\",    OFFSET( Season!$E$7,     2 * $AF82 - 1  +  IF( AJ$4 = $AJ$4, 1, 0 ),     3*( $AE82-1) + 1  )     )","v":15},"ENGR","E20","",""]
[null,null,null,null,null,null,null,null,null,null,null,null,null,null,null,null,null,null,null,null,null,null,null,null,null,null,null,null,null,null,5,11,{"$f":"  IF(  OR(  ISNA(  MATCH( AH83, $W$8:$W$13, 0 )   ),   ISNA( MATCH(  AJ83,  $W$8:$W$13, 0 )  )    ), \" . \",   MAX( $AG$4:AG82 ) + 1  )","v":" . "},{"$f":"  IF( $AE83 = \"\", \"\",    OFFSET( Season!$E$7,     2 * $AF83 - 1  +  IF( AH$4 = $AJ$4, 1, 0 ),     3*( $AE83-1) + 0  )     )","v":"X10"},{"$f":"  IF( $AE83 = \"\", \"\",    OFFSET( Season!$E$7,     2 * $AF83 - 1  +  IF( AH$4 = $AJ$4, 1, 0 ),     3*( $AE83-1) + 1  )     )","v":24},{"$f":"  IF( $AE83 = \"\", \"\",    OFFSET( Season!$E$7,     2 * $AF83 - 1  +  IF( AJ$4 = $AJ$4, 1, 0 ),     3*( $AE83-1) + 0  )     )","v":"E25"},{"$f":"  IF( $AE83 = \"\", \"\",    OFFSET( Season!$E$7,     2 * $AF83 - 1  +  IF( AJ$4 = $AJ$4, 1, 0 ),     3*( $AE83-1) + 1  )     )","v":15},"E25","X10","",""]
[null,null,null,null,null,null,null,null,null,null,null,null,null,null,null,null,null,null,null,null,null,null,null,null,null,null,null,null,null,null,5,12,{"$f":"  IF(  OR(  ISNA(  MATCH( AH84, $W$8:$W$13, 0 )   ),   ISNA( MATCH(  AJ84,  $W$8:$W$13, 0 )  )    ), \" . \",   MAX( $AG$4:AG83 ) + 1  )","v":" . "},{"$f":"  IF( $AE84 = \"\", \"\",    OFFSET( Season!$E$7,     2 * $AF84 - 1  +  IF( AH$4 = $AJ$4, 1, 0 ),     3*( $AE84-1) + 0  )     )","v":"NNIT"},{"$f":"  IF( $AE84 = \"\", \"\",    OFFSET( Season!$E$7,     2 * $AF84 - 1  +  IF( AH$4 = $AJ$4, 1, 0 ),     3*( $AE84-1) + 1  )     )","v":31},{"$f":"  IF( $AE84 = \"\", \"\",    OFFSET( Season!$E$7,     2 * $AF84 - 1  +  IF( AJ$4 = $AJ$4, 1, 0 ),     3*( $AE84-1) + 0  )     )","v":"ARG"},{"$f":"  IF( $AE84 = \"\", \"\",    OFFSET( Season!$E$7,     2 * $AF84 - 1  +  IF( AJ$4 = $AJ$4, 1, 0 ),     3*( $AE84-1) + 1  )     )","v":19},"ARG","NNIT","",""]
[null,null,null,null,null,null,null,null,null,null,null,null,null,null,null,null,null,null,null,null,null,null,null,null,null,null,null,null,null,null,5,13,{"$f":"  IF(  OR(  ISNA(  MATCH( AH85, $W$8:$W$13, 0 )   ),   ISNA( MATCH(  AJ85,  $W$8:$W$13, 0 )  )    ), \" . \",   MAX( $AG$4:AG84 ) + 1  )","v":" . "},{"$f":"  IF( $AE85 = \"\", \"\",    OFFSET( Season!$E$7,     2 * $AF85 - 1  +  IF( AH$4 = $AJ$4, 1, 0 ),     3*( $AE85-1) + 0  )     )","v":"X31"},{"$f":"  IF( $AE85 = \"\", \"\",    OFFSET( Season!$E$7,     2 * $AF85 - 1  +  IF( AH$4 = $AJ$4, 1, 0 ),     3*( $AE85-1) + 1  )     )","v":0.1},{"$f":"  IF( $AE85 = \"\", \"\",    OFFSET( Season!$E$7,     2 * $AF85 - 1  +  IF( AJ$4 = $AJ$4, 1, 0 ),     3*( $AE85-1) + 0  )     )","v":"M10"},{"$f":"  IF( $AE85 = \"\", \"\",    OFFSET( Season!$E$7,     2 * $AF85 - 1  +  IF( AJ$4 = $AJ$4, 1, 0 ),     3*( $AE85-1) + 1  )     )","v":14},"X31","M10","",""]
[null,null,null,null,null,null,null,null,null,null,null,null,null,null,null,null,null,null,null,null,null,null,null,null,null,null,null,null,null,null,5,14,{"$f":"  IF(  OR(  ISNA(  MATCH( AH86, $W$8:$W$13, 0 )   ),   ISNA( MATCH(  AJ86,  $W$8:$W$13, 0 )  )    ), \" . \",   MAX( $AG$4:AG85 ) + 1  )","v":" . "},{"$f":"  IF( $AE86 = \"\", \"\",    OFFSET( Season!$E$7,     2 * $AF86 - 1  +  IF( AH$4 = $AJ$4, 1, 0 ),     3*( $AE86-1) + 0  )     )","v":"O46"},{"$f":"  IF( $AE86 = \"\", \"\",    OFFSET( Season!$E$7,     2 * $AF86 - 1  +  IF( AH$4 = $AJ$4, 1, 0 ),     3*( $AE86-1) + 1  )     )","v":14},{"$f":"  IF( $AE86 = \"\", \"\",    OFFSET( Season!$E$7,     2 * $AF86 - 1  +  IF( AJ$4 = $AJ$4, 1, 0 ),     3*( $AE86-1) + 0  )     )","v":"E75"},{"$f":"  IF( $AE86 = \"\", \"\",    OFFSET( Season!$E$7,     2 * $AF86 - 1  +  IF( AJ$4 = $AJ$4, 1, 0 ),     3*( $AE86-1) + 1  )     )","v":12},"E75","O46","",""]
[null,null,null,null,null,null,null,null,null,null,null,null,null,null,null,null,null,null,null,null,null,null,null,null,null,null,null,null,null,null,{"$f":"AE70 + 1","v":5},{"$f":"AF70","v":15},{"$f":"  IF(  OR(  ISNA(  MATCH( AH87, $W$8:$W$13, 0 )   ),   ISNA( MATCH(  AJ87,  $W$8:$W$13, 0 )  )    ), \" . \",   MAX( $AG$4:AG86 ) + 1  )","v":" . "},{"$f":"  IF( $AE87 = \"\", \"\",    OFFSET( Season!$E$7,     2 * $AF87 - 1  +  IF( AH$4 = $AJ$4, 1, 0 ),     3*( $AE87-1) + 0  )     )","v":"SCM"},{"$f":"  IF( $AE87 = \"\", \"\",    OFFSET( Season!$E$7,     2 * $AF87 - 1  +  IF( AH$4 = $AJ$4, 1, 0 ),     3*( $AE87-1) + 1  )     )","v":31},{"$f":"  IF( $AE87 = \"\", \"\",    OFFSET( Season!$E$7,     2 * $AF87 - 1  +  IF( AJ$4 = $AJ$4, 1, 0 ),     3*( $AE87-1) + 0  )     )","v":"A572"},{"$f":"  IF( $AE87 = \"\", \"\",    OFFSET( Season!$E$7,     2 * $AF87 - 1  +  IF( AJ$4 = $AJ$4, 1, 0 ),     3*( $AE87-1) + 1  )     )","v":11},"A572","SCM","",""]
[null,null,null,null,null,null,null,null,null,null,null,null,null,null,null,null,null,null,null,null,null,null,null,null,null,null,null,null,null,null,5,16,{"$f":"  IF(  OR(  ISNA(  MATCH( AH88, $W$8:$W$13, 0 )   ),   ISNA( MATCH(  AJ88,  $W$8:$W$13, 0 )  )    ), \" . \",   MAX( $AG$4:AG87 ) + 1  )","v":" . "},{"$f":"  IF( $AE88 = \"\", \"\",    OFFSET( Season!$E$7,     2 * $AF88 - 1  +  IF( AH$4 = $AJ$4, 1, 0 ),     3*( $AE88-1) + 0  )     )","v":"CRF"},{"$f":"  IF( $AE88 = \"\", \"\",    OFFSET( Season!$E$7,     2 * $AF88 - 1  +  IF( AH$4 = $AJ$4, 1, 0 ),     3*( $AE88-1) + 1  )     )","v":27},{"$f":"  IF( $AE88 = \"\", \"\",    OFFSET( Season!$E$7,     2 * $AF88 - 1  +  IF( AJ$4 = $AJ$4, 1, 0 ),     3*( $AE88-1) + 0  )     )","v":"CVN"},{"$f":"  IF( $AE88 = \"\", \"\",    OFFSET( Season!$E$7,     2 * $AF88 - 1  +  IF( AJ$4 = $AJ$4, 1, 0 ),     3*( $AE88-1) + 1  )     )","v":35},"CRF","CVN","",""]
[null,null,null,null,null,null,null,null,null,null,null,null,null,null,null,null,null,null,null,null,null,null,null,null,null,null,null,null,null,null,5,17,{"$f":"  IF(  OR(  ISNA(  MATCH( AH89, $W$8:$W$13, 0 )   ),   ISNA( MATCH(  AJ89,  $W$8:$W$13, 0 )  )    ), \" . \",   MAX( $AG$4:AG88 ) + 1  )","v":" . "},{"$f":"  IF( $AE89 = \"\", \"\",    OFFSET( Season!$E$7,     2 * $AF89 - 1  +  IF( AH$4 = $AJ$4, 1, 0 ),     3*( $AE89-1) + 0  )     )","v":"O87"},{"$f":"  IF( $AE89 = \"\", \"\",    OFFSET( Season!$E$7,     2 * $AF89 - 1  +  IF( AH$4 = $AJ$4, 1, 0 ),     3*( $AE89-1) + 1  )     )","v":8},{"$f":"  IF( $AE89 = \"\", \"\",    OFFSET( Season!$E$7,     2 * $AF89 - 1  +  IF( AJ$4 = $AJ$4, 1, 0 ),     3*( $AE89-1) + 0  )     )","v":"O19"},{"$f":"  IF( $AE89 = \"\", \"\",    OFFSET( Season!$E$7,     2 * $AF89 - 1  +  IF( AJ$4 = $AJ$4, 1, 0 ),     3*( $AE89-1) + 1  )     )","v":19},"O87","O19","",""]
[null,null,null,null,null,null,null,null,null,null,null,null,null,null,null,null,null,null,null,null,null,null,null,null,null,null,null,null,null,null,6,1,{"$f":"  IF(  OR(  ISNA(  MATCH( AH90, $W$8:$W$13, 0 )   ),   ISNA( MATCH(  AJ90,  $W$8:$W$13, 0 )  )    ), \" . \",   MAX( $AG$4:AG89 ) + 1  )","v":" . "},{"$f":"  IF( $AE90 = \"\", \"\",    OFFSET( Season!$E$7,     2 * $AF90 - 1  +  IF( AH$4 = $AJ$4, 1, 0 ),     3*( $AE90-1) + 0  )     )","v":"E17"},{"$f":"  IF( $AE90 = \"\", \"\",    OFFSET( Season!$E$7,     2 * $AF90 - 1  +  IF( AH$4 = $AJ$4, 1, 0 ),     3*( $AE90-1) + 1  )     )","v":16},{"$f":"  IF( $AE90 = \"\", \"\",    OFFSET( Season!$E$7,     2 * $AF90 - 1  +  IF( AJ$4 = $AJ$4, 1, 0 ),     3*( $AE90-1) + 0  )     )","v":"E42"},{"$f":"  IF( $AE90 = \"\", \"\",    OFFSET( Season!$E$7,     2 * $AF90 - 1  +  IF( AJ$4 = $AJ$4, 1, 0 ),     3*( $AE90-1) + 1  )     )","v":17},"E17","E42","",""]
[null,null,null,null,null,null,null,null,null,null,null,null,null,null,null,null,null,null,null,null,null,null,null,null,null,null,null,null,null,null,6,2,{"$f":"  IF(  OR(  ISNA(  MATCH( AH91, $W$8:$W$13, 0 )   ),   ISNA( MATCH(  AJ91,  $W$8:$W$13, 0 )  )    ), \" . \",   MAX( $AG$4:AG90 ) + 1  )","v":" . "},{"$f":"  IF( $AE91 = \"\", \"\",    OFFSET( Season!$E$7,     2 * $AF91 - 1  +  IF( AH$4 = $AJ$4, 1, 0 ),     3*( $AE91-1) + 0  )     )","v":"E55a"},{"$f":"  IF( $AE91 = \"\", \"\",    OFFSET( Season!$E$7,     2 * $AF91 - 1  +  IF( AH$4 = $AJ$4, 1, 0 ),     3*( $AE91-1) + 1  )     )","v":17},{"$f":"  IF( $AE91 = \"\", \"\",    OFFSET( Season!$E$7,     2 * $AF91 - 1  +  IF( AJ$4 = $AJ$4, 1, 0 ),     3*( $AE91-1) + 0  )     )","v":"AMSC"},{"$f":"  IF( $AE91 = \"\", \"\",    OFFSET( Season!$E$7,     2 * $AF91 - 1  +  IF( AJ$4 = $AJ$4, 1, 0 ),     3*( $AE91-1) + 1  )     )","v":21},"E55a","AMSC","",""]
[null,null,null,null,null,null,null,null,null,null,null,null,null,null,null,null,null,null,null,null,null,null,null,null,null,null,null,null,null,null,6,3,{"$f":"  IF(  OR(  ISNA(  MATCH( AH92, $W$8:$W$13, 0 )   ),   ISNA( MATCH(  AJ92,  $W$8:$W$13, 0 )  )    ), \" . \",   MAX( $AG$4:AG91 ) + 1  )","v":" . "},{"$f":"  IF( $AE92 = \"\", \"\",    OFFSET( Season!$E$7,     2 * $AF92 - 1  +  IF( AH$4 = $AJ$4, 1, 0 ),     3*( $AE92-1) + 0  )     )","v":"E60"},{"$f":"  IF( $AE92 = \"\", \"\",    OFFSET( Season!$E$7,     2 * $AF92 - 1  +  IF( AH$4 = $AJ$4, 1, 0 ),     3*( $AE92-1) + 1  )     )","v":13},{"$f":"  IF( $AE92 = \"\", \"\",    OFFSET( Season!$E$7,     2 * $AF92 - 1  +  IF( AJ$4 = $AJ$4, 1, 0 ),     3*( $AE92-1) + 0  )     )","v":"E55B"},{"$f":"  IF( $AE92 = \"\", \"\",    OFFSET( Season!$E$7,     2 * $AF92 - 1  +  IF( AJ$4 = $AJ$4, 1, 0 ),     3*( $AE92-1) + 1  )     )","v":26},"E60","E55B","",""]
[null,null,null,null,null,null,null,null,null,null,null,null,null,null,null,null,null,null,null,null,null,null,null,null,null,null,null,null,null,null,6,4,{"$f":"  IF(  OR(  ISNA(  MATCH( AH93, $W$8:$W$13, 0 )   ),   ISNA( MATCH(  AJ93,  $W$8:$W$13, 0 )  )    ), \" . \",   MAX( $AG$4:AG92 ) + 1  )","v":" . "},{"$f":"  IF( $AE93 = \"\", \"\",    OFFSET( Season!$E$7,     2 * $AF93 - 1  +  IF( AH$4 = $AJ$4, 1, 0 ),     3*( $AE93-1) + 0  )     )","v":"X88"},{"$f":"  IF( $AE93 = \"\", \"\",    OFFSET( Season!$E$7,     2 * $AF93 - 1  +  IF( AH$4 = $AJ$4, 1, 0 ),     3*( $AE93-1) + 1  )     )","v":-3},{"$f":"  IF( $AE93 = \"\", \"\",    OFFSET( Season!$E$7,     2 * $AF93 - 1  +  IF( AJ$4 = $AJ$4, 1, 0 ),     3*( $AE93-1) + 0  )     )","v":"E83"},{"$f":"  IF( $AE93 = \"\", \"\",    OFFSET( Season!$E$7,     2 * $AF93 - 1  +  IF( AJ$4 = $AJ$4, 1, 0 ),     3*( $AE93-1) + 1  )     )","v":18},"X88","E83","",""]
[null,null,null,null,null,null,null,null,null,null,null,null,null,null,null,null,null,null,null,null,null,null,null,null,null,null,null,null,null,null,6,5,{"$f":"  IF(  OR(  ISNA(  MATCH( AH94, $W$8:$W$13, 0 )   ),   ISNA( MATCH(  AJ94,  $W$8:$W$13, 0 )  )    ), \" . \",   MAX( $AG$4:AG93 ) + 1  )","v":" . "},{"$f":"  IF( $AE94 = \"\", \"\",    OFFSET( Season!$E$7,     2 * $AF94 - 1  +  IF( AH$4 = $AJ$4, 1, 0 ),     3*( $AE94-1) + 0  )     )","v":"X04"},{"$f":"  IF( $AE94 = \"\", \"\",    OFFSET( Season!$E$7,     2 * $AF94 - 1  +  IF( AH$4 = $AJ$4, 1, 0 ),     3*( $AE94-1) + 1  )     )","v":29},{"$f":"  IF( $AE94 = \"\", \"\",    OFFSET( Season!$E$7,     2 * $AF94 - 1  +  IF( AJ$4 = $AJ$4, 1, 0 ),     3*( $AE94-1) + 0  )     )","v":"X87"},{"$f":"  IF( $AE94 = \"\", \"\",    OFFSET( Season!$E$7,     2 * $AF94 - 1  +  IF( AJ$4 = $AJ$4, 1, 0 ),     3*( $AE94-1) + 1  )     )","v":11},"X87","X04","",""]
[null,null,null,null,null,null,null,null,null,null,null,null,null,null,null,null,null,null,null,null,null,null,null,null,null,null,null,null,null,null,6,6,{"$f":"  IF(  OR(  ISNA(  MATCH( AH95, $W$8:$W$13, 0 )   ),   ISNA( MATCH(  AJ95,  $W$8:$W$13, 0 )  )    ), \" . \",   MAX( $AG$4:AG94 ) + 1  )","v":" . "},{"$f":"  IF( $AE95 = \"\", \"\",    OFFSET( Season!$E$7,     2 * $AF95 - 1  +  IF( AH$4 = $AJ$4, 1, 0 ),     3*( $AE95-1) + 0  )     )","v":"AGS"},{"$f":"  IF( $AE95 = \"\", \"\",    OFFSET( Season!$E$7,     2 * $AF95 - 1  +  IF( AH$4 = $AJ$4, 1, 0 ),     3*( $AE95-1) + 1  )     )","v":26},{"$f":"  IF( $AE95 = \"\", \"\",    OFFSET( Season!$E$7,     2 * $AF95 - 1  +  IF( AJ$4 = $AJ$4, 1, 0 ),     3*( $AE95-1) + 0  )     )","v":"E14"},{"$f":"  IF( $AE95 = \"\", \"\",    OFFSET( Season!$E$7,     2 * $AF95 - 1  +  IF( AJ$4 = $AJ$4, 1, 0 ),     3*( $AE95-1) + 1  )     )","v":13},"E14","AGS","",""]
[null,null,null,null,null,null,null,null,null,null,null,null,null,null,null,null,null,null,null,null,null,null,null,null,null,null,null,null,null,null,6,7,{"$f":"  IF(  OR(  ISNA(  MATCH( AH96, $W$8:$W$13, 0 )   ),   ISNA( MATCH(  AJ96,  $W$8:$W$13, 0 )  )    ), \" . \",   MAX( $AG$4:AG95 ) + 1  )","v":" . "},{"$f":"  IF( $AE96 = \"\", \"\",    OFFSET( Season!$E$7,     2 * $AF96 - 1  +  IF( AH$4 = $AJ$4, 1, 0 ),     3*( $AE96-1) + 0  )     )","v":"X01"},{"$f":"  IF( $AE96 = \"\", \"\",    OFFSET( Season!$E$7,     2 * $AF96 - 1  +  IF( AH$4 = $AJ$4, 1, 0 ),     3*( $AE96-1) + 1  )     )","v":35},{"$f":"  IF( $AE96 = \"\", \"\",    OFFSET( Season!$E$7,     2 * $AF96 - 1  +  IF( AJ$4 = $AJ$4, 1, 0 ),     3*( $AE96-1) + 0  )     )","v":"SUBS"},{"$f":"  IF( $AE96 = \"\", \"\",    OFFSET( Season!$E$7,     2 * $AF96 - 1  +  IF( AJ$4 = $AJ$4, 1, 0 ),     3*( $AE96-1) + 1  )     )","v":28},"SUBS","X01","",""]
[null,null,null,null,null,null,null,null,null,null,null,null,null,null,null,null,null,null,null,null,null,null,null,null,null,null,null,null,null,null,6,8,{"$f":"  IF(  OR(  ISNA(  MATCH( AH97, $W$8:$W$13, 0 )   ),   ISNA( MATCH(  AJ97,  $W$8:$W$13, 0 )  )    ), \" . \",   MAX( $AG$4:AG96 ) + 1  )","v":" . "},{"$f":"  IF( $AE97 = \"\", \"\",    OFFSET( Season!$E$7,     2 * $AF97 - 1  +  IF( AH$4 = $AJ$4, 1, 0 ),     3*( $AE97-1) + 0  )     )","v":"E12"},{"$f":"  IF( $AE97 = \"\", \"\",    OFFSET( Season!$E$7,     2 * $AF97 - 1  +  IF( AH$4 = $AJ$4, 1, 0 ),     3*( $AE97-1) + 1  )     )","v":21},{"$f":"  IF( $AE97 = \"\", \"\",    OFFSET( Season!$E$7,     2 * $AF97 - 1  +  IF( AJ$4 = $AJ$4, 1, 0 ),     3*( $AE97-1) + 0  )     )","v":"E86"},{"$f":"  IF( $AE97 = \"\", \"\",    OFFSET( Season!$E$7,     2 * $AF97 - 1  +  IF( AJ$4 = $AJ$4, 1, 0 ),     3*( $AE97-1) + 1  )     )","v":13},"E86","E12","",""]
[null,null,null,null,null,null,null,null,null,null,null,null,null,null,null,null,null,null,null,null,null,null,null,null,null,null,null,null,null,null,6,9,{"$f":"  IF(  OR(  ISNA(  MATCH( AH98, $W$8:$W$13, 0 )   ),   ISNA( MATCH(  AJ98,  $W$8:$W$13, 0 )  )    ), \" . \",   MAX( $AG$4:AG97 ) + 1  )","v":" . "},{"$f":"  IF( $AE98 = \"\", \"\",    OFFSET( Season!$E$7,     2 * $AF98 - 1  +  IF( AH$4 = $AJ$4, 1, 0 ),     3*( $AE98-1) + 0  )     )","v":0},{"$f":"  IF( $AE98 = \"\", \"\",    OFFSET( Season!$E$7,     2 * $AF98 - 1  +  IF( AH$4 = $AJ$4, 1, 0 ),     3*( $AE98-1) + 1  )     )","v":0},{"$f":"  IF( $AE98 = \"\", \"\",    OFFSET( Season!$E$7,     2 * $AF98 - 1  +  IF( AJ$4 = $AJ$4, 1, 0 ),     3*( $AE98-1) + 0  )     )","v":0},{"$f":"  IF( $AE98 = \"\", \"\",    OFFSET( Season!$E$7,     2 * $AF98 - 1  +  IF( AJ$4 = $AJ$4, 1, 0 ),     3*( $AE98-1) + 1  )     )","v":0},"x","x","",""]
[null,null,null,null,null,null,null,null,null,null,null,null,null,null,null,null,null,null,null,null,null,null,null,null,null,null,null,null,null,null,6,10,{"$f":"  IF(  OR(  ISNA(  MATCH( AH99, $W$8:$W$13, 0 )   ),   ISNA( MATCH(  AJ99,  $W$8:$W$13, 0 )  )    ), \" . \",   MAX( $AG$4:AG98 ) + 1  )","v":" . "},{"$f":"  IF( $AE99 = \"\", \"\",    OFFSET( Season!$E$7,     2 * $AF99 - 1  +  IF( AH$4 = $AJ$4, 1, 0 ),     3*( $AE99-1) + 0  )     )","v":"E25"},{"$f":"  IF( $AE99 = \"\", \"\",    OFFSET( Season!$E$7,     2 * $AF99 - 1  +  IF( AH$4 = $AJ$4, 1, 0 ),     3*( $AE99-1) + 1  )     )","v":39},{"$f":"  IF( $AE99 = \"\", \"\",    OFFSET( Season!$E$7,     2 * $AF99 - 1  +  IF( AJ$4 = $AJ$4, 1, 0 ),     3*( $AE99-1) + 0  )     )","v":"ARG"},{"$f":"  IF( $AE99 = \"\", \"\",    OFFSET( Season!$E$7,     2 * $AF99 - 1  +  IF( AJ$4 = $AJ$4, 1, 0 ),     3*( $AE99-1) + 1  )     )","v":9},"ARG","E25","",""]
[null,null,null,null,null,null,null,null,null,null,null,null,null,null,null,null,null,null,null,null,null,null,null,null,null,null,null,null,null,null,6,11,{"$f":"  IF(  OR(  ISNA(  MATCH( AH100, $W$8:$W$13, 0 )   ),   ISNA( MATCH(  AJ100,  $W$8:$W$13, 0 )  )    ), \" . \",   MAX( $AG$4:AG99 ) + 1  )","v":" . "},{"$f":"  IF( $AE100 = \"\", \"\",    OFFSET( Season!$E$7,     2 * $AF100 - 1  +  IF( AH$4 = $AJ$4, 1, 0 ),     3*( $AE100-1) + 0  )     )","v":"SCM"},{"$f":"  IF( $AE100 = \"\", \"\",    OFFSET( Season!$E$7,     2 * $AF100 - 1  +  IF( AH$4 = $AJ$4, 1, 0 ),     3*( $AE100-1) + 1  )     )","v":16},{"$f":"  IF( $AE100 = \"\", \"\",    OFFSET( Season!$E$7,     2 * $AF100 - 1  +  IF( AJ$4 = $AJ$4, 1, 0 ),     3*( $AE100-1) + 0  )     )","v":"O46"},{"$f":"  IF( $AE100 = \"\", \"\",    OFFSET( Season!$E$7,     2 * $AF100 - 1  +  IF( AJ$4 = $AJ$4, 1, 0 ),     3*( $AE100-1) + 1  )     )","v":21},"SCM","O46","",""]
[null,null,null,null,null,null,null,null,null,null,null,null,null,null,null,null,null,null,null,null,null,null,null,null,null,null,null,null,null,null,6,12,{"$f":"  IF(  OR(  ISNA(  MATCH( AH101, $W$8:$W$13, 0 )   ),   ISNA( MATCH(  AJ101,  $W$8:$W$13, 0 )  )    ), \" . \",   MAX( $AG$4:AG100 ) + 1  )","v":" . "},{"$f":"  IF( $AE101 = \"\", \"\",    OFFSET( Season!$E$7,     2 * $AF101 - 1  +  IF( AH$4 = $AJ$4, 1, 0 ),     3*( $AE101-1) + 0  )     )","v":"ENGR"},{"$f":"  IF( $AE101 = \"\", \"\",    OFFSET( Season!$E$7,     2 * $AF101 - 1  +  IF( AH$4 = $AJ$4, 1, 0 ),     3*( $AE101-1) + 1  )     )","v":38},{"$f":"  IF( $AE101 = \"\", \"\",    OFFSET( Season!$E$7,     2 * $AF101 - 1  +  IF( AJ$4 = $AJ$4, 1, 0 ),     3*( $AE101-1) + 0  )     )","v":"M10"},{"$f":"  IF( $AE101 = \"\", \"\",    OFFSET( Season!$E$7,     2 * $AF101 - 1  +  IF( AJ$4 = $AJ$4, 1, 0 ),     3*( $AE101-1) + 1  )     )","v":25},"M10","ENGR","",""]
[null,null,null,null,null,null,null,null,null,null,null,null,null,null,null,null,null,null,null,null,null,null,null,null,null,null,null,null,null,null,6,13,{"$f":"  IF(  OR(  ISNA(  MATCH( AH102, $W$8:$W$13, 0 )   ),   ISNA( MATCH(  AJ102,  $W$8:$W$13, 0 )  )    ), \" . \",   MAX( $AG$4:AG101 ) + 1  )","v":" . "},{"$f":"  IF( $AE102 = \"\", \"\",    OFFSET( Season!$E$7,     2 * $AF102 - 1  +  IF( AH$4 = $AJ$4, 1, 0 ),     3*( $AE102-1) + 0  )     )","v":"CVN"},{"$f":"  IF( $AE102 = \"\", \"\",    OFFSET( Season!$E$7,     2 * $AF102 - 1  +  IF( AH$4 = $AJ$4, 1, 0 ),     3*( $AE102-1) + 1  )     )","v":23},{"$f":"  IF( $AE102 = \"\", \"\",    OFFSET( Season!$E$7,     2 * $AF102 - 1  +  IF( AJ$4 = $AJ$4, 1, 0 ),     3*( $AE102-1) + 0  )     )","v":"X31"},{"$f":"  IF( $AE102 = \"\", \"\",    OFFSET( Season!$E$7,     2 * $AF102 - 1  +  IF( AJ$4 = $AJ$4, 1, 0 ),     3*( $AE102-1) + 1  )     )","v":31},"CVN","X31","",""]
[null,null,null,null,null,null,null,null,null,null,null,null,null,null,null,null,null,null,null,null,null,null,null,null,null,null,null,null,null,null,6,14,{"$f":"  IF(  OR(  ISNA(  MATCH( AH103, $W$8:$W$13, 0 )   ),   ISNA( MATCH(  AJ103,  $W$8:$W$13, 0 )  )    ), \" . \",   MAX( $AG$4:AG102 ) + 1  )","v":" . "},{"$f":"  IF( $AE103 = \"\", \"\",    OFFSET( Season!$E$7,     2 * $AF103 - 1  +  IF( AH$4 = $AJ$4, 1, 0 ),     3*( $AE103-1) + 0  )     )","v":"CRF"},{"$f":"  IF( $AE103 = \"\", \"\",    OFFSET( Season!$E$7,     2 * $AF103 - 1  +  IF( AH$4 = $AJ$4, 1, 0 ),     3*( $AE103-1) + 1  )     )","v":12},{"$f":"  IF( $AE103 = \"\", \"\",    OFFSET( Season!$E$7,     2 * $AF103 - 1  +  IF( AJ$4 = $AJ$4, 1, 0 ),     3*( $AE103-1) + 0  )     )","v":"O87"},{"$f":"  IF( $AE103 = \"\", \"\",    OFFSET( Season!$E$7,     2 * $AF103 - 1  +  IF( AJ$4 = $AJ$4, 1, 0 ),     3*( $AE103-1) + 1  )     )","v":8},"O87","CRF","",""]
[null,null,null,null,null,null,null,null,null,null,null,null,null,null,null,null,null,null,null,null,null,null,null,null,null,null,null,null,null,null,6,15,{"$f":"  IF(  OR(  ISNA(  MATCH( AH104, $W$8:$W$13, 0 )   ),   ISNA( MATCH(  AJ104,  $W$8:$W$13, 0 )  )    ), \" . \",   MAX( $AG$4:AG103 ) + 1  )","v":" . "},{"$f":"  IF( $AE104 = \"\", \"\",    OFFSET( Season!$E$7,     2 * $AF104 - 1  +  IF( AH$4 = $AJ$4, 1, 0 ),     3*( $AE104-1) + 0  )     )","v":"NNIT"},{"$f":"  IF( $AE104 = \"\", \"\",    OFFSET( Season!$E$7,     2 * $AF104 - 1  +  IF( AH$4 = $AJ$4, 1, 0 ),     3*( $AE104-1) + 1  )     )","v":12},{"$f":"  IF( $AE104 = \"\", \"\",    OFFSET( Season!$E$7,     2 * $AF104 - 1  +  IF( AJ$4 = $AJ$4, 1, 0 ),     3*( $AE104-1) + 0  )     )","v":"A572"},{"$f":"  IF( $AE104 = \"\", \"\",    OFFSET( Season!$E$7,     2 * $AF104 - 1  +  IF( AJ$4 = $AJ$4, 1, 0 ),     3*( $AE104-1) + 1  )     )","v":28},"NNIT","A572","",""]
[null,null,null,null,null,null,null,null,null,null,null,null,null,null,null,null,null,null,null,null,null,null,null,null,null,null,null,null,null,null,6,16,{"$f":"  IF(  OR(  ISNA(  MATCH( AH105, $W$8:$W$13, 0 )   ),   ISNA( MATCH(  AJ105,  $W$8:$W$13, 0 )  )    ), \" . \",   MAX( $AG$4:AG104 ) + 1  )","v":" . "},{"$f":"  IF( $AE105 = \"\", \"\",    OFFSET( Season!$E$7,     2 * $AF105 - 1  +  IF( AH$4 = $AJ$4, 1, 0 ),     3*( $AE105-1) + 0  )     )","v":"X10"},{"$f":"  IF( $AE105 = \"\", \"\",    OFFSET( Season!$E$7,     2 * $AF105 - 1  +  IF( AH$4 = $AJ$4, 1, 0 ),     3*( $AE105-1) + 1  )     )","v":23},{"$f":"  IF( $AE105 = \"\", \"\",    OFFSET( Season!$E$7,     2 * $AF105 - 1  +  IF( AJ$4 = $AJ$4, 1, 0 ),     3*( $AE105-1) + 0  )     )","v":"E75"},{"$f":"  IF( $AE105 = \"\", \"\",    OFFSET( Season!$E$7,     2 * $AF105 - 1  +  IF( AJ$4 = $AJ$4, 1, 0 ),     3*( $AE105-1) + 1  )     )","v":21},"E75","X10","",""]
[null,null,null,null,null,null,null,null,null,null,null,null,null,null,null,null,null,null,null,null,null,null,null,null,null,null,null,null,null,null,6,17,{"$f":"  IF(  OR(  ISNA(  MATCH( AH106, $W$8:$W$13, 0 )   ),   ISNA( MATCH(  AJ106,  $W$8:$W$13, 0 )  )    ), \" . \",   MAX( $AG$4:AG105 ) + 1  )","v":" . "},{"$f":"  IF( $AE106 = \"\", \"\",    OFFSET( Season!$E$7,     2 * $AF106 - 1  +  IF( AH$4 = $AJ$4, 1, 0 ),     3*( $AE106-1) + 0  )     )","v":"E20"},{"$f":"  IF( $AE106 = \"\", \"\",    OFFSET( Season!$E$7,     2 * $AF106 - 1  +  IF( AH$4 = $AJ$4, 1, 0 ),     3*( $AE106-1) + 1  )     )","v":21},{"$f":"  IF( $AE106 = \"\", \"\",    OFFSET( Season!$E$7,     2 * $AF106 - 1  +  IF( AJ$4 = $AJ$4, 1, 0 ),     3*( $AE106-1) + 0  )     )","v":"O19"},{"$f":"  IF( $AE106 = \"\", \"\",    OFFSET( Season!$E$7,     2 * $AF106 - 1  +  IF( AJ$4 = $AJ$4, 1, 0 ),     3*( $AE106-1) + 1  )     )","v":14},"O19","E20","",""]
[null,null,null,null,null,null,null,null,null,null,null,null,null,null,null,null,null,null,null,null,null,null,null,null,null,null,null,null,null,null,7,1,{"$f":"  IF(  OR(  ISNA(  MATCH( AH107, $W$8:$W$13, 0 )   ),   ISNA( MATCH(  AJ107,  $W$8:$W$13, 0 )  )    ), \" . \",   MAX( $AG$4:AG106 ) + 1  )","v":" . "},{"$f":"  IF( $AE107 = \"\", \"\",    OFFSET( Season!$E$7,     2 * $AF107 - 1  +  IF( AH$4 = $AJ$4, 1, 0 ),     3*( $AE107-1) + 0  )     )","v":"X88"},{"$f":"  IF( $AE107 = \"\", \"\",    OFFSET( Season!$E$7,     2 * $AF107 - 1  +  IF( AH$4 = $AJ$4, 1, 0 ),     3*( $AE107-1) + 1  )     )","v":34.700000000000003},{"$f":"  IF( $AE107 = \"\", \"\",    OFFSET( Season!$E$7,     2 * $AF107 - 1  +  IF( AJ$4 = $AJ$4, 1, 0 ),     3*( $AE107-1) + 0  )     )","v":"E55B"},{"$f":"  IF( $AE107 = \"\", \"\",    OFFSET( Season!$E$7,     2 * $AF107 - 1  +  IF( AJ$4 = $AJ$4, 1, 0 ),     3*( $AE107-1) + 1  )     )","v":15.000000000000002},"E55B","X88","",""]
[null,null,null,null,null,null,null,null,null,null,null,null,null,null,null,null,null,null,null,null,null,null,null,null,null,null,null,null,null,null,7,2,{"$f":"  IF(  OR(  ISNA(  MATCH( AH108, $W$8:$W$13, 0 )   ),   ISNA( MATCH(  AJ108,  $W$8:$W$13, 0 )  )    ), \" . \",   MAX( $AG$4:AG107 ) + 1  )","v":" . "},{"$f":"  IF( $AE108 = \"\", \"\",    OFFSET( Season!$E$7,     2 * $AF108 - 1  +  IF( AH$4 = $AJ$4, 1, 0 ),     3*( $AE108-1) + 0  )     )","v":"E86"},{"$f":"  IF( $AE108 = \"\", \"\",    OFFSET( Season!$E$7,     2 * $AF108 - 1  +  IF( AH$4 = $AJ$4, 1, 0 ),     3*( $AE108-1) + 1  )     )","v":29},{"$f":"  IF( $AE108 = \"\", \"\",    OFFSET( Season!$E$7,     2 * $AF108 - 1  +  IF( AJ$4 = $AJ$4, 1, 0 ),     3*( $AE108-1) + 0  )     )","v":"X04"},{"$f":"  IF( $AE108 = \"\", \"\",    OFFSET( Season!$E$7,     2 * $AF108 - 1  +  IF( AJ$4 = $AJ$4, 1, 0 ),     3*( $AE108-1) + 1  )     )","v":34},"E86","X04","",""]
[null,null,null,null,null,null,null,null,null,null,null,null,null,null,null,null,null,null,null,null,null,null,null,null,null,null,null,null,null,null,7,3,{"$f":"  IF(  OR(  ISNA(  MATCH( AH109, $W$8:$W$13, 0 )   ),   ISNA( MATCH(  AJ109,  $W$8:$W$13, 0 )  )    ), \" . \",   MAX( $AG$4:AG108 ) + 1  )","v":" . "},{"$f":"  IF( $AE109 = \"\", \"\",    OFFSET( Season!$E$7,     2 * $AF109 - 1  +  IF( AH$4 = $AJ$4, 1, 0 ),     3*( $AE109-1) + 0  )     )","v":"X87"},{"$f":"  IF( $AE109 = \"\", \"\",    OFFSET( Season!$E$7,     2 * $AF109 - 1  +  IF( AH$4 = $AJ$4, 1, 0 ),     3*( $AE109-1) + 1  )     )","v":18},{"$f":"  IF( $AE109 = \"\", \"\",    OFFSET( Season!$E$7,     2 * $AF109 - 1  +  IF( AJ$4 = $AJ$4, 1, 0 ),     3*( $AE109-1) + 0  )     )","v":"E12"},{"$f":"  IF( $AE109 = \"\", \"\",    OFFSET( Season!$E$7,     2 * $AF109 - 1  +  IF( AJ$4 = $AJ$4, 1, 0 ),     3*( $AE109-1) + 1  )     )","v":17},"E12","X87","",""]
[null,null,null,null,null,null,null,null,null,null,null,null,null,null,null,null,null,null,null,null,null,null,null,null,null,null,null,null,null,null,7,4,{"$f":"  IF(  OR(  ISNA(  MATCH( AH110, $W$8:$W$13, 0 )   ),   ISNA( MATCH(  AJ110,  $W$8:$W$13, 0 )  )    ), \" . \",   MAX( $AG$4:AG109 ) + 1  )","v":" . "},{"$f":"  IF( $AE110 = \"\", \"\",    OFFSET( Season!$E$7,     2 * $AF110 - 1  +  IF( AH$4 = $AJ$4, 1, 0 ),     3*( $AE110-1) + 0  )     )","v":"AGS"},{"$f":"  IF( $AE110 = \"\", \"\",    OFFSET( Season!$E$7,     2 * $AF110 - 1  +  IF( AH$4 = $AJ$4, 1, 0 ),     3*( $AE110-1) + 1  )     )","v":15},{"$f":"  IF( $AE110 = \"\", \"\",    OFFSET( Season!$E$7,     2 * $AF110 - 1  +  IF( AJ$4 = $AJ$4, 1, 0 ),     3*( $AE110-1) + 0  )     )","v":"E55a"},{"$f":"  IF( $AE110 = \"\", \"\",    OFFSET( Season!$E$7,     2 * $AF110 - 1  +  IF( AJ$4 = $AJ$4, 1, 0 ),     3*( $AE110-1) + 1  )     )","v":22},"AGS","E55a","",""]
[null,null,null,null,null,null,null,null,null,null,null,null,null,null,null,null,null,null,null,null,null,null,null,null,null,null,null,null,null,null,7,5,{"$f":"  IF(  OR(  ISNA(  MATCH( AH111, $W$8:$W$13, 0 )   ),   ISNA( MATCH(  AJ111,  $W$8:$W$13, 0 )  )    ), \" . \",   MAX( $AG$4:AG110 ) + 1  )","v":" . "},{"$f":"  IF( $AE111 = \"\", \"\",    OFFSET( Season!$E$7,     2 * $AF111 - 1  +  IF( AH$4 = $AJ$4, 1, 0 ),     3*( $AE111-1) + 0  )     )","v":"E83"},{"$f":"  IF( $AE111 = \"\", \"\",    OFFSET( Season!$E$7,     2 * $AF111 - 1  +  IF( AH$4 = $AJ$4, 1, 0 ),     3*( $AE111-1) + 1  )     )","v":7},{"$f":"  IF( $AE111 = \"\", \"\",    OFFSET( Season!$E$7,     2 * $AF111 - 1  +  IF( AJ$4 = $AJ$4, 1, 0 ),     3*( $AE111-1) + 0  )     )","v":"E60"},{"$f":"  IF( $AE111 = \"\", \"\",    OFFSET( Season!$E$7,     2 * $AF111 - 1  +  IF( AJ$4 = $AJ$4, 1, 0 ),     3*( $AE111-1) + 1  )     )","v":2},"E60","E83","",""]
[null,null,null,null,null,null,null,null,null,null,null,null,null,null,null,null,null,null,null,null,null,null,null,null,null,null,null,null,null,null,7,6,{"$f":"  IF(  OR(  ISNA(  MATCH( AH112, $W$8:$W$13, 0 )   ),   ISNA( MATCH(  AJ112,  $W$8:$W$13, 0 )  )    ), \" . \",   MAX( $AG$4:AG111 ) + 1  )","v":" . "},{"$f":"  IF( $AE112 = \"\", \"\",    OFFSET( Season!$E$7,     2 * $AF112 - 1  +  IF( AH$4 = $AJ$4, 1, 0 ),     3*( $AE112-1) + 0  )     )","v":"E17"},{"$f":"  IF( $AE112 = \"\", \"\",    OFFSET( Season!$E$7,     2 * $AF112 - 1  +  IF( AH$4 = $AJ$4, 1, 0 ),     3*( $AE112-1) + 1  )     )","v":15},{"$f":"  IF( $AE112 = \"\", \"\",    OFFSET( Season!$E$7,     2 * $AF112 - 1  +  IF( AJ$4 = $AJ$4, 1, 0 ),     3*( $AE112-1) + 0  )     )","v":"SUBS"},{"$f":"  IF( $AE112 = \"\", \"\",    OFFSET( Season!$E$7,     2 * $AF112 - 1  +  IF( AJ$4 = $AJ$4, 1, 0 ),     3*( $AE112-1) + 1  )     )","v":26},"E17","SUBS","",""]
[null,null,null,null,null,null,null,null,null,null,null,null,null,null,null,null,null,null,null,null,null,null,null,null,null,null,null,null,null,null,7,7,{"$f":"  IF(  OR(  ISNA(  MATCH( AH113, $W$8:$W$13, 0 )   ),   ISNA( MATCH(  AJ113,  $W$8:$W$13, 0 )  )    ), \" . \",   MAX( $AG$4:AG112 ) + 1  )","v":" . "},{"$f":"  IF( $AE113 = \"\", \"\",    OFFSET( Season!$E$7,     2 * $AF113 - 1  +  IF( AH$4 = $AJ$4, 1, 0 ),     3*( $AE113-1) + 0  )     )","v":"AMSC"},{"$f":"  IF( $AE113 = \"\", \"\",    OFFSET( Season!$E$7,     2 * $AF113 - 1  +  IF( AH$4 = $AJ$4, 1, 0 ),     3*( $AE113-1) + 1  )     )","v":25},{"$f":"  IF( $AE113 = \"\", \"\",    OFFSET( Season!$E$7,     2 * $AF113 - 1  +  IF( AJ$4 = $AJ$4, 1, 0 ),     3*( $AE113-1) + 0  )     )","v":"E14"},{"$f":"  IF( $AE113 = \"\", \"\",    OFFSET( Season!$E$7,     2 * $AF113 - 1  +  IF( AJ$4 = $AJ$4, 1, 0 ),     3*( $AE113-1) + 1  )     )","v":24},"E14","AMSC","",""]
[null,null,null,null,null,null,null,null,null,null,null,null,null,null,null,null,null,null,null,null,null,null,null,null,null,null,null,null,null,null,7,8,{"$f":"  IF(  OR(  ISNA(  MATCH( AH114, $W$8:$W$13, 0 )   ),   ISNA( MATCH(  AJ114,  $W$8:$W$13, 0 )  )    ), \" . \",   MAX( $AG$4:AG113 ) + 1  )","v":" . "},{"$f":"  IF( $AE114 = \"\", \"\",    OFFSET( Season!$E$7,     2 * $AF114 - 1  +  IF( AH$4 = $AJ$4, 1, 0 ),     3*( $AE114-1) + 0  )     )","v":"X01"},{"$f":"  IF( $AE114 = \"\", \"\",    OFFSET( Season!$E$7,     2 * $AF114 - 1  +  IF( AH$4 = $AJ$4, 1, 0 ),     3*( $AE114-1) + 1  )     )","v":8},{"$f":"  IF( $AE114 = \"\", \"\",    OFFSET( Season!$E$7,     2 * $AF114 - 1  +  IF( AJ$4 = $AJ$4, 1, 0 ),     3*( $AE114-1) + 0  )     )","v":"E42"},{"$f":"  IF( $AE114 = \"\", \"\",    OFFSET( Season!$E$7,     2 * $AF114 - 1  +  IF( AJ$4 = $AJ$4, 1, 0 ),     3*( $AE114-1) + 1  )     )","v":6},"E42","X01","",""]
[null,null,null,null,null,null,null,null,null,null,null,null,null,null,null,null,null,null,null,null,null,null,null,null,null,null,null,null,null,null,7,9,{"$f":"  IF(  OR(  ISNA(  MATCH( AH115, $W$8:$W$13, 0 )   ),   ISNA( MATCH(  AJ115,  $W$8:$W$13, 0 )  )    ), \" . \",   MAX( $AG$4:AG114 ) + 1  )","v":" . "},{"$f":"  IF( $AE115 = \"\", \"\",    OFFSET( Season!$E$7,     2 * $AF115 - 1  +  IF( AH$4 = $AJ$4, 1, 0 ),     3*( $AE115-1) + 0  )     )","v":0},{"$f":"  IF( $AE115 = \"\", \"\",    OFFSET( Season!$E$7,     2 * $AF115 - 1  +  IF( AH$4 = $AJ$4, 1, 0 ),     3*( $AE115-1) + 1  )     )","v":0},{"$f":"  IF( $AE115 = \"\", \"\",    OFFSET( Season!$E$7,     2 * $AF115 - 1  +  IF( AJ$4 = $AJ$4, 1, 0 ),     3*( $AE115-1) + 0  )     )","v":0},{"$f":"  IF( $AE115 = \"\", \"\",    OFFSET( Season!$E$7,     2 * $AF115 - 1  +  IF( AJ$4 = $AJ$4, 1, 0 ),     3*( $AE115-1) + 1  )     )","v":0},"x","x","",""]
[null,null,null,null,null,null,null,null,null,null,null,null,null,null,null,null,null,null,null,null,null,null,null,null,null,null,null,null,null,null,7,10,{"$f":"  IF(  OR(  ISNA(  MATCH( AH116, $W$8:$W$13, 0 )   ),   ISNA( MATCH(  AJ116,  $W$8:$W$13, 0 )  )    ), \" . \",   MAX( $AG$4:AG115 ) + 1  )","v":" . "},{"$f":"  IF( $AE116 = \"\", \"\",    OFFSET( Season!$E$7,     2 * $AF116 - 1  +  IF( AH$4 = $AJ$4, 1, 0 ),     3*( $AE116-1) + 0  )     )","v":"CVN"},{"$f":"  IF( $AE116 = \"\", \"\",    OFFSET( Season!$E$7,     2 * $AF116 - 1  +  IF( AH$4 = $AJ$4, 1, 0 ),     3*( $AE116-1) + 1  )     )","v":25},{"$f":"  IF( $AE116 = \"\", \"\",    OFFSET( Season!$E$7,     2 * $AF116 - 1  +  IF( AJ$4 = $AJ$4, 1, 0 ),     3*( $AE116-1) + 0  )     )","v":"M10"},{"$f":"  IF( $AE116 = \"\", \"\",    OFFSET( Season!$E$7,     2 * $AF116 - 1  +  IF( AJ$4 = $AJ$4, 1, 0 ),     3*( $AE116-1) + 1  )     )","v":12},"M10","CVN","",""]
[null,null,null,null,null,null,null,null,null,null,null,null,null,null,null,null,null,null,null,null,null,null,null,null,null,null,null,null,null,null,7,11,{"$f":"  IF(  OR(  ISNA(  MATCH( AH117, $W$8:$W$13, 0 )   ),   ISNA( MATCH(  AJ117,  $W$8:$W$13, 0 )  )    ), \" . \",   MAX( $AG$4:AG116 ) + 1  )","v":" . "},{"$f":"  IF( $AE117 = \"\", \"\",    OFFSET( Season!$E$7,     2 * $AF117 - 1  +  IF( AH$4 = $AJ$4, 1, 0 ),     3*( $AE117-1) + 0  )     )","v":"O19"},{"$f":"  IF( $AE117 = \"\", \"\",    OFFSET( Season!$E$7,     2 * $AF117 - 1  +  IF( AH$4 = $AJ$4, 1, 0 ),     3*( $AE117-1) + 1  )     )","v":26},{"$f":"  IF( $AE117 = \"\", \"\",    OFFSET( Season!$E$7,     2 * $AF117 - 1  +  IF( AJ$4 = $AJ$4, 1, 0 ),     3*( $AE117-1) + 0  )     )","v":"CRF"},{"$f":"  IF( $AE117 = \"\", \"\",    OFFSET( Season!$E$7,     2 * $AF117 - 1  +  IF( AJ$4 = $AJ$4, 1, 0 ),     3*( $AE117-1) + 1  )     )","v":16},"CRF","O19","",""]
[null,null,null,null,null,null,null,null,null,null,null,null,null,null,null,null,null,null,null,null,null,null,null,null,null,null,null,null,null,null,7,12,{"$f":"  IF(  OR(  ISNA(  MATCH( AH118, $W$8:$W$13, 0 )   ),   ISNA( MATCH(  AJ118,  $W$8:$W$13, 0 )  )    ), \" . \",   MAX( $AG$4:AG117 ) + 1  )","v":" . "},{"$f":"  IF( $AE118 = \"\", \"\",    OFFSET( Season!$E$7,     2 * $AF118 - 1  +  IF( AH$4 = $AJ$4, 1, 0 ),     3*( $AE118-1) + 0  )     )","v":"O87"},{"$f":"  IF( $AE118 = \"\", \"\",    OFFSET( Season!$E$7,     2 * $AF118 - 1  +  IF( AH$4 = $AJ$4, 1, 0 ),     3*( $AE118-1) + 1  )     )","v":11},{"$f":"  IF( $AE118 = \"\", \"\",    OFFSET( Season!$E$7,     2 * $AF118 - 1  +  IF( AJ$4 = $AJ$4, 1, 0 ),     3*( $AE118-1) + 0  )     )","v":"E20"},{"$f":"  IF( $AE118 = \"\", \"\",    OFFSET( Season!$E$7,     2 * $AF118 - 1  +  IF( AJ$4 = $AJ$4, 1, 0 ),     3*( $AE118-1) + 1  )     )","v":20},"O87","E20","",""]
[null,null,null,null,null,null,null,null,null,null,null,null,null,null,null,null,null,null,null,null,null,null,null,null,null,null,null,null,null,null,7,13,{"$f":"  IF(  OR(  ISNA(  MATCH( AH119, $W$8:$W$13, 0 )   ),   ISNA( MATCH(  AJ119,  $W$8:$W$13, 0 )  )    ), \" . \",   MAX( $AG$4:AG118 ) + 1  )","v":" . "},{"$f":"  IF( $AE119 = \"\", \"\",    OFFSET( Season!$E$7,     2 * $AF119 - 1  +  IF( AH$4 = $AJ$4, 1, 0 ),     3*( $AE119-1) + 0  )     )","v":"NNIT"},{"$f":"  IF( $AE119 = \"\", \"\",    OFFSET( Season!$E$7,     2 * $AF119 - 1  +  IF( AH$4 = $AJ$4, 1, 0 ),     3*( $AE119-1) + 1  )     )","v":23},{"$f":"  IF( $AE119 = \"\", \"\",    OFFSET( Season!$E$7,     2 * $AF119 - 1  +  IF( AJ$4 = $AJ$4, 1, 0 ),     3*( $AE119-1) + 0  )     )","v":"SCM"},{"$f":"  IF( $AE119 = \"\", \"\",    OFFSET( Season!$E$7,     2 * $AF119 - 1  +  IF( AJ$4 = $AJ$4, 1, 0 ),     3*( $AE119-1) + 1  )     )","v":-3},"SCM","NNIT","",""]
[null,null,null,null,null,null,null,null,null,null,null,null,null,null,null,null,null,null,null,null,null,null,null,null,null,null,null,null,null,null,7,14,{"$f":"  IF(  OR(  ISNA(  MATCH( AH120, $W$8:$W$13, 0 )   ),   ISNA( MATCH(  AJ120,  $W$8:$W$13, 0 )  )    ), \" . \",   MAX( $AG$4:AG119 ) + 1  )","v":" . "},{"$f":"  IF( $AE120 = \"\", \"\",    OFFSET( Season!$E$7,     2 * $AF120 - 1  +  IF( AH$4 = $AJ$4, 1, 0 ),     3*( $AE120-1) + 0  )     )","v":"X31"},{"$f":"  IF( $AE120 = \"\", \"\",    OFFSET( Season!$E$7,     2 * $AF120 - 1  +  IF( AH$4 = $AJ$4, 1, 0 ),     3*( $AE120-1) + 1  )     )","v":-8},{"$f":"  IF( $AE120 = \"\", \"\",    OFFSET( Season!$E$7,     2 * $AF120 - 1  +  IF( AJ$4 = $AJ$4, 1, 0 ),     3*( $AE120-1) + 0  )     )","v":"ENGR"},{"$f":"  IF( $AE120 = \"\", \"\",    OFFSET( Season!$E$7,     2 * $AF120 - 1  +  IF( AJ$4 = $AJ$4, 1, 0 ),     3*( $AE120-1) + 1  )     )","v":2},"X31","ENGR","",""]
[null,null,null,null,null,null,null,null,null,null,null,null,null,null,null,null,null,null,null,null,null,null,null,null,null,null,null,null,null,null,7,15,{"$f":"  IF(  OR(  ISNA(  MATCH( AH121, $W$8:$W$13, 0 )   ),   ISNA( MATCH(  AJ121,  $W$8:$W$13, 0 )  )    ), \" . \",   MAX( $AG$4:AG120 ) + 1  )","v":" . "},{"$f":"  IF( $AE121 = \"\", \"\",    OFFSET( Season!$E$7,     2 * $AF121 - 1  +  IF( AH$4 = $AJ$4, 1, 0 ),     3*( $AE121-1) + 0  )     )","v":"E25"},{"$f":"  IF( $AE121 = \"\", \"\",    OFFSET( Season!$E$7,     2 * $AF121 - 1  +  IF( AH$4 = $AJ$4, 1, 0 ),     3*( $AE121-1) + 1  )     )","v":26},{"$f":"  IF( $AE121 = \"\", \"\",    OFFSET( Season!$E$7,     2 * $AF121 - 1  +  IF( AJ$4 = $AJ$4, 1, 0 ),     3*( $AE121-1) + 0  )     )","v":"E75"},{"$f":"  IF( $AE121 = \"\", \"\",    OFFSET( Season!$E$7,     2 * $AF121 - 1  +  IF( AJ$4 = $AJ$4, 1, 0 ),     3*( $AE121-1) + 1  )     )","v":25},"E75","E25","",""]
[null,null,null,null,null,null,null,null,null,null,null,null,null,null,null,null,null,null,null,null,null,null,null,null,null,null,null,null,null,null,7,16,{"$f":"  IF(  OR(  ISNA(  MATCH( AH122, $W$8:$W$13, 0 )   ),   ISNA( MATCH(  AJ122,  $W$8:$W$13, 0 )  )    ), \" . \",   MAX( $AG$4:AG121 ) + 1  )","v":" . "},{"$f":"  IF( $AE122 = \"\", \"\",    OFFSET( Season!$E$7,     2 * $AF122 - 1  +  IF( AH$4 = $AJ$4, 1, 0 ),     3*( $AE122-1) + 0  )     )","v":"O46"},{"$f":"  IF( $AE122 = \"\", \"\",    OFFSET( Season!$E$7,     2 * $AF122 - 1  +  IF( AH$4 = $AJ$4, 1, 0 ),     3*( $AE122-1) + 1  )     )","v":19},{"$f":"  IF( $AE122 = \"\", \"\",    OFFSET( Season!$E$7,     2 * $AF122 - 1  +  IF( AJ$4 = $AJ$4, 1, 0 ),     3*( $AE122-1) + 0  )     )","v":"A572"},{"$f":"  IF( $AE122 = \"\", \"\",    OFFSET( Season!$E$7,     2 * $AF122 - 1  +  IF( AJ$4 = $AJ$4, 1, 0 ),     3*( $AE122-1) + 1  )     )","v":15},"A572","O46","",""]
[null,null,null,null,null,null,null,null,null,null,null,null,null,null,null,null,null,null,null,null,null,null,null,null,null,null,null,null,null,null,7,17,{"$f":"  IF(  OR(  ISNA(  MATCH( AH123, $W$8:$W$13, 0 )   ),   ISNA( MATCH(  AJ123,  $W$8:$W$13, 0 )  )    ), \" . \",   MAX( $AG$4:AG122 ) + 1  )","v":" . "},{"$f":"  IF( $AE123 = \"\", \"\",    OFFSET( Season!$E$7,     2 * $AF123 - 1  +  IF( AH$4 = $AJ$4, 1, 0 ),     3*( $AE123-1) + 0  )     )","v":"X10"},{"$f":"  IF( $AE123 = \"\", \"\",    OFFSET( Season!$E$7,     2 * $AF123 - 1  +  IF( AH$4 = $AJ$4, 1, 0 ),     3*( $AE123-1) + 1  )     )","v":18},{"$f":"  IF( $AE123 = \"\", \"\",    OFFSET( Season!$E$7,     2 * $AF123 - 1  +  IF( AJ$4 = $AJ$4, 1, 0 ),     3*( $AE123-1) + 0  )     )","v":"ARG"},{"$f":"  IF( $AE123 = \"\", \"\",    OFFSET( Season!$E$7,     2 * $AF123 - 1  +  IF( AJ$4 = $AJ$4, 1, 0 ),     3*( $AE123-1) + 1  )     )","v":19},"X10","ARG","",""]
[null,null,null,null,null,null,null,null,null,null,null,null,null,null,null,null,null,null,null,null,null,null,null,null,null,null,null,null,null,null,8,1,{"$f":"  IF(  OR(  ISNA(  MATCH( AH124, $W$8:$W$13, 0 )   ),   ISNA( MATCH(  AJ124,  $W$8:$W$13, 0 )  )    ), \" . \",   MAX( $AG$4:AG123 ) + 1  )","v":" . "},{"$f":"  IF( $AE124 = \"\", \"\",    OFFSET( Season!$E$7,     2 * $AF124 - 1  +  IF( AH$4 = $AJ$4, 1, 0 ),     3*( $AE124-1) + 0  )     )","v":"X04"},{"$f":"  IF( $AE124 = \"\", \"\",    OFFSET( Season!$E$7,     2 * $AF124 - 1  +  IF( AH$4 = $AJ$4, 1, 0 ),     3*( $AE124-1) + 1  )     )","v":20},{"$f":"  IF( $AE124 = \"\", \"\",    OFFSET( Season!$E$7,     2 * $AF124 - 1  +  IF( AJ$4 = $AJ$4, 1, 0 ),     3*( $AE124-1) + 0  )     )","v":"E14"},{"$f":"  IF( $AE124 = \"\", \"\",    OFFSET( Season!$E$7,     2 * $AF124 - 1  +  IF( AJ$4 = $AJ$4, 1, 0 ),     3*( $AE124-1) + 1  )     )","v":12},"E14","X04","",""]
[null,null,null,null,null,null,null,null,null,null,null,null,null,null,null,null,null,null,null,null,null,null,null,null,null,null,null,null,null,null,8,2,{"$f":"  IF(  OR(  ISNA(  MATCH( AH125, $W$8:$W$13, 0 )   ),   ISNA( MATCH(  AJ125,  $W$8:$W$13, 0 )  )    ), \" . \",   MAX( $AG$4:AG124 ) + 1  )","v":" . "},{"$f":"  IF( $AE125 = \"\", \"\",    OFFSET( Season!$E$7,     2 * $AF125 - 1  +  IF( AH$4 = $AJ$4, 1, 0 ),     3*( $AE125-1) + 0  )     )","v":"E42"},{"$f":"  IF( $AE125 = \"\", \"\",    OFFSET( Season!$E$7,     2 * $AF125 - 1  +  IF( AH$4 = $AJ$4, 1, 0 ),     3*( $AE125-1) + 1  )     )","v":10},{"$f":"  IF( $AE125 = \"\", \"\",    OFFSET( Season!$E$7,     2 * $AF125 - 1  +  IF( AJ$4 = $AJ$4, 1, 0 ),     3*( $AE125-1) + 0  )     )","v":"E83"},{"$f":"  IF( $AE125 = \"\", \"\",    OFFSET( Season!$E$7,     2 * $AF125 - 1  +  IF( AJ$4 = $AJ$4, 1, 0 ),     3*( $AE125-1) + 1  )     )","v":18},"E42","E83","",""]
[null,null,null,null,null,null,null,null,null,null,null,null,null,null,null,null,null,null,null,null,null,null,null,null,null,null,null,null,null,null,8,3,{"$f":"  IF(  OR(  ISNA(  MATCH( AH126, $W$8:$W$13, 0 )   ),   ISNA( MATCH(  AJ126,  $W$8:$W$13, 0 )  )    ), \" . \",   MAX( $AG$4:AG125 ) + 1  )","v":" . "},{"$f":"  IF( $AE126 = \"\", \"\",    OFFSET( Season!$E$7,     2 * $AF126 - 1  +  IF( AH$4 = $AJ$4, 1, 0 ),     3*( $AE126-1) + 0  )     )","v":"E55a"},{"$f":"  IF( $AE126 = \"\", \"\",    OFFSET( Season!$E$7,     2 * $AF126 - 1  +  IF( AH$4 = $AJ$4, 1, 0 ),     3*( $AE126-1) + 1  )     )","v":18},{"$f":"  IF( $AE126 = \"\", \"\",    OFFSET( Season!$E$7,     2 * $AF126 - 1  +  IF( AJ$4 = $AJ$4, 1, 0 ),     3*( $AE126-1) + 0  )     )","v":"E12"},{"$f":"  IF( $AE126 = \"\", \"\",    OFFSET( Season!$E$7,     2 * $AF126 - 1  +  IF( AJ$4 = $AJ$4, 1, 0 ),     3*( $AE126-1) + 1  )     )","v":14},"E12","E55a","",""]
[null,null,null,null,null,null,null,null,null,null,null,null,null,null,null,null,null,null,null,null,null,null,null,null,null,null,null,null,null,null,8,4,{"$f":"  IF(  OR(  ISNA(  MATCH( AH127, $W$8:$W$13, 0 )   ),   ISNA( MATCH(  AJ127,  $W$8:$W$13, 0 )  )    ), \" . \",   MAX( $AG$4:AG126 ) + 1  )","v":" . "},{"$f":"  IF( $AE127 = \"\", \"\",    OFFSET( Season!$E$7,     2 * $AF127 - 1  +  IF( AH$4 = $AJ$4, 1, 0 ),     3*( $AE127-1) + 0  )     )","v":"E86"},{"$f":"  IF( $AE127 = \"\", \"\",    OFFSET( Season!$E$7,     2 * $AF127 - 1  +  IF( AH$4 = $AJ$4, 1, 0 ),     3*( $AE127-1) + 1  )     )","v":"f"},{"$f":"  IF( $AE127 = \"\", \"\",    OFFSET( Season!$E$7,     2 * $AF127 - 1  +  IF( AJ$4 = $AJ$4, 1, 0 ),     3*( $AE127-1) + 0  )     )","v":"AMSC"},{"$f":"  IF( $AE127 = \"\", \"\",    OFFSET( Season!$E$7,     2 * $AF127 - 1  +  IF( AJ$4 = $AJ$4, 1, 0 ),     3*( $AE127-1) + 1  )     )","v":0},"AMSC","E86","",""]
[null,null,null,null,null,null,null,null,null,null,null,null,null,null,null,null,null,null,null,null,null,null,null,null,null,null,null,null,null,null,8,5,{"$f":"  IF(  OR(  ISNA(  MATCH( AH128, $W$8:$W$13, 0 )   ),   ISNA( MATCH(  AJ128,  $W$8:$W$13, 0 )  )    ), \" . \",   MAX( $AG$4:AG127 ) + 1  )","v":" . "},{"$f":"  IF( $AE128 = \"\", \"\",    OFFSET( Season!$E$7,     2 * $AF128 - 1  +  IF( AH$4 = $AJ$4, 1, 0 ),     3*( $AE128-1) + 0  )     )","v":"AGS"},{"$f":"  IF( $AE128 = \"\", \"\",    OFFSET( Season!$E$7,     2 * $AF128 - 1  +  IF( AH$4 = $AJ$4, 1, 0 ),     3*( $AE128-1) + 1  )     )","v":18},{"$f":"  IF( $AE128 = \"\", \"\",    OFFSET( Season!$E$7,     2 * $AF128 - 1  +  IF( AJ$4 = $AJ$4, 1, 0 ),     3*( $AE128-1) + 0  )     )","v":"X87"},{"$f":"  IF( $AE128 = \"\", \"\",    OFFSET( Season!$E$7,     2 * $AF128 - 1  +  IF( AJ$4 = $AJ$4, 1, 0 ),     3*( $AE128-1) + 1  )     )","v":7},"X87","AGS","",""]
[null,null,null,null,null,null,null,null,null,null,null,null,null,null,null,null,null,null,null,null,null,null,null,null,null,null,null,null,null,null,8,6,{"$f":"  IF(  OR(  ISNA(  MATCH( AH129, $W$8:$W$13, 0 )   ),   ISNA( MATCH(  AJ129,  $W$8:$W$13, 0 )  )    ), \" . \",   MAX( $AG$4:AG128 ) + 1  )","v":" . "},{"$f":"  IF( $AE129 = \"\", \"\",    OFFSET( Season!$E$7,     2 * $AF129 - 1  +  IF( AH$4 = $AJ$4, 1, 0 ),     3*( $AE129-1) + 0  )     )","v":"SUBS"},{"$f":"  IF( $AE129 = \"\", \"\",    OFFSET( Season!$E$7,     2 * $AF129 - 1  +  IF( AH$4 = $AJ$4, 1, 0 ),     3*( $AE129-1) + 1  )     )","v":6},{"$f":"  IF( $AE129 = \"\", \"\",    OFFSET( Season!$E$7,     2 * $AF129 - 1  +  IF( AJ$4 = $AJ$4, 1, 0 ),     3*( $AE129-1) + 0  )     )","v":"E55B"},{"$f":"  IF( $AE129 = \"\", \"\",    OFFSET( Season!$E$7,     2 * $AF129 - 1  +  IF( AJ$4 = $AJ$4, 1, 0 ),     3*( $AE129-1) + 1  )     )","v":24},"SUBS","E55B","",""]
[null,null,null,null,null,null,null,null,null,null,null,null,null,null,null,null,null,null,null,null,null,null,null,null,null,null,null,null,null,null,8,7,{"$f":"  IF(  OR(  ISNA(  MATCH( AH130, $W$8:$W$13, 0 )   ),   ISNA( MATCH(  AJ130,  $W$8:$W$13, 0 )  )    ), \" . \",   MAX( $AG$4:AG129 ) + 1  )","v":" . "},{"$f":"  IF( $AE130 = \"\", \"\",    OFFSET( Season!$E$7,     2 * $AF130 - 1  +  IF( AH$4 = $AJ$4, 1, 0 ),     3*( $AE130-1) + 0  )     )","v":"X01"},{"$f":"  IF( $AE130 = \"\", \"\",    OFFSET( Season!$E$7,     2 * $AF130 - 1  +  IF( AH$4 = $AJ$4, 1, 0 ),     3*( $AE130-1) + 1  )     )","v":17},{"$f":"  IF( $AE130 = \"\", \"\",    OFFSET( Season!$E$7,     2 * $AF130 - 1  +  IF( AJ$4 = $AJ$4, 1, 0 ),     3*( $AE130-1) + 0  )     )","v":"E60"},{"$f":"  IF( $AE130 = \"\", \"\",    OFFSET( Season!$E$7,     2 * $AF130 - 1  +  IF( AJ$4 = $AJ$4, 1, 0 ),     3*( $AE130-1) + 1  )     )","v":21},"X01","E60","",""]
[null,null,null,null,null,null,null,null,null,null,null,null,null,null,null,null,null,null,null,null,null,null,null,null,null,null,null,null,null,null,8,8,{"$f":"  IF(  OR(  ISNA(  MATCH( AH131, $W$8:$W$13, 0 )   ),   ISNA( MATCH(  AJ131,  $W$8:$W$13, 0 )  )    ), \" . \",   MAX( $AG$4:AG130 ) + 1  )","v":" . "},{"$f":"  IF( $AE131 = \"\", \"\",    OFFSET( Season!$E$7,     2 * $AF131 - 1  +  IF( AH$4 = $AJ$4, 1, 0 ),     3*( $AE131-1) + 0  )     )","v":"X88"},{"$f":"  IF( $AE131 = \"\", \"\",    OFFSET( Season!$E$7,     2 * $AF131 - 1  +  IF( AH$4 = $AJ$4, 1, 0 ),     3*( $AE131-1) + 1  )     )","v":16},{"$f":"  IF( $AE131 = \"\", \"\",    OFFSET( Season!$E$7,     2 * $AF131 - 1  +  IF( AJ$4 = $AJ$4, 1, 0 ),     3*( $AE131-1) + 0  )     )","v":"E17"},{"$f":"  IF( $AE131 = \"\", \"\",    OFFSET( Season!$E$7,     2 * $AF131 - 1  +  IF( AJ$4 = $AJ$4, 1, 0 ),     3*( $AE131-1) + 1  )     )","v":34},"X88","E17","",""]
[null,null,null,null,null,null,null,null,null,null,null,null,null,null,null,null,null,null,null,null,null,null,null,null,null,null,null,null,null,null,8,9,{"$f":"  IF(  OR(  ISNA(  MATCH( AH132, $W$8:$W$13, 0 )   ),   ISNA( MATCH(  AJ132,  $W$8:$W$13, 0 )  )    ), \" . \",   MAX( $AG$4:AG131 ) + 1  )","v":" . "},{"$f":"  IF( $AE132 = \"\", \"\",    OFFSET( Season!$E$7,     2 * $AF132 - 1  +  IF( AH$4 = $AJ$4, 1, 0 ),     3*( $AE132-1) + 0  )     )","v":0},{"$f":"  IF( $AE132 = \"\", \"\",    OFFSET( Season!$E$7,     2 * $AF132 - 1  +  IF( AH$4 = $AJ$4, 1, 0 ),     3*( $AE132-1) + 1  )     )","v":0},{"$f":"  IF( $AE132 = \"\", \"\",    OFFSET( Season!$E$7,     2 * $AF132 - 1  +  IF( AJ$4 = $AJ$4, 1, 0 ),     3*( $AE132-1) + 0  )     )","v":0},{"$f":"  IF( $AE132 = \"\", \"\",    OFFSET( Season!$E$7,     2 * $AF132 - 1  +  IF( AJ$4 = $AJ$4, 1, 0 ),     3*( $AE132-1) + 1  )     )","v":0},"x","x","",""]
[null,null,null,null,null,null,null,null,null,null,null,null,null,null,null,null,null,null,null,null,null,null,null,null,null,null,null,null,null,null,8,10,{"$f":"  IF(  OR(  ISNA(  MATCH( AH133, $W$8:$W$13, 0 )   ),   ISNA( MATCH(  AJ133,  $W$8:$W$13, 0 )  )    ), \" . \",   MAX( $AG$4:AG132 ) + 1  )","v":" . "},{"$f":"  IF( $AE133 = \"\", \"\",    OFFSET( Season!$E$7,     2 * $AF133 - 1  +  IF( AH$4 = $AJ$4, 1, 0 ),     3*( $AE133-1) + 0  )     )","v":"CRF"},{"$f":"  IF( $AE133 = \"\", \"\",    OFFSET( Season!$E$7,     2 * $AF133 - 1  +  IF( AH$4 = $AJ$4, 1, 0 ),     3*( $AE133-1) + 1  )     )","v":12},{"$f":"  IF( $AE133 = \"\", \"\",    OFFSET( Season!$E$7,     2 * $AF133 - 1  +  IF( AJ$4 = $AJ$4, 1, 0 ),     3*( $AE133-1) + 0  )     )","v":"A572"},{"$f":"  IF( $AE133 = \"\", \"\",    OFFSET( Season!$E$7,     2 * $AF133 - 1  +  IF( AJ$4 = $AJ$4, 1, 0 ),     3*( $AE133-1) + 1  )     )","v":16},{"$f":"  IF(  LEFT( $AI133, 1 ) = \"f\",  $AJ133,    IF(  LEFT( $AK133, 1 ) = \"f\", $AH133,    IF(  AND(  $AI133 = \"\",  $AK133 = \"\"  ), \".\",    IF(  $AI133^2 + $AK133^2 = 0,  \"x\",    IF(  $AI133 = $AK133, \"Tie\",    IF(   $AI133 < $AK133,  $AH133,  $AJ133 )    )  )  ) )  )","v":"CRF"},{"$f":"  IF(  LEFT( $AI133, 1 ) = \"f\",  $AH133,    IF(  LEFT( $AK133, 1 ) = \"f\", $AJ133,    IF(  AND(  $AI133 = \"\",  $AK133 = \"\"  ), \".\",    IF(  $AI133^2 + $AK133^2 = 0,  \"x\",    IF(  $AI133 = $AK133, \"Tie\",    IF(   $AI133 > $AK133,  $AH133,  $AJ133 )    )  )  ) )  )","v":"A572"},{"$f":"   IF( AL133 = \"Tie\", $AH133, \"\" )","v":""},{"$f":"   IF( AM133 = \"Tie\", $AJ133, \"\" )","v":""}]
[null,null,null,null,null,null,null,null,null,null,null,null,null,null,null,null,null,null,null,null,null,null,null,null,null,null,null,null,null,null,8,11,{"$f":"  IF(  OR(  ISNA(  MATCH( AH134, $W$8:$W$13, 0 )   ),   ISNA( MATCH(  AJ134,  $W$8:$W$13, 0 )  )    ), \" . \",   MAX( $AG$4:AG133 ) + 1  )","v":" . "},{"$f":"  IF( $AE134 = \"\", \"\",    OFFSET( Season!$E$7,     2 * $AF134 - 1  +  IF( AH$4 = $AJ$4, 1, 0 ),     3*( $AE134-1) + 0  )     )","v":"ARG"},{"$f":"  IF( $AE134 = \"\", \"\",    OFFSET( Season!$E$7,     2 * $AF134 - 1  +  IF( AH$4 = $AJ$4, 1, 0 ),     3*( $AE134-1) + 1  )     )","v":0},{"$f":"  IF( $AE134 = \"\", \"\",    OFFSET( Season!$E$7,     2 * $AF134 - 1  +  IF( AJ$4 = $AJ$4, 1, 0 ),     3*( $AE134-1) + 0  )     )","v":"X31"},{"$f":"  IF( $AE134 = \"\", \"\",    OFFSET( Season!$E$7,     2 * $AF134 - 1  +  IF( AJ$4 = $AJ$4, 1, 0 ),     3*( $AE134-1) + 1  )     )","v":"f"},"ARG","X31","",""]
[null,null,null,null,null,null,null,null,null,null,null,null,null,null,null,null,null,null,null,null,null,null,null,null,null,null,null,null,null,null,8,12,{"$f":"  IF(  OR(  ISNA(  MATCH( AH135, $W$8:$W$13, 0 )   ),   ISNA( MATCH(  AJ135,  $W$8:$W$13, 0 )  )    ), \" . \",   MAX( $AG$4:AG134 ) + 1  )","v":" . "},{"$f":"  IF( $AE135 = \"\", \"\",    OFFSET( Season!$E$7,     2 * $AF135 - 1  +  IF( AH$4 = $AJ$4, 1, 0 ),     3*( $AE135-1) + 0  )     )","v":"SCM"},{"$f":"  IF( $AE135 = \"\", \"\",    OFFSET( Season!$E$7,     2 * $AF135 - 1  +  IF( AH$4 = $AJ$4, 1, 0 ),     3*( $AE135-1) + 1  )     )","v":23},{"$f":"  IF( $AE135 = \"\", \"\",    OFFSET( Season!$E$7,     2 * $AF135 - 1  +  IF( AJ$4 = $AJ$4, 1, 0 ),     3*( $AE135-1) + 0  )     )","v":"E20"},{"$f":"  IF( $AE135 = \"\", \"\",    OFFSET( Season!$E$7,     2 * $AF135 - 1  +  IF( AJ$4 = $AJ$4, 1, 0 ),     3*( $AE135-1) + 1  )     )","v":22},"E20","SCM","",""]
[null,null,null,null,null,null,null,null,null,null,null,null,null,null,null,null,null,null,null,null,null,null,null,null,null,null,null,null,null,null,8,13,{"$f":"  IF(  OR(  ISNA(  MATCH( AH136, $W$8:$W$13, 0 )   ),   ISNA( MATCH(  AJ136,  $W$8:$W$13, 0 )  )    ), \" . \",   MAX( $AG$4:AG135 ) + 1  )","v":" . "},{"$f":"  IF( $AE136 = \"\", \"\",    OFFSET( Season!$E$7,     2 * $AF136 - 1  +  IF( AH$4 = $AJ$4, 1, 0 ),     3*( $AE136-1) + 0  )     )","v":"O19"},{"$f":"  IF( $AE136 = \"\", \"\",    OFFSET( Season!$E$7,     2 * $AF136 - 1  +  IF( AH$4 = $AJ$4, 1, 0 ),     3*( $AE136-1) + 1  )     )","v":19},{"$f":"  IF( $AE136 = \"\", \"\",    OFFSET( Season!$E$7,     2 * $AF136 - 1  +  IF( AJ$4 = $AJ$4, 1, 0 ),     3*( $AE136-1) + 0  )     )","v":"O46"},{"$f":"  IF( $AE136 = \"\", \"\",    OFFSET( Season!$E$7,     2 * $AF136 - 1  +  IF( AJ$4 = $AJ$4, 1, 0 ),     3*( $AE136-1) + 1  )     )","v":24},"O19","O46","",""]
[null,null,null,null,null,null,null,null,null,null,null,null,null,null,null,null,null,null,null,null,null,null,null,null,null,null,null,null,null,null,8,14,{"$f":"  IF(  OR(  ISNA(  MATCH( AH137, $W$8:$W$13, 0 )   ),   ISNA( MATCH(  AJ137,  $W$8:$W$13, 0 )  )    ), \" . \",   MAX( $AG$4:AG136 ) + 1  )","v":" . "},{"$f":"  IF( $AE137 = \"\", \"\",    OFFSET( Season!$E$7,     2 * $AF137 - 1  +  IF( AH$4 = $AJ$4, 1, 0 ),     3*( $AE137-1) + 0  )     )","v":"NNIT"},{"$f":"  IF( $AE137 = \"\", \"\",    OFFSET( Season!$E$7,     2 * $AF137 - 1  +  IF( AH$4 = $AJ$4, 1, 0 ),     3*( $AE137-1) + 1  )     )","v":-11},{"$f":"  IF( $AE137 = \"\", \"\",    OFFSET( Season!$E$7,     2 * $AF137 - 1  +  IF( AJ$4 = $AJ$4, 1, 0 ),     3*( $AE137-1) + 0  )     )","v":"O87"},{"$f":"  IF( $AE137 = \"\", \"\",    OFFSET( Season!$E$7,     2 * $AF137 - 1  +  IF( AJ$4 = $AJ$4, 1, 0 ),     3*( $AE137-1) + 1  )     )","v":-4},"NNIT","O87","",""]
[null,null,null,null,null,null,null,null,null,null,null,null,null,null,null,null,null,null,null,null,null,null,null,null,null,null,null,null,null,null,8,15,{"$f":"  IF(  OR(  ISNA(  MATCH( AH138, $W$8:$W$13, 0 )   ),   ISNA( MATCH(  AJ138,  $W$8:$W$13, 0 )  )    ), \" . \",   MAX( $AG$4:AG137 ) + 1  )","v":" . "},{"$f":"  IF( $AE138 = \"\", \"\",    OFFSET( Season!$E$7,     2 * $AF138 - 1  +  IF( AH$4 = $AJ$4, 1, 0 ),     3*( $AE138-1) + 0  )     )","v":"E75"},{"$f":"  IF( $AE138 = \"\", \"\",    OFFSET( Season!$E$7,     2 * $AF138 - 1  +  IF( AH$4 = $AJ$4, 1, 0 ),     3*( $AE138-1) + 1  )     )","v":18},{"$f":"  IF( $AE138 = \"\", \"\",    OFFSET( Season!$E$7,     2 * $AF138 - 1  +  IF( AJ$4 = $AJ$4, 1, 0 ),     3*( $AE138-1) + 0  )     )","v":"M10"},{"$f":"  IF( $AE138 = \"\", \"\",    OFFSET( Season!$E$7,     2 * $AF138 - 1  +  IF( AJ$4 = $AJ$4, 1, 0 ),     3*( $AE138-1) + 1  )     )","v":29},"E75","M10","",""]
[null,null,null,null,null,null,null,null,null,null,null,null,null,null,null,null,null,null,null,null,null,null,null,null,null,null,null,null,null,null,8,16,{"$f":"  IF(  OR(  ISNA(  MATCH( AH139, $W$8:$W$13, 0 )   ),   ISNA( MATCH(  AJ139,  $W$8:$W$13, 0 )  )    ), \" . \",   MAX( $AG$4:AG138 ) + 1  )","v":" . "},{"$f":"  IF( $AE139 = \"\", \"\",    OFFSET( Season!$E$7,     2 * $AF139 - 1  +  IF( AH$4 = $AJ$4, 1, 0 ),     3*( $AE139-1) + 0  )     )","v":"X10"},{"$f":"  IF( $AE139 = \"\", \"\",    OFFSET( Season!$E$7,     2 * $AF139 - 1  +  IF( AH$4 = $AJ$4, 1, 0 ),     3*( $AE139-1) + 1  )     )","v":21},{"$f":"  IF( $AE139 = \"\", \"\",    OFFSET( Season!$E$7,     2 * $AF139 - 1  +  IF( AJ$4 = $AJ$4, 1, 0 ),     3*( $AE139-1) + 0  )     )","v":"ENGR"},{"$f":"  IF( $AE139 = \"\", \"\",    OFFSET( Season!$E$7,     2 * $AF139 - 1  +  IF( AJ$4 = $AJ$4, 1, 0 ),     3*( $AE139-1) + 1  )     )","v":31},"X10","ENGR","",""]
[null,null,null,null,null,null,null,null,null,null,null,null,null,null,null,null,null,null,null,null,null,null,null,null,null,null,null,null,null,null,8,17,{"$f":"  IF(  OR(  ISNA(  MATCH( AH140, $W$8:$W$13, 0 )   ),   ISNA( MATCH(  AJ140,  $W$8:$W$13, 0 )  )    ), \" . \",   MAX( $AG$4:AG139 ) + 1  )","v":" . "},{"$f":"  IF( $AE140 = \"\", \"\",    OFFSET( Season!$E$7,     2 * $AF140 - 1  +  IF( AH$4 = $AJ$4, 1, 0 ),     3*( $AE140-1) + 0  )     )","v":"CVN"},{"$f":"  IF( $AE140 = \"\", \"\",    OFFSET( Season!$E$7,     2 * $AF140 - 1  +  IF( AH$4 = $AJ$4, 1, 0 ),     3*( $AE140-1) + 1  )     )","v":"f"},{"$f":"  IF( $AE140 = \"\", \"\",    OFFSET( Season!$E$7,     2 * $AF140 - 1  +  IF( AJ$4 = $AJ$4, 1, 0 ),     3*( $AE140-1) + 0  )     )","v":"E25"},{"$f":"  IF( $AE140 = \"\", \"\",    OFFSET( Season!$E$7,     2 * $AF140 - 1  +  IF( AJ$4 = $AJ$4, 1, 0 ),     3*( $AE140-1) + 1  )     )","v":0},"E25","CVN","",""]
[null,null,null,null,null,null,null,null,null,null,null,null,null,null,null,null,null,null,null,null,null,null,null,null,null,null,null,null,null,null,9,1,{"$f":"  IF(  OR(  ISNA(  MATCH( AH141, $W$8:$W$13, 0 )   ),   ISNA( MATCH(  AJ141,  $W$8:$W$13, 0 )  )    ), \" . \",   MAX( $AG$4:AG140 ) + 1  )","v":" . "},{"$f":"  IF( $AE141 = \"\", \"\",    OFFSET( Season!$E$7,     2 * $AF141 - 1  +  IF( AH$4 = $AJ$4, 1, 0 ),     3*( $AE141-1) + 0  )     )","v":"X04"},{"$f":"  IF( $AE141 = \"\", \"\",    OFFSET( Season!$E$7,     2 * $AF141 - 1  +  IF( AH$4 = $AJ$4, 1, 0 ),     3*( $AE141-1) + 1  )     )","v":"f"},{"$f":"  IF( $AE141 = \"\", \"\",    OFFSET( Season!$E$7,     2 * $AF141 - 1  +  IF( AJ$4 = $AJ$4, 1, 0 ),     3*( $AE141-1) + 0  )     )","v":"E55B"},{"$f":"  IF( $AE141 = \"\", \"\",    OFFSET( Season!$E$7,     2 * $AF141 - 1  +  IF( AJ$4 = $AJ$4, 1, 0 ),     3*( $AE141-1) + 1  )     )","v":0},"E55B","X04","",""]
[null,null,null,null,null,null,null,null,null,null,null,null,null,null,null,null,null,null,null,null,null,null,null,null,null,null,null,null,null,null,9,2,{"$f":"  IF(  OR(  ISNA(  MATCH( AH142, $W$8:$W$13, 0 )   ),   ISNA( MATCH(  AJ142,  $W$8:$W$13, 0 )  )    ), \" . \",   MAX( $AG$4:AG141 ) + 1  )","v":" . "},{"$f":"  IF( $AE142 = \"\", \"\",    OFFSET( Season!$E$7,     2 * $AF142 - 1  +  IF( AH$4 = $AJ$4, 1, 0 ),     3*( $AE142-1) + 0  )     )","v":"X87"},{"$f":"  IF( $AE142 = \"\", \"\",    OFFSET( Season!$E$7,     2 * $AF142 - 1  +  IF( AH$4 = $AJ$4, 1, 0 ),     3*( $AE142-1) + 1  )     )","v":10},{"$f":"  IF( $AE142 = \"\", \"\",    OFFSET( Season!$E$7,     2 * $AF142 - 1  +  IF( AJ$4 = $AJ$4, 1, 0 ),     3*( $AE142-1) + 0  )     )","v":"E60"},{"$f":"  IF( $AE142 = \"\", \"\",    OFFSET( Season!$E$7,     2 * $AF142 - 1  +  IF( AJ$4 = $AJ$4, 1, 0 ),     3*( $AE142-1) + 1  )     )","v":17},"X87","E60","",""]
[null,null,null,null,null,null,null,null,null,null,null,null,null,null,null,null,null,null,null,null,null,null,null,null,null,null,null,null,null,null,9,3,{"$f":"  IF(  OR(  ISNA(  MATCH( AH143, $W$8:$W$13, 0 )   ),   ISNA( MATCH(  AJ143,  $W$8:$W$13, 0 )  )    ), \" . \",   MAX( $AG$4:AG142 ) + 1  )","v":" . "},{"$f":"  IF( $AE143 = \"\", \"\",    OFFSET( Season!$E$7,     2 * $AF143 - 1  +  IF( AH$4 = $AJ$4, 1, 0 ),     3*( $AE143-1) + 0  )     )","v":"E86"},{"$f":"  IF( $AE143 = \"\", \"\",    OFFSET( Season!$E$7,     2 * $AF143 - 1  +  IF( AH$4 = $AJ$4, 1, 0 ),     3*( $AE143-1) + 1  )     )","v":12},{"$f":"  IF( $AE143 = \"\", \"\",    OFFSET( Season!$E$7,     2 * $AF143 - 1  +  IF( AJ$4 = $AJ$4, 1, 0 ),     3*( $AE143-1) + 0  )     )","v":"X88"},{"$f":"  IF( $AE143 = \"\", \"\",    OFFSET( Season!$E$7,     2 * $AF143 - 1  +  IF( AJ$4 = $AJ$4, 1, 0 ),     3*( $AE143-1) + 1  )     )","v":12},"Tie","Tie","E86","X88"]
[null,null,null,null,null,null,null,null,null,null,null,null,null,null,null,null,null,null,null,null,null,null,null,null,null,null,null,null,null,null,9,4,{"$f":"  IF(  OR(  ISNA(  MATCH( AH144, $W$8:$W$13, 0 )   ),   ISNA( MATCH(  AJ144,  $W$8:$W$13, 0 )  )    ), \" . \",   MAX( $AG$4:AG143 ) + 1  )","v":" . "},{"$f":"  IF( $AE144 = \"\", \"\",    OFFSET( Season!$E$7,     2 * $AF144 - 1  +  IF( AH$4 = $AJ$4, 1, 0 ),     3*( $AE144-1) + 0  )     )","v":"E17"},{"$f":"  IF( $AE144 = \"\", \"\",    OFFSET( Season!$E$7,     2 * $AF144 - 1  +  IF( AH$4 = $AJ$4, 1, 0 ),     3*( $AE144-1) + 1  )     )","v":8},{"$f":"  IF( $AE144 = \"\", \"\",    OFFSET( Season!$E$7,     2 * $AF144 - 1  +  IF( AJ$4 = $AJ$4, 1, 0 ),     3*( $AE144-1) + 0  )     )","v":"AMSC"},{"$f":"  IF( $AE144 = \"\", \"\",    OFFSET( Season!$E$7,     2 * $AF144 - 1  +  IF( AJ$4 = $AJ$4, 1, 0 ),     3*( $AE144-1) + 1  )     )","v":7},"AMSC","E17","",""]
[null,null,null,null,null,null,null,null,null,null,null,null,null,null,null,null,null,null,null,null,null,null,null,null,null,null,null,null,null,null,9,5,{"$f":"  IF(  OR(  ISNA(  MATCH( AH145, $W$8:$W$13, 0 )   ),   ISNA( MATCH(  AJ145,  $W$8:$W$13, 0 )  )    ), \" . \",   MAX( $AG$4:AG144 ) + 1  )","v":" . "},{"$f":"  IF( $AE145 = \"\", \"\",    OFFSET( Season!$E$7,     2 * $AF145 - 1  +  IF( AH$4 = $AJ$4, 1, 0 ),     3*( $AE145-1) + 0  )     )","v":"SUBS"},{"$f":"  IF( $AE145 = \"\", \"\",    OFFSET( Season!$E$7,     2 * $AF145 - 1  +  IF( AH$4 = $AJ$4, 1, 0 ),     3*( $AE145-1) + 1  )     )","v":26},{"$f":"  IF( $AE145 = \"\", \"\",    OFFSET( Season!$E$7,     2 * $AF145 - 1  +  IF( AJ$4 = $AJ$4, 1, 0 ),     3*( $AE145-1) + 0  )     )","v":"E14"},{"$f":"  IF( $AE145 = \"\", \"\",    OFFSET( Season!$E$7,     2 * $AF145 - 1  +  IF( AJ$4 = $AJ$4, 1, 0 ),     3*( $AE145-1) + 1  )     )","v":38},"SUBS","E14","",""]
[null,null,null,null,null,null,null,null,null,null,null,null,null,null,null,null,null,null,null,null,null,null,null,null,null,null,null,null,null,null,9,6,{"$f":"  IF(  OR(  ISNA(  MATCH( AH146, $W$8:$W$13, 0 )   ),   ISNA( MATCH(  AJ146,  $W$8:$W$13, 0 )  )    ), \" . \",   MAX( $AG$4:AG145 ) + 1  )","v":" . "},{"$f":"  IF( $AE146 = \"\", \"\",    OFFSET( Season!$E$7,     2 * $AF146 - 1  +  IF( AH$4 = $AJ$4, 1, 0 ),     3*( $AE146-1) + 0  )     )","v":"E42"},{"$f":"  IF( $AE146 = \"\", \"\",    OFFSET( Season!$E$7,     2 * $AF146 - 1  +  IF( AH$4 = $AJ$4, 1, 0 ),     3*( $AE146-1) + 1  )     )","v":16},{"$f":"  IF( $AE146 = \"\", \"\",    OFFSET( Season!$E$7,     2 * $AF146 - 1  +  IF( AJ$4 = $AJ$4, 1, 0 ),     3*( $AE146-1) + 0  )     )","v":"E55a"},{"$f":"  IF( $AE146 = \"\", \"\",    OFFSET( Season!$E$7,     2 * $AF146 - 1  +  IF( AJ$4 = $AJ$4, 1, 0 ),     3*( $AE146-1) + 1  )     )","v":10},"E55a","E42","",""]
[null,null,null,null,null,null,null,null,null,null,null,null,null,null,null,null,null,null,null,null,null,null,null,null,null,null,null,null,null,null,9,7,{"$f":"  IF(  OR(  ISNA(  MATCH( AH147, $W$8:$W$13, 0 )   ),   ISNA( MATCH(  AJ147,  $W$8:$W$13, 0 )  )    ), \" . \",   MAX( $AG$4:AG146 ) + 1  )","v":" . "},{"$f":"  IF( $AE147 = \"\", \"\",    OFFSET( Season!$E$7,     2 * $AF147 - 1  +  IF( AH$4 = $AJ$4, 1, 0 ),     3*( $AE147-1) + 0  )     )","v":"E12"},{"$f":"  IF( $AE147 = \"\", \"\",    OFFSET( Season!$E$7,     2 * $AF147 - 1  +  IF( AH$4 = $AJ$4, 1, 0 ),     3*( $AE147-1) + 1  )     )","v":15},{"$f":"  IF( $AE147 = \"\", \"\",    OFFSET( Season!$E$7,     2 * $AF147 - 1  +  IF( AJ$4 = $AJ$4, 1, 0 ),     3*( $AE147-1) + 0  )     )","v":"E83"},{"$f":"  IF( $AE147 = \"\", \"\",    OFFSET( Season!$E$7,     2 * $AF147 - 1  +  IF( AJ$4 = $AJ$4, 1, 0 ),     3*( $AE147-1) + 1  )     )","v":17},"E12","E83","",""]
[null,null,null,null,null,null,null,null,null,null,null,null,null,null,null,null,null,null,null,null,null,null,null,null,null,null,null,null,null,null,9,8,{"$f":"  IF(  OR(  ISNA(  MATCH( AH148, $W$8:$W$13, 0 )   ),   ISNA( MATCH(  AJ148,  $W$8:$W$13, 0 )  )    ), \" . \",   MAX( $AG$4:AG147 ) + 1  )","v":" . "},{"$f":"  IF( $AE148 = \"\", \"\",    OFFSET( Season!$E$7,     2 * $AF148 - 1  +  IF( AH$4 = $AJ$4, 1, 0 ),     3*( $AE148-1) + 0  )     )","v":"X01"},{"$f":"  IF( $AE148 = \"\", \"\",    OFFSET( Season!$E$7,     2 * $AF148 - 1  +  IF( AH$4 = $AJ$4, 1, 0 ),     3*( $AE148-1) + 1  )     )","v":23},{"$f":"  IF( $AE148 = \"\", \"\",    OFFSET( Season!$E$7,     2 * $AF148 - 1  +  IF( AJ$4 = $AJ$4, 1, 0 ),     3*( $AE148-1) + 0  )     )","v":"AGS"},{"$f":"  IF( $AE148 = \"\", \"\",    OFFSET( Season!$E$7,     2 * $AF148 - 1  +  IF( AJ$4 = $AJ$4, 1, 0 ),     3*( $AE148-1) + 1  )     )","v":11},"AGS","X01","",""]
[null,null,null,null,null,null,null,null,null,null,null,null,null,null,null,null,null,null,null,null,null,null,null,null,null,null,null,null,null,null,9,9,{"$f":"  IF(  OR(  ISNA(  MATCH( AH149, $W$8:$W$13, 0 )   ),   ISNA( MATCH(  AJ149,  $W$8:$W$13, 0 )  )    ), \" . \",   MAX( $AG$4:AG148 ) + 1  )","v":" . "},{"$f":"  IF( $AE149 = \"\", \"\",    OFFSET( Season!$E$7,     2 * $AF149 - 1  +  IF( AH$4 = $AJ$4, 1, 0 ),     3*( $AE149-1) + 0  )     )","v":0},{"$f":"  IF( $AE149 = \"\", \"\",    OFFSET( Season!$E$7,     2 * $AF149 - 1  +  IF( AH$4 = $AJ$4, 1, 0 ),     3*( $AE149-1) + 1  )     )","v":0},{"$f":"  IF( $AE149 = \"\", \"\",    OFFSET( Season!$E$7,     2 * $AF149 - 1  +  IF( AJ$4 = $AJ$4, 1, 0 ),     3*( $AE149-1) + 0  )     )","v":0},{"$f":"  IF( $AE149 = \"\", \"\",    OFFSET( Season!$E$7,     2 * $AF149 - 1  +  IF( AJ$4 = $AJ$4, 1, 0 ),     3*( $AE149-1) + 1  )     )","v":0},"x","x","",""]
[null,null,null,null,null,null,null,null,null,null,null,null,null,null,null,null,null,null,null,null,null,null,null,null,null,null,null,null,null,null,9,10,{"$f":"  IF(  OR(  ISNA(  MATCH( AH150, $W$8:$W$13, 0 )   ),   ISNA( MATCH(  AJ150,  $W$8:$W$13, 0 )  )    ), \" . \",   MAX( $AG$4:AG149 ) + 1  )","v":" . "},{"$f":"  IF( $AE150 = \"\", \"\",    OFFSET( Season!$E$7,     2 * $AF150 - 1  +  IF( AH$4 = $AJ$4, 1, 0 ),     3*( $AE150-1) + 0  )     )","v":"CRF"},{"$f":"  IF( $AE150 = \"\", \"\",    OFFSET( Season!$E$7,     2 * $AF150 - 1  +  IF( AH$4 = $AJ$4, 1, 0 ),     3*( $AE150-1) + 1  )     )","v":8},{"$f":"  IF( $AE150 = \"\", \"\",    OFFSET( Season!$E$7,     2 * $AF150 - 1  +  IF( AJ$4 = $AJ$4, 1, 0 ),     3*( $AE150-1) + 0  )     )","v":"M10"},{"$f":"  IF( $AE150 = \"\", \"\",    OFFSET( Season!$E$7,     2 * $AF150 - 1  +  IF( AJ$4 = $AJ$4, 1, 0 ),     3*( $AE150-1) + 1  )     )","v":11},"CRF","M10","",""]
[null,null,null,null,null,null,null,null,null,null,null,null,null,null,null,null,null,null,null,null,null,null,null,null,null,null,null,null,null,null,{"$f":"AE134 + 1","v":9},{"$f":"AF134","v":11},{"$f":"  IF(  OR(  ISNA(  MATCH( AH151, $W$8:$W$13, 0 )   ),   ISNA( MATCH(  AJ151,  $W$8:$W$13, 0 )  )    ), \" . \",   MAX( $AG$4:AG150 ) + 1  )","v":" . "},{"$f":"  IF( $AE151 = \"\", \"\",    OFFSET( Season!$E$7,     2 * $AF151 - 1  +  IF( AH$4 = $AJ$4, 1, 0 ),     3*( $AE151-1) + 0  )     )","v":"O87"},{"$f":"  IF( $AE151 = \"\", \"\",    OFFSET( Season!$E$7,     2 * $AF151 - 1  +  IF( AH$4 = $AJ$4, 1, 0 ),     3*( $AE151-1) + 1  )     )","v":10},{"$f":"  IF( $AE151 = \"\", \"\",    OFFSET( Season!$E$7,     2 * $AF151 - 1  +  IF( AJ$4 = $AJ$4, 1, 0 ),     3*( $AE151-1) + 0  )     )","v":"ENGR"},{"$f":"  IF( $AE151 = \"\", \"\",    OFFSET( Season!$E$7,     2 * $AF151 - 1  +  IF( AJ$4 = $AJ$4, 1, 0 ),     3*( $AE151-1) + 1  )     )","v":7},"ENGR","O87","",""]
[null,null,null,null,null,null,null,null,null,null,null,null,null,null,null,null,null,null,null,null,null,null,null,null,null,null,null,null,null,null,9,12,{"$f":"  IF(  OR(  ISNA(  MATCH( AH152, $W$8:$W$13, 0 )   ),   ISNA( MATCH(  AJ152,  $W$8:$W$13, 0 )  )    ), \" . \",   MAX( $AG$4:AG151 ) + 1  )","v":" . "},{"$f":"  IF( $AE152 = \"\", \"\",    OFFSET( Season!$E$7,     2 * $AF152 - 1  +  IF( AH$4 = $AJ$4, 1, 0 ),     3*( $AE152-1) + 0  )     )","v":"O19"},{"$f":"  IF( $AE152 = \"\", \"\",    OFFSET( Season!$E$7,     2 * $AF152 - 1  +  IF( AH$4 = $AJ$4, 1, 0 ),     3*( $AE152-1) + 1  )     )","v":20},{"$f":"  IF( $AE152 = \"\", \"\",    OFFSET( Season!$E$7,     2 * $AF152 - 1  +  IF( AJ$4 = $AJ$4, 1, 0 ),     3*( $AE152-1) + 0  )     )","v":"CVN"},{"$f":"  IF( $AE152 = \"\", \"\",    OFFSET( Season!$E$7,     2 * $AF152 - 1  +  IF( AJ$4 = $AJ$4, 1, 0 ),     3*( $AE152-1) + 1  )     )","v":31},"O19","CVN","",""]
[null,null,null,null,null,null,null,null,null,null,null,null,null,null,null,null,null,null,null,null,null,null,null,null,null,null,null,null,null,null,9,13,{"$f":"  IF(  OR(  ISNA(  MATCH( AH153, $W$8:$W$13, 0 )   ),   ISNA( MATCH(  AJ153,  $W$8:$W$13, 0 )  )    ), \" . \",   MAX( $AG$4:AG152 ) + 1  )","v":" . "},{"$f":"  IF( $AE153 = \"\", \"\",    OFFSET( Season!$E$7,     2 * $AF153 - 1  +  IF( AH$4 = $AJ$4, 1, 0 ),     3*( $AE153-1) + 0  )     )","v":"E25"},{"$f":"  IF( $AE153 = \"\", \"\",    OFFSET( Season!$E$7,     2 * $AF153 - 1  +  IF( AH$4 = $AJ$4, 1, 0 ),     3*( $AE153-1) + 1  )     )","v":37},{"$f":"  IF( $AE153 = \"\", \"\",    OFFSET( Season!$E$7,     2 * $AF153 - 1  +  IF( AJ$4 = $AJ$4, 1, 0 ),     3*( $AE153-1) + 0  )     )","v":"O46"},{"$f":"  IF( $AE153 = \"\", \"\",    OFFSET( Season!$E$7,     2 * $AF153 - 1  +  IF( AJ$4 = $AJ$4, 1, 0 ),     3*( $AE153-1) + 1  )     )","v":18},"O46","E25","",""]
[null,null,null,null,null,null,null,null,null,null,null,null,null,null,null,null,null,null,null,null,null,null,null,null,null,null,null,null,null,null,9,14,{"$f":"  IF(  OR(  ISNA(  MATCH( AH154, $W$8:$W$13, 0 )   ),   ISNA( MATCH(  AJ154,  $W$8:$W$13, 0 )  )    ), \" . \",   MAX( $AG$4:AG153 ) + 1  )","v":" . "},{"$f":"  IF( $AE154 = \"\", \"\",    OFFSET( Season!$E$7,     2 * $AF154 - 1  +  IF( AH$4 = $AJ$4, 1, 0 ),     3*( $AE154-1) + 0  )     )","v":"E75"},{"$f":"  IF( $AE154 = \"\", \"\",    OFFSET( Season!$E$7,     2 * $AF154 - 1  +  IF( AH$4 = $AJ$4, 1, 0 ),     3*( $AE154-1) + 1  )     )","v":-6},{"$f":"  IF( $AE154 = \"\", \"\",    OFFSET( Season!$E$7,     2 * $AF154 - 1  +  IF( AJ$4 = $AJ$4, 1, 0 ),     3*( $AE154-1) + 0  )     )","v":"A572"},{"$f":"  IF( $AE154 = \"\", \"\",    OFFSET( Season!$E$7,     2 * $AF154 - 1  +  IF( AJ$4 = $AJ$4, 1, 0 ),     3*( $AE154-1) + 1  )     )","v":-6},"Tie","Tie","E75","A572"]
[null,null,null,null,null,null,null,null,null,null,null,null,null,null,null,null,null,null,null,null,null,null,null,null,null,null,null,null,null,null,9,15,{"$f":"  IF(  OR(  ISNA(  MATCH( AH155, $W$8:$W$13, 0 )   ),   ISNA( MATCH(  AJ155,  $W$8:$W$13, 0 )  )    ), \" . \",   MAX( $AG$4:AG154 ) + 1  )","v":" . "},{"$f":"  IF( $AE155 = \"\", \"\",    OFFSET( Season!$E$7,     2 * $AF155 - 1  +  IF( AH$4 = $AJ$4, 1, 0 ),     3*( $AE155-1) + 0  )     )","v":"ARG"},{"$f":"  IF( $AE155 = \"\", \"\",    OFFSET( Season!$E$7,     2 * $AF155 - 1  +  IF( AH$4 = $AJ$4, 1, 0 ),     3*( $AE155-1) + 1  )     )","v":17},{"$f":"  IF( $AE155 = \"\", \"\",    OFFSET( Season!$E$7,     2 * $AF155 - 1  +  IF( AJ$4 = $AJ$4, 1, 0 ),     3*( $AE155-1) + 0  )     )","v":"SCM"},{"$f":"  IF( $AE155 = \"\", \"\",    OFFSET( Season!$E$7,     2 * $AF155 - 1  +  IF( AJ$4 = $AJ$4, 1, 0 ),     3*( $AE155-1) + 1  )     )","v":20},"ARG","SCM","",""]
[null,null,null,null,null,null,null,null,null,null,null,null,null,null,null,null,null,null,null,null,null,null,null,null,null,null,null,null,null,null,9,16,{"$f":"  IF(  OR(  ISNA(  MATCH( AH156, $W$8:$W$13, 0 )   ),   ISNA( MATCH(  AJ156,  $W$8:$W$13, 0 )  )    ), \" . \",   MAX( $AG$4:AG155 ) + 1  )","v":" . "},{"$f":"  IF( $AE156 = \"\", \"\",    OFFSET( Season!$E$7,     2 * $AF156 - 1  +  IF( AH$4 = $AJ$4, 1, 0 ),     3*( $AE156-1) + 0  )     )","v":"E20"},{"$f":"  IF( $AE156 = \"\", \"\",    OFFSET( Season!$E$7,     2 * $AF156 - 1  +  IF( AH$4 = $AJ$4, 1, 0 ),     3*( $AE156-1) + 1  )     )","v":18},{"$f":"  IF( $AE156 = \"\", \"\",    OFFSET( Season!$E$7,     2 * $AF156 - 1  +  IF( AJ$4 = $AJ$4, 1, 0 ),     3*( $AE156-1) + 0  )     )","v":"X31"},{"$f":"  IF( $AE156 = \"\", \"\",    OFFSET( Season!$E$7,     2 * $AF156 - 1  +  IF( AJ$4 = $AJ$4, 1, 0 ),     3*( $AE156-1) + 1  )     )","v":23},"E20","X31","",""]
[null,null,null,null,null,null,null,null,null,null,null,null,null,null,null,null,null,null,null,null,null,null,null,null,null,null,null,null,null,null,9,17,{"$f":"  IF(  OR(  ISNA(  MATCH( AH157, $W$8:$W$13, 0 )   ),   ISNA( MATCH(  AJ157,  $W$8:$W$13, 0 )  )    ), \" . \",   MAX( $AG$4:AG156 ) + 1  )","v":" . "},{"$f":"  IF( $AE157 = \"\", \"\",    OFFSET( Season!$E$7,     2 * $AF157 - 1  +  IF( AH$4 = $AJ$4, 1, 0 ),     3*( $AE157-1) + 0  )     )","v":"X10"},{"$f":"  IF( $AE157 = \"\", \"\",    OFFSET( Season!$E$7,     2 * $AF157 - 1  +  IF( AH$4 = $AJ$4, 1, 0 ),     3*( $AE157-1) + 1  )     )","v":25},{"$f":"  IF( $AE157 = \"\", \"\",    OFFSET( Season!$E$7,     2 * $AF157 - 1  +  IF( AJ$4 = $AJ$4, 1, 0 ),     3*( $AE157-1) + 0  )     )","v":"NNIT"},{"$f":"  IF( $AE157 = \"\", \"\",    OFFSET( Season!$E$7,     2 * $AF157 - 1  +  IF( AJ$4 = $AJ$4, 1, 0 ),     3*( $AE157-1) + 1  )     )","v":14},"NNIT","X10","",""]
[null,null,null,null,null,null,null,null,null,null,null,null,null,null,null,null,null,null,null,null,null,null,null,null,null,null,null,null,null,null,10,1,{"$f":"  IF(  OR(  ISNA(  MATCH( AH158, $W$8:$W$13, 0 )   ),   ISNA( MATCH(  AJ158,  $W$8:$W$13, 0 )  )    ), \" . \",   MAX( $AG$4:AG157 ) + 1  )","v":" . "},{"$f":"  IF( $AE158 = \"\", \"\",    OFFSET( Season!$E$7,     2 * $AF158 - 1  +  IF( AH$4 = $AJ$4, 1, 0 ),     3*( $AE158-1) + 0  )     )","v":"AMSC"},{"$f":"  IF( $AE158 = \"\", \"\",    OFFSET( Season!$E$7,     2 * $AF158 - 1  +  IF( AH$4 = $AJ$4, 1, 0 ),     3*( $AE158-1) + 1  )     )","v":12},{"$f":"  IF( $AE158 = \"\", \"\",    OFFSET( Season!$E$7,     2 * $AF158 - 1  +  IF( AJ$4 = $AJ$4, 1, 0 ),     3*( $AE158-1) + 0  )     )","v":"X01"},{"$f":"  IF( $AE158 = \"\", \"\",    OFFSET( Season!$E$7,     2 * $AF158 - 1  +  IF( AJ$4 = $AJ$4, 1, 0 ),     3*( $AE158-1) + 1  )     )","v":2},"X01","AMSC","",""]
[null,null,null,null,null,null,null,null,null,null,null,null,null,null,null,null,null,null,null,null,null,null,null,null,null,null,null,null,null,null,10,2,{"$f":"  IF(  OR(  ISNA(  MATCH( AH159, $W$8:$W$13, 0 )   ),   ISNA( MATCH(  AJ159,  $W$8:$W$13, 0 )  )    ), \" . \",   MAX( $AG$4:AG158 ) + 1  )","v":" . "},{"$f":"  IF( $AE159 = \"\", \"\",    OFFSET( Season!$E$7,     2 * $AF159 - 1  +  IF( AH$4 = $AJ$4, 1, 0 ),     3*( $AE159-1) + 0  )     )","v":"E55B"},{"$f":"  IF( $AE159 = \"\", \"\",    OFFSET( Season!$E$7,     2 * $AF159 - 1  +  IF( AH$4 = $AJ$4, 1, 0 ),     3*( $AE159-1) + 1  )     )","v":3},{"$f":"  IF( $AE159 = \"\", \"\",    OFFSET( Season!$E$7,     2 * $AF159 - 1  +  IF( AJ$4 = $AJ$4, 1, 0 ),     3*( $AE159-1) + 0  )     )","v":"E12"},{"$f":"  IF( $AE159 = \"\", \"\",    OFFSET( Season!$E$7,     2 * $AF159 - 1  +  IF( AJ$4 = $AJ$4, 1, 0 ),     3*( $AE159-1) + 1  )     )","v":11},"E55B","E12","",""]
[null,null,null,null,null,null,null,null,null,null,null,null,null,null,null,null,null,null,null,null,null,null,null,null,null,null,null,null,null,null,10,3,{"$f":"  IF(  OR(  ISNA(  MATCH( AH160, $W$8:$W$13, 0 )   ),   ISNA( MATCH(  AJ160,  $W$8:$W$13, 0 )  )    ), \" . \",   MAX( $AG$4:AG159 ) + 1  )","v":" . "},{"$f":"  IF( $AE160 = \"\", \"\",    OFFSET( Season!$E$7,     2 * $AF160 - 1  +  IF( AH$4 = $AJ$4, 1, 0 ),     3*( $AE160-1) + 0  )     )","v":"E55a"},{"$f":"  IF( $AE160 = \"\", \"\",    OFFSET( Season!$E$7,     2 * $AF160 - 1  +  IF( AH$4 = $AJ$4, 1, 0 ),     3*( $AE160-1) + 1  )     )","v":16},{"$f":"  IF( $AE160 = \"\", \"\",    OFFSET( Season!$E$7,     2 * $AF160 - 1  +  IF( AJ$4 = $AJ$4, 1, 0 ),     3*( $AE160-1) + 0  )     )","v":"SUBS"},{"$f":"  IF( $AE160 = \"\", \"\",    OFFSET( Season!$E$7,     2 * $AF160 - 1  +  IF( AJ$4 = $AJ$4, 1, 0 ),     3*( $AE160-1) + 1  )     )","v":13},"SUBS","E55a","",""]
[null,null,null,null,null,null,null,null,null,null,null,null,null,null,null,null,null,null,null,null,null,null,null,null,null,null,null,null,null,null,10,4,{"$f":"  IF(  OR(  ISNA(  MATCH( AH161, $W$8:$W$13, 0 )   ),   ISNA( MATCH(  AJ161,  $W$8:$W$13, 0 )  )    ), \" . \",   MAX( $AG$4:AG160 ) + 1  )","v":" . "},{"$f":"  IF( $AE161 = \"\", \"\",    OFFSET( Season!$E$7,     2 * $AF161 - 1  +  IF( AH$4 = $AJ$4, 1, 0 ),     3*( $AE161-1) + 0  )     )","v":"E42"},{"$f":"  IF( $AE161 = \"\", \"\",    OFFSET( Season!$E$7,     2 * $AF161 - 1  +  IF( AH$4 = $AJ$4, 1, 0 ),     3*( $AE161-1) + 1  )     )","v":1},{"$f":"  IF( $AE161 = \"\", \"\",    OFFSET( Season!$E$7,     2 * $AF161 - 1  +  IF( AJ$4 = $AJ$4, 1, 0 ),     3*( $AE161-1) + 0  )     )","v":"E14"},{"$f":"  IF( $AE161 = \"\", \"\",    OFFSET( Season!$E$7,     2 * $AF161 - 1  +  IF( AJ$4 = $AJ$4, 1, 0 ),     3*( $AE161-1) + 1  )     )","v":19},"E42","E14","",""]
[null,null,null,null,null,null,null,null,null,null,null,null,null,null,null,null,null,null,null,null,null,null,null,null,null,null,null,null,null,null,10,5,{"$f":"  IF(  OR(  ISNA(  MATCH( AH162, $W$8:$W$13, 0 )   ),   ISNA( MATCH(  AJ162,  $W$8:$W$13, 0 )  )    ), \" . \",   MAX( $AG$4:AG161 ) + 1  )","v":" . "},{"$f":"  IF( $AE162 = \"\", \"\",    OFFSET( Season!$E$7,     2 * $AF162 - 1  +  IF( AH$4 = $AJ$4, 1, 0 ),     3*( $AE162-1) + 0  )     )","v":"AGS"},{"$f":"  IF( $AE162 = \"\", \"\",    OFFSET( Season!$E$7,     2 * $AF162 - 1  +  IF( AH$4 = $AJ$4, 1, 0 ),     3*( $AE162-1) + 1  )     )","v":14},{"$f":"  IF( $AE162 = \"\", \"\",    OFFSET( Season!$E$7,     2 * $AF162 - 1  +  IF( AJ$4 = $AJ$4, 1, 0 ),     3*( $AE162-1) + 0  )     )","v":"E17"},{"$f":"  IF( $AE162 = \"\", \"\",    OFFSET( Season!$E$7,     2 * $AF162 - 1  +  IF( AJ$4 = $AJ$4, 1, 0 ),     3*( $AE162-1) + 1  )     )","v":8},"E17","AGS","",""]
[null,null,null,null,null,null,null,null,null,null,null,null,null,null,null,null,null,null,null,null,null,null,null,null,null,null,null,null,null,null,10,6,{"$f":"  IF(  OR(  ISNA(  MATCH( AH163, $W$8:$W$13, 0 )   ),   ISNA( MATCH(  AJ163,  $W$8:$W$13, 0 )  )    ), \" . \",   MAX( $AG$4:AG162 ) + 1  )","v":" . "},{"$f":"  IF( $AE163 = \"\", \"\",    OFFSET( Season!$E$7,     2 * $AF163 - 1  +  IF( AH$4 = $AJ$4, 1, 0 ),     3*( $AE163-1) + 0  )     )","v":"E60"},{"$f":"  IF( $AE163 = \"\", \"\",    OFFSET( Season!$E$7,     2 * $AF163 - 1  +  IF( AH$4 = $AJ$4, 1, 0 ),     3*( $AE163-1) + 1  )     )","v":24},{"$f":"  IF( $AE163 = \"\", \"\",    OFFSET( Season!$E$7,     2 * $AF163 - 1  +  IF( AJ$4 = $AJ$4, 1, 0 ),     3*( $AE163-1) + 0  )     )","v":"E86"},{"$f":"  IF( $AE163 = \"\", \"\",    OFFSET( Season!$E$7,     2 * $AF163 - 1  +  IF( AJ$4 = $AJ$4, 1, 0 ),     3*( $AE163-1) + 1  )     )","v":12},"E86","E60","",""]
[null,null,null,null,null,null,null,null,null,null,null,null,null,null,null,null,null,null,null,null,null,null,null,null,null,null,null,null,null,null,10,7,{"$f":"  IF(  OR(  ISNA(  MATCH( AH164, $W$8:$W$13, 0 )   ),   ISNA( MATCH(  AJ164,  $W$8:$W$13, 0 )  )    ), \" . \",   MAX( $AG$4:AG163 ) + 1  )","v":" . "},{"$f":"  IF( $AE164 = \"\", \"\",    OFFSET( Season!$E$7,     2 * $AF164 - 1  +  IF( AH$4 = $AJ$4, 1, 0 ),     3*( $AE164-1) + 0  )     )","v":"X88"},{"$f":"  IF( $AE164 = \"\", \"\",    OFFSET( Season!$E$7,     2 * $AF164 - 1  +  IF( AH$4 = $AJ$4, 1, 0 ),     3*( $AE164-1) + 1  )     )","v":28},{"$f":"  IF( $AE164 = \"\", \"\",    OFFSET( Season!$E$7,     2 * $AF164 - 1  +  IF( AJ$4 = $AJ$4, 1, 0 ),     3*( $AE164-1) + 0  )     )","v":"X87"},{"$f":"  IF( $AE164 = \"\", \"\",    OFFSET( Season!$E$7,     2 * $AF164 - 1  +  IF( AJ$4 = $AJ$4, 1, 0 ),     3*( $AE164-1) + 1  )     )","v":10},"X87","X88","",""]
[null,null,null,null,null,null,null,null,null,null,null,null,null,null,null,null,null,null,null,null,null,null,null,null,null,null,null,null,null,null,10,8,{"$f":"  IF(  OR(  ISNA(  MATCH( AH165, $W$8:$W$13, 0 )   ),   ISNA( MATCH(  AJ165,  $W$8:$W$13, 0 )  )    ), \" . \",   MAX( $AG$4:AG164 ) + 1  )","v":" . "},{"$f":"  IF( $AE165 = \"\", \"\",    OFFSET( Season!$E$7,     2 * $AF165 - 1  +  IF( AH$4 = $AJ$4, 1, 0 ),     3*( $AE165-1) + 0  )     )","v":"E83"},{"$f":"  IF( $AE165 = \"\", \"\",    OFFSET( Season!$E$7,     2 * $AF165 - 1  +  IF( AH$4 = $AJ$4, 1, 0 ),     3*( $AE165-1) + 1  )     )","v":16},{"$f":"  IF( $AE165 = \"\", \"\",    OFFSET( Season!$E$7,     2 * $AF165 - 1  +  IF( AJ$4 = $AJ$4, 1, 0 ),     3*( $AE165-1) + 0  )     )","v":"X04"},{"$f":"  IF( $AE165 = \"\", \"\",    OFFSET( Season!$E$7,     2 * $AF165 - 1  +  IF( AJ$4 = $AJ$4, 1, 0 ),     3*( $AE165-1) + 1  )     )","v":12},"X04","E83","",""]
[null,null,null,null,null,null,null,null,null,null,null,null,null,null,null,null,null,null,null,null,null,null,null,null,null,null,null,null,null,null,10,9,{"$f":"  IF(  OR(  ISNA(  MATCH( AH166, $W$8:$W$13, 0 )   ),   ISNA( MATCH(  AJ166,  $W$8:$W$13, 0 )  )    ), \" . \",   MAX( $AG$4:AG165 ) + 1  )","v":" . "},{"$f":"  IF( $AE166 = \"\", \"\",    OFFSET( Season!$E$7,     2 * $AF166 - 1  +  IF( AH$4 = $AJ$4, 1, 0 ),     3*( $AE166-1) + 0  )     )","v":0},{"$f":"  IF( $AE166 = \"\", \"\",    OFFSET( Season!$E$7,     2 * $AF166 - 1  +  IF( AH$4 = $AJ$4, 1, 0 ),     3*( $AE166-1) + 1  )     )","v":0},{"$f":"  IF( $AE166 = \"\", \"\",    OFFSET( Season!$E$7,     2 * $AF166 - 1  +  IF( AJ$4 = $AJ$4, 1, 0 ),     3*( $AE166-1) + 0  )     )","v":0},{"$f":"  IF( $AE166 = \"\", \"\",    OFFSET( Season!$E$7,     2 * $AF166 - 1  +  IF( AJ$4 = $AJ$4, 1, 0 ),     3*( $AE166-1) + 1  )     )","v":0},"x","x","",""]
[null,null,null,null,null,null,null,null,null,null,null,null,null,null,null,null,null,null,null,null,null,null,null,null,null,null,null,null,null,null,10,10,{"$f":"  IF(  OR(  ISNA(  MATCH( AH167, $W$8:$W$13, 0 )   ),   ISNA( MATCH(  AJ167,  $W$8:$W$13, 0 )  )    ), \" . \",   MAX( $AG$4:AG166 ) + 1  )","v":" . "},{"$f":"  IF( $AE167 = \"\", \"\",    OFFSET( Season!$E$7,     2 * $AF167 - 1  +  IF( AH$4 = $AJ$4, 1, 0 ),     3*( $AE167-1) + 0  )     )","v":"O46"},{"$f":"  IF( $AE167 = \"\", \"\",    OFFSET( Season!$E$7,     2 * $AF167 - 1  +  IF( AH$4 = $AJ$4, 1, 0 ),     3*( $AE167-1) + 1  )     )","v":6},{"$f":"  IF( $AE167 = \"\", \"\",    OFFSET( Season!$E$7,     2 * $AF167 - 1  +  IF( AJ$4 = $AJ$4, 1, 0 ),     3*( $AE167-1) + 0  )     )","v":"X10"},{"$f":"  IF( $AE167 = \"\", \"\",    OFFSET( Season!$E$7,     2 * $AF167 - 1  +  IF( AJ$4 = $AJ$4, 1, 0 ),     3*( $AE167-1) + 1  )     )","v":10},"O46","X10","",""]
[null,null,null,null,null,null,null,null,null,null,null,null,null,null,null,null,null,null,null,null,null,null,null,null,null,null,null,null,null,null,10,11,{"$f":"  IF(  OR(  ISNA(  MATCH( AH168, $W$8:$W$13, 0 )   ),   ISNA( MATCH(  AJ168,  $W$8:$W$13, 0 )  )    ), \" . \",   MAX( $AG$4:AG167 ) + 1  )","v":" . "},{"$f":"  IF( $AE168 = \"\", \"\",    OFFSET( Season!$E$7,     2 * $AF168 - 1  +  IF( AH$4 = $AJ$4, 1, 0 ),     3*( $AE168-1) + 0  )     )","v":"M10"},{"$f":"  IF( $AE168 = \"\", \"\",    OFFSET( Season!$E$7,     2 * $AF168 - 1  +  IF( AH$4 = $AJ$4, 1, 0 ),     3*( $AE168-1) + 1  )     )","v":8},{"$f":"  IF( $AE168 = \"\", \"\",    OFFSET( Season!$E$7,     2 * $AF168 - 1  +  IF( AJ$4 = $AJ$4, 1, 0 ),     3*( $AE168-1) + 0  )     )","v":"E20"},{"$f":"  IF( $AE168 = \"\", \"\",    OFFSET( Season!$E$7,     2 * $AF168 - 1  +  IF( AJ$4 = $AJ$4, 1, 0 ),     3*( $AE168-1) + 1  )     )","v":13},"M10","E20","",""]
[null,null,null,null,null,null,null,null,null,null,null,null,null,null,null,null,null,null,null,null,null,null,null,null,null,null,null,null,null,null,10,12,{"$f":"  IF(  OR(  ISNA(  MATCH( AH169, $W$8:$W$13, 0 )   ),   ISNA( MATCH(  AJ169,  $W$8:$W$13, 0 )  )    ), \" . \",   MAX( $AG$4:AG168 ) + 1  )","v":" . "},{"$f":"  IF( $AE169 = \"\", \"\",    OFFSET( Season!$E$7,     2 * $AF169 - 1  +  IF( AH$4 = $AJ$4, 1, 0 ),     3*( $AE169-1) + 0  )     )","v":"SCM"},{"$f":"  IF( $AE169 = \"\", \"\",    OFFSET( Season!$E$7,     2 * $AF169 - 1  +  IF( AH$4 = $AJ$4, 1, 0 ),     3*( $AE169-1) + 1  )     )","v":20},{"$f":"  IF( $AE169 = \"\", \"\",    OFFSET( Season!$E$7,     2 * $AF169 - 1  +  IF( AJ$4 = $AJ$4, 1, 0 ),     3*( $AE169-1) + 0  )     )","v":"E75"},{"$f":"  IF( $AE169 = \"\", \"\",    OFFSET( Season!$E$7,     2 * $AF169 - 1  +  IF( AJ$4 = $AJ$4, 1, 0 ),     3*( $AE169-1) + 1  )     )","v":8},"E75","SCM","",""]
[null,null,null,null,null,null,null,null,null,null,null,null,null,null,null,null,null,null,null,null,null,null,null,null,null,null,null,null,null,null,10,13,{"$f":"  IF(  OR(  ISNA(  MATCH( AH170, $W$8:$W$13, 0 )   ),   ISNA( MATCH(  AJ170,  $W$8:$W$13, 0 )  )    ), \" . \",   MAX( $AG$4:AG169 ) + 1  )","v":" . "},{"$f":"  IF( $AE170 = \"\", \"\",    OFFSET( Season!$E$7,     2 * $AF170 - 1  +  IF( AH$4 = $AJ$4, 1, 0 ),     3*( $AE170-1) + 0  )     )","v":"ARG"},{"$f":"  IF( $AE170 = \"\", \"\",    OFFSET( Season!$E$7,     2 * $AF170 - 1  +  IF( AH$4 = $AJ$4, 1, 0 ),     3*( $AE170-1) + 1  )     )","v":13},{"$f":"  IF( $AE170 = \"\", \"\",    OFFSET( Season!$E$7,     2 * $AF170 - 1  +  IF( AJ$4 = $AJ$4, 1, 0 ),     3*( $AE170-1) + 0  )     )","v":"A572"},{"$f":"  IF( $AE170 = \"\", \"\",    OFFSET( Season!$E$7,     2 * $AF170 - 1  +  IF( AJ$4 = $AJ$4, 1, 0 ),     3*( $AE170-1) + 1  )     )","v":6},"A572","ARG","",""]
[null,null,null,null,null,null,null,null,null,null,null,null,null,null,null,null,null,null,null,null,null,null,null,null,null,null,null,null,null,null,10,14,{"$f":"  IF(  OR(  ISNA(  MATCH( AH171, $W$8:$W$13, 0 )   ),   ISNA( MATCH(  AJ171,  $W$8:$W$13, 0 )  )    ), \" . \",   MAX( $AG$4:AG170 ) + 1  )","v":" . "},{"$f":"  IF( $AE171 = \"\", \"\",    OFFSET( Season!$E$7,     2 * $AF171 - 1  +  IF( AH$4 = $AJ$4, 1, 0 ),     3*( $AE171-1) + 0  )     )","v":"NNIT"},{"$f":"  IF( $AE171 = \"\", \"\",    OFFSET( Season!$E$7,     2 * $AF171 - 1  +  IF( AH$4 = $AJ$4, 1, 0 ),     3*( $AE171-1) + 1  )     )","v":5},{"$f":"  IF( $AE171 = \"\", \"\",    OFFSET( Season!$E$7,     2 * $AF171 - 1  +  IF( AJ$4 = $AJ$4, 1, 0 ),     3*( $AE171-1) + 0  )     )","v":"E25"},{"$f":"  IF( $AE171 = \"\", \"\",    OFFSET( Season!$E$7,     2 * $AF171 - 1  +  IF( AJ$4 = $AJ$4, 1, 0 ),     3*( $AE171-1) + 1  )     )","v":20},"NNIT","E25","",""]
[null,null,null,null,null,null,null,null,null,null,null,null,null,null,null,null,null,null,null,null,null,null,null,null,null,null,null,null,null,null,10,15,{"$f":"  IF(  OR(  ISNA(  MATCH( AH172, $W$8:$W$13, 0 )   ),   ISNA( MATCH(  AJ172,  $W$8:$W$13, 0 )  )    ), \" . \",   MAX( $AG$4:AG171 ) + 1  )","v":" . "},{"$f":"  IF( $AE172 = \"\", \"\",    OFFSET( Season!$E$7,     2 * $AF172 - 1  +  IF( AH$4 = $AJ$4, 1, 0 ),     3*( $AE172-1) + 0  )     )","v":"ENGR"},{"$f":"  IF( $AE172 = \"\", \"\",    OFFSET( Season!$E$7,     2 * $AF172 - 1  +  IF( AH$4 = $AJ$4, 1, 0 ),     3*( $AE172-1) + 1  )     )","v":19},{"$f":"  IF( $AE172 = \"\", \"\",    OFFSET( Season!$E$7,     2 * $AF172 - 1  +  IF( AJ$4 = $AJ$4, 1, 0 ),     3*( $AE172-1) + 0  )     )","v":"O19"},{"$f":"  IF( $AE172 = \"\", \"\",    OFFSET( Season!$E$7,     2 * $AF172 - 1  +  IF( AJ$4 = $AJ$4, 1, 0 ),     3*( $AE172-1) + 1  )     )","v":11},"O19","ENGR","",""]
[null,null,null,null,null,null,null,null,null,null,null,null,null,null,null,null,null,null,null,null,null,null,null,null,null,null,null,null,null,null,10,16,{"$f":"  IF(  OR(  ISNA(  MATCH( AH173, $W$8:$W$13, 0 )   ),   ISNA( MATCH(  AJ173,  $W$8:$W$13, 0 )  )    ), \" . \",   MAX( $AG$4:AG172 ) + 1  )","v":" . "},{"$f":"  IF( $AE173 = \"\", \"\",    OFFSET( Season!$E$7,     2 * $AF173 - 1  +  IF( AH$4 = $AJ$4, 1, 0 ),     3*( $AE173-1) + 0  )     )","v":"CVN"},{"$f":"  IF( $AE173 = \"\", \"\",    OFFSET( Season!$E$7,     2 * $AF173 - 1  +  IF( AH$4 = $AJ$4, 1, 0 ),     3*( $AE173-1) + 1  )     )","v":28},{"$f":"  IF( $AE173 = \"\", \"\",    OFFSET( Season!$E$7,     2 * $AF173 - 1  +  IF( AJ$4 = $AJ$4, 1, 0 ),     3*( $AE173-1) + 0  )     )","v":"O87"},{"$f":"  IF( $AE173 = \"\", \"\",    OFFSET( Season!$E$7,     2 * $AF173 - 1  +  IF( AJ$4 = $AJ$4, 1, 0 ),     3*( $AE173-1) + 1  )     )","v":21},"O87","CVN","",""]
[null,null,null,null,null,null,null,null,null,null,null,null,null,null,null,null,null,null,null,null,null,null,null,null,null,null,null,null,null,null,10,17,{"$f":"  IF(  OR(  ISNA(  MATCH( AH174, $W$8:$W$13, 0 )   ),   ISNA( MATCH(  AJ174,  $W$8:$W$13, 0 )  )    ), \" . \",   MAX( $AG$4:AG173 ) + 1  )","v":" . "},{"$f":"  IF( $AE174 = \"\", \"\",    OFFSET( Season!$E$7,     2 * $AF174 - 1  +  IF( AH$4 = $AJ$4, 1, 0 ),     3*( $AE174-1) + 0  )     )","v":"X31"},{"$f":"  IF( $AE174 = \"\", \"\",    OFFSET( Season!$E$7,     2 * $AF174 - 1  +  IF( AH$4 = $AJ$4, 1, 0 ),     3*( $AE174-1) + 1  )     )","v":10},{"$f":"  IF( $AE174 = \"\", \"\",    OFFSET( Season!$E$7,     2 * $AF174 - 1  +  IF( AJ$4 = $AJ$4, 1, 0 ),     3*( $AE174-1) + 0  )     )","v":"CRF"},{"$f":"  IF( $AE174 = \"\", \"\",    OFFSET( Season!$E$7,     2 * $AF174 - 1  +  IF( AJ$4 = $AJ$4, 1, 0 ),     3*( $AE174-1) + 1  )     )","v":26},"X31","CRF","",""]
[null,null,null,null,null,null,null,null,null,null,null,null,null,null,null,null,null,null,null,null,null,null,null,null,null,null,null,null,null,null,11,1,{"$f":"  IF(  OR(  ISNA(  MATCH( AH175, $W$8:$W$13, 0 )   ),   ISNA( MATCH(  AJ175,  $W$8:$W$13, 0 )  )    ), \" . \",   MAX( $AG$4:AG174 ) + 1  )","v":" . "},{"$f":"  IF( $AE175 = \"\", \"\",    OFFSET( Season!$E$7,     2 * $AF175 - 1  +  IF( AH$4 = $AJ$4, 1, 0 ),     3*( $AE175-1) + 0  )     )","v":"E86"},{"$f":"  IF( $AE175 = \"\", \"\",    OFFSET( Season!$E$7,     2 * $AF175 - 1  +  IF( AH$4 = $AJ$4, 1, 0 ),     3*( $AE175-1) + 1  )     )","v":25},{"$f":"  IF( $AE175 = \"\", \"\",    OFFSET( Season!$E$7,     2 * $AF175 - 1  +  IF( AJ$4 = $AJ$4, 1, 0 ),     3*( $AE175-1) + 0  )     )","v":"AGS"},{"$f":"  IF( $AE175 = \"\", \"\",    OFFSET( Season!$E$7,     2 * $AF175 - 1  +  IF( AJ$4 = $AJ$4, 1, 0 ),     3*( $AE175-1) + 1  )     )","v":26},"E86","AGS","",""]
[null,null,null,null,null,null,null,null,null,null,null,null,null,null,null,null,null,null,null,null,null,null,null,null,null,null,null,null,null,null,11,2,{"$f":"  IF(  OR(  ISNA(  MATCH( AH176, $W$8:$W$13, 0 )   ),   ISNA( MATCH(  AJ176,  $W$8:$W$13, 0 )  )    ), \" . \",   MAX( $AG$4:AG175 ) + 1  )","v":" . "},{"$f":"  IF( $AE176 = \"\", \"\",    OFFSET( Season!$E$7,     2 * $AF176 - 1  +  IF( AH$4 = $AJ$4, 1, 0 ),     3*( $AE176-1) + 0  )     )","v":"E14"},{"$f":"  IF( $AE176 = \"\", \"\",    OFFSET( Season!$E$7,     2 * $AF176 - 1  +  IF( AH$4 = $AJ$4, 1, 0 ),     3*( $AE176-1) + 1  )     )","v":21},{"$f":"  IF( $AE176 = \"\", \"\",    OFFSET( Season!$E$7,     2 * $AF176 - 1  +  IF( AJ$4 = $AJ$4, 1, 0 ),     3*( $AE176-1) + 0  )     )","v":"E12"},{"$f":"  IF( $AE176 = \"\", \"\",    OFFSET( Season!$E$7,     2 * $AF176 - 1  +  IF( AJ$4 = $AJ$4, 1, 0 ),     3*( $AE176-1) + 1  )     )","v":8},"E12","E14","",""]
[null,null,null,null,null,null,null,null,null,null,null,null,null,null,null,null,null,null,null,null,null,null,null,null,null,null,null,null,null,null,11,3,{"$f":"  IF(  OR(  ISNA(  MATCH( AH177, $W$8:$W$13, 0 )   ),   ISNA( MATCH(  AJ177,  $W$8:$W$13, 0 )  )    ), \" . \",   MAX( $AG$4:AG176 ) + 1  )","v":" . "},{"$f":"  IF( $AE177 = \"\", \"\",    OFFSET( Season!$E$7,     2 * $AF177 - 1  +  IF( AH$4 = $AJ$4, 1, 0 ),     3*( $AE177-1) + 0  )     )","v":"E83"},{"$f":"  IF( $AE177 = \"\", \"\",    OFFSET( Season!$E$7,     2 * $AF177 - 1  +  IF( AH$4 = $AJ$4, 1, 0 ),     3*( $AE177-1) + 1  )     )","v":25},{"$f":"  IF( $AE177 = \"\", \"\",    OFFSET( Season!$E$7,     2 * $AF177 - 1  +  IF( AJ$4 = $AJ$4, 1, 0 ),     3*( $AE177-1) + 0  )     )","v":"SUBS"},{"$f":"  IF( $AE177 = \"\", \"\",    OFFSET( Season!$E$7,     2 * $AF177 - 1  +  IF( AJ$4 = $AJ$4, 1, 0 ),     3*( $AE177-1) + 1  )     )","v":34},"E83","SUBS","",""]
[null,null,null,null,null,null,null,null,null,null,null,null,null,null,null,null,null,null,null,null,null,null,null,null,null,null,null,null,null,null,11,4,{"$f":"  IF(  OR(  ISNA(  MATCH( AH178, $W$8:$W$13, 0 )   ),   ISNA( MATCH(  AJ178,  $W$8:$W$13, 0 )  )    ), \" . \",   MAX( $AG$4:AG177 ) + 1  )","v":" . "},{"$f":"  IF( $AE178 = \"\", \"\",    OFFSET( Season!$E$7,     2 * $AF178 - 1  +  IF( AH$4 = $AJ$4, 1, 0 ),     3*( $AE178-1) + 0  )     )","v":"X04"},{"$f":"  IF( $AE178 = \"\", \"\",    OFFSET( Season!$E$7,     2 * $AF178 - 1  +  IF( AH$4 = $AJ$4, 1, 0 ),     3*( $AE178-1) + 1  )     )","v":28},{"$f":"  IF( $AE178 = \"\", \"\",    OFFSET( Season!$E$7,     2 * $AF178 - 1  +  IF( AJ$4 = $AJ$4, 1, 0 ),     3*( $AE178-1) + 0  )     )","v":"E55a"},{"$f":"  IF( $AE178 = \"\", \"\",    OFFSET( Season!$E$7,     2 * $AF178 - 1  +  IF( AJ$4 = $AJ$4, 1, 0 ),     3*( $AE178-1) + 1  )     )","v":12.1},"E55a","X04","",""]
[null,null,null,null,null,null,null,null,null,null,null,null,null,null,null,null,null,null,null,null,null,null,null,null,null,null,null,null,null,null,11,5,{"$f":"  IF(  OR(  ISNA(  MATCH( AH179, $W$8:$W$13, 0 )   ),   ISNA( MATCH(  AJ179,  $W$8:$W$13, 0 )  )    ), \" . \",   MAX( $AG$4:AG178 ) + 1  )","v":" . "},{"$f":"  IF( $AE179 = \"\", \"\",    OFFSET( Season!$E$7,     2 * $AF179 - 1  +  IF( AH$4 = $AJ$4, 1, 0 ),     3*( $AE179-1) + 0  )     )","v":"X01"},{"$f":"  IF( $AE179 = \"\", \"\",    OFFSET( Season!$E$7,     2 * $AF179 - 1  +  IF( AH$4 = $AJ$4, 1, 0 ),     3*( $AE179-1) + 1  )     )","v":15},{"$f":"  IF( $AE179 = \"\", \"\",    OFFSET( Season!$E$7,     2 * $AF179 - 1  +  IF( AJ$4 = $AJ$4, 1, 0 ),     3*( $AE179-1) + 0  )     )","v":"X88"},{"$f":"  IF( $AE179 = \"\", \"\",    OFFSET( Season!$E$7,     2 * $AF179 - 1  +  IF( AJ$4 = $AJ$4, 1, 0 ),     3*( $AE179-1) + 1  )     )","v":6},"X88","X01","",""]
[null,null,null,null,null,null,null,null,null,null,null,null,null,null,null,null,null,null,null,null,null,null,null,null,null,null,null,null,null,null,11,6,{"$f":"  IF(  OR(  ISNA(  MATCH( AH180, $W$8:$W$13, 0 )   ),   ISNA( MATCH(  AJ180,  $W$8:$W$13, 0 )  )    ), \" . \",   MAX( $AG$4:AG179 ) + 1  )","v":" . "},{"$f":"  IF( $AE180 = \"\", \"\",    OFFSET( Season!$E$7,     2 * $AF180 - 1  +  IF( AH$4 = $AJ$4, 1, 0 ),     3*( $AE180-1) + 0  )     )","v":"AMSC"},{"$f":"  IF( $AE180 = \"\", \"\",    OFFSET( Season!$E$7,     2 * $AF180 - 1  +  IF( AH$4 = $AJ$4, 1, 0 ),     3*( $AE180-1) + 1  )     )","v":14},{"$f":"  IF( $AE180 = \"\", \"\",    OFFSET( Season!$E$7,     2 * $AF180 - 1  +  IF( AJ$4 = $AJ$4, 1, 0 ),     3*( $AE180-1) + 0  )     )","v":"X87"},{"$f":"  IF( $AE180 = \"\", \"\",    OFFSET( Season!$E$7,     2 * $AF180 - 1  +  IF( AJ$4 = $AJ$4, 1, 0 ),     3*( $AE180-1) + 1  )     )","v":10},"X87","AMSC","",""]
[null,null,null,null,null,null,null,null,null,null,null,null,null,null,null,null,null,null,null,null,null,null,null,null,null,null,null,null,null,null,11,7,{"$f":"  IF(  OR(  ISNA(  MATCH( AH181, $W$8:$W$13, 0 )   ),   ISNA( MATCH(  AJ181,  $W$8:$W$13, 0 )  )    ), \" . \",   MAX( $AG$4:AG180 ) + 1  )","v":" . "},{"$f":"  IF( $AE181 = \"\", \"\",    OFFSET( Season!$E$7,     2 * $AF181 - 1  +  IF( AH$4 = $AJ$4, 1, 0 ),     3*( $AE181-1) + 0  )     )","v":"E55B"},{"$f":"  IF( $AE181 = \"\", \"\",    OFFSET( Season!$E$7,     2 * $AF181 - 1  +  IF( AH$4 = $AJ$4, 1, 0 ),     3*( $AE181-1) + 1  )     )","v":15},{"$f":"  IF( $AE181 = \"\", \"\",    OFFSET( Season!$E$7,     2 * $AF181 - 1  +  IF( AJ$4 = $AJ$4, 1, 0 ),     3*( $AE181-1) + 0  )     )","v":"E42"},{"$f":"  IF( $AE181 = \"\", \"\",    OFFSET( Season!$E$7,     2 * $AF181 - 1  +  IF( AJ$4 = $AJ$4, 1, 0 ),     3*( $AE181-1) + 1  )     )","v":33},"E55B","E42","",""]
[null,null,null,null,null,null,null,null,null,null,null,null,null,null,null,null,null,null,null,null,null,null,null,null,null,null,null,null,null,null,11,8,{"$f":"  IF(  OR(  ISNA(  MATCH( AH182, $W$8:$W$13, 0 )   ),   ISNA( MATCH(  AJ182,  $W$8:$W$13, 0 )  )    ), \" . \",   MAX( $AG$4:AG181 ) + 1  )","v":" . "},{"$f":"  IF( $AE182 = \"\", \"\",    OFFSET( Season!$E$7,     2 * $AF182 - 1  +  IF( AH$4 = $AJ$4, 1, 0 ),     3*( $AE182-1) + 0  )     )","v":"E60"},{"$f":"  IF( $AE182 = \"\", \"\",    OFFSET( Season!$E$7,     2 * $AF182 - 1  +  IF( AH$4 = $AJ$4, 1, 0 ),     3*( $AE182-1) + 1  )     )","v":0},{"$f":"  IF( $AE182 = \"\", \"\",    OFFSET( Season!$E$7,     2 * $AF182 - 1  +  IF( AJ$4 = $AJ$4, 1, 0 ),     3*( $AE182-1) + 0  )     )","v":"E17"},{"$f":"  IF( $AE182 = \"\", \"\",    OFFSET( Season!$E$7,     2 * $AF182 - 1  +  IF( AJ$4 = $AJ$4, 1, 0 ),     3*( $AE182-1) + 1  )     )","v":"f"},"E60","E17","",""]
[null,null,null,null,null,null,null,null,null,null,null,null,null,null,null,null,null,null,null,null,null,null,null,null,null,null,null,null,null,null,11,9,{"$f":"  IF(  OR(  ISNA(  MATCH( AH183, $W$8:$W$13, 0 )   ),   ISNA( MATCH(  AJ183,  $W$8:$W$13, 0 )  )    ), \" . \",   MAX( $AG$4:AG182 ) + 1  )","v":" . "},{"$f":"  IF( $AE183 = \"\", \"\",    OFFSET( Season!$E$7,     2 * $AF183 - 1  +  IF( AH$4 = $AJ$4, 1, 0 ),     3*( $AE183-1) + 0  )     )","v":0},{"$f":"  IF( $AE183 = \"\", \"\",    OFFSET( Season!$E$7,     2 * $AF183 - 1  +  IF( AH$4 = $AJ$4, 1, 0 ),     3*( $AE183-1) + 1  )     )","v":0},{"$f":"  IF( $AE183 = \"\", \"\",    OFFSET( Season!$E$7,     2 * $AF183 - 1  +  IF( AJ$4 = $AJ$4, 1, 0 ),     3*( $AE183-1) + 0  )     )","v":0},{"$f":"  IF( $AE183 = \"\", \"\",    OFFSET( Season!$E$7,     2 * $AF183 - 1  +  IF( AJ$4 = $AJ$4, 1, 0 ),     3*( $AE183-1) + 1  )     )","v":0},"x","x","",""]
[null,null,null,null,null,null,null,null,null,null,null,null,null,null,null,null,null,null,null,null,null,null,null,null,null,null,null,null,null,null,11,10,{"$f":"  IF(  OR(  ISNA(  MATCH( AH184, $W$8:$W$13, 0 )   ),   ISNA( MATCH(  AJ184,  $W$8:$W$13, 0 )  )    ), \" . \",   MAX( $AG$4:AG183 ) + 1  )","v":" . "},{"$f":"  IF( $AE184 = \"\", \"\",    OFFSET( Season!$E$7,     2 * $AF184 - 1  +  IF( AH$4 = $AJ$4, 1, 0 ),     3*( $AE184-1) + 0  )     )","v":"O19"},{"$f":"  IF( $AE184 = \"\", \"\",    OFFSET( Season!$E$7,     2 * $AF184 - 1  +  IF( AH$4 = $AJ$4, 1, 0 ),     3*( $AE184-1) + 1  )     )","v":14},{"$f":"  IF( $AE184 = \"\", \"\",    OFFSET( Season!$E$7,     2 * $AF184 - 1  +  IF( AJ$4 = $AJ$4, 1, 0 ),     3*( $AE184-1) + 0  )     )","v":"NNIT"},{"$f":"  IF( $AE184 = \"\", \"\",    OFFSET( Season!$E$7,     2 * $AF184 - 1  +  IF( AJ$4 = $AJ$4, 1, 0 ),     3*( $AE184-1) + 1  )     )","v":6},"NNIT","O19","",""]
[null,null,null,null,null,null,null,null,null,null,null,null,null,null,null,null,null,null,null,null,null,null,null,null,null,null,null,null,null,null,11,11,{"$f":"  IF(  OR(  ISNA(  MATCH( AH185, $W$8:$W$13, 0 )   ),   ISNA( MATCH(  AJ185,  $W$8:$W$13, 0 )  )    ), \" . \",   MAX( $AG$4:AG184 ) + 1  )","v":" . "},{"$f":"  IF( $AE185 = \"\", \"\",    OFFSET( Season!$E$7,     2 * $AF185 - 1  +  IF( AH$4 = $AJ$4, 1, 0 ),     3*( $AE185-1) + 0  )     )","v":"A572"},{"$f":"  IF( $AE185 = \"\", \"\",    OFFSET( Season!$E$7,     2 * $AF185 - 1  +  IF( AH$4 = $AJ$4, 1, 0 ),     3*( $AE185-1) + 1  )     )","v":-1},{"$f":"  IF( $AE185 = \"\", \"\",    OFFSET( Season!$E$7,     2 * $AF185 - 1  +  IF( AJ$4 = $AJ$4, 1, 0 ),     3*( $AE185-1) + 0  )     )","v":"E20"},{"$f":"  IF( $AE185 = \"\", \"\",    OFFSET( Season!$E$7,     2 * $AF185 - 1  +  IF( AJ$4 = $AJ$4, 1, 0 ),     3*( $AE185-1) + 1  )     )","v":10},"A572","E20","",""]
[null,null,null,null,null,null,null,null,null,null,null,null,null,null,null,null,null,null,null,null,null,null,null,null,null,null,null,null,null,null,11,12,{"$f":"  IF(  OR(  ISNA(  MATCH( AH186, $W$8:$W$13, 0 )   ),   ISNA( MATCH(  AJ186,  $W$8:$W$13, 0 )  )    ), \" . \",   MAX( $AG$4:AG185 ) + 1  )","v":" . "},{"$f":"  IF( $AE186 = \"\", \"\",    OFFSET( Season!$E$7,     2 * $AF186 - 1  +  IF( AH$4 = $AJ$4, 1, 0 ),     3*( $AE186-1) + 0  )     )","v":"X31"},{"$f":"  IF( $AE186 = \"\", \"\",    OFFSET( Season!$E$7,     2 * $AF186 - 1  +  IF( AH$4 = $AJ$4, 1, 0 ),     3*( $AE186-1) + 1  )     )","v":20},{"$f":"  IF( $AE186 = \"\", \"\",    OFFSET( Season!$E$7,     2 * $AF186 - 1  +  IF( AJ$4 = $AJ$4, 1, 0 ),     3*( $AE186-1) + 0  )     )","v":"E75"},{"$f":"  IF( $AE186 = \"\", \"\",    OFFSET( Season!$E$7,     2 * $AF186 - 1  +  IF( AJ$4 = $AJ$4, 1, 0 ),     3*( $AE186-1) + 1  )     )","v":26},"X31","E75","",""]
[null,null,null,null,null,null,null,null,null,null,null,null,null,null,null,null,null,null,null,null,null,null,null,null,null,null,null,null,null,null,11,13,{"$f":"  IF(  OR(  ISNA(  MATCH( AH187, $W$8:$W$13, 0 )   ),   ISNA( MATCH(  AJ187,  $W$8:$W$13, 0 )  )    ), \" . \",   MAX( $AG$4:AG186 ) + 1  )","v":" . "},{"$f":"  IF( $AE187 = \"\", \"\",    OFFSET( Season!$E$7,     2 * $AF187 - 1  +  IF( AH$4 = $AJ$4, 1, 0 ),     3*( $AE187-1) + 0  )     )","v":"CRF"},{"$f":"  IF( $AE187 = \"\", \"\",    OFFSET( Season!$E$7,     2 * $AF187 - 1  +  IF( AH$4 = $AJ$4, 1, 0 ),     3*( $AE187-1) + 1  )     )","v":8},{"$f":"  IF( $AE187 = \"\", \"\",    OFFSET( Season!$E$7,     2 * $AF187 - 1  +  IF( AJ$4 = $AJ$4, 1, 0 ),     3*( $AE187-1) + 0  )     )","v":"SCM"},{"$f":"  IF( $AE187 = \"\", \"\",    OFFSET( Season!$E$7,     2 * $AF187 - 1  +  IF( AJ$4 = $AJ$4, 1, 0 ),     3*( $AE187-1) + 1  )     )","v":-6},"SCM","CRF","",""]
[null,null,null,null,null,null,null,null,null,null,null,null,null,null,null,null,null,null,null,null,null,null,null,null,null,null,null,null,null,null,11,14,{"$f":"  IF(  OR(  ISNA(  MATCH( AH188, $W$8:$W$13, 0 )   ),   ISNA( MATCH(  AJ188,  $W$8:$W$13, 0 )  )    ), \" . \",   MAX( $AG$4:AG187 ) + 1  )","v":" . "},{"$f":"  IF( $AE188 = \"\", \"\",    OFFSET( Season!$E$7,     2 * $AF188 - 1  +  IF( AH$4 = $AJ$4, 1, 0 ),     3*( $AE188-1) + 0  )     )","v":"X10"},{"$f":"  IF( $AE188 = \"\", \"\",    OFFSET( Season!$E$7,     2 * $AF188 - 1  +  IF( AH$4 = $AJ$4, 1, 0 ),     3*( $AE188-1) + 1  )     )","v":4},{"$f":"  IF( $AE188 = \"\", \"\",    OFFSET( Season!$E$7,     2 * $AF188 - 1  +  IF( AJ$4 = $AJ$4, 1, 0 ),     3*( $AE188-1) + 0  )     )","v":"CVN"},{"$f":"  IF( $AE188 = \"\", \"\",    OFFSET( Season!$E$7,     2 * $AF188 - 1  +  IF( AJ$4 = $AJ$4, 1, 0 ),     3*( $AE188-1) + 1  )     )","v":-1},"CVN","X10","",""]
[null,null,null,null,null,null,null,null,null,null,null,null,null,null,null,null,null,null,null,null,null,null,null,null,null,null,null,null,null,null,11,15,{"$f":"  IF(  OR(  ISNA(  MATCH( AH189, $W$8:$W$13, 0 )   ),   ISNA( MATCH(  AJ189,  $W$8:$W$13, 0 )  )    ), \" . \",   MAX( $AG$4:AG188 ) + 1  )","v":" . "},{"$f":"  IF( $AE189 = \"\", \"\",    OFFSET( Season!$E$7,     2 * $AF189 - 1  +  IF( AH$4 = $AJ$4, 1, 0 ),     3*( $AE189-1) + 0  )     )","v":"O46"},{"$f":"  IF( $AE189 = \"\", \"\",    OFFSET( Season!$E$7,     2 * $AF189 - 1  +  IF( AH$4 = $AJ$4, 1, 0 ),     3*( $AE189-1) + 1  )     )","v":12},{"$f":"  IF( $AE189 = \"\", \"\",    OFFSET( Season!$E$7,     2 * $AF189 - 1  +  IF( AJ$4 = $AJ$4, 1, 0 ),     3*( $AE189-1) + 0  )     )","v":"O87"},{"$f":"  IF( $AE189 = \"\", \"\",    OFFSET( Season!$E$7,     2 * $AF189 - 1  +  IF( AJ$4 = $AJ$4, 1, 0 ),     3*( $AE189-1) + 1  )     )","v":12},"Tie","Tie","O46","O87"]
[null,null,null,null,null,null,null,null,null,null,null,null,null,null,null,null,null,null,null,null,null,null,null,null,null,null,null,null,null,null,11,16,{"$f":"  IF(  OR(  ISNA(  MATCH( AH190, $W$8:$W$13, 0 )   ),   ISNA( MATCH(  AJ190,  $W$8:$W$13, 0 )  )    ), \" . \",   MAX( $AG$4:AG189 ) + 1  )","v":" . "},{"$f":"  IF( $AE190 = \"\", \"\",    OFFSET( Season!$E$7,     2 * $AF190 - 1  +  IF( AH$4 = $AJ$4, 1, 0 ),     3*( $AE190-1) + 0  )     )","v":"M10"},{"$f":"  IF( $AE190 = \"\", \"\",    OFFSET( Season!$E$7,     2 * $AF190 - 1  +  IF( AH$4 = $AJ$4, 1, 0 ),     3*( $AE190-1) + 1  )     )","v":17},{"$f":"  IF( $AE190 = \"\", \"\",    OFFSET( Season!$E$7,     2 * $AF190 - 1  +  IF( AJ$4 = $AJ$4, 1, 0 ),     3*( $AE190-1) + 0  )     )","v":"ARG"},{"$f":"  IF( $AE190 = \"\", \"\",    OFFSET( Season!$E$7,     2 * $AF190 - 1  +  IF( AJ$4 = $AJ$4, 1, 0 ),     3*( $AE190-1) + 1  )     )","v":28},"M10","ARG","",""]
[null,null,null,null,null,null,null,null,null,null,null,null,null,null,null,null,null,null,null,null,null,null,null,null,null,null,null,null,null,null,11,17,{"$f":"  IF(  OR(  ISNA(  MATCH( AH191, $W$8:$W$13, 0 )   ),   ISNA( MATCH(  AJ191,  $W$8:$W$13, 0 )  )    ), \" . \",   MAX( $AG$4:AG190 ) + 1  )","v":" . "},{"$f":"  IF( $AE191 = \"\", \"\",    OFFSET( Season!$E$7,     2 * $AF191 - 1  +  IF( AH$4 = $AJ$4, 1, 0 ),     3*( $AE191-1) + 0  )     )","v":"ENGR"},{"$f":"  IF( $AE191 = \"\", \"\",    OFFSET( Season!$E$7,     2 * $AF191 - 1  +  IF( AH$4 = $AJ$4, 1, 0 ),     3*( $AE191-1) + 1  )     )","v":8},{"$f":"  IF( $AE191 = \"\", \"\",    OFFSET( Season!$E$7,     2 * $AF191 - 1  +  IF( AJ$4 = $AJ$4, 1, 0 ),     3*( $AE191-1) + 0  )     )","v":"E25"},{"$f":"  IF( $AE191 = \"\", \"\",    OFFSET( Season!$E$7,     2 * $AF191 - 1  +  IF( AJ$4 = $AJ$4, 1, 0 ),     3*( $AE191-1) + 1  )     )","v":17},"ENGR","E25","",""]
[null,null,null,null,null,null,null,null,null,null,null,null,null,null,null,null,null,null,null,null,null,null,null,null,null,null,null,null,null,null,12,1,{"$f":"  IF(  OR(  ISNA(  MATCH( AH192, $W$8:$W$13, 0 )   ),   ISNA( MATCH(  AJ192,  $W$8:$W$13, 0 )  )    ), \" . \",   MAX( $AG$4:AG191 ) + 1  )","v":" . "},{"$f":"  IF( $AE192 = \"\", \"\",    OFFSET( Season!$E$7,     2 * $AF192 - 1  +  IF( AH$4 = $AJ$4, 1, 0 ),     3*( $AE192-1) + 0  )     )","v":"E42"},{"$f":"  IF( $AE192 = \"\", \"\",    OFFSET( Season!$E$7,     2 * $AF192 - 1  +  IF( AH$4 = $AJ$4, 1, 0 ),     3*( $AE192-1) + 1  )     )","v":21},{"$f":"  IF( $AE192 = \"\", \"\",    OFFSET( Season!$E$7,     2 * $AF192 - 1  +  IF( AJ$4 = $AJ$4, 1, 0 ),     3*( $AE192-1) + 0  )     )","v":"X87"},{"$f":"  IF( $AE192 = \"\", \"\",    OFFSET( Season!$E$7,     2 * $AF192 - 1  +  IF( AJ$4 = $AJ$4, 1, 0 ),     3*( $AE192-1) + 1  )     )","v":21},"Tie","Tie","E42","X87"]
[null,null,null,null,null,null,null,null,null,null,null,null,null,null,null,null,null,null,null,null,null,null,null,null,null,null,null,null,null,null,12,2,{"$f":"  IF(  OR(  ISNA(  MATCH( AH193, $W$8:$W$13, 0 )   ),   ISNA( MATCH(  AJ193,  $W$8:$W$13, 0 )  )    ), \" . \",   MAX( $AG$4:AG192 ) + 1  )","v":" . "},{"$f":"  IF( $AE193 = \"\", \"\",    OFFSET( Season!$E$7,     2 * $AF193 - 1  +  IF( AH$4 = $AJ$4, 1, 0 ),     3*( $AE193-1) + 0  )     )","v":"E83"},{"$f":"  IF( $AE193 = \"\", \"\",    OFFSET( Season!$E$7,     2 * $AF193 - 1  +  IF( AH$4 = $AJ$4, 1, 0 ),     3*( $AE193-1) + 1  )     )","v":11},{"$f":"  IF( $AE193 = \"\", \"\",    OFFSET( Season!$E$7,     2 * $AF193 - 1  +  IF( AJ$4 = $AJ$4, 1, 0 ),     3*( $AE193-1) + 0  )     )","v":"AGS"},{"$f":"  IF( $AE193 = \"\", \"\",    OFFSET( Season!$E$7,     2 * $AF193 - 1  +  IF( AJ$4 = $AJ$4, 1, 0 ),     3*( $AE193-1) + 1  )     )","v":14},"E83","AGS","",""]
[null,null,null,null,null,null,null,null,null,null,null,null,null,null,null,null,null,null,null,null,null,null,null,null,null,null,null,null,null,null,12,3,{"$f":"  IF(  OR(  ISNA(  MATCH( AH194, $W$8:$W$13, 0 )   ),   ISNA( MATCH(  AJ194,  $W$8:$W$13, 0 )  )    ), \" . \",   MAX( $AG$4:AG193 ) + 1  )","v":" . "},{"$f":"  IF( $AE194 = \"\", \"\",    OFFSET( Season!$E$7,     2 * $AF194 - 1  +  IF( AH$4 = $AJ$4, 1, 0 ),     3*( $AE194-1) + 0  )     )","v":"E14"},{"$f":"  IF( $AE194 = \"\", \"\",    OFFSET( Season!$E$7,     2 * $AF194 - 1  +  IF( AH$4 = $AJ$4, 1, 0 ),     3*( $AE194-1) + 1  )     )","v":24},{"$f":"  IF( $AE194 = \"\", \"\",    OFFSET( Season!$E$7,     2 * $AF194 - 1  +  IF( AJ$4 = $AJ$4, 1, 0 ),     3*( $AE194-1) + 0  )     )","v":"X88"},{"$f":"  IF( $AE194 = \"\", \"\",    OFFSET( Season!$E$7,     2 * $AF194 - 1  +  IF( AJ$4 = $AJ$4, 1, 0 ),     3*( $AE194-1) + 1  )     )","v":1E-3},"X88","E14","",""]
[null,null,null,null,null,null,null,null,null,null,null,null,null,null,null,null,null,null,null,null,null,null,null,null,null,null,null,null,null,null,12,4,{"$f":"  IF(  OR(  ISNA(  MATCH( AH195, $W$8:$W$13, 0 )   ),   ISNA( MATCH(  AJ195,  $W$8:$W$13, 0 )  )    ), \" . \",   MAX( $AG$4:AG194 ) + 1  )","v":" . "},{"$f":"  IF( $AE195 = \"\", \"\",    OFFSET( Season!$E$7,     2 * $AF195 - 1  +  IF( AH$4 = $AJ$4, 1, 0 ),     3*( $AE195-1) + 0  )     )","v":"E17"},{"$f":"  IF( $AE195 = \"\", \"\",    OFFSET( Season!$E$7,     2 * $AF195 - 1  +  IF( AH$4 = $AJ$4, 1, 0 ),     3*( $AE195-1) + 1  )     )","v":33},{"$f":"  IF( $AE195 = \"\", \"\",    OFFSET( Season!$E$7,     2 * $AF195 - 1  +  IF( AJ$4 = $AJ$4, 1, 0 ),     3*( $AE195-1) + 0  )     )","v":"X04"},{"$f":"  IF( $AE195 = \"\", \"\",    OFFSET( Season!$E$7,     2 * $AF195 - 1  +  IF( AJ$4 = $AJ$4, 1, 0 ),     3*( $AE195-1) + 1  )     )","v":13},"X04","E17","",""]
[null,null,null,null,null,null,null,null,null,null,null,null,null,null,null,null,null,null,null,null,null,null,null,null,null,null,null,null,null,null,12,5,{"$f":"  IF(  OR(  ISNA(  MATCH( AH196, $W$8:$W$13, 0 )   ),   ISNA( MATCH(  AJ196,  $W$8:$W$13, 0 )  )    ), \" . \",   MAX( $AG$4:AG195 ) + 1  )","v":" . "},{"$f":"  IF( $AE196 = \"\", \"\",    OFFSET( Season!$E$7,     2 * $AF196 - 1  +  IF( AH$4 = $AJ$4, 1, 0 ),     3*( $AE196-1) + 0  )     )","v":"E60"},{"$f":"  IF( $AE196 = \"\", \"\",    OFFSET( Season!$E$7,     2 * $AF196 - 1  +  IF( AH$4 = $AJ$4, 1, 0 ),     3*( $AE196-1) + 1  )     )","v":5},{"$f":"  IF( $AE196 = \"\", \"\",    OFFSET( Season!$E$7,     2 * $AF196 - 1  +  IF( AJ$4 = $AJ$4, 1, 0 ),     3*( $AE196-1) + 0  )     )","v":"E55a"},{"$f":"  IF( $AE196 = \"\", \"\",    OFFSET( Season!$E$7,     2 * $AF196 - 1  +  IF( AJ$4 = $AJ$4, 1, 0 ),     3*( $AE196-1) + 1  )     )","v":19},"E60","E55a","",""]
[null,null,null,null,null,null,null,null,null,null,null,null,null,null,null,null,null,null,null,null,null,null,null,null,null,null,null,null,null,null,12,6,{"$f":"  IF(  OR(  ISNA(  MATCH( AH197, $W$8:$W$13, 0 )   ),   ISNA( MATCH(  AJ197,  $W$8:$W$13, 0 )  )    ), \" . \",   MAX( $AG$4:AG196 ) + 1  )","v":" . "},{"$f":"  IF( $AE197 = \"\", \"\",    OFFSET( Season!$E$7,     2 * $AF197 - 1  +  IF( AH$4 = $AJ$4, 1, 0 ),     3*( $AE197-1) + 0  )     )","v":"E12"},{"$f":"  IF( $AE197 = \"\", \"\",    OFFSET( Season!$E$7,     2 * $AF197 - 1  +  IF( AH$4 = $AJ$4, 1, 0 ),     3*( $AE197-1) + 1  )     )","v":3},{"$f":"  IF( $AE197 = \"\", \"\",    OFFSET( Season!$E$7,     2 * $AF197 - 1  +  IF( AJ$4 = $AJ$4, 1, 0 ),     3*( $AE197-1) + 0  )     )","v":"X01"},{"$f":"  IF( $AE197 = \"\", \"\",    OFFSET( Season!$E$7,     2 * $AF197 - 1  +  IF( AJ$4 = $AJ$4, 1, 0 ),     3*( $AE197-1) + 1  )     )","v":5},{"$f":"  IF(  LEFT( $AI197, 1 ) = \"f\",  $AJ197,    IF(  LEFT( $AK197, 1 ) = \"f\", $AH197,    IF(  AND(  $AI197 = \"\",  $AK197 = \"\"  ), \".\",    IF(  $AI197^2 + $AK197^2 = 0,  \"x\",    IF(  $AI197 = $AK197, \"Tie\",    IF(   $AI197 < $AK197,  $AH197,  $AJ197 )    )  )  ) )  )","v":"E12"},{"$f":"  IF(  LEFT( $AI197, 1 ) = \"f\",  $AH197,    IF(  LEFT( $AK197, 1 ) = \"f\", $AJ197,    IF(  AND(  $AI197 = \"\",  $AK197 = \"\"  ), \".\",    IF(  $AI197^2 + $AK197^2 = 0,  \"x\",    IF(  $AI197 = $AK197, \"Tie\",    IF(   $AI197 > $AK197,  $AH197,  $AJ197 )    )  )  ) )  )","v":"X01"},{"$f":"   IF( AL197 = \"Tie\", $AH197, \"\" )","v":""},{"$f":"   IF( AM197 = \"Tie\", $AJ197, \"\" )","v":""}]
[null,null,null,null,null,null,null,null,null,null,null,null,null,null,null,null,null,null,null,null,null,null,null,null,null,null,null,null,null,null,12,7,{"$f":"  IF(  OR(  ISNA(  MATCH( AH198, $W$8:$W$13, 0 )   ),   ISNA( MATCH(  AJ198,  $W$8:$W$13, 0 )  )    ), \" . \",   MAX( $AG$4:AG197 ) + 1  )","v":" . "},{"$f":"  IF( $AE198 = \"\", \"\",    OFFSET( Season!$E$7,     2 * $AF198 - 1  +  IF( AH$4 = $AJ$4, 1, 0 ),     3*( $AE198-1) + 0  )     )","v":"AMSC"},{"$f":"  IF( $AE198 = \"\", \"\",    OFFSET( Season!$E$7,     2 * $AF198 - 1  +  IF( AH$4 = $AJ$4, 1, 0 ),     3*( $AE198-1) + 1  )     )","v":22},{"$f":"  IF( $AE198 = \"\", \"\",    OFFSET( Season!$E$7,     2 * $AF198 - 1  +  IF( AJ$4 = $AJ$4, 1, 0 ),     3*( $AE198-1) + 0  )     )","v":"E55B"},{"$f":"  IF( $AE198 = \"\", \"\",    OFFSET( Season!$E$7,     2 * $AF198 - 1  +  IF( AJ$4 = $AJ$4, 1, 0 ),     3*( $AE198-1) + 1  )     )","v":10},"E55B","AMSC","",""]
[null,null,null,null,null,null,null,null,null,null,null,null,null,null,null,null,null,null,null,null,null,null,null,null,null,null,null,null,null,null,12,8,{"$f":"  IF(  OR(  ISNA(  MATCH( AH199, $W$8:$W$13, 0 )   ),   ISNA( MATCH(  AJ199,  $W$8:$W$13, 0 )  )    ), \" . \",   MAX( $AG$4:AG198 ) + 1  )","v":" . "},{"$f":"  IF( $AE199 = \"\", \"\",    OFFSET( Season!$E$7,     2 * $AF199 - 1  +  IF( AH$4 = $AJ$4, 1, 0 ),     3*( $AE199-1) + 0  )     )","v":"SUBS"},{"$f":"  IF( $AE199 = \"\", \"\",    OFFSET( Season!$E$7,     2 * $AF199 - 1  +  IF( AH$4 = $AJ$4, 1, 0 ),     3*( $AE199-1) + 1  )     )","v":21},{"$f":"  IF( $AE199 = \"\", \"\",    OFFSET( Season!$E$7,     2 * $AF199 - 1  +  IF( AJ$4 = $AJ$4, 1, 0 ),     3*( $AE199-1) + 0  )     )","v":"E86"},{"$f":"  IF( $AE199 = \"\", \"\",    OFFSET( Season!$E$7,     2 * $AF199 - 1  +  IF( AJ$4 = $AJ$4, 1, 0 ),     3*( $AE199-1) + 1  )     )","v":18},"E86","SUBS","",""]
[null,null,null,null,null,null,null,null,null,null,null,null,null,null,null,null,null,null,null,null,null,null,null,null,null,null,null,null,null,null,12,9,{"$f":"  IF(  OR(  ISNA(  MATCH( AH200, $W$8:$W$13, 0 )   ),   ISNA( MATCH(  AJ200,  $W$8:$W$13, 0 )  )    ), \" . \",   MAX( $AG$4:AG199 ) + 1  )","v":" . "},{"$f":"  IF( $AE200 = \"\", \"\",    OFFSET( Season!$E$7,     2 * $AF200 - 1  +  IF( AH$4 = $AJ$4, 1, 0 ),     3*( $AE200-1) + 0  )     )","v":0},{"$f":"  IF( $AE200 = \"\", \"\",    OFFSET( Season!$E$7,     2 * $AF200 - 1  +  IF( AH$4 = $AJ$4, 1, 0 ),     3*( $AE200-1) + 1  )     )","v":0},{"$f":"  IF( $AE200 = \"\", \"\",    OFFSET( Season!$E$7,     2 * $AF200 - 1  +  IF( AJ$4 = $AJ$4, 1, 0 ),     3*( $AE200-1) + 0  )     )","v":0},{"$f":"  IF( $AE200 = \"\", \"\",    OFFSET( Season!$E$7,     2 * $AF200 - 1  +  IF( AJ$4 = $AJ$4, 1, 0 ),     3*( $AE200-1) + 1  )     )","v":0},"x","x","",""]
[null,null,null,null,null,null,null,null,null,null,null,null,null,null,null,null,null,null,null,null,null,null,null,null,null,null,null,null,null,null,12,10,{"$f":"  IF(  OR(  ISNA(  MATCH( AH201, $W$8:$W$13, 0 )   ),   ISNA( MATCH(  AJ201,  $W$8:$W$13, 0 )  )    ), \" . \",   MAX( $AG$4:AG200 ) + 1  )","v":" . "},{"$f":"  IF( $AE201 = \"\", \"\",    OFFSET( Season!$E$7,     2 * $AF201 - 1  +  IF( AH$4 = $AJ$4, 1, 0 ),     3*( $AE201-1) + 0  )     )","v":"ARG"},{"$f":"  IF( $AE201 = \"\", \"\",    OFFSET( Season!$E$7,     2 * $AF201 - 1  +  IF( AH$4 = $AJ$4, 1, 0 ),     3*( $AE201-1) + 1  )     )","v":4},{"$f":"  IF( $AE201 = \"\", \"\",    OFFSET( Season!$E$7,     2 * $AF201 - 1  +  IF( AJ$4 = $AJ$4, 1, 0 ),     3*( $AE201-1) + 0  )     )","v":"O87"},{"$f":"  IF( $AE201 = \"\", \"\",    OFFSET( Season!$E$7,     2 * $AF201 - 1  +  IF( AJ$4 = $AJ$4, 1, 0 ),     3*( $AE201-1) + 1  )     )","v":2},"O87","ARG","",""]
[null,null,null,null,null,null,null,null,null,null,null,null,null,null,null,null,null,null,null,null,null,null,null,null,null,null,null,null,null,null,12,11,{"$f":"  IF(  OR(  ISNA(  MATCH( AH202, $W$8:$W$13, 0 )   ),   ISNA( MATCH(  AJ202,  $W$8:$W$13, 0 )  )    ), \" . \",   MAX( $AG$4:AG201 ) + 1  )","v":" . "},{"$f":"  IF( $AE202 = \"\", \"\",    OFFSET( Season!$E$7,     2 * $AF202 - 1  +  IF( AH$4 = $AJ$4, 1, 0 ),     3*( $AE202-1) + 0  )     )","v":"X31"},{"$f":"  IF( $AE202 = \"\", \"\",    OFFSET( Season!$E$7,     2 * $AF202 - 1  +  IF( AH$4 = $AJ$4, 1, 0 ),     3*( $AE202-1) + 1  )     )","v":11},{"$f":"  IF( $AE202 = \"\", \"\",    OFFSET( Season!$E$7,     2 * $AF202 - 1  +  IF( AJ$4 = $AJ$4, 1, 0 ),     3*( $AE202-1) + 0  )     )","v":"NNIT"},{"$f":"  IF( $AE202 = \"\", \"\",    OFFSET( Season!$E$7,     2 * $AF202 - 1  +  IF( AJ$4 = $AJ$4, 1, 0 ),     3*( $AE202-1) + 1  )     )","v":15},"X31","NNIT","",""]
[null,null,null,null,null,null,null,null,null,null,null,null,null,null,null,null,null,null,null,null,null,null,null,null,null,null,null,null,null,null,12,12,{"$f":"  IF(  OR(  ISNA(  MATCH( AH203, $W$8:$W$13, 0 )   ),   ISNA( MATCH(  AJ203,  $W$8:$W$13, 0 )  )    ), \" . \",   MAX( $AG$4:AG202 ) + 1  )","v":" . "},{"$f":"  IF( $AE203 = \"\", \"\",    OFFSET( Season!$E$7,     2 * $AF203 - 1  +  IF( AH$4 = $AJ$4, 1, 0 ),     3*( $AE203-1) + 0  )     )","v":"A572"},{"$f":"  IF( $AE203 = \"\", \"\",    OFFSET( Season!$E$7,     2 * $AF203 - 1  +  IF( AH$4 = $AJ$4, 1, 0 ),     3*( $AE203-1) + 1  )     )","v":18},{"$f":"  IF( $AE203 = \"\", \"\",    OFFSET( Season!$E$7,     2 * $AF203 - 1  +  IF( AJ$4 = $AJ$4, 1, 0 ),     3*( $AE203-1) + 0  )     )","v":"CVN"},{"$f":"  IF( $AE203 = \"\", \"\",    OFFSET( Season!$E$7,     2 * $AF203 - 1  +  IF( AJ$4 = $AJ$4, 1, 0 ),     3*( $AE203-1) + 1  )     )","v":23},"A572","CVN","",""]
[null,null,null,null,null,null,null,null,null,null,null,null,null,null,null,null,null,null,null,null,null,null,null,null,null,null,null,null,null,null,12,13,{"$f":"  IF(  OR(  ISNA(  MATCH( AH204, $W$8:$W$13, 0 )   ),   ISNA( MATCH(  AJ204,  $W$8:$W$13, 0 )  )    ), \" . \",   MAX( $AG$4:AG203 ) + 1  )","v":" . "},{"$f":"  IF( $AE204 = \"\", \"\",    OFFSET( Season!$E$7,     2 * $AF204 - 1  +  IF( AH$4 = $AJ$4, 1, 0 ),     3*( $AE204-1) + 0  )     )","v":"E25"},{"$f":"  IF( $AE204 = \"\", \"\",    OFFSET( Season!$E$7,     2 * $AF204 - 1  +  IF( AH$4 = $AJ$4, 1, 0 ),     3*( $AE204-1) + 1  )     )","v":25},{"$f":"  IF( $AE204 = \"\", \"\",    OFFSET( Season!$E$7,     2 * $AF204 - 1  +  IF( AJ$4 = $AJ$4, 1, 0 ),     3*( $AE204-1) + 0  )     )","v":"CRF"},{"$f":"  IF( $AE204 = \"\", \"\",    OFFSET( Season!$E$7,     2 * $AF204 - 1  +  IF( AJ$4 = $AJ$4, 1, 0 ),     3*( $AE204-1) + 1  )     )","v":22},"CRF","E25","",""]
[null,null,null,null,null,null,null,null,null,null,null,null,null,null,null,null,null,null,null,null,null,null,null,null,null,null,null,null,null,null,12,14,{"$f":"  IF(  OR(  ISNA(  MATCH( AH205, $W$8:$W$13, 0 )   ),   ISNA( MATCH(  AJ205,  $W$8:$W$13, 0 )  )    ), \" . \",   MAX( $AG$4:AG204 ) + 1  )","v":" . "},{"$f":"  IF( $AE205 = \"\", \"\",    OFFSET( Season!$E$7,     2 * $AF205 - 1  +  IF( AH$4 = $AJ$4, 1, 0 ),     3*( $AE205-1) + 0  )     )","v":"ENGR"},{"$f":"  IF( $AE205 = \"\", \"\",    OFFSET( Season!$E$7,     2 * $AF205 - 1  +  IF( AH$4 = $AJ$4, 1, 0 ),     3*( $AE205-1) + 1  )     )","v":-3},{"$f":"  IF( $AE205 = \"\", \"\",    OFFSET( Season!$E$7,     2 * $AF205 - 1  +  IF( AJ$4 = $AJ$4, 1, 0 ),     3*( $AE205-1) + 0  )     )","v":"SCM"},{"$f":"  IF( $AE205 = \"\", \"\",    OFFSET( Season!$E$7,     2 * $AF205 - 1  +  IF( AJ$4 = $AJ$4, 1, 0 ),     3*( $AE205-1) + 1  )     )","v":11},"ENGR","SCM","",""]
[null,null,null,null,null,null,null,null,null,null,null,null,null,null,null,null,null,null,null,null,null,null,null,null,null,null,null,null,null,null,12,15,{"$f":"  IF(  OR(  ISNA(  MATCH( AH206, $W$8:$W$13, 0 )   ),   ISNA( MATCH(  AJ206,  $W$8:$W$13, 0 )  )    ), \" . \",   MAX( $AG$4:AG205 ) + 1  )","v":" . "},{"$f":"  IF( $AE206 = \"\", \"\",    OFFSET( Season!$E$7,     2 * $AF206 - 1  +  IF( AH$4 = $AJ$4, 1, 0 ),     3*( $AE206-1) + 0  )     )","v":"E20"},{"$f":"  IF( $AE206 = \"\", \"\",    OFFSET( Season!$E$7,     2 * $AF206 - 1  +  IF( AH$4 = $AJ$4, 1, 0 ),     3*( $AE206-1) + 1  )     )","v":15},{"$f":"  IF( $AE206 = \"\", \"\",    OFFSET( Season!$E$7,     2 * $AF206 - 1  +  IF( AJ$4 = $AJ$4, 1, 0 ),     3*( $AE206-1) + 0  )     )","v":"X10"},{"$f":"  IF( $AE206 = \"\", \"\",    OFFSET( Season!$E$7,     2 * $AF206 - 1  +  IF( AJ$4 = $AJ$4, 1, 0 ),     3*( $AE206-1) + 1  )     )","v":18},"E20","X10","",""]
[null,null,null,null,null,null,null,null,null,null,null,null,null,null,null,null,null,null,null,null,null,null,null,null,null,null,null,null,null,null,12,16,{"$f":"  IF(  OR(  ISNA(  MATCH( AH207, $W$8:$W$13, 0 )   ),   ISNA( MATCH(  AJ207,  $W$8:$W$13, 0 )  )    ), \" . \",   MAX( $AG$4:AG206 ) + 1  )","v":" . "},{"$f":"  IF( $AE207 = \"\", \"\",    OFFSET( Season!$E$7,     2 * $AF207 - 1  +  IF( AH$4 = $AJ$4, 1, 0 ),     3*( $AE207-1) + 0  )     )","v":"O46"},{"$f":"  IF( $AE207 = \"\", \"\",    OFFSET( Season!$E$7,     2 * $AF207 - 1  +  IF( AH$4 = $AJ$4, 1, 0 ),     3*( $AE207-1) + 1  )     )","v":10},{"$f":"  IF( $AE207 = \"\", \"\",    OFFSET( Season!$E$7,     2 * $AF207 - 1  +  IF( AJ$4 = $AJ$4, 1, 0 ),     3*( $AE207-1) + 0  )     )","v":"M10"},{"$f":"  IF( $AE207 = \"\", \"\",    OFFSET( Season!$E$7,     2 * $AF207 - 1  +  IF( AJ$4 = $AJ$4, 1, 0 ),     3*( $AE207-1) + 1  )     )","v":8},"M10","O46","",""]
[null,null,null,null,null,null,null,null,null,null,null,null,null,null,null,null,null,null,null,null,null,null,null,null,null,null,null,null,null,null,12,17,{"$f":"  IF(  OR(  ISNA(  MATCH( AH208, $W$8:$W$13, 0 )   ),   ISNA( MATCH(  AJ208,  $W$8:$W$13, 0 )  )    ), \" . \",   MAX( $AG$4:AG207 ) + 1  )","v":" . "},{"$f":"  IF( $AE208 = \"\", \"\",    OFFSET( Season!$E$7,     2 * $AF208 - 1  +  IF( AH$4 = $AJ$4, 1, 0 ),     3*( $AE208-1) + 0  )     )","v":"E75"},{"$f":"  IF( $AE208 = \"\", \"\",    OFFSET( Season!$E$7,     2 * $AF208 - 1  +  IF( AH$4 = $AJ$4, 1, 0 ),     3*( $AE208-1) + 1  )     )","v":14},{"$f":"  IF( $AE208 = \"\", \"\",    OFFSET( Season!$E$7,     2 * $AF208 - 1  +  IF( AJ$4 = $AJ$4, 1, 0 ),     3*( $AE208-1) + 0  )     )","v":"O19"},{"$f":"  IF( $AE208 = \"\", \"\",    OFFSET( Season!$E$7,     2 * $AF208 - 1  +  IF( AJ$4 = $AJ$4, 1, 0 ),     3*( $AE208-1) + 1  )     )","v":19},"E75","O19","",""]
[null,null,null,null,null,null,null,null,null,null,null,null,null,null,null,null,null,null,null,null,null,null,null,null,null,null,null,null,null,null,13,1,{"$f":"  IF(  OR(  ISNA(  MATCH( AH209, $W$8:$W$13, 0 )   ),   ISNA( MATCH(  AJ209,  $W$8:$W$13, 0 )  )    ), \" . \",   MAX( $AG$4:AG208 ) + 1  )","v":" . "},{"$f":"  IF( $AE209 = \"\", \"\",    OFFSET( Season!$E$7,     2 * $AF209 - 1  +  IF( AH$4 = $AJ$4, 1, 0 ),     3*( $AE209-1) + 0  )     )","v":"E14"},{"$f":"  IF( $AE209 = \"\", \"\",    OFFSET( Season!$E$7,     2 * $AF209 - 1  +  IF( AH$4 = $AJ$4, 1, 0 ),     3*( $AE209-1) + 1  )     )","v":5},{"$f":"  IF( $AE209 = \"\", \"\",    OFFSET( Season!$E$7,     2 * $AF209 - 1  +  IF( AJ$4 = $AJ$4, 1, 0 ),     3*( $AE209-1) + 0  )     )","v":"E60"},{"$f":"  IF( $AE209 = \"\", \"\",    OFFSET( Season!$E$7,     2 * $AF209 - 1  +  IF( AJ$4 = $AJ$4, 1, 0 ),     3*( $AE209-1) + 1  )     )","v":18},"E14","E60","",""]
[null,null,null,null,null,null,null,null,null,null,null,null,null,null,null,null,null,null,null,null,null,null,null,null,null,null,null,null,null,null,13,2,{"$f":"  IF(  OR(  ISNA(  MATCH( AH210, $W$8:$W$13, 0 )   ),   ISNA( MATCH(  AJ210,  $W$8:$W$13, 0 )  )    ), \" . \",   MAX( $AG$4:AG209 ) + 1  )","v":" . "},{"$f":"  IF( $AE210 = \"\", \"\",    OFFSET( Season!$E$7,     2 * $AF210 - 1  +  IF( AH$4 = $AJ$4, 1, 0 ),     3*( $AE210-1) + 0  )     )","v":"E55a"},{"$f":"  IF( $AE210 = \"\", \"\",    OFFSET( Season!$E$7,     2 * $AF210 - 1  +  IF( AH$4 = $AJ$4, 1, 0 ),     3*( $AE210-1) + 1  )     )","v":26},{"$f":"  IF( $AE210 = \"\", \"\",    OFFSET( Season!$E$7,     2 * $AF210 - 1  +  IF( AJ$4 = $AJ$4, 1, 0 ),     3*( $AE210-1) + 0  )     )","v":"X88"},{"$f":"  IF( $AE210 = \"\", \"\",    OFFSET( Season!$E$7,     2 * $AF210 - 1  +  IF( AJ$4 = $AJ$4, 1, 0 ),     3*( $AE210-1) + 1  )     )","v":26},"Tie","Tie","E55a","X88"]
[null,null,null,null,null,null,null,null,null,null,null,null,null,null,null,null,null,null,null,null,null,null,null,null,null,null,null,null,null,null,13,3,{"$f":"  IF(  OR(  ISNA(  MATCH( AH211, $W$8:$W$13, 0 )   ),   ISNA( MATCH(  AJ211,  $W$8:$W$13, 0 )  )    ), \" . \",   MAX( $AG$4:AG210 ) + 1  )","v":" . "},{"$f":"  IF( $AE211 = \"\", \"\",    OFFSET( Season!$E$7,     2 * $AF211 - 1  +  IF( AH$4 = $AJ$4, 1, 0 ),     3*( $AE211-1) + 0  )     )","v":"X01"},{"$f":"  IF( $AE211 = \"\", \"\",    OFFSET( Season!$E$7,     2 * $AF211 - 1  +  IF( AH$4 = $AJ$4, 1, 0 ),     3*( $AE211-1) + 1  )     )","v":8},{"$f":"  IF( $AE211 = \"\", \"\",    OFFSET( Season!$E$7,     2 * $AF211 - 1  +  IF( AJ$4 = $AJ$4, 1, 0 ),     3*( $AE211-1) + 0  )     )","v":"X04"},{"$f":"  IF( $AE211 = \"\", \"\",    OFFSET( Season!$E$7,     2 * $AF211 - 1  +  IF( AJ$4 = $AJ$4, 1, 0 ),     3*( $AE211-1) + 1  )     )","v":25},"X01","X04","",""]
[null,null,null,null,null,null,null,null,null,null,null,null,null,null,null,null,null,null,null,null,null,null,null,null,null,null,null,null,null,null,13,4,{"$f":"  IF(  OR(  ISNA(  MATCH( AH212, $W$8:$W$13, 0 )   ),   ISNA( MATCH(  AJ212,  $W$8:$W$13, 0 )  )    ), \" . \",   MAX( $AG$4:AG211 ) + 1  )","v":" . "},{"$f":"  IF( $AE212 = \"\", \"\",    OFFSET( Season!$E$7,     2 * $AF212 - 1  +  IF( AH$4 = $AJ$4, 1, 0 ),     3*( $AE212-1) + 0  )     )","v":"X87"},{"$f":"  IF( $AE212 = \"\", \"\",    OFFSET( Season!$E$7,     2 * $AF212 - 1  +  IF( AH$4 = $AJ$4, 1, 0 ),     3*( $AE212-1) + 1  )     )","v":9},{"$f":"  IF( $AE212 = \"\", \"\",    OFFSET( Season!$E$7,     2 * $AF212 - 1  +  IF( AJ$4 = $AJ$4, 1, 0 ),     3*( $AE212-1) + 0  )     )","v":"SUBS"},{"$f":"  IF( $AE212 = \"\", \"\",    OFFSET( Season!$E$7,     2 * $AF212 - 1  +  IF( AJ$4 = $AJ$4, 1, 0 ),     3*( $AE212-1) + 1  )     )","v":32},"X87","SUBS","",""]
[null,null,null,null,null,null,null,null,null,null,null,null,null,null,null,null,null,null,null,null,null,null,null,null,null,null,null,null,null,null,13,5,{"$f":"  IF(  OR(  ISNA(  MATCH( AH213, $W$8:$W$13, 0 )   ),   ISNA( MATCH(  AJ213,  $W$8:$W$13, 0 )  )    ), \" . \",   MAX( $AG$4:AG212 ) + 1  )","v":" . "},{"$f":"  IF( $AE213 = \"\", \"\",    OFFSET( Season!$E$7,     2 * $AF213 - 1  +  IF( AH$4 = $AJ$4, 1, 0 ),     3*( $AE213-1) + 0  )     )","v":"E86"},{"$f":"  IF( $AE213 = \"\", \"\",    OFFSET( Season!$E$7,     2 * $AF213 - 1  +  IF( AH$4 = $AJ$4, 1, 0 ),     3*( $AE213-1) + 1  )     )","v":27},{"$f":"  IF( $AE213 = \"\", \"\",    OFFSET( Season!$E$7,     2 * $AF213 - 1  +  IF( AJ$4 = $AJ$4, 1, 0 ),     3*( $AE213-1) + 0  )     )","v":"E42"},{"$f":"  IF( $AE213 = \"\", \"\",    OFFSET( Season!$E$7,     2 * $AF213 - 1  +  IF( AJ$4 = $AJ$4, 1, 0 ),     3*( $AE213-1) + 1  )     )","v":27},"Tie","Tie","E86","E42"]
[null,null,null,null,null,null,null,null,null,null,null,null,null,null,null,null,null,null,null,null,null,null,null,null,null,null,null,null,null,null,13,6,{"$f":"  IF(  OR(  ISNA(  MATCH( AH214, $W$8:$W$13, 0 )   ),   ISNA( MATCH(  AJ214,  $W$8:$W$13, 0 )  )    ), \" . \",   MAX( $AG$4:AG213 ) + 1  )","v":" . "},{"$f":"  IF( $AE214 = \"\", \"\",    OFFSET( Season!$E$7,     2 * $AF214 - 1  +  IF( AH$4 = $AJ$4, 1, 0 ),     3*( $AE214-1) + 0  )     )","v":"AMSC"},{"$f":"  IF( $AE214 = \"\", \"\",    OFFSET( Season!$E$7,     2 * $AF214 - 1  +  IF( AH$4 = $AJ$4, 1, 0 ),     3*( $AE214-1) + 1  )     )","v":19},{"$f":"  IF( $AE214 = \"\", \"\",    OFFSET( Season!$E$7,     2 * $AF214 - 1  +  IF( AJ$4 = $AJ$4, 1, 0 ),     3*( $AE214-1) + 0  )     )","v":"E83"},{"$f":"  IF( $AE214 = \"\", \"\",    OFFSET( Season!$E$7,     2 * $AF214 - 1  +  IF( AJ$4 = $AJ$4, 1, 0 ),     3*( $AE214-1) + 1  )     )","v":14},"E83","AMSC","",""]
[null,null,null,null,null,null,null,null,null,null,null,null,null,null,null,null,null,null,null,null,null,null,null,null,null,null,null,null,null,null,{"$f":"AE198 + 1","v":13},{"$f":"AF198","v":7},{"$f":"  IF(  OR(  ISNA(  MATCH( AH215, $W$8:$W$13, 0 )   ),   ISNA( MATCH(  AJ215,  $W$8:$W$13, 0 )  )    ), \" . \",   MAX( $AG$4:AG214 ) + 1  )","v":" . "},{"$f":"  IF( $AE215 = \"\", \"\",    OFFSET( Season!$E$7,     2 * $AF215 - 1  +  IF( AH$4 = $AJ$4, 1, 0 ),     3*( $AE215-1) + 0  )     )","v":"E12"},{"$f":"  IF( $AE215 = \"\", \"\",    OFFSET( Season!$E$7,     2 * $AF215 - 1  +  IF( AH$4 = $AJ$4, 1, 0 ),     3*( $AE215-1) + 1  )     )","v":17},{"$f":"  IF( $AE215 = \"\", \"\",    OFFSET( Season!$E$7,     2 * $AF215 - 1  +  IF( AJ$4 = $AJ$4, 1, 0 ),     3*( $AE215-1) + 0  )     )","v":"E17"},{"$f":"  IF( $AE215 = \"\", \"\",    OFFSET( Season!$E$7,     2 * $AF215 - 1  +  IF( AJ$4 = $AJ$4, 1, 0 ),     3*( $AE215-1) + 1  )     )","v":14},"E17","E12","",""]
[null,null,null,null,null,null,null,null,null,null,null,null,null,null,null,null,null,null,null,null,null,null,null,null,null,null,null,null,null,null,13,8,{"$f":"  IF(  OR(  ISNA(  MATCH( AH216, $W$8:$W$13, 0 )   ),   ISNA( MATCH(  AJ216,  $W$8:$W$13, 0 )  )    ), \" . \",   MAX( $AG$4:AG215 ) + 1  )","v":" . "},{"$f":"  IF( $AE216 = \"\", \"\",    OFFSET( Season!$E$7,     2 * $AF216 - 1  +  IF( AH$4 = $AJ$4, 1, 0 ),     3*( $AE216-1) + 0  )     )","v":"E55B"},{"$f":"  IF( $AE216 = \"\", \"\",    OFFSET( Season!$E$7,     2 * $AF216 - 1  +  IF( AH$4 = $AJ$4, 1, 0 ),     3*( $AE216-1) + 1  )     )","v":17},{"$f":"  IF( $AE216 = \"\", \"\",    OFFSET( Season!$E$7,     2 * $AF216 - 1  +  IF( AJ$4 = $AJ$4, 1, 0 ),     3*( $AE216-1) + 0  )     )","v":"AGS"},{"$f":"  IF( $AE216 = \"\", \"\",    OFFSET( Season!$E$7,     2 * $AF216 - 1  +  IF( AJ$4 = $AJ$4, 1, 0 ),     3*( $AE216-1) + 1  )     )","v":15},"AGS","E55B","",""]
[null,null,null,null,null,null,null,null,null,null,null,null,null,null,null,null,null,null,null,null,null,null,null,null,null,null,null,null,null,null,13,9,{"$f":"  IF(  OR(  ISNA(  MATCH( AH217, $W$8:$W$13, 0 )   ),   ISNA( MATCH(  AJ217,  $W$8:$W$13, 0 )  )    ), \" . \",   MAX( $AG$4:AG216 ) + 1  )","v":" . "},{"$f":"  IF( $AE217 = \"\", \"\",    OFFSET( Season!$E$7,     2 * $AF217 - 1  +  IF( AH$4 = $AJ$4, 1, 0 ),     3*( $AE217-1) + 0  )     )","v":0},{"$f":"  IF( $AE217 = \"\", \"\",    OFFSET( Season!$E$7,     2 * $AF217 - 1  +  IF( AH$4 = $AJ$4, 1, 0 ),     3*( $AE217-1) + 1  )     )","v":0},{"$f":"  IF( $AE217 = \"\", \"\",    OFFSET( Season!$E$7,     2 * $AF217 - 1  +  IF( AJ$4 = $AJ$4, 1, 0 ),     3*( $AE217-1) + 0  )     )","v":0},{"$f":"  IF( $AE217 = \"\", \"\",    OFFSET( Season!$E$7,     2 * $AF217 - 1  +  IF( AJ$4 = $AJ$4, 1, 0 ),     3*( $AE217-1) + 1  )     )","v":0},"x","x","",""]
[null,null,null,null,null,null,null,null,null,null,null,null,null,null,null,null,null,null,null,null,null,null,null,null,null,null,null,null,null,null,13,10,{"$f":"  IF(  OR(  ISNA(  MATCH( AH218, $W$8:$W$13, 0 )   ),   ISNA( MATCH(  AJ218,  $W$8:$W$13, 0 )  )    ), \" . \",   MAX( $AG$4:AG217 ) + 1  )","v":" . "},{"$f":"  IF( $AE218 = \"\", \"\",    OFFSET( Season!$E$7,     2 * $AF218 - 1  +  IF( AH$4 = $AJ$4, 1, 0 ),     3*( $AE218-1) + 0  )     )","v":"A572"},{"$f":"  IF( $AE218 = \"\", \"\",    OFFSET( Season!$E$7,     2 * $AF218 - 1  +  IF( AH$4 = $AJ$4, 1, 0 ),     3*( $AE218-1) + 1  )     )","v":18},{"$f":"  IF( $AE218 = \"\", \"\",    OFFSET( Season!$E$7,     2 * $AF218 - 1  +  IF( AJ$4 = $AJ$4, 1, 0 ),     3*( $AE218-1) + 0  )     )","v":"ENGR"},{"$f":"  IF( $AE218 = \"\", \"\",    OFFSET( Season!$E$7,     2 * $AF218 - 1  +  IF( AJ$4 = $AJ$4, 1, 0 ),     3*( $AE218-1) + 1  )     )","v":6},"ENGR","A572","",""]
[null,null,null,null,null,null,null,null,null,null,null,null,null,null,null,null,null,null,null,null,null,null,null,null,null,null,null,null,null,null,13,11,{"$f":"  IF(  OR(  ISNA(  MATCH( AH219, $W$8:$W$13, 0 )   ),   ISNA( MATCH(  AJ219,  $W$8:$W$13, 0 )  )    ), \" . \",   MAX( $AG$4:AG218 ) + 1  )","v":" . "},{"$f":"  IF( $AE219 = \"\", \"\",    OFFSET( Season!$E$7,     2 * $AF219 - 1  +  IF( AH$4 = $AJ$4, 1, 0 ),     3*( $AE219-1) + 0  )     )","v":"SCM"},{"$f":"  IF( $AE219 = \"\", \"\",    OFFSET( Season!$E$7,     2 * $AF219 - 1  +  IF( AH$4 = $AJ$4, 1, 0 ),     3*( $AE219-1) + 1  )     )","v":2},{"$f":"  IF( $AE219 = \"\", \"\",    OFFSET( Season!$E$7,     2 * $AF219 - 1  +  IF( AJ$4 = $AJ$4, 1, 0 ),     3*( $AE219-1) + 0  )     )","v":"CVN"},{"$f":"  IF( $AE219 = \"\", \"\",    OFFSET( Season!$E$7,     2 * $AF219 - 1  +  IF( AJ$4 = $AJ$4, 1, 0 ),     3*( $AE219-1) + 1  )     )","v":22},"SCM","CVN","",""]
[null,null,null,null,null,null,null,null,null,null,null,null,null,null,null,null,null,null,null,null,null,null,null,null,null,null,null,null,null,null,13,12,{"$f":"  IF(  OR(  ISNA(  MATCH( AH220, $W$8:$W$13, 0 )   ),   ISNA( MATCH(  AJ220,  $W$8:$W$13, 0 )  )    ), \" . \",   MAX( $AG$4:AG219 ) + 1  )","v":" . "},{"$f":"  IF( $AE220 = \"\", \"\",    OFFSET( Season!$E$7,     2 * $AF220 - 1  +  IF( AH$4 = $AJ$4, 1, 0 ),     3*( $AE220-1) + 0  )     )","v":"X10"},{"$f":"  IF( $AE220 = \"\", \"\",    OFFSET( Season!$E$7,     2 * $AF220 - 1  +  IF( AH$4 = $AJ$4, 1, 0 ),     3*( $AE220-1) + 1  )     )","v":-2},{"$f":"  IF( $AE220 = \"\", \"\",    OFFSET( Season!$E$7,     2 * $AF220 - 1  +  IF( AJ$4 = $AJ$4, 1, 0 ),     3*( $AE220-1) + 0  )     )","v":"CRF"},{"$f":"  IF( $AE220 = \"\", \"\",    OFFSET( Season!$E$7,     2 * $AF220 - 1  +  IF( AJ$4 = $AJ$4, 1, 0 ),     3*( $AE220-1) + 1  )     )","v":39},"X10","CRF","",""]
[null,null,null,null,null,null,null,null,null,null,null,null,null,null,null,null,null,null,null,null,null,null,null,null,null,null,null,null,null,null,13,13,{"$f":"  IF(  OR(  ISNA(  MATCH( AH221, $W$8:$W$13, 0 )   ),   ISNA( MATCH(  AJ221,  $W$8:$W$13, 0 )  )    ), \" . \",   MAX( $AG$4:AG220 ) + 1  )","v":" . "},{"$f":"  IF( $AE221 = \"\", \"\",    OFFSET( Season!$E$7,     2 * $AF221 - 1  +  IF( AH$4 = $AJ$4, 1, 0 ),     3*( $AE221-1) + 0  )     )","v":"O87"},{"$f":"  IF( $AE221 = \"\", \"\",    OFFSET( Season!$E$7,     2 * $AF221 - 1  +  IF( AH$4 = $AJ$4, 1, 0 ),     3*( $AE221-1) + 1  )     )","v":26},{"$f":"  IF( $AE221 = \"\", \"\",    OFFSET( Season!$E$7,     2 * $AF221 - 1  +  IF( AJ$4 = $AJ$4, 1, 0 ),     3*( $AE221-1) + 0  )     )","v":"E75"},{"$f":"  IF( $AE221 = \"\", \"\",    OFFSET( Season!$E$7,     2 * $AF221 - 1  +  IF( AJ$4 = $AJ$4, 1, 0 ),     3*( $AE221-1) + 1  )     )","v":12},"E75","O87","",""]
[null,null,null,null,null,null,null,null,null,null,null,null,null,null,null,null,null,null,null,null,null,null,null,null,null,null,null,null,null,null,13,14,{"$f":"  IF(  OR(  ISNA(  MATCH( AH222, $W$8:$W$13, 0 )   ),   ISNA( MATCH(  AJ222,  $W$8:$W$13, 0 )  )    ), \" . \",   MAX( $AG$4:AG221 ) + 1  )","v":" . "},{"$f":"  IF( $AE222 = \"\", \"\",    OFFSET( Season!$E$7,     2 * $AF222 - 1  +  IF( AH$4 = $AJ$4, 1, 0 ),     3*( $AE222-1) + 0  )     )","v":"O19"},{"$f":"  IF( $AE222 = \"\", \"\",    OFFSET( Season!$E$7,     2 * $AF222 - 1  +  IF( AH$4 = $AJ$4, 1, 0 ),     3*( $AE222-1) + 1  )     )","v":22},{"$f":"  IF( $AE222 = \"\", \"\",    OFFSET( Season!$E$7,     2 * $AF222 - 1  +  IF( AJ$4 = $AJ$4, 1, 0 ),     3*( $AE222-1) + 0  )     )","v":"ARG"},{"$f":"  IF( $AE222 = \"\", \"\",    OFFSET( Season!$E$7,     2 * $AF222 - 1  +  IF( AJ$4 = $AJ$4, 1, 0 ),     3*( $AE222-1) + 1  )     )","v":10},"ARG","O19","",""]
[null,null,null,null,null,null,null,null,null,null,null,null,null,null,null,null,null,null,null,null,null,null,null,null,null,null,null,null,null,null,13,15,{"$f":"  IF(  OR(  ISNA(  MATCH( AH223, $W$8:$W$13, 0 )   ),   ISNA( MATCH(  AJ223,  $W$8:$W$13, 0 )  )    ), \" . \",   MAX( $AG$4:AG222 ) + 1  )","v":" . "},{"$f":"  IF( $AE223 = \"\", \"\",    OFFSET( Season!$E$7,     2 * $AF223 - 1  +  IF( AH$4 = $AJ$4, 1, 0 ),     3*( $AE223-1) + 0  )     )","v":"O46"},{"$f":"  IF( $AE223 = \"\", \"\",    OFFSET( Season!$E$7,     2 * $AF223 - 1  +  IF( AH$4 = $AJ$4, 1, 0 ),     3*( $AE223-1) + 1  )     )","v":13},{"$f":"  IF( $AE223 = \"\", \"\",    OFFSET( Season!$E$7,     2 * $AF223 - 1  +  IF( AJ$4 = $AJ$4, 1, 0 ),     3*( $AE223-1) + 0  )     )","v":"X31"},{"$f":"  IF( $AE223 = \"\", \"\",    OFFSET( Season!$E$7,     2 * $AF223 - 1  +  IF( AJ$4 = $AJ$4, 1, 0 ),     3*( $AE223-1) + 1  )     )","v":18},"O46","X31","",""]
[null,null,null,null,null,null,null,null,null,null,null,null,null,null,null,null,null,null,null,null,null,null,null,null,null,null,null,null,null,null,13,16,{"$f":"  IF(  OR(  ISNA(  MATCH( AH224, $W$8:$W$13, 0 )   ),   ISNA( MATCH(  AJ224,  $W$8:$W$13, 0 )  )    ), \" . \",   MAX( $AG$4:AG223 ) + 1  )","v":" . "},{"$f":"  IF( $AE224 = \"\", \"\",    OFFSET( Season!$E$7,     2 * $AF224 - 1  +  IF( AH$4 = $AJ$4, 1, 0 ),     3*( $AE224-1) + 0  )     )","v":"E20"},{"$f":"  IF( $AE224 = \"\", \"\",    OFFSET( Season!$E$7,     2 * $AF224 - 1  +  IF( AH$4 = $AJ$4, 1, 0 ),     3*( $AE224-1) + 1  )     )","v":6},{"$f":"  IF( $AE224 = \"\", \"\",    OFFSET( Season!$E$7,     2 * $AF224 - 1  +  IF( AJ$4 = $AJ$4, 1, 0 ),     3*( $AE224-1) + 0  )     )","v":"E25"},{"$f":"  IF( $AE224 = \"\", \"\",    OFFSET( Season!$E$7,     2 * $AF224 - 1  +  IF( AJ$4 = $AJ$4, 1, 0 ),     3*( $AE224-1) + 1  )     )","v":27},"E20","E25","",""]
[null,null,null,null,null,null,null,null,null,null,null,null,null,null,null,null,null,null,null,null,null,null,null,null,null,null,null,null,null,null,13,17,{"$f":"  IF(  OR(  ISNA(  MATCH( AH225, $W$8:$W$13, 0 )   ),   ISNA( MATCH(  AJ225,  $W$8:$W$13, 0 )  )    ), \" . \",   MAX( $AG$4:AG224 ) + 1  )","v":" . "},{"$f":"  IF( $AE225 = \"\", \"\",    OFFSET( Season!$E$7,     2 * $AF225 - 1  +  IF( AH$4 = $AJ$4, 1, 0 ),     3*( $AE225-1) + 0  )     )","v":"M10"},{"$f":"  IF( $AE225 = \"\", \"\",    OFFSET( Season!$E$7,     2 * $AF225 - 1  +  IF( AH$4 = $AJ$4, 1, 0 ),     3*( $AE225-1) + 1  )     )","v":7},{"$f":"  IF( $AE225 = \"\", \"\",    OFFSET( Season!$E$7,     2 * $AF225 - 1  +  IF( AJ$4 = $AJ$4, 1, 0 ),     3*( $AE225-1) + 0  )     )","v":"NNIT"},{"$f":"  IF( $AE225 = \"\", \"\",    OFFSET( Season!$E$7,     2 * $AF225 - 1  +  IF( AJ$4 = $AJ$4, 1, 0 ),     3*( $AE225-1) + 1  )     )","v":7},"Tie","Tie","M10","NNIT"]
[null,null,null,null,null,null,null,null,null,null,null,null,null,null,null,null,null,null,null,null,null,null,null,null,null,null,null,null,null,null,14,1,{"$f":"  IF(  OR(  ISNA(  MATCH( AH226, $W$8:$W$13, 0 )   ),   ISNA( MATCH(  AJ226,  $W$8:$W$13, 0 )  )    ), \" . \",   MAX( $AG$4:AG225 ) + 1  )","v":" . "},{"$f":"  IF( $AE226 = \"\", \"\",    OFFSET( Season!$E$7,     2 * $AF226 - 1  +  IF( AH$4 = $AJ$4, 1, 0 ),     3*( $AE226-1) + 0  )     )","v":"E55a"},{"$f":"  IF( $AE226 = \"\", \"\",    OFFSET( Season!$E$7,     2 * $AF226 - 1  +  IF( AH$4 = $AJ$4, 1, 0 ),     3*( $AE226-1) + 1  )     )","v":12},{"$f":"  IF( $AE226 = \"\", \"\",    OFFSET( Season!$E$7,     2 * $AF226 - 1  +  IF( AJ$4 = $AJ$4, 1, 0 ),     3*( $AE226-1) + 0  )     )","v":"X01"},{"$f":"  IF( $AE226 = \"\", \"\",    OFFSET( Season!$E$7,     2 * $AF226 - 1  +  IF( AJ$4 = $AJ$4, 1, 0 ),     3*( $AE226-1) + 1  )     )","v":14},"E55a","X01","",""]
[null,null,null,null,null,null,null,null,null,null,null,null,null,null,null,null,null,null,null,null,null,null,null,null,null,null,null,null,null,null,14,2,{"$f":"  IF(  OR(  ISNA(  MATCH( AH227, $W$8:$W$13, 0 )   ),   ISNA( MATCH(  AJ227,  $W$8:$W$13, 0 )  )    ), \" . \",   MAX( $AG$4:AG226 ) + 1  )","v":" . "},{"$f":"  IF( $AE227 = \"\", \"\",    OFFSET( Season!$E$7,     2 * $AF227 - 1  +  IF( AH$4 = $AJ$4, 1, 0 ),     3*( $AE227-1) + 0  )     )","v":"E14"},{"$f":"  IF( $AE227 = \"\", \"\",    OFFSET( Season!$E$7,     2 * $AF227 - 1  +  IF( AH$4 = $AJ$4, 1, 0 ),     3*( $AE227-1) + 1  )     )","v":23},{"$f":"  IF( $AE227 = \"\", \"\",    OFFSET( Season!$E$7,     2 * $AF227 - 1  +  IF( AJ$4 = $AJ$4, 1, 0 ),     3*( $AE227-1) + 0  )     )","v":"E17"},{"$f":"  IF( $AE227 = \"\", \"\",    OFFSET( Season!$E$7,     2 * $AF227 - 1  +  IF( AJ$4 = $AJ$4, 1, 0 ),     3*( $AE227-1) + 1  )     )","v":13},"E17","E14","",""]
[null,null,null,null,null,null,null,null,null,null,null,null,null,null,null,null,null,null,null,null,null,null,null,null,null,null,null,null,null,null,14,3,{"$f":"  IF(  OR(  ISNA(  MATCH( AH228, $W$8:$W$13, 0 )   ),   ISNA( MATCH(  AJ228,  $W$8:$W$13, 0 )  )    ), \" . \",   MAX( $AG$4:AG227 ) + 1  )","v":" . "},{"$f":"  IF( $AE228 = \"\", \"\",    OFFSET( Season!$E$7,     2 * $AF228 - 1  +  IF( AH$4 = $AJ$4, 1, 0 ),     3*( $AE228-1) + 0  )     )","v":"AGS"},{"$f":"  IF( $AE228 = \"\", \"\",    OFFSET( Season!$E$7,     2 * $AF228 - 1  +  IF( AH$4 = $AJ$4, 1, 0 ),     3*( $AE228-1) + 1  )     )","v":"f"},{"$f":"  IF( $AE228 = \"\", \"\",    OFFSET( Season!$E$7,     2 * $AF228 - 1  +  IF( AJ$4 = $AJ$4, 1, 0 ),     3*( $AE228-1) + 0  )     )","v":"X04"},{"$f":"  IF( $AE228 = \"\", \"\",    OFFSET( Season!$E$7,     2 * $AF228 - 1  +  IF( AJ$4 = $AJ$4, 1, 0 ),     3*( $AE228-1) + 1  )     )","v":0},"X04","AGS","",""]
[null,null,null,null,null,null,null,null,null,null,null,null,null,null,null,null,null,null,null,null,null,null,null,null,null,null,null,null,null,null,14,4,{"$f":"  IF(  OR(  ISNA(  MATCH( AH229, $W$8:$W$13, 0 )   ),   ISNA( MATCH(  AJ229,  $W$8:$W$13, 0 )  )    ), \" . \",   MAX( $AG$4:AG228 ) + 1  )","v":" . "},{"$f":"  IF( $AE229 = \"\", \"\",    OFFSET( Season!$E$7,     2 * $AF229 - 1  +  IF( AH$4 = $AJ$4, 1, 0 ),     3*( $AE229-1) + 0  )     )","v":"SUBS"},{"$f":"  IF( $AE229 = \"\", \"\",    OFFSET( Season!$E$7,     2 * $AF229 - 1  +  IF( AH$4 = $AJ$4, 1, 0 ),     3*( $AE229-1) + 1  )     )","v":10},{"$f":"  IF( $AE229 = \"\", \"\",    OFFSET( Season!$E$7,     2 * $AF229 - 1  +  IF( AJ$4 = $AJ$4, 1, 0 ),     3*( $AE229-1) + 0  )     )","v":"E60"},{"$f":"  IF( $AE229 = \"\", \"\",    OFFSET( Season!$E$7,     2 * $AF229 - 1  +  IF( AJ$4 = $AJ$4, 1, 0 ),     3*( $AE229-1) + 1  )     )","v":3},"E60","SUBS","",""]
[null,null,null,null,null,null,null,null,null,null,null,null,null,null,null,null,null,null,null,null,null,null,null,null,null,null,null,null,null,null,14,5,{"$f":"  IF(  OR(  ISNA(  MATCH( AH230, $W$8:$W$13, 0 )   ),   ISNA( MATCH(  AJ230,  $W$8:$W$13, 0 )  )    ), \" . \",   MAX( $AG$4:AG229 ) + 1  )","v":" . "},{"$f":"  IF( $AE230 = \"\", \"\",    OFFSET( Season!$E$7,     2 * $AF230 - 1  +  IF( AH$4 = $AJ$4, 1, 0 ),     3*( $AE230-1) + 0  )     )","v":"E12"},{"$f":"  IF( $AE230 = \"\", \"\",    OFFSET( Season!$E$7,     2 * $AF230 - 1  +  IF( AH$4 = $AJ$4, 1, 0 ),     3*( $AE230-1) + 1  )     )","v":23},{"$f":"  IF( $AE230 = \"\", \"\",    OFFSET( Season!$E$7,     2 * $AF230 - 1  +  IF( AJ$4 = $AJ$4, 1, 0 ),     3*( $AE230-1) + 0  )     )","v":"AMSC"},{"$f":"  IF( $AE230 = \"\", \"\",    OFFSET( Season!$E$7,     2 * $AF230 - 1  +  IF( AJ$4 = $AJ$4, 1, 0 ),     3*( $AE230-1) + 1  )     )","v":23},"Tie","Tie","E12","AMSC"]
[null,null,null,null,null,null,null,null,null,null,null,null,null,null,null,null,null,null,null,null,null,null,null,null,null,null,null,null,null,null,14,6,{"$f":"  IF(  OR(  ISNA(  MATCH( AH231, $W$8:$W$13, 0 )   ),   ISNA( MATCH(  AJ231,  $W$8:$W$13, 0 )  )    ), \" . \",   MAX( $AG$4:AG230 ) + 1  )","v":" . "},{"$f":"  IF( $AE231 = \"\", \"\",    OFFSET( Season!$E$7,     2 * $AF231 - 1  +  IF( AH$4 = $AJ$4, 1, 0 ),     3*( $AE231-1) + 0  )     )","v":"E42"},{"$f":"  IF( $AE231 = \"\", \"\",    OFFSET( Season!$E$7,     2 * $AF231 - 1  +  IF( AH$4 = $AJ$4, 1, 0 ),     3*( $AE231-1) + 1  )     )","v":30},{"$f":"  IF( $AE231 = \"\", \"\",    OFFSET( Season!$E$7,     2 * $AF231 - 1  +  IF( AJ$4 = $AJ$4, 1, 0 ),     3*( $AE231-1) + 0  )     )","v":"X88"},{"$f":"  IF( $AE231 = \"\", \"\",    OFFSET( Season!$E$7,     2 * $AF231 - 1  +  IF( AJ$4 = $AJ$4, 1, 0 ),     3*( $AE231-1) + 1  )     )","v":8},"X88","E42","",""]
[null,null,null,null,null,null,null,null,null,null,null,null,null,null,null,null,null,null,null,null,null,null,null,null,null,null,null,null,null,null,14,7,{"$f":"  IF(  OR(  ISNA(  MATCH( AH232, $W$8:$W$13, 0 )   ),   ISNA( MATCH(  AJ232,  $W$8:$W$13, 0 )  )    ), \" . \",   MAX( $AG$4:AG231 ) + 1  )","v":" . "},{"$f":"  IF( $AE232 = \"\", \"\",    OFFSET( Season!$E$7,     2 * $AF232 - 1  +  IF( AH$4 = $AJ$4, 1, 0 ),     3*( $AE232-1) + 0  )     )","v":"E55B"},{"$f":"  IF( $AE232 = \"\", \"\",    OFFSET( Season!$E$7,     2 * $AF232 - 1  +  IF( AH$4 = $AJ$4, 1, 0 ),     3*( $AE232-1) + 1  )     )","v":0},{"$f":"  IF( $AE232 = \"\", \"\",    OFFSET( Season!$E$7,     2 * $AF232 - 1  +  IF( AJ$4 = $AJ$4, 1, 0 ),     3*( $AE232-1) + 0  )     )","v":"E86"},{"$f":"  IF( $AE232 = \"\", \"\",    OFFSET( Season!$E$7,     2 * $AF232 - 1  +  IF( AJ$4 = $AJ$4, 1, 0 ),     3*( $AE232-1) + 1  )     )","v":"f"},"E55B","E86","",""]
[null,null,null,null,null,null,null,null,null,null,null,null,null,null,null,null,null,null,null,null,null,null,null,null,null,null,null,null,null,null,14,8,{"$f":"  IF(  OR(  ISNA(  MATCH( AH233, $W$8:$W$13, 0 )   ),   ISNA( MATCH(  AJ233,  $W$8:$W$13, 0 )  )    ), \" . \",   MAX( $AG$4:AG232 ) + 1  )","v":" . "},{"$f":"  IF( $AE233 = \"\", \"\",    OFFSET( Season!$E$7,     2 * $AF233 - 1  +  IF( AH$4 = $AJ$4, 1, 0 ),     3*( $AE233-1) + 0  )     )","v":"X87"},{"$f":"  IF( $AE233 = \"\", \"\",    OFFSET( Season!$E$7,     2 * $AF233 - 1  +  IF( AH$4 = $AJ$4, 1, 0 ),     3*( $AE233-1) + 1  )     )","v":14},{"$f":"  IF( $AE233 = \"\", \"\",    OFFSET( Season!$E$7,     2 * $AF233 - 1  +  IF( AJ$4 = $AJ$4, 1, 0 ),     3*( $AE233-1) + 0  )     )","v":"E83"},{"$f":"  IF( $AE233 = \"\", \"\",    OFFSET( Season!$E$7,     2 * $AF233 - 1  +  IF( AJ$4 = $AJ$4, 1, 0 ),     3*( $AE233-1) + 1  )     )","v":4},"E83","X87","",""]
[null,null,null,null,null,null,null,null,null,null,null,null,null,null,null,null,null,null,null,null,null,null,null,null,null,null,null,null,null,null,14,9,{"$f":"  IF(  OR(  ISNA(  MATCH( AH234, $W$8:$W$13, 0 )   ),   ISNA( MATCH(  AJ234,  $W$8:$W$13, 0 )  )    ), \" . \",   MAX( $AG$4:AG233 ) + 1  )","v":" . "},{"$f":"  IF( $AE234 = \"\", \"\",    OFFSET( Season!$E$7,     2 * $AF234 - 1  +  IF( AH$4 = $AJ$4, 1, 0 ),     3*( $AE234-1) + 0  )     )","v":0},{"$f":"  IF( $AE234 = \"\", \"\",    OFFSET( Season!$E$7,     2 * $AF234 - 1  +  IF( AH$4 = $AJ$4, 1, 0 ),     3*( $AE234-1) + 1  )     )","v":0},{"$f":"  IF( $AE234 = \"\", \"\",    OFFSET( Season!$E$7,     2 * $AF234 - 1  +  IF( AJ$4 = $AJ$4, 1, 0 ),     3*( $AE234-1) + 0  )     )","v":0},{"$f":"  IF( $AE234 = \"\", \"\",    OFFSET( Season!$E$7,     2 * $AF234 - 1  +  IF( AJ$4 = $AJ$4, 1, 0 ),     3*( $AE234-1) + 1  )     )","v":0},"x","x","",""]
[null,null,null,null,null,null,null,null,null,null,null,null,null,null,null,null,null,null,null,null,null,null,null,null,null,null,null,null,null,null,14,10,{"$f":"  IF(  OR(  ISNA(  MATCH( AH235, $W$8:$W$13, 0 )   ),   ISNA( MATCH(  AJ235,  $W$8:$W$13, 0 )  )    ), \" . \",   MAX( $AG$4:AG234 ) + 1  )","v":" . "},{"$f":"  IF( $AE235 = \"\", \"\",    OFFSET( Season!$E$7,     2 * $AF235 - 1  +  IF( AH$4 = $AJ$4, 1, 0 ),     3*( $AE235-1) + 0  )     )","v":"SCM"},{"$f":"  IF( $AE235 = \"\", \"\",    OFFSET( Season!$E$7,     2 * $AF235 - 1  +  IF( AH$4 = $AJ$4, 1, 0 ),     3*( $AE235-1) + 1  )     )","v":-5},{"$f":"  IF( $AE235 = \"\", \"\",    OFFSET( Season!$E$7,     2 * $AF235 - 1  +  IF( AJ$4 = $AJ$4, 1, 0 ),     3*( $AE235-1) + 0  )     )","v":"X10"},{"$f":"  IF( $AE235 = \"\", \"\",    OFFSET( Season!$E$7,     2 * $AF235 - 1  +  IF( AJ$4 = $AJ$4, 1, 0 ),     3*( $AE235-1) + 1  )     )","v":11},"SCM","X10","",""]
[null,null,null,null,null,null,null,null,null,null,null,null,null,null,null,null,null,null,null,null,null,null,null,null,null,null,null,null,null,null,14,11,{"$f":"  IF(  OR(  ISNA(  MATCH( AH236, $W$8:$W$13, 0 )   ),   ISNA( MATCH(  AJ236,  $W$8:$W$13, 0 )  )    ), \" . \",   MAX( $AG$4:AG235 ) + 1  )","v":" . "},{"$f":"  IF( $AE236 = \"\", \"\",    OFFSET( Season!$E$7,     2 * $AF236 - 1  +  IF( AH$4 = $AJ$4, 1, 0 ),     3*( $AE236-1) + 0  )     )","v":"A572"},{"$f":"  IF( $AE236 = \"\", \"\",    OFFSET( Season!$E$7,     2 * $AF236 - 1  +  IF( AH$4 = $AJ$4, 1, 0 ),     3*( $AE236-1) + 1  )     )","v":26},{"$f":"  IF( $AE236 = \"\", \"\",    OFFSET( Season!$E$7,     2 * $AF236 - 1  +  IF( AJ$4 = $AJ$4, 1, 0 ),     3*( $AE236-1) + 0  )     )","v":"E25"},{"$f":"  IF( $AE236 = \"\", \"\",    OFFSET( Season!$E$7,     2 * $AF236 - 1  +  IF( AJ$4 = $AJ$4, 1, 0 ),     3*( $AE236-1) + 1  )     )","v":19},"E25","A572","",""]
[null,null,null,null,null,null,null,null,null,null,null,null,null,null,null,null,null,null,null,null,null,null,null,null,null,null,null,null,null,null,14,12,{"$f":"  IF(  OR(  ISNA(  MATCH( AH237, $W$8:$W$13, 0 )   ),   ISNA( MATCH(  AJ237,  $W$8:$W$13, 0 )  )    ), \" . \",   MAX( $AG$4:AG236 ) + 1  )","v":" . "},{"$f":"  IF( $AE237 = \"\", \"\",    OFFSET( Season!$E$7,     2 * $AF237 - 1  +  IF( AH$4 = $AJ$4, 1, 0 ),     3*( $AE237-1) + 0  )     )","v":"NNIT"},{"$f":"  IF( $AE237 = \"\", \"\",    OFFSET( Season!$E$7,     2 * $AF237 - 1  +  IF( AH$4 = $AJ$4, 1, 0 ),     3*( $AE237-1) + 1  )     )","v":16},{"$f":"  IF( $AE237 = \"\", \"\",    OFFSET( Season!$E$7,     2 * $AF237 - 1  +  IF( AJ$4 = $AJ$4, 1, 0 ),     3*( $AE237-1) + 0  )     )","v":"CRF"},{"$f":"  IF( $AE237 = \"\", \"\",    OFFSET( Season!$E$7,     2 * $AF237 - 1  +  IF( AJ$4 = $AJ$4, 1, 0 ),     3*( $AE237-1) + 1  )     )","v":23},"NNIT","CRF","",""]
[null,null,null,null,null,null,null,null,null,null,null,null,null,null,null,null,null,null,null,null,null,null,null,null,null,null,null,null,null,null,14,13,{"$f":"  IF(  OR(  ISNA(  MATCH( AH238, $W$8:$W$13, 0 )   ),   ISNA( MATCH(  AJ238,  $W$8:$W$13, 0 )  )    ), \" . \",   MAX( $AG$4:AG237 ) + 1  )","v":" . "},{"$f":"  IF( $AE238 = \"\", \"\",    OFFSET( Season!$E$7,     2 * $AF238 - 1  +  IF( AH$4 = $AJ$4, 1, 0 ),     3*( $AE238-1) + 0  )     )","v":"E75"},{"$f":"  IF( $AE238 = \"\", \"\",    OFFSET( Season!$E$7,     2 * $AF238 - 1  +  IF( AH$4 = $AJ$4, 1, 0 ),     3*( $AE238-1) + 1  )     )","v":17},{"$f":"  IF( $AE238 = \"\", \"\",    OFFSET( Season!$E$7,     2 * $AF238 - 1  +  IF( AJ$4 = $AJ$4, 1, 0 ),     3*( $AE238-1) + 0  )     )","v":"ENGR"},{"$f":"  IF( $AE238 = \"\", \"\",    OFFSET( Season!$E$7,     2 * $AF238 - 1  +  IF( AJ$4 = $AJ$4, 1, 0 ),     3*( $AE238-1) + 1  )     )","v":14},"ENGR","E75","",""]
[null,null,null,null,null,null,null,null,null,null,null,null,null,null,null,null,null,null,null,null,null,null,null,null,null,null,null,null,null,null,14,14,{"$f":"  IF(  OR(  ISNA(  MATCH( AH239, $W$8:$W$13, 0 )   ),   ISNA( MATCH(  AJ239,  $W$8:$W$13, 0 )  )    ), \" . \",   MAX( $AG$4:AG238 ) + 1  )","v":" . "},{"$f":"  IF( $AE239 = \"\", \"\",    OFFSET( Season!$E$7,     2 * $AF239 - 1  +  IF( AH$4 = $AJ$4, 1, 0 ),     3*( $AE239-1) + 0  )     )","v":"E20"},{"$f":"  IF( $AE239 = \"\", \"\",    OFFSET( Season!$E$7,     2 * $AF239 - 1  +  IF( AH$4 = $AJ$4, 1, 0 ),     3*( $AE239-1) + 1  )     )","v":4},{"$f":"  IF( $AE239 = \"\", \"\",    OFFSET( Season!$E$7,     2 * $AF239 - 1  +  IF( AJ$4 = $AJ$4, 1, 0 ),     3*( $AE239-1) + 0  )     )","v":"O46"},{"$f":"  IF( $AE239 = \"\", \"\",    OFFSET( Season!$E$7,     2 * $AF239 - 1  +  IF( AJ$4 = $AJ$4, 1, 0 ),     3*( $AE239-1) + 1  )     )","v":-7},"O46","E20","",""]
[null,null,null,null,null,null,null,null,null,null,null,null,null,null,null,null,null,null,null,null,null,null,null,null,null,null,null,null,null,null,14,15,{"$f":"  IF(  OR(  ISNA(  MATCH( AH240, $W$8:$W$13, 0 )   ),   ISNA( MATCH(  AJ240,  $W$8:$W$13, 0 )  )    ), \" . \",   MAX( $AG$4:AG239 ) + 1  )","v":" . "},{"$f":"  IF( $AE240 = \"\", \"\",    OFFSET( Season!$E$7,     2 * $AF240 - 1  +  IF( AH$4 = $AJ$4, 1, 0 ),     3*( $AE240-1) + 0  )     )","v":"ARG"},{"$f":"  IF( $AE240 = \"\", \"\",    OFFSET( Season!$E$7,     2 * $AF240 - 1  +  IF( AH$4 = $AJ$4, 1, 0 ),     3*( $AE240-1) + 1  )     )","v":23},{"$f":"  IF( $AE240 = \"\", \"\",    OFFSET( Season!$E$7,     2 * $AF240 - 1  +  IF( AJ$4 = $AJ$4, 1, 0 ),     3*( $AE240-1) + 0  )     )","v":"CVN"},{"$f":"  IF( $AE240 = \"\", \"\",    OFFSET( Season!$E$7,     2 * $AF240 - 1  +  IF( AJ$4 = $AJ$4, 1, 0 ),     3*( $AE240-1) + 1  )     )","v":20},"CVN","ARG","",""]
[null,null,null,null,null,null,null,null,null,null,null,null,null,null,null,null,null,null,null,null,null,null,null,null,null,null,null,null,null,null,14,16,{"$f":"  IF(  OR(  ISNA(  MATCH( AH241, $W$8:$W$13, 0 )   ),   ISNA( MATCH(  AJ241,  $W$8:$W$13, 0 )  )    ), \" . \",   MAX( $AG$4:AG240 ) + 1  )","v":" . "},{"$f":"  IF( $AE241 = \"\", \"\",    OFFSET( Season!$E$7,     2 * $AF241 - 1  +  IF( AH$4 = $AJ$4, 1, 0 ),     3*( $AE241-1) + 0  )     )","v":"M10"},{"$f":"  IF( $AE241 = \"\", \"\",    OFFSET( Season!$E$7,     2 * $AF241 - 1  +  IF( AH$4 = $AJ$4, 1, 0 ),     3*( $AE241-1) + 1  )     )","v":41},{"$f":"  IF( $AE241 = \"\", \"\",    OFFSET( Season!$E$7,     2 * $AF241 - 1  +  IF( AJ$4 = $AJ$4, 1, 0 ),     3*( $AE241-1) + 0  )     )","v":"O19"},{"$f":"  IF( $AE241 = \"\", \"\",    OFFSET( Season!$E$7,     2 * $AF241 - 1  +  IF( AJ$4 = $AJ$4, 1, 0 ),     3*( $AE241-1) + 1  )     )","v":17},"O19","M10","",""]
[null,null,null,null,null,null,null,null,null,null,null,null,null,null,null,null,null,null,null,null,null,null,null,null,null,null,null,null,null,null,14,17,{"$f":"  IF(  OR(  ISNA(  MATCH( AH242, $W$8:$W$13, 0 )   ),   ISNA( MATCH(  AJ242,  $W$8:$W$13, 0 )  )    ), \" . \",   MAX( $AG$4:AG241 ) + 1  )","v":" . "},{"$f":"  IF( $AE242 = \"\", \"\",    OFFSET( Season!$E$7,     2 * $AF242 - 1  +  IF( AH$4 = $AJ$4, 1, 0 ),     3*( $AE242-1) + 0  )     )","v":"O87"},{"$f":"  IF( $AE242 = \"\", \"\",    OFFSET( Season!$E$7,     2 * $AF242 - 1  +  IF( AH$4 = $AJ$4, 1, 0 ),     3*( $AE242-1) + 1  )     )","v":9},{"$f":"  IF( $AE242 = \"\", \"\",    OFFSET( Season!$E$7,     2 * $AF242 - 1  +  IF( AJ$4 = $AJ$4, 1, 0 ),     3*( $AE242-1) + 0  )     )","v":"X31"},{"$f":"  IF( $AE242 = \"\", \"\",    OFFSET( Season!$E$7,     2 * $AF242 - 1  +  IF( AJ$4 = $AJ$4, 1, 0 ),     3*( $AE242-1) + 1  )     )","v":11},"O87","X31","",""]
[null,null,null,null,null,null,null,null,null,null,null,null,null,null,null,null,null,null,null,null,null,null,null,null,null,null,null,null,null,null,15,1,{"$f":"  IF(  OR(  ISNA(  MATCH( AH243, $W$8:$W$13, 0 )   ),   ISNA( MATCH(  AJ243,  $W$8:$W$13, 0 )  )    ), \" . \",   MAX( $AG$4:AG242 ) + 1  )","v":" . "},{"$f":"  IF( $AE243 = \"\", \"\",    OFFSET( Season!$E$7,     2 * $AF243 - 1  +  IF( AH$4 = $AJ$4, 1, 0 ),     3*( $AE243-1) + 0  )     )","v":"SUBS"},{"$f":"  IF( $AE243 = \"\", \"\",    OFFSET( Season!$E$7,     2 * $AF243 - 1  +  IF( AH$4 = $AJ$4, 1, 0 ),     3*( $AE243-1) + 1  )     )","v":29},{"$f":"  IF( $AE243 = \"\", \"\",    OFFSET( Season!$E$7,     2 * $AF243 - 1  +  IF( AJ$4 = $AJ$4, 1, 0 ),     3*( $AE243-1) + 0  )     )","v":"E42"},{"$f":"  IF( $AE243 = \"\", \"\",    OFFSET( Season!$E$7,     2 * $AF243 - 1  +  IF( AJ$4 = $AJ$4, 1, 0 ),     3*( $AE243-1) + 1  )     )","v":32},"SUBS","E42","",""]
[null,null,null,null,null,null,null,null,null,null,null,null,null,null,null,null,null,null,null,null,null,null,null,null,null,null,null,null,null,null,15,2,{"$f":"  IF(  OR(  ISNA(  MATCH( AH244, $W$8:$W$13, 0 )   ),   ISNA( MATCH(  AJ244,  $W$8:$W$13, 0 )  )    ), \" . \",   MAX( $AG$4:AG243 ) + 1  )","v":" . "},{"$f":"  IF( $AE244 = \"\", \"\",    OFFSET( Season!$E$7,     2 * $AF244 - 1  +  IF( AH$4 = $AJ$4, 1, 0 ),     3*( $AE244-1) + 0  )     )","v":"X87"},{"$f":"  IF( $AE244 = \"\", \"\",    OFFSET( Season!$E$7,     2 * $AF244 - 1  +  IF( AH$4 = $AJ$4, 1, 0 ),     3*( $AE244-1) + 1  )     )","v":13},{"$f":"  IF( $AE244 = \"\", \"\",    OFFSET( Season!$E$7,     2 * $AF244 - 1  +  IF( AJ$4 = $AJ$4, 1, 0 ),     3*( $AE244-1) + 0  )     )","v":"X01"},{"$f":"  IF( $AE244 = \"\", \"\",    OFFSET( Season!$E$7,     2 * $AF244 - 1  +  IF( AJ$4 = $AJ$4, 1, 0 ),     3*( $AE244-1) + 1  )     )","v":20},"X87","X01","",""]
[null,null,null,null,null,null,null,null,null,null,null,null,null,null,null,null,null,null,null,null,null,null,null,null,null,null,null,null,null,null,15,3,{"$f":"  IF(  OR(  ISNA(  MATCH( AH245, $W$8:$W$13, 0 )   ),   ISNA( MATCH(  AJ245,  $W$8:$W$13, 0 )  )    ), \" . \",   MAX( $AG$4:AG244 ) + 1  )","v":" . "},{"$f":"  IF( $AE245 = \"\", \"\",    OFFSET( Season!$E$7,     2 * $AF245 - 1  +  IF( AH$4 = $AJ$4, 1, 0 ),     3*( $AE245-1) + 0  )     )","v":"AMSC"},{"$f":"  IF( $AE245 = \"\", \"\",    OFFSET( Season!$E$7,     2 * $AF245 - 1  +  IF( AH$4 = $AJ$4, 1, 0 ),     3*( $AE245-1) + 1  )     )","v":0},{"$f":"  IF( $AE245 = \"\", \"\",    OFFSET( Season!$E$7,     2 * $AF245 - 1  +  IF( AJ$4 = $AJ$4, 1, 0 ),     3*( $AE245-1) + 0  )     )","v":"AGS"},{"$f":"  IF( $AE245 = \"\", \"\",    OFFSET( Season!$E$7,     2 * $AF245 - 1  +  IF( AJ$4 = $AJ$4, 1, 0 ),     3*( $AE245-1) + 1  )     )","v":0},"x","x","",""]
[null,null,null,null,null,null,null,null,null,null,null,null,null,null,null,null,null,null,null,null,null,null,null,null,null,null,null,null,null,null,15,4,{"$f":"  IF(  OR(  ISNA(  MATCH( AH246, $W$8:$W$13, 0 )   ),   ISNA( MATCH(  AJ246,  $W$8:$W$13, 0 )  )    ), \" . \",   MAX( $AG$4:AG245 ) + 1  )","v":" . "},{"$f":"  IF( $AE246 = \"\", \"\",    OFFSET( Season!$E$7,     2 * $AF246 - 1  +  IF( AH$4 = $AJ$4, 1, 0 ),     3*( $AE246-1) + 0  )     )","v":"X88"},{"$f":"  IF( $AE246 = \"\", \"\",    OFFSET( Season!$E$7,     2 * $AF246 - 1  +  IF( AH$4 = $AJ$4, 1, 0 ),     3*( $AE246-1) + 1  )     )","v":9},{"$f":"  IF( $AE246 = \"\", \"\",    OFFSET( Season!$E$7,     2 * $AF246 - 1  +  IF( AJ$4 = $AJ$4, 1, 0 ),     3*( $AE246-1) + 0  )     )","v":"E60"},{"$f":"  IF( $AE246 = \"\", \"\",    OFFSET( Season!$E$7,     2 * $AF246 - 1  +  IF( AJ$4 = $AJ$4, 1, 0 ),     3*( $AE246-1) + 1  )     )","v":14},"X88","E60","",""]
[null,null,null,null,null,null,null,null,null,null,null,null,null,null,null,null,null,null,null,null,null,null,null,null,null,null,null,null,null,null,15,5,{"$f":"  IF(  OR(  ISNA(  MATCH( AH247, $W$8:$W$13, 0 )   ),   ISNA( MATCH(  AJ247,  $W$8:$W$13, 0 )  )    ), \" . \",   MAX( $AG$4:AG246 ) + 1  )","v":" . "},{"$f":"  IF( $AE247 = \"\", \"\",    OFFSET( Season!$E$7,     2 * $AF247 - 1  +  IF( AH$4 = $AJ$4, 1, 0 ),     3*( $AE247-1) + 0  )     )","v":"E83"},{"$f":"  IF( $AE247 = \"\", \"\",    OFFSET( Season!$E$7,     2 * $AF247 - 1  +  IF( AH$4 = $AJ$4, 1, 0 ),     3*( $AE247-1) + 1  )     )","v":-6},{"$f":"  IF( $AE247 = \"\", \"\",    OFFSET( Season!$E$7,     2 * $AF247 - 1  +  IF( AJ$4 = $AJ$4, 1, 0 ),     3*( $AE247-1) + 0  )     )","v":"E55a"},{"$f":"  IF( $AE247 = \"\", \"\",    OFFSET( Season!$E$7,     2 * $AF247 - 1  +  IF( AJ$4 = $AJ$4, 1, 0 ),     3*( $AE247-1) + 1  )     )","v":14},"E83","E55a","",""]
[null,null,null,null,null,null,null,null,null,null,null,null,null,null,null,null,null,null,null,null,null,null,null,null,null,null,null,null,null,null,15,6,{"$f":"  IF(  OR(  ISNA(  MATCH( AH248, $W$8:$W$13, 0 )   ),   ISNA( MATCH(  AJ248,  $W$8:$W$13, 0 )  )    ), \" . \",   MAX( $AG$4:AG247 ) + 1  )","v":" . "},{"$f":"  IF( $AE248 = \"\", \"\",    OFFSET( Season!$E$7,     2 * $AF248 - 1  +  IF( AH$4 = $AJ$4, 1, 0 ),     3*( $AE248-1) + 0  )     )","v":"E17"},{"$f":"  IF( $AE248 = \"\", \"\",    OFFSET( Season!$E$7,     2 * $AF248 - 1  +  IF( AH$4 = $AJ$4, 1, 0 ),     3*( $AE248-1) + 1  )     )","v":"f"},{"$f":"  IF( $AE248 = \"\", \"\",    OFFSET( Season!$E$7,     2 * $AF248 - 1  +  IF( AJ$4 = $AJ$4, 1, 0 ),     3*( $AE248-1) + 0  )     )","v":"E86"},{"$f":"  IF( $AE248 = \"\", \"\",    OFFSET( Season!$E$7,     2 * $AF248 - 1  +  IF( AJ$4 = $AJ$4, 1, 0 ),     3*( $AE248-1) + 1  )     )","v":0},"E86","E17","",""]
[null,null,null,null,null,null,null,null,null,null,null,null,null,null,null,null,null,null,null,null,null,null,null,null,null,null,null,null,null,null,15,7,{"$f":"  IF(  OR(  ISNA(  MATCH( AH249, $W$8:$W$13, 0 )   ),   ISNA( MATCH(  AJ249,  $W$8:$W$13, 0 )  )    ), \" . \",   MAX( $AG$4:AG248 ) + 1  )","v":" . "},{"$f":"  IF( $AE249 = \"\", \"\",    OFFSET( Season!$E$7,     2 * $AF249 - 1  +  IF( AH$4 = $AJ$4, 1, 0 ),     3*( $AE249-1) + 0  )     )","v":"E55B"},{"$f":"  IF( $AE249 = \"\", \"\",    OFFSET( Season!$E$7,     2 * $AF249 - 1  +  IF( AH$4 = $AJ$4, 1, 0 ),     3*( $AE249-1) + 1  )     )","v":0},{"$f":"  IF( $AE249 = \"\", \"\",    OFFSET( Season!$E$7,     2 * $AF249 - 1  +  IF( AJ$4 = $AJ$4, 1, 0 ),     3*( $AE249-1) + 0  )     )","v":"E14"},{"$f":"  IF( $AE249 = \"\", \"\",    OFFSET( Season!$E$7,     2 * $AF249 - 1  +  IF( AJ$4 = $AJ$4, 1, 0 ),     3*( $AE249-1) + 1  )     )","v":"f"},"E55B","E14","",""]
[null,null,null,null,null,null,null,null,null,null,null,null,null,null,null,null,null,null,null,null,null,null,null,null,null,null,null,null,null,null,15,8,{"$f":"  IF(  OR(  ISNA(  MATCH( AH250, $W$8:$W$13, 0 )   ),   ISNA( MATCH(  AJ250,  $W$8:$W$13, 0 )  )    ), \" . \",   MAX( $AG$4:AG249 ) + 1  )","v":" . "},{"$f":"  IF( $AE250 = \"\", \"\",    OFFSET( Season!$E$7,     2 * $AF250 - 1  +  IF( AH$4 = $AJ$4, 1, 0 ),     3*( $AE250-1) + 0  )     )","v":"E12"},{"$f":"  IF( $AE250 = \"\", \"\",    OFFSET( Season!$E$7,     2 * $AF250 - 1  +  IF( AH$4 = $AJ$4, 1, 0 ),     3*( $AE250-1) + 1  )     )","v":-5},{"$f":"  IF( $AE250 = \"\", \"\",    OFFSET( Season!$E$7,     2 * $AF250 - 1  +  IF( AJ$4 = $AJ$4, 1, 0 ),     3*( $AE250-1) + 0  )     )","v":"X04"},{"$f":"  IF( $AE250 = \"\", \"\",    OFFSET( Season!$E$7,     2 * $AF250 - 1  +  IF( AJ$4 = $AJ$4, 1, 0 ),     3*( $AE250-1) + 1  )     )","v":35},"E12","X04","",""]
[null,null,null,null,null,null,null,null,null,null,null,null,null,null,null,null,null,null,null,null,null,null,null,null,null,null,null,null,null,null,15,9,{"$f":"  IF(  OR(  ISNA(  MATCH( AH251, $W$8:$W$13, 0 )   ),   ISNA( MATCH(  AJ251,  $W$8:$W$13, 0 )  )    ), \" . \",   MAX( $AG$4:AG250 ) + 1  )","v":" . "},{"$f":"  IF( $AE251 = \"\", \"\",    OFFSET( Season!$E$7,     2 * $AF251 - 1  +  IF( AH$4 = $AJ$4, 1, 0 ),     3*( $AE251-1) + 0  )     )","v":0},{"$f":"  IF( $AE251 = \"\", \"\",    OFFSET( Season!$E$7,     2 * $AF251 - 1  +  IF( AH$4 = $AJ$4, 1, 0 ),     3*( $AE251-1) + 1  )     )","v":0},{"$f":"  IF( $AE251 = \"\", \"\",    OFFSET( Season!$E$7,     2 * $AF251 - 1  +  IF( AJ$4 = $AJ$4, 1, 0 ),     3*( $AE251-1) + 0  )     )","v":0},{"$f":"  IF( $AE251 = \"\", \"\",    OFFSET( Season!$E$7,     2 * $AF251 - 1  +  IF( AJ$4 = $AJ$4, 1, 0 ),     3*( $AE251-1) + 1  )     )","v":0},"x","x","",""]
[null,null,null,null,null,null,null,null,null,null,null,null,null,null,null,null,null,null,null,null,null,null,null,null,null,null,null,null,null,null,15,10,{"$f":"  IF(  OR(  ISNA(  MATCH( AH252, $W$8:$W$13, 0 )   ),   ISNA( MATCH(  AJ252,  $W$8:$W$13, 0 )  )    ), \" . \",   MAX( $AG$4:AG251 ) + 1  )","v":" . "},{"$f":"  IF( $AE252 = \"\", \"\",    OFFSET( Season!$E$7,     2 * $AF252 - 1  +  IF( AH$4 = $AJ$4, 1, 0 ),     3*( $AE252-1) + 0  )     )","v":"E75"},{"$f":"  IF( $AE252 = \"\", \"\",    OFFSET( Season!$E$7,     2 * $AF252 - 1  +  IF( AH$4 = $AJ$4, 1, 0 ),     3*( $AE252-1) + 1  )     )","v":13},{"$f":"  IF( $AE252 = \"\", \"\",    OFFSET( Season!$E$7,     2 * $AF252 - 1  +  IF( AJ$4 = $AJ$4, 1, 0 ),     3*( $AE252-1) + 0  )     )","v":"ARG"},{"$f":"  IF( $AE252 = \"\", \"\",    OFFSET( Season!$E$7,     2 * $AF252 - 1  +  IF( AJ$4 = $AJ$4, 1, 0 ),     3*( $AE252-1) + 1  )     )","v":-2},"ARG","E75","",""]
[null,null,null,null,null,null,null,null,null,null,null,null,null,null,null,null,null,null,null,null,null,null,null,null,null,null,null,null,null,null,15,11,{"$f":"  IF(  OR(  ISNA(  MATCH( AH253, $W$8:$W$13, 0 )   ),   ISNA( MATCH(  AJ253,  $W$8:$W$13, 0 )  )    ), \" . \",   MAX( $AG$4:AG252 ) + 1  )","v":" . "},{"$f":"  IF( $AE253 = \"\", \"\",    OFFSET( Season!$E$7,     2 * $AF253 - 1  +  IF( AH$4 = $AJ$4, 1, 0 ),     3*( $AE253-1) + 0  )     )","v":"O87"},{"$f":"  IF( $AE253 = \"\", \"\",    OFFSET( Season!$E$7,     2 * $AF253 - 1  +  IF( AH$4 = $AJ$4, 1, 0 ),     3*( $AE253-1) + 1  )     )","v":22},{"$f":"  IF( $AE253 = \"\", \"\",    OFFSET( Season!$E$7,     2 * $AF253 - 1  +  IF( AJ$4 = $AJ$4, 1, 0 ),     3*( $AE253-1) + 0  )     )","v":"X10"},{"$f":"  IF( $AE253 = \"\", \"\",    OFFSET( Season!$E$7,     2 * $AF253 - 1  +  IF( AJ$4 = $AJ$4, 1, 0 ),     3*( $AE253-1) + 1  )     )","v":34},"O87","X10","",""]
[null,null,null,null,null,null,null,null,null,null,null,null,null,null,null,null,null,null,null,null,null,null,null,null,null,null,null,null,null,null,15,12,{"$f":"  IF(  OR(  ISNA(  MATCH( AH254, $W$8:$W$13, 0 )   ),   ISNA( MATCH(  AJ254,  $W$8:$W$13, 0 )  )    ), \" . \",   MAX( $AG$4:AG253 ) + 1  )","v":" . "},{"$f":"  IF( $AE254 = \"\", \"\",    OFFSET( Season!$E$7,     2 * $AF254 - 1  +  IF( AH$4 = $AJ$4, 1, 0 ),     3*( $AE254-1) + 0  )     )","v":"O46"},{"$f":"  IF( $AE254 = \"\", \"\",    OFFSET( Season!$E$7,     2 * $AF254 - 1  +  IF( AH$4 = $AJ$4, 1, 0 ),     3*( $AE254-1) + 1  )     )","v":22},{"$f":"  IF( $AE254 = \"\", \"\",    OFFSET( Season!$E$7,     2 * $AF254 - 1  +  IF( AJ$4 = $AJ$4, 1, 0 ),     3*( $AE254-1) + 0  )     )","v":"NNIT"},{"$f":"  IF( $AE254 = \"\", \"\",    OFFSET( Season!$E$7,     2 * $AF254 - 1  +  IF( AJ$4 = $AJ$4, 1, 0 ),     3*( $AE254-1) + 1  )     )","v":12},"NNIT","O46","",""]
[null,null,null,null,null,null,null,null,null,null,null,null,null,null,null,null,null,null,null,null,null,null,null,null,null,null,null,null,null,null,15,13,{"$f":"  IF(  OR(  ISNA(  MATCH( AH255, $W$8:$W$13, 0 )   ),   ISNA( MATCH(  AJ255,  $W$8:$W$13, 0 )  )    ), \" . \",   MAX( $AG$4:AG254 ) + 1  )","v":" . "},{"$f":"  IF( $AE255 = \"\", \"\",    OFFSET( Season!$E$7,     2 * $AF255 - 1  +  IF( AH$4 = $AJ$4, 1, 0 ),     3*( $AE255-1) + 0  )     )","v":"CVN"},{"$f":"  IF( $AE255 = \"\", \"\",    OFFSET( Season!$E$7,     2 * $AF255 - 1  +  IF( AH$4 = $AJ$4, 1, 0 ),     3*( $AE255-1) + 1  )     )","v":"f"},{"$f":"  IF( $AE255 = \"\", \"\",    OFFSET( Season!$E$7,     2 * $AF255 - 1  +  IF( AJ$4 = $AJ$4, 1, 0 ),     3*( $AE255-1) + 0  )     )","v":"ENGR"},{"$f":"  IF( $AE255 = \"\", \"\",    OFFSET( Season!$E$7,     2 * $AF255 - 1  +  IF( AJ$4 = $AJ$4, 1, 0 ),     3*( $AE255-1) + 1  )     )","v":0},"ENGR","CVN","",""]
[null,null,null,null,null,null,null,null,null,null,null,null,null,null,null,null,null,null,null,null,null,null,null,null,null,null,null,null,null,null,15,14,{"$f":"  IF(  OR(  ISNA(  MATCH( AH256, $W$8:$W$13, 0 )   ),   ISNA( MATCH(  AJ256,  $W$8:$W$13, 0 )  )    ), \" . \",   MAX( $AG$4:AG255 ) + 1  )","v":" . "},{"$f":"  IF( $AE256 = \"\", \"\",    OFFSET( Season!$E$7,     2 * $AF256 - 1  +  IF( AH$4 = $AJ$4, 1, 0 ),     3*( $AE256-1) + 0  )     )","v":"X31"},{"$f":"  IF( $AE256 = \"\", \"\",    OFFSET( Season!$E$7,     2 * $AF256 - 1  +  IF( AH$4 = $AJ$4, 1, 0 ),     3*( $AE256-1) + 1  )     )","v":12},{"$f":"  IF( $AE256 = \"\", \"\",    OFFSET( Season!$E$7,     2 * $AF256 - 1  +  IF( AJ$4 = $AJ$4, 1, 0 ),     3*( $AE256-1) + 0  )     )","v":"SCM"},{"$f":"  IF( $AE256 = \"\", \"\",    OFFSET( Season!$E$7,     2 * $AF256 - 1  +  IF( AJ$4 = $AJ$4, 1, 0 ),     3*( $AE256-1) + 1  )     )","v":13},"X31","SCM","",""]
[null,null,null,null,null,null,null,null,null,null,null,null,null,null,null,null,null,null,null,null,null,null,null,null,null,null,null,null,null,null,15,15,{"$f":"  IF(  OR(  ISNA(  MATCH( AH257, $W$8:$W$13, 0 )   ),   ISNA( MATCH(  AJ257,  $W$8:$W$13, 0 )  )    ), \" . \",   MAX( $AG$4:AG256 ) + 1  )","v":" . "},{"$f":"  IF( $AE257 = \"\", \"\",    OFFSET( Season!$E$7,     2 * $AF257 - 1  +  IF( AH$4 = $AJ$4, 1, 0 ),     3*( $AE257-1) + 0  )     )","v":"E25"},{"$f":"  IF( $AE257 = \"\", \"\",    OFFSET( Season!$E$7,     2 * $AF257 - 1  +  IF( AH$4 = $AJ$4, 1, 0 ),     3*( $AE257-1) + 1  )     )","v":15},{"$f":"  IF( $AE257 = \"\", \"\",    OFFSET( Season!$E$7,     2 * $AF257 - 1  +  IF( AJ$4 = $AJ$4, 1, 0 ),     3*( $AE257-1) + 0  )     )","v":"O19"},{"$f":"  IF( $AE257 = \"\", \"\",    OFFSET( Season!$E$7,     2 * $AF257 - 1  +  IF( AJ$4 = $AJ$4, 1, 0 ),     3*( $AE257-1) + 1  )     )","v":15},"Tie","Tie","E25","O19"]
[null,null,null,null,null,null,null,null,null,null,null,null,null,null,null,null,null,null,null,null,null,null,null,null,null,null,null,null,null,null,15,16,{"$f":"  IF(  OR(  ISNA(  MATCH( AH258, $W$8:$W$13, 0 )   ),   ISNA( MATCH(  AJ258,  $W$8:$W$13, 0 )  )    ), \" . \",   MAX( $AG$4:AG257 ) + 1  )","v":" . "},{"$f":"  IF( $AE258 = \"\", \"\",    OFFSET( Season!$E$7,     2 * $AF258 - 1  +  IF( AH$4 = $AJ$4, 1, 0 ),     3*( $AE258-1) + 0  )     )","v":"M10"},{"$f":"  IF( $AE258 = \"\", \"\",    OFFSET( Season!$E$7,     2 * $AF258 - 1  +  IF( AH$4 = $AJ$4, 1, 0 ),     3*( $AE258-1) + 1  )     )","v":12},{"$f":"  IF( $AE258 = \"\", \"\",    OFFSET( Season!$E$7,     2 * $AF258 - 1  +  IF( AJ$4 = $AJ$4, 1, 0 ),     3*( $AE258-1) + 0  )     )","v":"A572"},{"$f":"  IF( $AE258 = \"\", \"\",    OFFSET( Season!$E$7,     2 * $AF258 - 1  +  IF( AJ$4 = $AJ$4, 1, 0 ),     3*( $AE258-1) + 1  )     )","v":15},"M10","A572","",""]
[null,null,null,null,null,null,null,null,null,null,null,null,null,null,null,null,null,null,null,null,null,null,null,null,null,null,null,null,null,null,15,17,{"$f":"  IF(  OR(  ISNA(  MATCH( AH259, $W$8:$W$13, 0 )   ),   ISNA( MATCH(  AJ259,  $W$8:$W$13, 0 )  )    ), \" . \",   MAX( $AG$4:AG258 ) + 1  )","v":" . "},{"$f":"  IF( $AE259 = \"\", \"\",    OFFSET( Season!$E$7,     2 * $AF259 - 1  +  IF( AH$4 = $AJ$4, 1, 0 ),     3*( $AE259-1) + 0  )     )","v":"E20"},{"$f":"  IF( $AE259 = \"\", \"\",    OFFSET( Season!$E$7,     2 * $AF259 - 1  +  IF( AH$4 = $AJ$4, 1, 0 ),     3*( $AE259-1) + 1  )     )","v":16},{"$f":"  IF( $AE259 = \"\", \"\",    OFFSET( Season!$E$7,     2 * $AF259 - 1  +  IF( AJ$4 = $AJ$4, 1, 0 ),     3*( $AE259-1) + 0  )     )","v":"CRF"},{"$f":"  IF( $AE259 = \"\", \"\",    OFFSET( Season!$E$7,     2 * $AF259 - 1  +  IF( AJ$4 = $AJ$4, 1, 0 ),     3*( $AE259-1) + 1  )     )","v":17},"E20","CRF","",""]
[null,null,null,null,null,null,null,null,null,null,null,null,null,null,null,null,null,null,null,null,null,null,null,null,null,null,null,null,null,null,16,1,{"$f":"  IF(  OR(  ISNA(  MATCH( AH260, $W$8:$W$13, 0 )   ),   ISNA( MATCH(  AJ260,  $W$8:$W$13, 0 )  )    ), \" . \",   MAX( $AG$4:AG259 ) + 1  )","v":" . "},{"$f":"  IF( $AE260 = \"\", \"\",    OFFSET( Season!$E$7,     2 * $AF260 - 1  +  IF( AH$4 = $AJ$4, 1, 0 ),     3*( $AE260-1) + 0  )     )","v":0},{"$f":"  IF( $AE260 = \"\", \"\",    OFFSET( Season!$E$7,     2 * $AF260 - 1  +  IF( AH$4 = $AJ$4, 1, 0 ),     3*( $AE260-1) + 1  )     )","v":""},{"$f":"  IF( $AE260 = \"\", \"\",    OFFSET( Season!$E$7,     2 * $AF260 - 1  +  IF( AJ$4 = $AJ$4, 1, 0 ),     3*( $AE260-1) + 0  )     )","v":0},{"$f":"  IF( $AE260 = \"\", \"\",    OFFSET( Season!$E$7,     2 * $AF260 - 1  +  IF( AJ$4 = $AJ$4, 1, 0 ),     3*( $AE260-1) + 1  )     )","v":""},".",".","",""]
[null,null,null,null,null,null,null,null,null,null,null,null,null,null,null,null,null,null,null,null,null,null,null,null,null,null,null,null,null,null,16,2,{"$f":"  IF(  OR(  ISNA(  MATCH( AH261, $W$8:$W$13, 0 )   ),   ISNA( MATCH(  AJ261,  $W$8:$W$13, 0 )  )    ), \" . \",   MAX( $AG$4:AG260 ) + 1  )","v":" . "},{"$f":"  IF( $AE261 = \"\", \"\",    OFFSET( Season!$E$7,     2 * $AF261 - 1  +  IF( AH$4 = $AJ$4, 1, 0 ),     3*( $AE261-1) + 0  )     )","v":0},{"$f":"  IF( $AE261 = \"\", \"\",    OFFSET( Season!$E$7,     2 * $AF261 - 1  +  IF( AH$4 = $AJ$4, 1, 0 ),     3*( $AE261-1) + 1  )     )","v":""},{"$f":"  IF( $AE261 = \"\", \"\",    OFFSET( Season!$E$7,     2 * $AF261 - 1  +  IF( AJ$4 = $AJ$4, 1, 0 ),     3*( $AE261-1) + 0  )     )","v":0},{"$f":"  IF( $AE261 = \"\", \"\",    OFFSET( Season!$E$7,     2 * $AF261 - 1  +  IF( AJ$4 = $AJ$4, 1, 0 ),     3*( $AE261-1) + 1  )     )","v":""},{"$f":"  IF(  LEFT( $AI261, 1 ) = \"f\",  $AJ261,    IF(  LEFT( $AK261, 1 ) = \"f\", $AH261,    IF(  AND(  $AI261 = \"\",  $AK261 = \"\"  ), \".\",    IF(  $AI261^2 + $AK261^2 = 0,  \"x\",    IF(  $AI261 = $AK261, \"Tie\",    IF(   $AI261 < $AK261,  $AH261,  $AJ261 )    )  )  ) )  )","v":"."},{"$f":"  IF(  LEFT( $AI261, 1 ) = \"f\",  $AH261,    IF(  LEFT( $AK261, 1 ) = \"f\", $AJ261,    IF(  AND(  $AI261 = \"\",  $AK261 = \"\"  ), \".\",    IF(  $AI261^2 + $AK261^2 = 0,  \"x\",    IF(  $AI261 = $AK261, \"Tie\",    IF(   $AI261 > $AK261,  $AH261,  $AJ261 )    )  )  ) )  )","v":"."},{"$f":"   IF( AL261 = \"Tie\", $AH261, \"\" )","v":""},{"$f":"   IF( AM261 = \"Tie\", $AJ261, \"\" )","v":""}]
[null,null,null,null,null,null,null,null,null,null,null,null,null,null,null,null,null,null,null,null,null,null,null,null,null,null,null,null,null,null,16,3,{"$f":"  IF(  OR(  ISNA(  MATCH( AH262, $W$8:$W$13, 0 )   ),   ISNA( MATCH(  AJ262,  $W$8:$W$13, 0 )  )    ), \" . \",   MAX( $AG$4:AG261 ) + 1  )","v":" . "},{"$f":"  IF( $AE262 = \"\", \"\",    OFFSET( Season!$E$7,     2 * $AF262 - 1  +  IF( AH$4 = $AJ$4, 1, 0 ),     3*( $AE262-1) + 0  )     )","v":0},{"$f":"  IF( $AE262 = \"\", \"\",    OFFSET( Season!$E$7,     2 * $AF262 - 1  +  IF( AH$4 = $AJ$4, 1, 0 ),     3*( $AE262-1) + 1  )     )","v":""},{"$f":"  IF( $AE262 = \"\", \"\",    OFFSET( Season!$E$7,     2 * $AF262 - 1  +  IF( AJ$4 = $AJ$4, 1, 0 ),     3*( $AE262-1) + 0  )     )","v":0},{"$f":"  IF( $AE262 = \"\", \"\",    OFFSET( Season!$E$7,     2 * $AF262 - 1  +  IF( AJ$4 = $AJ$4, 1, 0 ),     3*( $AE262-1) + 1  )     )","v":""},".",".","",""]
[null,null,null,null,null,null,null,null,null,null,null,null,null,null,null,null,null,null,null,null,null,null,null,null,null,null,null,null,null,null,16,4,{"$f":"  IF(  OR(  ISNA(  MATCH( AH263, $W$8:$W$13, 0 )   ),   ISNA( MATCH(  AJ263,  $W$8:$W$13, 0 )  )    ), \" . \",   MAX( $AG$4:AG262 ) + 1  )","v":" . "},{"$f":"  IF( $AE263 = \"\", \"\",    OFFSET( Season!$E$7,     2 * $AF263 - 1  +  IF( AH$4 = $AJ$4, 1, 0 ),     3*( $AE263-1) + 0  )     )","v":0},{"$f":"  IF( $AE263 = \"\", \"\",    OFFSET( Season!$E$7,     2 * $AF263 - 1  +  IF( AH$4 = $AJ$4, 1, 0 ),     3*( $AE263-1) + 1  )     )","v":""},{"$f":"  IF( $AE263 = \"\", \"\",    OFFSET( Season!$E$7,     2 * $AF263 - 1  +  IF( AJ$4 = $AJ$4, 1, 0 ),     3*( $AE263-1) + 0  )     )","v":0},{"$f":"  IF( $AE263 = \"\", \"\",    OFFSET( Season!$E$7,     2 * $AF263 - 1  +  IF( AJ$4 = $AJ$4, 1, 0 ),     3*( $AE263-1) + 1  )     )","v":""},".",".","",""]
[null,null,null,null,null,null,null,null,null,null,null,null,null,null,null,null,null,null,null,null,null,null,null,null,null,null,null,null,null,null,16,5,{"$f":"  IF(  OR(  ISNA(  MATCH( AH264, $W$8:$W$13, 0 )   ),   ISNA( MATCH(  AJ264,  $W$8:$W$13, 0 )  )    ), \" . \",   MAX( $AG$4:AG263 ) + 1  )","v":" . "},{"$f":"  IF( $AE264 = \"\", \"\",    OFFSET( Season!$E$7,     2 * $AF264 - 1  +  IF( AH$4 = $AJ$4, 1, 0 ),     3*( $AE264-1) + 0  )     )","v":0},{"$f":"  IF( $AE264 = \"\", \"\",    OFFSET( Season!$E$7,     2 * $AF264 - 1  +  IF( AH$4 = $AJ$4, 1, 0 ),     3*( $AE264-1) + 1  )     )","v":""},{"$f":"  IF( $AE264 = \"\", \"\",    OFFSET( Season!$E$7,     2 * $AF264 - 1  +  IF( AJ$4 = $AJ$4, 1, 0 ),     3*( $AE264-1) + 0  )     )","v":0},{"$f":"  IF( $AE264 = \"\", \"\",    OFFSET( Season!$E$7,     2 * $AF264 - 1  +  IF( AJ$4 = $AJ$4, 1, 0 ),     3*( $AE264-1) + 1  )     )","v":""},".",".","",""]
[null,null,null,null,null,null,null,null,null,null,null,null,null,null,null,null,null,null,null,null,null,null,null,null,null,null,null,null,null,null,16,6,{"$f":"  IF(  OR(  ISNA(  MATCH( AH265, $W$8:$W$13, 0 )   ),   ISNA( MATCH(  AJ265,  $W$8:$W$13, 0 )  )    ), \" . \",   MAX( $AG$4:AG264 ) + 1  )","v":" . "},{"$f":"  IF( $AE265 = \"\", \"\",    OFFSET( Season!$E$7,     2 * $AF265 - 1  +  IF( AH$4 = $AJ$4, 1, 0 ),     3*( $AE265-1) + 0  )     )","v":0},{"$f":"  IF( $AE265 = \"\", \"\",    OFFSET( Season!$E$7,     2 * $AF265 - 1  +  IF( AH$4 = $AJ$4, 1, 0 ),     3*( $AE265-1) + 1  )     )","v":""},{"$f":"  IF( $AE265 = \"\", \"\",    OFFSET( Season!$E$7,     2 * $AF265 - 1  +  IF( AJ$4 = $AJ$4, 1, 0 ),     3*( $AE265-1) + 0  )     )","v":0},{"$f":"  IF( $AE265 = \"\", \"\",    OFFSET( Season!$E$7,     2 * $AF265 - 1  +  IF( AJ$4 = $AJ$4, 1, 0 ),     3*( $AE265-1) + 1  )     )","v":""},".",".","",""]
[null,null,null,null,null,null,null,null,null,null,null,null,null,null,null,null,null,null,null,null,null,null,null,null,null,null,null,null,null,null,16,7,{"$f":"  IF(  OR(  ISNA(  MATCH( AH266, $W$8:$W$13, 0 )   ),   ISNA( MATCH(  AJ266,  $W$8:$W$13, 0 )  )    ), \" . \",   MAX( $AG$4:AG265 ) + 1  )","v":" . "},{"$f":"  IF( $AE266 = \"\", \"\",    OFFSET( Season!$E$7,     2 * $AF266 - 1  +  IF( AH$4 = $AJ$4, 1, 0 ),     3*( $AE266-1) + 0  )     )","v":0},{"$f":"  IF( $AE266 = \"\", \"\",    OFFSET( Season!$E$7,     2 * $AF266 - 1  +  IF( AH$4 = $AJ$4, 1, 0 ),     3*( $AE266-1) + 1  )     )","v":""},{"$f":"  IF( $AE266 = \"\", \"\",    OFFSET( Season!$E$7,     2 * $AF266 - 1  +  IF( AJ$4 = $AJ$4, 1, 0 ),     3*( $AE266-1) + 0  )     )","v":0},{"$f":"  IF( $AE266 = \"\", \"\",    OFFSET( Season!$E$7,     2 * $AF266 - 1  +  IF( AJ$4 = $AJ$4, 1, 0 ),     3*( $AE266-1) + 1  )     )","v":""},".",".","",""]
[null,null,null,null,null,null,null,null,null,null,null,null,null,null,null,null,null,null,null,null,null,null,null,null,null,null,null,null,null,null,16,8,{"$f":"  IF(  OR(  ISNA(  MATCH( AH267, $W$8:$W$13, 0 )   ),   ISNA( MATCH(  AJ267,  $W$8:$W$13, 0 )  )    ), \" . \",   MAX( $AG$4:AG266 ) + 1  )","v":" . "},{"$f":"  IF( $AE267 = \"\", \"\",    OFFSET( Season!$E$7,     2 * $AF267 - 1  +  IF( AH$4 = $AJ$4, 1, 0 ),     3*( $AE267-1) + 0  )     )","v":0},{"$f":"  IF( $AE267 = \"\", \"\",    OFFSET( Season!$E$7,     2 * $AF267 - 1  +  IF( AH$4 = $AJ$4, 1, 0 ),     3*( $AE267-1) + 1  )     )","v":""},{"$f":"  IF( $AE267 = \"\", \"\",    OFFSET( Season!$E$7,     2 * $AF267 - 1  +  IF( AJ$4 = $AJ$4, 1, 0 ),     3*( $AE267-1) + 0  )     )","v":0},{"$f":"  IF( $AE267 = \"\", \"\",    OFFSET( Season!$E$7,     2 * $AF267 - 1  +  IF( AJ$4 = $AJ$4, 1, 0 ),     3*( $AE267-1) + 1  )     )","v":""},".",".","",""]
[null,null,null,null,null,null,null,null,null,null,null,null,null,null,null,null,null,null,null,null,null,null,null,null,null,null,null,null,null,null,16,9,{"$f":"  IF(  OR(  ISNA(  MATCH( AH268, $W$8:$W$13, 0 )   ),   ISNA( MATCH(  AJ268,  $W$8:$W$13, 0 )  )    ), \" . \",   MAX( $AG$4:AG267 ) + 1  )","v":" . "},{"$f":"  IF( $AE268 = \"\", \"\",    OFFSET( Season!$E$7,     2 * $AF268 - 1  +  IF( AH$4 = $AJ$4, 1, 0 ),     3*( $AE268-1) + 0  )     )","v":0},{"$f":"  IF( $AE268 = \"\", \"\",    OFFSET( Season!$E$7,     2 * $AF268 - 1  +  IF( AH$4 = $AJ$4, 1, 0 ),     3*( $AE268-1) + 1  )     )","v":""},{"$f":"  IF( $AE268 = \"\", \"\",    OFFSET( Season!$E$7,     2 * $AF268 - 1  +  IF( AJ$4 = $AJ$4, 1, 0 ),     3*( $AE268-1) + 0  )     )","v":0},{"$f":"  IF( $AE268 = \"\", \"\",    OFFSET( Season!$E$7,     2 * $AF268 - 1  +  IF( AJ$4 = $AJ$4, 1, 0 ),     3*( $AE268-1) + 1  )     )","v":""},".",".","",""]
[null,null,null,null,null,null,null,null,null,null,null,null,null,null,null,null,null,null,null,null,null,null,null,null,null,null,null,null,null,null,16,10,{"$f":"  IF(  OR(  ISNA(  MATCH( AH269, $W$8:$W$13, 0 )   ),   ISNA( MATCH(  AJ269,  $W$8:$W$13, 0 )  )    ), \" . \",   MAX( $AG$4:AG268 ) + 1  )","v":" . "},{"$f":"  IF( $AE269 = \"\", \"\",    OFFSET( Season!$E$7,     2 * $AF269 - 1  +  IF( AH$4 = $AJ$4, 1, 0 ),     3*( $AE269-1) + 0  )     )","v":0},{"$f":"  IF( $AE269 = \"\", \"\",    OFFSET( Season!$E$7,     2 * $AF269 - 1  +  IF( AH$4 = $AJ$4, 1, 0 ),     3*( $AE269-1) + 1  )     )","v":""},{"$f":"  IF( $AE269 = \"\", \"\",    OFFSET( Season!$E$7,     2 * $AF269 - 1  +  IF( AJ$4 = $AJ$4, 1, 0 ),     3*( $AE269-1) + 0  )     )","v":0},{"$f":"  IF( $AE269 = \"\", \"\",    OFFSET( Season!$E$7,     2 * $AF269 - 1  +  IF( AJ$4 = $AJ$4, 1, 0 ),     3*( $AE269-1) + 1  )     )","v":""},".",".","",""]
[null,null,null,null,null,null,null,null,null,null,null,null,null,null,null,null,null,null,null,null,null,null,null,null,null,null,null,null,null,null,16,11,{"$f":"  IF(  OR(  ISNA(  MATCH( AH270, $W$8:$W$13, 0 )   ),   ISNA( MATCH(  AJ270,  $W$8:$W$13, 0 )  )    ), \" . \",   MAX( $AG$4:AG269 ) + 1  )","v":" . "},{"$f":"  IF( $AE270 = \"\", \"\",    OFFSET( Season!$E$7,     2 * $AF270 - 1  +  IF( AH$4 = $AJ$4, 1, 0 ),     3*( $AE270-1) + 0  )     )","v":0},{"$f":"  IF( $AE270 = \"\", \"\",    OFFSET( Season!$E$7,     2 * $AF270 - 1  +  IF( AH$4 = $AJ$4, 1, 0 ),     3*( $AE270-1) + 1  )     )","v":""},{"$f":"  IF( $AE270 = \"\", \"\",    OFFSET( Season!$E$7,     2 * $AF270 - 1  +  IF( AJ$4 = $AJ$4, 1, 0 ),     3*( $AE270-1) + 0  )     )","v":0},{"$f":"  IF( $AE270 = \"\", \"\",    OFFSET( Season!$E$7,     2 * $AF270 - 1  +  IF( AJ$4 = $AJ$4, 1, 0 ),     3*( $AE270-1) + 1  )     )","v":""},".",".","",""]
[null,null,null,null,null,null,null,null,null,null,null,null,null,null,null,null,null,null,null,null,null,null,null,null,null,null,null,null,null,null,16,12,{"$f":"  IF(  OR(  ISNA(  MATCH( AH271, $W$8:$W$13, 0 )   ),   ISNA( MATCH(  AJ271,  $W$8:$W$13, 0 )  )    ), \" . \",   MAX( $AG$4:AG270 ) + 1  )","v":" . "},{"$f":"  IF( $AE271 = \"\", \"\",    OFFSET( Season!$E$7,     2 * $AF271 - 1  +  IF( AH$4 = $AJ$4, 1, 0 ),     3*( $AE271-1) + 0  )     )","v":0},{"$f":"  IF( $AE271 = \"\", \"\",    OFFSET( Season!$E$7,     2 * $AF271 - 1  +  IF( AH$4 = $AJ$4, 1, 0 ),     3*( $AE271-1) + 1  )     )","v":""},{"$f":"  IF( $AE271 = \"\", \"\",    OFFSET( Season!$E$7,     2 * $AF271 - 1  +  IF( AJ$4 = $AJ$4, 1, 0 ),     3*( $AE271-1) + 0  )     )","v":0},{"$f":"  IF( $AE271 = \"\", \"\",    OFFSET( Season!$E$7,     2 * $AF271 - 1  +  IF( AJ$4 = $AJ$4, 1, 0 ),     3*( $AE271-1) + 1  )     )","v":""},".",".","",""]
[null,null,null,null,null,null,null,null,null,null,null,null,null,null,null,null,null,null,null,null,null,null,null,null,null,null,null,null,null,null,16,13,{"$f":"  IF(  OR(  ISNA(  MATCH( AH272, $W$8:$W$13, 0 )   ),   ISNA( MATCH(  AJ272,  $W$8:$W$13, 0 )  )    ), \" . \",   MAX( $AG$4:AG271 ) + 1  )","v":" . "},{"$f":"  IF( $AE272 = \"\", \"\",    OFFSET( Season!$E$7,     2 * $AF272 - 1  +  IF( AH$4 = $AJ$4, 1, 0 ),     3*( $AE272-1) + 0  )     )","v":0},{"$f":"  IF( $AE272 = \"\", \"\",    OFFSET( Season!$E$7,     2 * $AF272 - 1  +  IF( AH$4 = $AJ$4, 1, 0 ),     3*( $AE272-1) + 1  )     )","v":""},{"$f":"  IF( $AE272 = \"\", \"\",    OFFSET( Season!$E$7,     2 * $AF272 - 1  +  IF( AJ$4 = $AJ$4, 1, 0 ),     3*( $AE272-1) + 0  )     )","v":0},{"$f":"  IF( $AE272 = \"\", \"\",    OFFSET( Season!$E$7,     2 * $AF272 - 1  +  IF( AJ$4 = $AJ$4, 1, 0 ),     3*( $AE272-1) + 1  )     )","v":""},".",".","",""]
[null,null,null,null,null,null,null,null,null,null,null,null,null,null,null,null,null,null,null,null,null,null,null,null,null,null,null,null,null,null,16,14,{"$f":"  IF(  OR(  ISNA(  MATCH( AH273, $W$8:$W$13, 0 )   ),   ISNA( MATCH(  AJ273,  $W$8:$W$13, 0 )  )    ), \" . \",   MAX( $AG$4:AG272 ) + 1  )","v":" . "},{"$f":"  IF( $AE273 = \"\", \"\",    OFFSET( Season!$E$7,     2 * $AF273 - 1  +  IF( AH$4 = $AJ$4, 1, 0 ),     3*( $AE273-1) + 0  )     )","v":0},{"$f":"  IF( $AE273 = \"\", \"\",    OFFSET( Season!$E$7,     2 * $AF273 - 1  +  IF( AH$4 = $AJ$4, 1, 0 ),     3*( $AE273-1) + 1  )     )","v":""},{"$f":"  IF( $AE273 = \"\", \"\",    OFFSET( Season!$E$7,     2 * $AF273 - 1  +  IF( AJ$4 = $AJ$4, 1, 0 ),     3*( $AE273-1) + 0  )     )","v":0},{"$f":"  IF( $AE273 = \"\", \"\",    OFFSET( Season!$E$7,     2 * $AF273 - 1  +  IF( AJ$4 = $AJ$4, 1, 0 ),     3*( $AE273-1) + 1  )     )","v":""},".",".","",""]
[null,null,null,null,null,null,null,null,null,null,null,null,null,null,null,null,null,null,null,null,null,null,null,null,null,null,null,null,null,null,16,15,{"$f":"  IF(  OR(  ISNA(  MATCH( AH274, $W$8:$W$13, 0 )   ),   ISNA( MATCH(  AJ274,  $W$8:$W$13, 0 )  )    ), \" . \",   MAX( $AG$4:AG273 ) + 1  )","v":" . "},{"$f":"  IF( $AE274 = \"\", \"\",    OFFSET( Season!$E$7,     2 * $AF274 - 1  +  IF( AH$4 = $AJ$4, 1, 0 ),     3*( $AE274-1) + 0  )     )","v":0},{"$f":"  IF( $AE274 = \"\", \"\",    OFFSET( Season!$E$7,     2 * $AF274 - 1  +  IF( AH$4 = $AJ$4, 1, 0 ),     3*( $AE274-1) + 1  )     )","v":""},{"$f":"  IF( $AE274 = \"\", \"\",    OFFSET( Season!$E$7,     2 * $AF274 - 1  +  IF( AJ$4 = $AJ$4, 1, 0 ),     3*( $AE274-1) + 0  )     )","v":0},{"$f":"  IF( $AE274 = \"\", \"\",    OFFSET( Season!$E$7,     2 * $AF274 - 1  +  IF( AJ$4 = $AJ$4, 1, 0 ),     3*( $AE274-1) + 1  )     )","v":""},".",".","",""]
[null,null,null,null,null,null,null,null,null,null,null,null,null,null,null,null,null,null,null,null,null,null,null,null,null,null,null,null,null,null,16,16,{"$f":"  IF(  OR(  ISNA(  MATCH( AH275, $W$8:$W$13, 0 )   ),   ISNA( MATCH(  AJ275,  $W$8:$W$13, 0 )  )    ), \" . \",   MAX( $AG$4:AG274 ) + 1  )","v":" . "},{"$f":"  IF( $AE275 = \"\", \"\",    OFFSET( Season!$E$7,     2 * $AF275 - 1  +  IF( AH$4 = $AJ$4, 1, 0 ),     3*( $AE275-1) + 0  )     )","v":0},{"$f":"  IF( $AE275 = \"\", \"\",    OFFSET( Season!$E$7,     2 * $AF275 - 1  +  IF( AH$4 = $AJ$4, 1, 0 ),     3*( $AE275-1) + 1  )     )","v":""},{"$f":"  IF( $AE275 = \"\", \"\",    OFFSET( Season!$E$7,     2 * $AF275 - 1  +  IF( AJ$4 = $AJ$4, 1, 0 ),     3*( $AE275-1) + 0  )     )","v":0},{"$f":"  IF( $AE275 = \"\", \"\",    OFFSET( Season!$E$7,     2 * $AF275 - 1  +  IF( AJ$4 = $AJ$4, 1, 0 ),     3*( $AE275-1) + 1  )     )","v":""},".",".","",""]
[null,null,null,null,null,null,null,null,null,null,null,null,null,null,null,null,null,null,null,null,null,null,null,null,null,null,null,null,null,null,16,17,{"$f":"  IF(  OR(  ISNA(  MATCH( AH276, $W$8:$W$13, 0 )   ),   ISNA( MATCH(  AJ276,  $W$8:$W$13, 0 )  )    ), \" . \",   MAX( $AG$4:AG275 ) + 1  )","v":" . "},{"$f":"  IF( $AE276 = \"\", \"\",    OFFSET( Season!$E$7,     2 * $AF276 - 1  +  IF( AH$4 = $AJ$4, 1, 0 ),     3*( $AE276-1) + 0  )     )","v":0},{"$f":"  IF( $AE276 = \"\", \"\",    OFFSET( Season!$E$7,     2 * $AF276 - 1  +  IF( AH$4 = $AJ$4, 1, 0 ),     3*( $AE276-1) + 1  )     )","v":""},{"$f":"  IF( $AE276 = \"\", \"\",    OFFSET( Season!$E$7,     2 * $AF276 - 1  +  IF( AJ$4 = $AJ$4, 1, 0 ),     3*( $AE276-1) + 0  )     )","v":0},{"$f":"  IF( $AE276 = \"\", \"\",    OFFSET( Season!$E$7,     2 * $AF276 - 1  +  IF( AJ$4 = $AJ$4, 1, 0 ),     3*( $AE276-1) + 1  )     )","v":""},".",".","",""]

{"sheet":"Scoring","index":3,"n_rows":57,"n_cols":49,"rows_kept":57,"cut":false,"hidden":false,"merged":[]}
[]
[]
[" ",null,null,null,null,null,null,null,null,null,"W","L","T",null,null,null,null,null,null,null,null,null,null,null,null,null,null,null,null,null,null,null,"W","L","T"]
[null,null,"A League",null,null,null,null,null,null,{"$f":"C7","v":"E86"},{"$f":"  COUNTIF( E9:T9, \">0\" )  +  0.0001  +    COUNTIF( E8:T8, \"f\" )  +  COUNTIF( E8:T8, \"ff\" )","v":10.0001},{"$f":"  COUNTIF( E9:U9, \"<0\" )  +  0.0001   +    COUNTIF( E7:T7, \"f\" ) +    COUNTIF( E7:T7, \"ff\" )","v":3.0000999999999998},{"$f":"  U7 - K4 - L4","v":1.9998000000000005},null,null,null,null,null,null,null,null,null,null,null,"B League",null,null,null,null,null,null,{"$f":"Y7","v":"E75"},{"$f":"  COUNTIF( AA9:AP9, \">0\" )  +  0.0001  +    COUNTIF( AA8:AP8, \"f\" )  +  COUNTIF( AA8:AP8, \"ff\" )","v":11.0001},{"$f":"  COUNTIF( AA9:AQ9, \"<0\" )  +  0.0001   +    COUNTIF( AA7:AP7, \"f\" ) +    COUNTIF( AA7:AP7, \"ff\" )","v":3.0001000000000002},{"$f":"  AQ7 - AG4 - AH4","v":0.99980000000000002}]
[null,null,null,null,"Season Summary",null,null,null,null,null,null,null,null,null,null,null,null,null,null,null,null,null,null,null,null,null,"Season Summary",null,null,null,null,null,null,null,null,null,null,null,null,null,null,null,{"$f":" IF( SUMSQ( AQ3:AQ4 ) = 0, \"\", AQ4-AQ3 )","v":""}]
[null,null,"Team","Ave",1,{"$f":"E6+1","v":2},3,4,5,6,7,8,9,10,11,12,13,14,{"$f":"R6+1","v":15},{"$f":"S6+1","v":16},"No",null,null,null,"Team","Ave",1,{"$f":"AA6+1","v":2},3,4,5,6,7,8,9,10,11,12,13,14,{"$f":"AN6+1","v":15},{"$f":"AO6+1","v":16},"No"]
[null,17,{"$f":"  OFFSET(  Standings!C5, MAX( Standings!$A:$A ) + 1 - B7, 0  )","v":"E86"},{"$f":"  IF(  U7 = 0,  \"\",  SUM(  E7:T7  ) /  (  U7  -  COUNTIF( E$7:T$8, \"f\" )  -  COUNTIF( E$7:T$8, \"ff\" )   )   )","v":19.916666666666668},{"$f":" INDEX(E14:E30, MATCH($C$7, $C$14:$C$30,0), 1 )","v":17},30,17,18,21,13,29,"f",12,12,25,18,27,"f",{"$f":" INDEX(S14:S30, MATCH($C$7, $C$14:$C$30,0), 1 )","v":0},null,{"$f":"   MAX(  E6:U6  )  -  COUNTIF( E9:T9, \"\" )","v":15},null,null,17,{"$f":"  OFFSET(  Standings!L5, MAX( Standings!$A:$A ) + 1 - X7, 0  )","v":"E75"},{"$f":"  IF(  AQ7 = 0,  \"\",  SUM(  AA7:AP7  ) /  (  AQ7  -  COUNTIF( AA$7:AP$8, \"f\" )  -  COUNTIF( AA$7:AP$8, \"ff\" )   )   )","v":14.733333333333333},{"$f":" INDEX(AA14:AA30, MATCH($Y$7, $Y$14:$Y$30,0), 1 )","v":14},13,18,16,12,21,25,18,-6,8,26,14,12,17,{"$f":" INDEX(AO14:AO30, MATCH($Y$7, $Y$14:$Y$30,0), 1 )","v":13},null,{"$f":"   MAX(  AA6:AQ6  )  -  COUNTIF( AA9:AP9, \"\" )","v":15}]
[null,null,"Opp",{"$f":"  IF(  U8 = 0,  \"\",  SUM(  E8:T8  ) /  (  U8  -  COUNTIF( E$7:T$8, \"f\" )  -  COUNTIF( E$7:T$8, \"ff\" )   )   )","v":21.46153846153846},{"$f":" INDEX(E37:E53, MATCH($C$7, $C$37:$C$53,0), 1 )","v":23},16,21,28,26,21,34,0,12,24,26,21,27,0,{"$f":" INDEX(S37:S53, MATCH($C$7, $C$37:$C$53,0), 1 )","v":"f"},null,{"$f":"  U7  -  COUNTIF(  E9:R9, \"=W\" )  -  COUNTIF(  E9:R9, \"=L\" )  +     COUNTIF( E7:T8, \"F\" )  +  COUNTIF( E7:T8, \"FF\" )","v":16},null,null,null,"Opp",{"$f":"  IF(  AQ8 = 0,  \"\",  SUM(  AA8:AP8  ) /  (  AQ8  -  COUNTIF( AA$7:AP$8, \"f\" )  -  COUNTIF( AA$7:AP$8, \"ff\" )   )   )","v":17.399999999999999},{"$f":" INDEX(AA37:AA53, MATCH($Y$7, $Y$37:$Y$53,0), 1 )","v":24},17,20,17,14,23,26,29,-6,20,20,19,26,14,{"$f":" INDEX(AO37:AO53, MATCH($Y$7, $Y$37:$Y$53,0), 1 )","v":-2},null,{"$f":"  AQ7  -  COUNTIF(  AA9:AN9, \"=W\" )  -  COUNTIF(  AA9:AN9, \"=L\" )  +     COUNTIF( AA7:AP8, \"F\" )  +  COUNTIF( AA7:AP8, \"FF\" )","v":15}]
[null,null,"Diff: ",{"$f":"  IF(  U7 = 0,  \"\",   D7 - D8    )","v":-1.544871794871792},{"$f":"  IF(  E8 = \"f\",  \"W\",  IF(  E7 = \"f\",  \"L\",   IF( SUMSQ( E7:E8 ) = 0,  \"\",  E8 - E7  )  ) )","v":6},{"$f":"  IF(  F8 = \"f\",  \"W\",  IF(  F7 = \"f\",  \"L\",   IF( SUMSQ( F7:F8 ) = 0,  \"\",  F8 - F7  )  ) )","v":-14},4,10,5,8,5,"L",0,12,1,3,0,"L",{"$f":"  IF(  S8 = \"f\",  \"W\",  IF(  S7 = \"f\",  \"L\",   IF( SUMSQ( S7:S8 ) = 0,  \"\",  S8 - S7  )  ) )","v":"W"},null,null,null,null,null,"Diff: ",{"$f":"  IF(  AQ7 = 0,  \"\",   Z7 - Z8    )","v":-2.6666666666666661},{"$f":"  IF(  AA8 = \"f\",  \"W\",  IF(  AA7 = \"f\",  \"L\",   IF( SUMSQ( AA7:AA8 ) = 0,  \"\",  AA8 - AA7  )  ) )","v":10},{"$f":"  IF(  AB8 = \"f\",  \"W\",  IF(  AB7 = \"f\",  \"L\",   IF( SUMSQ( AB7:AB8 ) = 0,  \"\",  AB8 - AB7  )  ) )","v":4},{"$f":"  IF(  AC8 = \"f\",  \"W\",  IF(  AC7 = \"f\",  \"L\",   IF( SUMSQ( AC7:AC8 ) = 0,  \"\",  AC8 - AC7  )  ) )","v":2},{"$f":"  IF(  AD8 = \"f\",  \"W\",  IF(  AD7 = \"f\",  \"L\",   IF( SUMSQ( AD7:AD8 ) = 0,  \"\",  AD8 - AD7  )  ) )","v":1},{"$f":"  IF(  AE8 = \"f\",  \"W\",  IF(  AE7 = \"f\",  \"L\",   IF( SUMSQ( AE7:AE8 ) = 0,  \"\",  AE8 - AE7  )  ) )","v":2},{"$f":"  IF(  AF8 = \"f\",  \"W\",  IF(  AF7 = \"f\",  \"L\",   IF( SUMSQ( AF7:AF8 ) = 0,  \"\",  AF8 - AF7  )  ) )","v":2},{"$f":"  IF(  AG8 = \"f\",  \"W\",  IF(  AG7 = \"f\",  \"L\",   IF( SUMSQ( AG7:AG8 ) = 0,  \"\",  AG8 - AG7  )  ) )","v":1},{"$f":"  IF(  AH8 = \"f\",  \"W\",  IF(  AH7 = \"f\",  \"L\",   IF( SUMSQ( AH7:AH8 ) = 0,  \"\",  AH8 - AH7  )  ) )","v":11},{"$f":"  IF(  AI8 = \"f\",  \"W\",  IF(  AI7 = \"f\",  \"L\",   IF( SUMSQ( AI7:AI8 ) = 0,  \"\",  AI8 - AI7  )  ) )","v":0},{"$f":"  IF(  AJ8 = \"f\",  \"W\",  IF(  AJ7 = \"f\",  \"L\",   IF( SUMSQ( AJ7:AJ8 ) = 0,  \"\",  AJ8 - AJ7  )  ) )","v":12},{"$f":"  IF(  AK8 = \"f\",  \"W\",  IF(  AK7 = \"f\",  \"L\",   IF( SUMSQ( AK7:AK8 ) = 0,  \"\",  AK8 - AK7  )  ) )","v":-6},{"$f":"  IF(  AL8 = \"f\",  \"W\",  IF(  AL7 = \"f\",  \"L\",   IF( SUMSQ( AL7:AL8 ) = 0,  \"\",  AL8 - AL7  )  ) )","v":5},{"$f":"  IF(  AM8 = \"f\",  \"W\",  IF(  AM7 = \"f\",  \"L\",   IF( SUMSQ( AM7:AM8 ) = 0,  \"\",  AM8 - AM7  )  ) )","v":14},{"$f":"  IF(  AN8 = \"f\",  \"W\",  IF(  AN7 = \"f\",  \"L\",   IF( SUMSQ( AN7:AN8 ) = 0,  \"\",  AN8 - AN7  )  ) )","v":-3},-15]
[]
[null,null,null,null,"Week by Week Scoring by your Team",null,null,null,null,null,null,null,null,null,null,null,null,null,null,null,null,null,null,null,null,null,{"$f":"E11","v":"Week by Week Scoring by your Team"},null,null,null,null,null,null,null,null,null,null,null,null,null,null,null,null,null,null,null,"A league"]
[null,null,"Team","Ave",1,{"$f":"E12+1","v":2},3,4,5,6,7,8,9,10,11,12,13,14,{"$f":"R12+1","v":15},{"$f":"S12+1","v":16},"No",null,null,null,"Team","Ave",1,{"$f":"AA12+1","v":2},3,4,5,6,7,8,9,10,11,12,13,14,{"$f":"AN12+1","v":15},{"$f":"AO12+1","v":16},"No",null,null,"Team","For","Opp","Diff"]
[null,null,null,0,null,null,null,null,null,null,null,null,null,null,null,null,null,null,null,null,null,null,null,null,null,0,null,null,null,null,null,null,null,null,null,null,null,null,null,null,null,null,null,null,null,null,null,null,99]
[null,{"$f":"B13+1","v":1},{"$f":"Standings!C8","v":"E60"},{"$f":"  IF(  U14 = 0,  \"\",  SUM(  E14:T14  ) /   U14    )","v":13.214357142857143},{"$f":" OFFSET( Season!$F$7,    MATCH(  $C14,  OFFSET(  Season!$E$8,   0, 3* ( E$12 - 1 ),   34, 1 ),  0  ),      3*(E$12 - 1 )   )","v":16},{"$f":" OFFSET( Season!$F$7,    MATCH(  $C14,  OFFSET(  Season!$E$8,   0, 3* ( F$12 - 1 ),   34, 1 ),  0  ),      3*(F$12 - 1 )   )","v":25},{"$f":" OFFSET( Season!$F$7,    MATCH(  $C14,  OFFSET(  Season!$E$8,   0, 3* ( G$12 - 1 ),   34, 1 ),  0  ),      3*(G$12 - 1 )   )","v":17},{"$f":" OFFSET( Season!$F$7,    MATCH(  $C14,  OFFSET(  Season!$E$8,   0, 3* ( H$12 - 1 ),   34, 1 ),  0  ),      3*(H$12 - 1 )   )","v":10},{"$f":" OFFSET( Season!$F$7,    MATCH(  $C14,  OFFSET(  Season!$E$8,   0, 3* ( I$12 - 1 ),   34, 1 ),  0  ),      3*(I$12 - 1 )   )","v":1E-3},{"$f":" OFFSET( Season!$F$7,    MATCH(  $C14,  OFFSET(  Season!$E$8,   0, 3* ( J$12 - 1 ),   34, 1 ),  0  ),      3*(J$12 - 1 )   )","v":13},{"$f":" OFFSET( Season!$F$7,    MATCH(  $C14,  OFFSET(  Season!$E$8,   0, 3* ( K$12 - 1 ),   34, 1 ),  0  ),      3*(K$12 - 1 )   )","v":2},{"$f":" OFFSET( Season!$F$7,    MATCH(  $C14,  OFFSET(  Season!$E$8,   0, 3* ( L$12 - 1 ),   34, 1 ),  0  ),      3*(L$12 - 1 )   )","v":21},{"$f":" OFFSET( Season!$F$7,    MATCH(  $C14,  OFFSET(  Season!$E$8,   0, 3* ( M$12 - 1 ),   34, 1 ),  0  ),      3*(M$12 - 1 )   )","v":17},{"$f":" OFFSET( Season!$F$7,    MATCH(  $C14,  OFFSET(  Season!$E$8,   0, 3* ( N$12 - 1 ),   34, 1 ),  0  ),      3*(N$12 - 1 )   )","v":24},{"$f":" OFFSET( Season!$F$7,    MATCH(  $C14,  OFFSET(  Season!$E$8,   0, 3* ( O$12 - 1 ),   34, 1 ),  0  ),      3*(O$12 - 1 )   )","v":0},{"$f":" OFFSET( Season!$F$7,    MATCH(  $C14,  OFFSET(  Season!$E$8,   0, 3* ( P$12 - 1 ),   34, 1 ),  0  ),      3*(P$12 - 1 )   )","v":5},{"$f":" OFFSET( Season!$F$7,    MATCH(  $C14,  OFFSET(  Season!$E$8,   0, 3* ( Q$12 - 1 ),   34, 1 ),  0  ),      3*(Q$12 - 1 )   )","v":18},{"$f":" OFFSET( Season!$F$7,    MATCH(  $C14,  OFFSET(  Season!$E$8,   0, 3* ( R$12 - 1 ),   34, 1 ),  0  ),      3*(R$12 - 1 )   )","v":3},{"$f":" OFFSET( Season!$F$7,    MATCH(  $C14,  OFFSET(  Season!$E$8,   0, 3* ( S$12 - 1 ),   34, 1 ),  0  ),      3*(S$12 - 1 )   )","v":14},null,{"$f":"   MAX( $E$6:$S$6 )  -  COUNTIF( E14:T14, \"0\" ) -  COUNTIF( E14:T14, \"W\" ) -  COUNTIF( E14:T14, \"F\" ) -  COUNTIF( E14:T14, \"FF\" )","v":14},null,null,{"$f":"X13+1","v":1},{"$f":"Standings!L10","v":"SCM"},{"$f":"  IF(  AQ14 = 0,  \"\",  SUM(  AA14:AP14  ) /   AQ14    )","v":11.2},{"$f":" OFFSET( Season!$F$7,    MATCH(  $Y14,  OFFSET(  Season!$E$8,   0, 3* ( AA$12 - 1 ),   34, 1 ),  0  ),      3*(AA$12 - 1 )   )","v":7},{"$f":" OFFSET( Season!$F$7,    MATCH(  $Y14,  OFFSET(  Season!$E$8,   0, 3* ( AB$12 - 1 ),   34, 1 ),  0  ),      3*(AB$12 - 1 )   )","v":13},{"$f":" OFFSET( Season!$F$7,    MATCH(  $Y14,  OFFSET(  Season!$E$8,   0, 3* ( AC$12 - 1 ),   34, 1 ),  0  ),      3*(AC$12 - 1 )   )","v":20},{"$f":" OFFSET( Season!$F$7,    MATCH(  $Y14,  OFFSET(  Season!$E$8,   0, 3* ( AD$12 - 1 ),   34, 1 ),  0  ),      3*(AD$12 - 1 )   )","v":6},{"$f":" OFFSET( Season!$F$7,    MATCH(  $Y14,  OFFSET(  Season!$E$8,   0, 3* ( AE$12 - 1 ),   34, 1 ),  0  ),      3*(AE$12 - 1 )   )","v":31},{"$f":" OFFSET( Season!$F$7,    MATCH(  $Y14,  OFFSET(  Season!$E$8,   0, 3* ( AF$12 - 1 ),   34, 1 ),  0  ),      3*(AF$12 - 1 )   )","v":16},{"$f":" OFFSET( Season!$F$7,    MATCH(  $Y14,  OFFSET(  Season!$E$8,   0, 3* ( AG$12 - 1 ),   34, 1 ),  0  ),      3*(AG$12 - 1 )   )","v":-3},{"$f":" OFFSET( Season!$F$7,    MATCH(  $Y14,  OFFSET(  Season!$E$8,   0, 3* ( AH$12 - 1 ),   34, 1 ),  0  ),      3*(AH$12 - 1 )   )","v":23},{"$f":" OFFSET( Season!$F$7,    MATCH(  $Y14,  OFFSET(  Season!$E$8,   0, 3* ( AI$12 - 1 ),   34, 1 ),  0  ),      3*(AI$12 - 1 )   )","v":20},{"$f":" OFFSET( Season!$F$7,    MATCH(  $Y14,  OFFSET(  Season!$E$8,   0, 3* ( AJ$12 - 1 ),   34, 1 ),  0  ),      3*(AJ$12 - 1 )   )","v":20},{"$f":" OFFSET( Season!$F$7,    MATCH(  $Y14,  OFFSET(  Season!$E$8,   0, 3* ( AK$12 - 1 ),   34, 1 ),  0  ),      3*(AK$12 - 1 )   )","v":-6},{"$f":" OFFSET( Season!$F$7,    MATCH(  $Y14,  OFFSET(  Season!$E$8,   0, 3* ( AL$12 - 1 ),   34, 1 ),  0  ),      3*(AL$12 - 1 )   )","v":11},{"$f":" OFFSET( Season!$F$7,    MATCH(  $Y14,  OFFSET(  Season!$E$8,   0, 3* ( AM$12 - 1 ),   34, 1 ),  0  ),      3*(AM$12 - 1 )   )","v":2},{"$f":" OFFSET( Season!$F$7,    MATCH(  $Y14,  OFFSET(  Season!$E$8,   0, 3* ( AN$12 - 1 ),   34, 1 ),  0  ),      3*(AN$12 - 1 )   )","v":-5},{"$f":" OFFSET( Season!$F$7,    MATCH(  $Y14,  OFFSET(  Season!$E$8,   0, 3* ( AO$12 - 1 ),   34, 1 ),  0  ),      3*(AO$12 - 1 )   )","v":13},null,{"$f":"   MAX( $E$6:$S$6 )  -  COUNTIF( AA14:AP14, \"0\" ) -  COUNTIF( AA14:AP14, \"W\" ) -  COUNTIF( AA14:AP14, \"F\" ) -  COUNTIF( AA14:AP14, \"FF\" )","v":15},null,null,{"$f":"Standings!C7","v":"X87"},{"$f":"VLOOKUP(AT14, $C$14:$D$30, 2, 0 )","v":14.133333333333333},{"$f":"VLOOKUP(AT14, $C$37:$D$53, 2, 0 )","v":20.266666666666666},{"$f":"  IF(  AV14 = \"\",  \"\",  AU14 - AV14  )","v":-6.1333333333333329}]
[null,{"$f":"B14+1","v":2},{"$f":"Standings!C10","v":"E83"},14.066666666666666,{"$f":" OFFSET( Season!$F$7,    MATCH(  $C15,  OFFSET(  Season!$E$8,   0, 3* ( E$12 - 1 ),   34, 1 ),  0  ),      3*(E$12 - 1 )   )","v":30},{"$f":" OFFSET( Season!$F$7,    MATCH(  $C15,  OFFSET(  Season!$E$8,   0, 3* ( F$12 - 1 ),   34, 1 ),  0  ),      3*(F$12 - 1 )   )","v":16},{"$f":" OFFSET( Season!$F$7,    MATCH(  $C15,  OFFSET(  Season!$E$8,   0, 3* ( G$12 - 1 ),   34, 1 ),  0  ),      3*(G$12 - 1 )   )","v":17},{"$f":" OFFSET( Season!$F$7,    MATCH(  $C15,  OFFSET(  Season!$E$8,   0, 3* ( H$12 - 1 ),   34, 1 ),  0  ),      3*(H$12 - 1 )   )","v":4},{"$f":" OFFSET( Season!$F$7,    MATCH(  $C15,  OFFSET(  Season!$E$8,   0, 3* ( I$12 - 1 ),   34, 1 ),  0  ),      3*(I$12 - 1 )   )","v":20},{"$f":" OFFSET( Season!$F$7,    MATCH(  $C15,  OFFSET(  Season!$E$8,   0, 3* ( J$12 - 1 ),   34, 1 ),  0  ),      3*(J$12 - 1 )   )","v":18},{"$f":" OFFSET( Season!$F$7,    MATCH(  $C15,  OFFSET(  Season!$E$8,   0, 3* ( K$12 - 1 ),   34, 1 ),  0  ),      3*(K$12 - 1 )   )","v":7},{"$f":" OFFSET( Season!$F$7,    MATCH(  $C15,  OFFSET(  Season!$E$8,   0, 3* ( L$12 - 1 ),   34, 1 ),  0  ),      3*(L$12 - 1 )   )","v":18},{"$f":" OFFSET( Season!$F$7,    MATCH(  $C15,  OFFSET(  Season!$E$8,   0, 3* ( M$12 - 1 ),   34, 1 ),  0  ),      3*(M$12 - 1 )   )","v":17},{"$f":" OFFSET( Season!$F$7,    MATCH(  $C15,  OFFSET(  Season!$E$8,   0, 3* ( N$12 - 1 ),   34, 1 ),  0  ),      3*(N$12 - 1 )   )","v":16},{"$f":" OFFSET( Season!$F$7,    MATCH(  $C15,  OFFSET(  Season!$E$8,   0, 3* ( O$12 - 1 ),   34, 1 ),  0  ),      3*(O$12 - 1 )   )","v":25},{"$f":" OFFSET( Season!$F$7,    MATCH(  $C15,  OFFSET(  Season!$E$8,   0, 3* ( P$12 - 1 ),   34, 1 ),  0  ),      3*(P$12 - 1 )   )","v":11},{"$f":" OFFSET( Season!$F$7,    MATCH(  $C15,  OFFSET(  Season!$E$8,   0, 3* ( Q$12 - 1 ),   34, 1 ),  0  ),      3*(Q$12 - 1 )   )","v":14},{"$f":" OFFSET( Season!$F$7,    MATCH(  $C15,  OFFSET(  Season!$E$8,   0, 3* ( R$12 - 1 ),   34, 1 ),  0  ),      3*(R$12 - 1 )   )","v":4},{"$f":" OFFSET( Season!$F$7,    MATCH(  $C15,  OFFSET(  Season!$E$8,   0, 3* ( S$12 - 1 ),   34, 1 ),  0  ),      3*(S$12 - 1 )   )","v":-6},null,{"$f":"   MAX( $E$6:$S$6 )  -  COUNTIF( E15:T15, \"0\" ) -  COUNTIF( E15:T15, \"W\" ) -  COUNTIF( E15:T15, \"F\" ) -  COUNTIF( E15:T15, \"FF\" )","v":15},null,null,2,{"$f":"Standings!L7","v":"X31"},13.792857142857143,{"$f":" OFFSET( Season!$F$7,    MATCH(  $Y15,  OFFSET(  Season!$E$8,   0, 3* ( AA$12 - 1 ),   34, 1 ),  0  ),      3*(AA$12 - 1 )   )","v":26},{"$f":" OFFSET( Season!$F$7,    MATCH(  $Y15,  OFFSET(  Season!$E$8,   0, 3* ( AB$12 - 1 ),   34, 1 ),  0  ),      3*(AB$12 - 1 )   )","v":13},{"$f":" OFFSET( Season!$F$7,    MATCH(  $Y15,  OFFSET(  Season!$E$8,   0, 3* ( AC$12 - 1 ),   34, 1 ),  0  ),      3*(AC$12 - 1 )   )","v":13},{"$f":" OFFSET( Season!$F$7,    MATCH(  $Y15,  OFFSET(  Season!$E$8,   0, 3* ( AD$12 - 1 ),   34, 1 ),  0  ),      3*(AD$12 - 1 )   )","v":13},{"$f":" OFFSET( Season!$F$7,    MATCH(  $Y15,  OFFSET(  Season!$E$8,   0, 3* ( AE$12 - 1 ),   34, 1 ),  0  ),      3*(AE$12 - 1 )   )","v":0.1},{"$f":" OFFSET( Season!$F$7,    MATCH(  $Y15,  OFFSET(  Season!$E$8,   0, 3* ( AF$12 - 1 ),   34, 1 ),  0  ),      3*(AF$12 - 1 )   )","v":31},{"$f":" OFFSET( Season!$F$7,    MATCH(  $Y15,  OFFSET(  Season!$E$8,   0, 3* ( AG$12 - 1 ),   34, 1 ),  0  ),      3*(AG$12 - 1 )   )","v":-8},{"$f":" OFFSET( Season!$F$7,    MATCH(  $Y15,  OFFSET(  Season!$E$8,   0, 3* ( AH$12 - 1 ),   34, 1 ),  0  ),      3*(AH$12 - 1 )   )","v":"f"},{"$f":" OFFSET( Season!$F$7,    MATCH(  $Y15,  OFFSET(  Season!$E$8,   0, 3* ( AI$12 - 1 ),   34, 1 ),  0  ),      3*(AI$12 - 1 )   )","v":23},{"$f":" OFFSET( Season!$F$7,    MATCH(  $Y15,  OFFSET(  Season!$E$8,   0, 3* ( AJ$12 - 1 ),   34, 1 ),  0  ),      3*(AJ$12 - 1 )   )","v":10},{"$f":" OFFSET( Season!$F$7,    MATCH(  $Y15,  OFFSET(  Season!$E$8,   0, 3* ( AK$12 - 1 ),   34, 1 ),  0  ),      3*(AK$12 - 1 )   )","v":20},{"$f":" OFFSET( Season!$F$7,    MATCH(  $Y15,  OFFSET(  Season!$E$8,   0, 3* ( AL$12 - 1 ),   34, 1 ),  0  ),      3*(AL$12 - 1 )   )","v":11},{"$f":" OFFSET( Season!$F$7,    MATCH(  $Y15,  OFFSET(  Season!$E$8,   0, 3* ( AM$12 - 1 ),   34, 1 ),  0  ),      3*(AM$12 - 1 )   )","v":18},{"$f":" OFFSET( Season!$F$7,    MATCH(  $Y15,  OFFSET(  Season!$E$8,   0, 3* ( AN$12 - 1 ),   34, 1 ),  0  ),      3*(AN$12 - 1 )   )","v":11},{"$f":" OFFSET( Season!$F$7,    MATCH(  $Y15,  OFFSET(  Season!$E$8,   0, 3* ( AO$12 - 1 ),   34, 1 ),  0  ),      3*(AO$12 - 1 )   )","v":12},null,{"$f":"   MAX( $E$6:$S$6 )  -  COUNTIF( AA15:AP15, \"0\" ) -  COUNTIF( AA15:AP15, \"W\" ) -  COUNTIF( AA15:AP15, \"F\" ) -  COUNTIF( AA15:AP15, \"FF\" )","v":14},null,null,{"$f":"Standings!C8","v":"E60"},13.214357142857143,17.928571428571427,-4.7142142857142844]
[null,3,{"$f":"Standings!C7","v":"X87"},14.133333333333333,{"$f":" OFFSET( Season!$F$7,    MATCH(  $C16,  OFFSET(  Season!$E$8,   0, 3* ( E$12 - 1 ),   34, 1 ),  0  ),      3*(E$12 - 1 )   )","v":23},{"$f":" OFFSET( Season!$F$7,    MATCH(  $C16,  OFFSET(  Season!$E$8,   0, 3* ( F$12 - 1 ),   34, 1 ),  0  ),      3*(F$12 - 1 )   )","v":17},{"$f":" OFFSET( Season!$F$7,    MATCH(  $C16,  OFFSET(  Season!$E$8,   0, 3* ( G$12 - 1 ),   34, 1 ),  0  ),      3*(G$12 - 1 )   )","v":16},{"$f":" OFFSET( Season!$F$7,    MATCH(  $C16,  OFFSET(  Season!$E$8,   0, 3* ( H$12 - 1 ),   34, 1 ),  0  ),      3*(H$12 - 1 )   )","v":7},{"$f":" OFFSET( Season!$F$7,    MATCH(  $C16,  OFFSET(  Season!$E$8,   0, 3* ( I$12 - 1 ),   34, 1 ),  0  ),      3*(I$12 - 1 )   )","v":26},{"$f":" OFFSET( Season!$F$7,    MATCH(  $C16,  OFFSET(  Season!$E$8,   0, 3* ( J$12 - 1 ),   34, 1 ),  0  ),      3*(J$12 - 1 )   )","v":11},{"$f":" OFFSET( Season!$F$7,    MATCH(  $C16,  OFFSET(  Season!$E$8,   0, 3* ( K$12 - 1 ),   34, 1 ),  0  ),      3*(K$12 - 1 )   )","v":18},{"$f":" OFFSET( Season!$F$7,    MATCH(  $C16,  OFFSET(  Season!$E$8,   0, 3* ( L$12 - 1 ),   34, 1 ),  0  ),      3*(L$12 - 1 )   )","v":7},{"$f":" OFFSET( Season!$F$7,    MATCH(  $C16,  OFFSET(  Season!$E$8,   0, 3* ( M$12 - 1 ),   34, 1 ),  0  ),      3*(M$12 - 1 )   )","v":10},{"$f":" OFFSET( Season!$F$7,    MATCH(  $C16,  OFFSET(  Season!$E$8,   0, 3* ( N$12 - 1 ),   34, 1 ),  0  ),      3*(N$12 - 1 )   )","v":10},{"$f":" OFFSET( Season!$F$7,    MATCH(  $C16,  OFFSET(  Season!$E$8,   0, 3* ( O$12 - 1 ),   34, 1 ),  0  ),      3*(O$12 - 1 )   )","v":10},{"$f":" OFFSET( Season!$F$7,    MATCH(  $C16,  OFFSET(  Season!$E$8,   0, 3* ( P$12 - 1 ),   34, 1 ),  0  ),      3*(P$12 - 1 )   )","v":21},{"$f":" OFFSET( Season!$F$7,    MATCH(  $C16,  OFFSET(  Season!$E$8,   0, 3* ( Q$12 - 1 ),   34, 1 ),  0  ),      3*(Q$12 - 1 )   )","v":9},{"$f":" OFFSET( Season!$F$7,    MATCH(  $C16,  OFFSET(  Season!$E$8,   0, 3* ( R$12 - 1 ),   34, 1 ),  0  ),      3*(R$12 - 1 )   )","v":14},{"$f":" OFFSET( Season!$F$7,    MATCH(  $C16,  OFFSET(  Season!$E$8,   0, 3* ( S$12 - 1 ),   34, 1 ),  0  ),      3*(S$12 - 1 )   )","v":13},null,15,null,null,3,{"$f":"Standings!L11","v":"NNIT"},13.866666666666667,{"$f":" OFFSET( Season!$F$7,    MATCH(  $Y16,  OFFSET(  Season!$E$8,   0, 3* ( AA$12 - 1 ),   34, 1 ),  0  ),      3*(AA$12 - 1 )   )","v":22},{"$f":" OFFSET( Season!$F$7,    MATCH(  $Y16,  OFFSET(  Season!$E$8,   0, 3* ( AB$12 - 1 ),   34, 1 ),  0  ),      3*(AB$12 - 1 )   )","v":32},{"$f":" OFFSET( Season!$F$7,    MATCH(  $Y16,  OFFSET(  Season!$E$8,   0, 3* ( AC$12 - 1 ),   34, 1 ),  0  ),      3*(AC$12 - 1 )   )","v":7},{"$f":" OFFSET( Season!$F$7,    MATCH(  $Y16,  OFFSET(  Season!$E$8,   0, 3* ( AD$12 - 1 ),   34, 1 ),  0  ),      3*(AD$12 - 1 )   )","v":17},{"$f":" OFFSET( Season!$F$7,    MATCH(  $Y16,  OFFSET(  Season!$E$8,   0, 3* ( AE$12 - 1 ),   34, 1 ),  0  ),      3*(AE$12 - 1 )   )","v":31},{"$f":" OFFSET( Season!$F$7,    MATCH(  $Y16,  OFFSET(  Season!$E$8,   0, 3* ( AF$12 - 1 ),   34, 1 ),  0  ),      3*(AF$12 - 1 )   )","v":12},{"$f":" OFFSET( Season!$F$7,    MATCH(  $Y16,  OFFSET(  Season!$E$8,   0, 3* ( AG$12 - 1 ),   34, 1 ),  0  ),      3*(AG$12 - 1 )   )","v":23},{"$f":" OFFSET( Season!$F$7,    MATCH(  $Y16,  OFFSET(  Season!$E$8,   0, 3* ( AH$12 - 1 ),   34, 1 ),  0  ),      3*(AH$12 - 1 )   )","v":-11},{"$f":" OFFSET( Season!$F$7,    MATCH(  $Y16,  OFFSET(  Season!$E$8,   0, 3* ( AI$12 - 1 ),   34, 1 ),  0  ),      3*(AI$12 - 1 )   )","v":14},{"$f":" OFFSET( Season!$F$7,    MATCH(  $Y16,  OFFSET(  Season!$E$8,   0, 3* ( AJ$12 - 1 ),   34, 1 ),  0  ),      3*(AJ$12 - 1 )   )","v":5},{"$f":" OFFSET( Season!$F$7,    MATCH(  $Y16,  OFFSET(  Season!$E$8,   0, 3* ( AK$12 - 1 ),   34, 1 ),  0  ),      3*(AK$12 - 1 )   )","v":6},{"$f":" OFFSET( Season!$F$7,    MATCH(  $Y16,  OFFSET(  Season!$E$8,   0, 3* ( AL$12 - 1 ),   34, 1 ),  0  ),      3*(AL$12 - 1 )   )","v":15},{"$f":" OFFSET( Season!$F$7,    MATCH(  $Y16,  OFFSET(  Season!$E$8,   0, 3* ( AM$12 - 1 ),   34, 1 ),  0  ),      3*(AM$12 - 1 )   )","v":7},{"$f":" OFFSET( Season!$F$7,    MATCH(  $Y16,  OFFSET(  Season!$E$8,   0, 3* ( AN$12 - 1 ),   34, 1 ),  0  ),      3*(AN$12 - 1 )   )","v":16},{"$f":" OFFSET( Season!$F$7,    MATCH(  $Y16,  OFFSET(  Season!$E$8,   0, 3* ( AO$12 - 1 ),   34, 1 ),  0  ),      3*(AO$12 - 1 )   )","v":12},null,15,null,null,{"$f":"Standings!C11","v":"X88"},15.893399999999998,20.126666666666665,-4.2332666666666672]
[null,4,{"$f":"Standings!C12","v":"E12"},15.733333333333333,{"$f":" OFFSET( Season!$F$7,    MATCH(  $C17,  OFFSET(  Season!$E$8,   0, 3* ( E$12 - 1 ),   34, 1 ),  0  ),      3*(E$12 - 1 )   )","v":30},{"$f":" OFFSET( Season!$F$7,    MATCH(  $C17,  OFFSET(  Season!$E$8,   0, 3* ( F$12 - 1 ),   34, 1 ),  0  ),      3*(F$12 - 1 )   )","v":28},{"$f":" OFFSET( Season!$F$7,    MATCH(  $C17,  OFFSET(  Season!$E$8,   0, 3* ( G$12 - 1 ),   34, 1 ),  0  ),      3*(G$12 - 1 )   )","v":22},{"$f":" OFFSET( Season!$F$7,    MATCH(  $C17,  OFFSET(  Season!$E$8,   0, 3* ( H$12 - 1 ),   34, 1 ),  0  ),      3*(H$12 - 1 )   )","v":16},{"$f":" OFFSET( Season!$F$7,    MATCH(  $C17,  OFFSET(  Season!$E$8,   0, 3* ( I$12 - 1 ),   34, 1 ),  0  ),      3*(I$12 - 1 )   )","v":16},{"$f":" OFFSET( Season!$F$7,    MATCH(  $C17,  OFFSET(  Season!$E$8,   0, 3* ( J$12 - 1 ),   34, 1 ),  0  ),      3*(J$12 - 1 )   )","v":21},{"$f":" OFFSET( Season!$F$7,    MATCH(  $C17,  OFFSET(  Season!$E$8,   0, 3* ( K$12 - 1 ),   34, 1 ),  0  ),      3*(K$12 - 1 )   )","v":17},{"$f":" OFFSET( Season!$F$7,    MATCH(  $C17,  OFFSET(  Season!$E$8,   0, 3* ( L$12 - 1 ),   34, 1 ),  0  ),      3*(L$12 - 1 )   )","v":14},{"$f":" OFFSET( Season!$F$7,    MATCH(  $C17,  OFFSET(  Season!$E$8,   0, 3* ( M$12 - 1 ),   34, 1 ),  0  ),      3*(M$12 - 1 )   )","v":15},{"$f":" OFFSET( Season!$F$7,    MATCH(  $C17,  OFFSET(  Season!$E$8,   0, 3* ( N$12 - 1 ),   34, 1 ),  0  ),      3*(N$12 - 1 )   )","v":11},{"$f":" OFFSET( Season!$F$7,    MATCH(  $C17,  OFFSET(  Season!$E$8,   0, 3* ( O$12 - 1 ),   34, 1 ),  0  ),      3*(O$12 - 1 )   )","v":8},{"$f":" OFFSET( Season!$F$7,    MATCH(  $C17,  OFFSET(  Season!$E$8,   0, 3* ( P$12 - 1 ),   34, 1 ),  0  ),      3*(P$12 - 1 )   )","v":3},{"$f":" OFFSET( Season!$F$7,    MATCH(  $C17,  OFFSET(  Season!$E$8,   0, 3* ( Q$12 - 1 ),   34, 1 ),  0  ),      3*(Q$12 - 1 )   )","v":17},{"$f":" OFFSET( Season!$F$7,    MATCH(  $C17,  OFFSET(  Season!$E$8,   0, 3* ( R$12 - 1 ),   34, 1 ),  0  ),      3*(R$12 - 1 )   )","v":23},{"$f":" OFFSET( Season!$F$7,    MATCH(  $C17,  OFFSET(  Season!$E$8,   0, 3* ( S$12 - 1 ),   34, 1 ),  0  ),      3*(S$12 - 1 )   )","v":-5},null,15,null,null,4,{"$f":"Standings!L12","v":"ARG"},14.071428571428571,{"$f":" OFFSET( Season!$F$7,    MATCH(  $Y17,  OFFSET(  Season!$E$8,   0, 3* ( AA$12 - 1 ),   34, 1 ),  0  ),      3*(AA$12 - 1 )   )","v":30},{"$f":" OFFSET( Season!$F$7,    MATCH(  $Y17,  OFFSET(  Season!$E$8,   0, 3* ( AB$12 - 1 ),   34, 1 ),  0  ),      3*(AB$12 - 1 )   )","v":-1},{"$f":" OFFSET( Season!$F$7,    MATCH(  $Y17,  OFFSET(  Season!$E$8,   0, 3* ( AC$12 - 1 ),   34, 1 ),  0  ),      3*(AC$12 - 1 )   )","v":21},{"$f":" OFFSET( Season!$F$7,    MATCH(  $Y17,  OFFSET(  Season!$E$8,   0, 3* ( AD$12 - 1 ),   34, 1 ),  0  ),      3*(AD$12 - 1 )   )","v":7},{"$f":" OFFSET( Season!$F$7,    MATCH(  $Y17,  OFFSET(  Season!$E$8,   0, 3* ( AE$12 - 1 ),   34, 1 ),  0  ),      3*(AE$12 - 1 )   )","v":19},{"$f":" OFFSET( Season!$F$7,    MATCH(  $Y17,  OFFSET(  Season!$E$8,   0, 3* ( AF$12 - 1 ),   34, 1 ),  0  ),      3*(AF$12 - 1 )   )","v":9},{"$f":" OFFSET( Season!$F$7,    MATCH(  $Y17,  OFFSET(  Season!$E$8,   0, 3* ( AG$12 - 1 ),   34, 1 ),  0  ),      3*(AG$12 - 1 )   )","v":19},{"$f":" OFFSET( Season!$F$7,    MATCH(  $Y17,  OFFSET(  Season!$E$8,   0, 3* ( AH$12 - 1 ),   34, 1 ),  0  ),      3*(AH$12 - 1 )   )","v":0},{"$f":" OFFSET( Season!$F$7,    MATCH(  $Y17,  OFFSET(  Season!$E$8,   0, 3* ( AI$12 - 1 ),   34, 1 ),  0  ),      3*(AI$12 - 1 )   )","v":17},{"$f":" OFFSET( Season!$F$7,    MATCH(  $Y17,  OFFSET(  Season!$E$8,   0, 3* ( AJ$12 - 1 ),   34, 1 ),  0  ),      3*(AJ$12 - 1 )   )","v":13},{"$f":" OFFSET( Season!$F$7,    MATCH(  $Y17,  OFFSET(  Season!$E$8,   0, 3* ( AK$12 - 1 ),   34, 1 ),  0  ),      3*(AK$12 - 1 )   )","v":28},{"$f":" OFFSET( Season!$F$7,    MATCH(  $Y17,  OFFSET(  Season!$E$8,   0, 3* ( AL$12 - 1 ),   34, 1 ),  0  ),      3*(AL$12 - 1 )   )","v":4},{"$f":" OFFSET( Season!$F$7,    MATCH(  $Y17,  OFFSET(  Season!$E$8,   0, 3* ( AM$12 - 1 ),   34, 1 ),  0  ),      3*(AM$12 - 1 )   )","v":10},{"$f":" OFFSET( Season!$F$7,    MATCH(  $Y17,  OFFSET(  Season!$E$8,   0, 3* ( AN$12 - 1 ),   34, 1 ),  0  ),      3*(AN$12 - 1 )   )","v":23},{"$f":" OFFSET( Season!$F$7,    MATCH(  $Y17,  OFFSET(  Season!$E$8,   0, 3* ( AO$12 - 1 ),   34, 1 ),  0  ),      3*(AO$12 - 1 )   )","v":-2},null,14,null,null,{"$f":"Standings!C10","v":"E83"},14.066666666666666,17.466666666666665,-3.3999999999999986]
[null,5,{"$f":"Standings!C11","v":"X88"},15.893399999999998,{"$f":" OFFSET( Season!$F$7,    MATCH(  $C18,  OFFSET(  Season!$E$8,   0, 3* ( E$12 - 1 ),   34, 1 ),  0  ),      3*(E$12 - 1 )   )","v":19},{"$f":" OFFSET( Season!$F$7,    MATCH(  $C18,  OFFSET(  Season!$E$8,   0, 3* ( F$12 - 1 ),   34, 1 ),  0  ),      3*(F$12 - 1 )   )","v":22.699999999999996},{"$f":" OFFSET( Season!$F$7,    MATCH(  $C18,  OFFSET(  Season!$E$8,   0, 3* ( G$12 - 1 ),   34, 1 ),  0  ),      3*(G$12 - 1 )   )","v":23},{"$f":" OFFSET( Season!$F$7,    MATCH(  $C18,  OFFSET(  Season!$E$8,   0, 3* ( H$12 - 1 ),   34, 1 ),  0  ),      3*(H$12 - 1 )   )","v":17},{"$f":" OFFSET( Season!$F$7,    MATCH(  $C18,  OFFSET(  Season!$E$8,   0, 3* ( I$12 - 1 ),   34, 1 ),  0  ),      3*(I$12 - 1 )   )","v":20},{"$f":" OFFSET( Season!$F$7,    MATCH(  $C18,  OFFSET(  Season!$E$8,   0, 3* ( J$12 - 1 ),   34, 1 ),  0  ),      3*(J$12 - 1 )   )","v":-3},{"$f":" OFFSET( Season!$F$7,    MATCH(  $C18,  OFFSET(  Season!$E$8,   0, 3* ( K$12 - 1 ),   34, 1 ),  0  ),      3*(K$12 - 1 )   )","v":34.700000000000003},{"$f":" OFFSET( Season!$F$7,    MATCH(  $C18,  OFFSET(  Season!$E$8,   0, 3* ( L$12 - 1 ),   34, 1 ),  0  ),      3*(L$12 - 1 )   )","v":16},{"$f":" OFFSET( Season!$F$7,    MATCH(  $C18,  OFFSET(  Season!$E$8,   0, 3* ( M$12 - 1 ),   34, 1 ),  0  ),      3*(M$12 - 1 )   )","v":12},{"$f":" OFFSET( Season!$F$7,    MATCH(  $C18,  OFFSET(  Season!$E$8,   0, 3* ( N$12 - 1 ),   34, 1 ),  0  ),      3*(N$12 - 1 )   )","v":28},{"$f":" OFFSET( Season!$F$7,    MATCH(  $C18,  OFFSET(  Season!$E$8,   0, 3* ( O$12 - 1 ),   34, 1 ),  0  ),      3*(O$12 - 1 )   )","v":6},{"$f":" OFFSET( Season!$F$7,    MATCH(  $C18,  OFFSET(  Season!$E$8,   0, 3* ( P$12 - 1 ),   34, 1 ),  0  ),      3*(P$12 - 1 )   )","v":1E-3},{"$f":" OFFSET( Season!$F$7,    MATCH(  $C18,  OFFSET(  Season!$E$8,   0, 3* ( Q$12 - 1 ),   34, 1 ),  0  ),      3*(Q$12 - 1 )   )","v":26},{"$f":" OFFSET( Season!$F$7,    MATCH(  $C18,  OFFSET(  Season!$E$8,   0, 3* ( R$12 - 1 ),   34, 1 ),  0  ),      3*(R$12 - 1 )   )","v":8},{"$f":" OFFSET( Season!$F$7,    MATCH(  $C18,  OFFSET(  Season!$E$8,   0, 3* ( S$12 - 1 ),   34, 1 ),  0  ),      3*(S$12 - 1 )   )","v":9},null,15,null,null,5,{"$f":"Standings!L6","v":"E75"},14.733333333333333,{"$f":" OFFSET( Season!$F$7,    MATCH(  $Y18,  OFFSET(  Season!$E$8,   0, 3* ( AA$12 - 1 ),   34, 1 ),  0  ),      3*(AA$12 - 1 )   )","v":14},{"$f":" OFFSET( Season!$F$7,    MATCH(  $Y18,  OFFSET(  Season!$E$8,   0, 3* ( AB$12 - 1 ),   34, 1 ),  0  ),      3*(AB$12 - 1 )   )","v":13},{"$f":" OFFSET( Season!$F$7,    MATCH(  $Y18,  OFFSET(  Season!$E$8,   0, 3* ( AC$12 - 1 ),   34, 1 ),  0  ),      3*(AC$12 - 1 )   )","v":18},{"$f":" OFFSET( Season!$F$7,    MATCH(  $Y18,  OFFSET(  Season!$E$8,   0, 3* ( AD$12 - 1 ),   34, 1 ),  0  ),      3*(AD$12 - 1 )   )","v":16},{"$f":" OFFSET( Season!$F$7,    MATCH(  $Y18,  OFFSET(  Season!$E$8,   0, 3* ( AE$12 - 1 ),   34, 1 ),  0  ),      3*(AE$12 - 1 )   )","v":12},{"$f":" OFFSET( Season!$F$7,    MATCH(  $Y18,  OFFSET(  Season!$E$8,   0, 3* ( AF$12 - 1 ),   34, 1 ),  0  ),      3*(AF$12 - 1 )   )","v":21},{"$f":" OFFSET( Season!$F$7,    MATCH(  $Y18,  OFFSET(  Season!$E$8,   0, 3* ( AG$12 - 1 ),   34, 1 ),  0  ),      3*(AG$12 - 1 )   )","v":25},{"$f":" OFFSET( Season!$F$7,    MATCH(  $Y18,  OFFSET(  Season!$E$8,   0, 3* ( AH$12 - 1 ),   34, 1 ),  0  ),      3*(AH$12 - 1 )   )","v":18},{"$f":" OFFSET( Season!$F$7,    MATCH(  $Y18,  OFFSET(  Season!$E$8,   0, 3* ( AI$12 - 1 ),   34, 1 ),  0  ),      3*(AI$12 - 1 )   )","v":-6},{"$f":" OFFSET( Season!$F$7,    MATCH(  $Y18,  OFFSET(  Season!$E$8,   0, 3* ( AJ$12 - 1 ),   34, 1 ),  0  ),      3*(AJ$12 - 1 )   )","v":8},{"$f":" OFFSET( Season!$F$7,    MATCH(  $Y18,  OFFSET(  Season!$E$8,   0, 3* ( AK$12 - 1 ),   34, 1 ),  0  ),      3*(AK$12 - 1 )   )","v":26},{"$f":" OFFSET( Season!$F$7,    MATCH(  $Y18,  OFFSET(  Season!$E$8,   0, 3* ( AL$12 - 1 ),   34, 1 ),  0  ),      3*(AL$12 - 1 )   )","v":14},{"$f":" OFFSET( Season!$F$7,    MATCH(  $Y18,  OFFSET(  Season!$E$8,   0, 3* ( AM$12 - 1 ),   34, 1 ),  0  ),      3*(AM$12 - 1 )   )","v":12},{"$f":" OFFSET( Season!$F$7,    MATCH(  $Y18,  OFFSET(  Season!$E$8,   0, 3* ( AN$12 - 1 ),   34, 1 ),  0  ),      3*(AN$12 - 1 )   )","v":17},{"$f":" OFFSET( Season!$F$7,    MATCH(  $Y18,  OFFSET(  Season!$E$8,   0, 3* ( AO$12 - 1 ),   34, 1 ),  0  ),      3*(AO$12 - 1 )   )","v":13},null,15,null,null,{"$f":"Standings!C6","v":"E86"},19.916666666666668,23.25,-3.3333333333333321]
[null,6,{"$f":"Standings!C16","v":"X01"},16.600000000000001,{"$f":" OFFSET( Season!$F$7,    MATCH(  $C19,  OFFSET(  Season!$E$8,   0, 3* ( E$12 - 1 ),   34, 1 ),  0  ),      3*(E$12 - 1 )   )","v":20},{"$f":" OFFSET( Season!$F$7,    MATCH(  $C19,  OFFSET(  Season!$E$8,   0, 3* ( F$12 - 1 ),   34, 1 ),  0  ),      3*(F$12 - 1 )   )","v":27},{"$f":" OFFSET( Season!$F$7,    MATCH(  $C19,  OFFSET(  Season!$E$8,   0, 3* ( G$12 - 1 ),   34, 1 ),  0  ),      3*(G$12 - 1 )   )","v":14},{"$f":" OFFSET( Season!$F$7,    MATCH(  $C19,  OFFSET(  Season!$E$8,   0, 3* ( H$12 - 1 ),   34, 1 ),  0  ),      3*(H$12 - 1 )   )","v":28},{"$f":" OFFSET( Season!$F$7,    MATCH(  $C19,  OFFSET(  Season!$E$8,   0, 3* ( I$12 - 1 ),   34, 1 ),  0  ),      3*(I$12 - 1 )   )","v":13},{"$f":" OFFSET( Season!$F$7,    MATCH(  $C19,  OFFSET(  Season!$E$8,   0, 3* ( J$12 - 1 ),   34, 1 ),  0  ),      3*(J$12 - 1 )   )","v":35},{"$f":" OFFSET( Season!$F$7,    MATCH(  $C19,  OFFSET(  Season!$E$8,   0, 3* ( K$12 - 1 ),   34, 1 ),  0  ),      3*(K$12 - 1 )   )","v":8},{"$f":" OFFSET( Season!$F$7,    MATCH(  $C19,  OFFSET(  Season!$E$8,   0, 3* ( L$12 - 1 ),   34, 1 ),  0  ),      3*(L$12 - 1 )   )","v":17},{"$f":" OFFSET( Season!$F$7,    MATCH(  $C19,  OFFSET(  Season!$E$8,   0, 3* ( M$12 - 1 ),   34, 1 ),  0  ),      3*(M$12 - 1 )   )","v":23},{"$f":" OFFSET( Season!$F$7,    MATCH(  $C19,  OFFSET(  Season!$E$8,   0, 3* ( N$12 - 1 ),   34, 1 ),  0  ),      3*(N$12 - 1 )   )","v":2},{"$f":" OFFSET( Season!$F$7,    MATCH(  $C19,  OFFSET(  Season!$E$8,   0, 3* ( O$12 - 1 ),   34, 1 ),  0  ),      3*(O$12 - 1 )   )","v":15},{"$f":" OFFSET( Season!$F$7,    MATCH(  $C19,  OFFSET(  Season!$E$8,   0, 3* ( P$12 - 1 ),   34, 1 ),  0  ),      3*(P$12 - 1 )   )","v":5},{"$f":" OFFSET( Season!$F$7,    MATCH(  $C19,  OFFSET(  Season!$E$8,   0, 3* ( Q$12 - 1 ),   34, 1 ),  0  ),      3*(Q$12 - 1 )   )","v":8},{"$f":" OFFSET( Season!$F$7,    MATCH(  $C19,  OFFSET(  Season!$E$8,   0, 3* ( R$12 - 1 ),   34, 1 ),  0  ),      3*(R$12 - 1 )   )","v":14},{"$f":" OFFSET( Season!$F$7,    MATCH(  $C19,  OFFSET(  Season!$E$8,   0, 3* ( S$12 - 1 ),   34, 1 ),  0  ),      3*(S$12 - 1 )   )","v":20},null,15,null,null,6,{"$f":"Standings!L16","v":"O46"},14.733333333333333,{"$f":" OFFSET( Season!$F$7,    MATCH(  $Y19,  OFFSET(  Season!$E$8,   0, 3* ( AA$12 - 1 ),   34, 1 ),  0  ),      3*(AA$12 - 1 )   )","v":25},{"$f":" OFFSET( Season!$F$7,    MATCH(  $Y19,  OFFSET(  Season!$E$8,   0, 3* ( AB$12 - 1 ),   34, 1 ),  0  ),      3*(AB$12 - 1 )   )","v":24},{"$f":" OFFSET( Season!$F$7,    MATCH(  $Y19,  OFFSET(  Season!$E$8,   0, 3* ( AC$12 - 1 ),   34, 1 ),  0  ),      3*(AC$12 - 1 )   )","v":11},{"$f":" OFFSET( Season!$F$7,    MATCH(  $Y19,  OFFSET(  Season!$E$8,   0, 3* ( AD$12 - 1 ),   34, 1 ),  0  ),      3*(AD$12 - 1 )   )","v":9},{"$f":" OFFSET( Season!$F$7,    MATCH(  $Y19,  OFFSET(  Season!$E$8,   0, 3* ( AE$12 - 1 ),   34, 1 ),  0  ),      3*(AE$12 - 1 )   )","v":14},{"$f":" OFFSET( Season!$F$7,    MATCH(  $Y19,  OFFSET(  Season!$E$8,   0, 3* ( AF$12 - 1 ),   34, 1 ),  0  ),      3*(AF$12 - 1 )   )","v":21},{"$f":" OFFSET( Season!$F$7,    MATCH(  $Y19,  OFFSET(  Season!$E$8,   0, 3* ( AG$12 - 1 ),   34, 1 ),  0  ),      3*(AG$12 - 1 )   )","v":19},{"$f":" OFFSET( Season!$F$7,    MATCH(  $Y19,  OFFSET(  Season!$E$8,   0, 3* ( AH$12 - 1 ),   34, 1 ),  0  ),      3*(AH$12 - 1 )   )","v":24},{"$f":" OFFSET( Season!$F$7,    MATCH(  $Y19,  OFFSET(  Season!$E$8,   0, 3* ( AI$12 - 1 ),   34, 1 ),  0  ),      3*(AI$12 - 1 )   )","v":18},{"$f":" OFFSET( Season!$F$7,    MATCH(  $Y19,  OFFSET(  Season!$E$8,   0, 3* ( AJ$12 - 1 ),   34, 1 ),  0  ),      3*(AJ$12 - 1 )   )","v":6},{"$f":" OFFSET( Season!$F$7,    MATCH(  $Y19,  OFFSET(  Season!$E$8,   0, 3* ( AK$12 - 1 ),   34, 1 ),  0  ),      3*(AK$12 - 1 )   )","v":12},{"$f":" OFFSET( Season!$F$7,    MATCH(  $Y19,  OFFSET(  Season!$E$8,   0, 3* ( AL$12 - 1 ),   34, 1 ),  0  ),      3*(AL$12 - 1 )   )","v":10},{"$f":" OFFSET( Season!$F$7,    MATCH(  $Y19,  OFFSET(  Season!$E$8,   0, 3* ( AM$12 - 1 ),   34, 1 ),  0  ),      3*(AM$12 - 1 )   )","v":13},{"$f":" OFFSET( Season!$F$7,    MATCH(  $Y19,  OFFSET(  Season!$E$8,   0, 3* ( AN$12 - 1 ),   34, 1 ),  0  ),      3*(AN$12 - 1 )   )","v":-7},{"$f":" OFFSET( Season!$F$7,    MATCH(  $Y19,  OFFSET(  Season!$E$8,   0, 3* ( AO$12 - 1 ),   34, 1 ),  0  ),      3*(AO$12 - 1 )   )","v":22},null,15,null,null,{"$f":"Standings!C9","v":"SUBS"},21.526666666666664,23.779999999999998,-2.2533333333333339]
[null,7,{"$f":"Standings!C14","v":"E55a"},18.606666666666669,{"$f":" OFFSET( Season!$F$7,    MATCH(  $C20,  OFFSET(  Season!$E$8,   0, 3* ( E$12 - 1 ),   34, 1 ),  0  ),      3*(E$12 - 1 )   )","v":7},{"$f":" OFFSET( Season!$F$7,    MATCH(  $C20,  OFFSET(  Season!$E$8,   0, 3* ( F$12 - 1 ),   34, 1 ),  0  ),      3*(F$12 - 1 )   )","v":24},{"$f":" OFFSET( Season!$F$7,    MATCH(  $C20,  OFFSET(  Season!$E$8,   0, 3* ( G$12 - 1 ),   34, 1 ),  0  ),      3*(G$12 - 1 )   )","v":21},{"$f":" OFFSET( Season!$F$7,    MATCH(  $C20,  OFFSET(  Season!$E$8,   0, 3* ( H$12 - 1 ),   34, 1 ),  0  ),      3*(H$12 - 1 )   )","v":32},{"$f":" OFFSET( Season!$F$7,    MATCH(  $C20,  OFFSET(  Season!$E$8,   0, 3* ( I$12 - 1 ),   34, 1 ),  0  ),      3*(I$12 - 1 )   )","v":29},{"$f":" OFFSET( Season!$F$7,    MATCH(  $C20,  OFFSET(  Season!$E$8,   0, 3* ( J$12 - 1 ),   34, 1 ),  0  ),      3*(J$12 - 1 )   )","v":17},{"$f":" OFFSET( Season!$F$7,    MATCH(  $C20,  OFFSET(  Season!$E$8,   0, 3* ( K$12 - 1 ),   34, 1 ),  0  ),      3*(K$12 - 1 )   )","v":22},{"$f":" OFFSET( Season!$F$7,    MATCH(  $C20,  OFFSET(  Season!$E$8,   0, 3* ( L$12 - 1 ),   34, 1 ),  0  ),      3*(L$12 - 1 )   )","v":18},{"$f":" OFFSET( Season!$F$7,    MATCH(  $C20,  OFFSET(  Season!$E$8,   0, 3* ( M$12 - 1 ),   34, 1 ),  0  ),      3*(M$12 - 1 )   )","v":10},{"$f":" OFFSET( Season!$F$7,    MATCH(  $C20,  OFFSET(  Season!$E$8,   0, 3* ( N$12 - 1 ),   34, 1 ),  0  ),      3*(N$12 - 1 )   )","v":16},{"$f":" OFFSET( Season!$F$7,    MATCH(  $C20,  OFFSET(  Season!$E$8,   0, 3* ( O$12 - 1 ),   34, 1 ),  0  ),      3*(O$12 - 1 )   )","v":12.1},{"$f":" OFFSET( Season!$F$7,    MATCH(  $C20,  OFFSET(  Season!$E$8,   0, 3* ( P$12 - 1 ),   34, 1 ),  0  ),      3*(P$12 - 1 )   )","v":19},{"$f":" OFFSET( Season!$F$7,    MATCH(  $C20,  OFFSET(  Season!$E$8,   0, 3* ( Q$12 - 1 ),   34, 1 ),  0  ),      3*(Q$12 - 1 )   )","v":26},{"$f":" OFFSET( Season!$F$7,    MATCH(  $C20,  OFFSET(  Season!$E$8,   0, 3* ( R$12 - 1 ),   34, 1 ),  0  ),      3*(R$12 - 1 )   )","v":12},{"$f":" OFFSET( Season!$F$7,    MATCH(  $C20,  OFFSET(  Season!$E$8,   0, 3* ( S$12 - 1 ),   34, 1 ),  0  ),      3*(S$12 - 1 )   )","v":14},null,15,null,null,7,{"$f":"Standings!L8","v":"O87"},15,{"$f":" OFFSET( Season!$F$7,    MATCH(  $Y20,  OFFSET(  Season!$E$8,   0, 3* ( AA$12 - 1 ),   34, 1 ),  0  ),      3*(AA$12 - 1 )   )","v":18},{"$f":" OFFSET( Season!$F$7,    MATCH(  $Y20,  OFFSET(  Season!$E$8,   0, 3* ( AB$12 - 1 ),   34, 1 ),  0  ),      3*(AB$12 - 1 )   )","v":30},{"$f":" OFFSET( Season!$F$7,    MATCH(  $Y20,  OFFSET(  Season!$E$8,   0, 3* ( AC$12 - 1 ),   34, 1 ),  0  ),      3*(AC$12 - 1 )   )","v":15},{"$f":" OFFSET( Season!$F$7,    MATCH(  $Y20,  OFFSET(  Season!$E$8,   0, 3* ( AD$12 - 1 ),   34, 1 ),  0  ),      3*(AD$12 - 1 )   )","v":37},{"$f":" OFFSET( Season!$F$7,    MATCH(  $Y20,  OFFSET(  Season!$E$8,   0, 3* ( AE$12 - 1 ),   34, 1 ),  0  ),      3*(AE$12 - 1 )   )","v":8},{"$f":" OFFSET( Season!$F$7,    MATCH(  $Y20,  OFFSET(  Season!$E$8,   0, 3* ( AF$12 - 1 ),   34, 1 ),  0  ),      3*(AF$12 - 1 )   )","v":8},{"$f":" OFFSET( Season!$F$7,    MATCH(  $Y20,  OFFSET(  Season!$E$8,   0, 3* ( AG$12 - 1 ),   34, 1 ),  0  ),      3*(AG$12 - 1 )   )","v":11},{"$f":" OFFSET( Season!$F$7,    MATCH(  $Y20,  OFFSET(  Season!$E$8,   0, 3* ( AH$12 - 1 ),   34, 1 ),  0  ),      3*(AH$12 - 1 )   )","v":-4},{"$f":" OFFSET( Season!$F$7,    MATCH(  $Y20,  OFFSET(  Season!$E$8,   0, 3* ( AI$12 - 1 ),   34, 1 ),  0  ),      3*(AI$12 - 1 )   )","v":10},{"$f":" OFFSET( Season!$F$7,    MATCH(  $Y20,  OFFSET(  Season!$E$8,   0, 3* ( AJ$12 - 1 ),   34, 1 ),  0  ),      3*(AJ$12 - 1 )   )","v":21},{"$f":" OFFSET( Season!$F$7,    MATCH(  $Y20,  OFFSET(  Season!$E$8,   0, 3* ( AK$12 - 1 ),   34, 1 ),  0  ),      3*(AK$12 - 1 )   )","v":12},{"$f":" OFFSET( Season!$F$7,    MATCH(  $Y20,  OFFSET(  Season!$E$8,   0, 3* ( AL$12 - 1 ),   34, 1 ),  0  ),      3*(AL$12 - 1 )   )","v":2},{"$f":" OFFSET( Season!$F$7,    MATCH(  $Y20,  OFFSET(  Season!$E$8,   0, 3* ( AM$12 - 1 ),   34, 1 ),  0  ),      3*(AM$12 - 1 )   )","v":26},{"$f":" OFFSET( Season!$F$7,    MATCH(  $Y20,  OFFSET(  Season!$E$8,   0, 3* ( AN$12 - 1 ),   34, 1 ),  0  ),      3*(AN$12 - 1 )   )","v":9},{"$f":" OFFSET( Season!$F$7,    MATCH(  $Y20,  OFFSET(  Season!$E$8,   0, 3* ( AO$12 - 1 ),   34, 1 ),  0  ),      3*(AO$12 - 1 )   )","v":22},null,15,null,null,{"$f":"Standings!C12","v":"E12"},15.733333333333333,{"$f":"   VLOOKUP(  AT20, $C$37:$D$53, 2, 0  )","v":17.46673333333333},-1.7333999999999978]
[null,8,{"$f":"Standings!C17","v":"AGS"},19.53846153846154,{"$f":" OFFSET( Season!$F$7,    MATCH(  $C21,  OFFSET(  Season!$E$8,   0, 3* ( E$12 - 1 ),   34, 1 ),  0  ),      3*(E$12 - 1 )   )","v":16},{"$f":" OFFSET( Season!$F$7,    MATCH(  $C21,  OFFSET(  Season!$E$8,   0, 3* ( F$12 - 1 ),   34, 1 ),  0  ),      3*(F$12 - 1 )   )","v":26},{"$f":" OFFSET( Season!$F$7,    MATCH(  $C21,  OFFSET(  Season!$E$8,   0, 3* ( G$12 - 1 ),   34, 1 ),  0  ),      3*(G$12 - 1 )   )","v":19},{"$f":" OFFSET( Season!$F$7,    MATCH(  $C21,  OFFSET(  Season!$E$8,   0, 3* ( H$12 - 1 ),   34, 1 ),  0  ),      3*(H$12 - 1 )   )","v":24},{"$f":" OFFSET( Season!$F$7,    MATCH(  $C21,  OFFSET(  Season!$E$8,   0, 3* ( I$12 - 1 ),   34, 1 ),  0  ),      3*(I$12 - 1 )   )","v":30},{"$f":" OFFSET( Season!$F$7,    MATCH(  $C21,  OFFSET(  Season!$E$8,   0, 3* ( J$12 - 1 ),   34, 1 ),  0  ),      3*(J$12 - 1 )   )","v":26},{"$f":" OFFSET( Season!$F$7,    MATCH(  $C21,  OFFSET(  Season!$E$8,   0, 3* ( K$12 - 1 ),   34, 1 ),  0  ),      3*(K$12 - 1 )   )","v":15},{"$f":" OFFSET( Season!$F$7,    MATCH(  $C21,  OFFSET(  Season!$E$8,   0, 3* ( L$12 - 1 ),   34, 1 ),  0  ),      3*(L$12 - 1 )   )","v":18},{"$f":" OFFSET( Season!$F$7,    MATCH(  $C21,  OFFSET(  Season!$E$8,   0, 3* ( M$12 - 1 ),   34, 1 ),  0  ),      3*(M$12 - 1 )   )","v":11},{"$f":" OFFSET( Season!$F$7,    MATCH(  $C21,  OFFSET(  Season!$E$8,   0, 3* ( N$12 - 1 ),   34, 1 ),  0  ),      3*(N$12 - 1 )   )","v":14},{"$f":" OFFSET( Season!$F$7,    MATCH(  $C21,  OFFSET(  Season!$E$8,   0, 3* ( O$12 - 1 ),   34, 1 ),  0  ),      3*(O$12 - 1 )   )","v":26},{"$f":" OFFSET( Season!$F$7,    MATCH(  $C21,  OFFSET(  Season!$E$8,   0, 3* ( P$12 - 1 ),   34, 1 ),  0  ),      3*(P$12 - 1 )   )","v":14},{"$f":" OFFSET( Season!$F$7,    MATCH(  $C21,  OFFSET(  Season!$E$8,   0, 3* ( Q$12 - 1 ),   34, 1 ),  0  ),      3*(Q$12 - 1 )   )","v":15},{"$f":" OFFSET( Season!$F$7,    MATCH(  $C21,  OFFSET(  Season!$E$8,   0, 3* ( R$12 - 1 ),   34, 1 ),  0  ),      3*(R$12 - 1 )   )","v":"f"},{"$f":" OFFSET( Season!$F$7,    MATCH(  $C21,  OFFSET(  Season!$E$8,   0, 3* ( S$12 - 1 ),   34, 1 ),  0  ),      3*(S$12 - 1 )   )","v":0},null,13,null,null,8,{"$f":"Standings!L15","v":"E20"},15.466666666666667,{"$f":" OFFSET( Season!$F$7,    MATCH(  $Y21,  OFFSET(  Season!$E$8,   0, 3* ( AA$12 - 1 ),   34, 1 ),  0  ),      3*(AA$12 - 1 )   )","v":24},{"$f":" OFFSET( Season!$F$7,    MATCH(  $Y21,  OFFSET(  Season!$E$8,   0, 3* ( AB$12 - 1 ),   34, 1 ),  0  ),      3*(AB$12 - 1 )   )","v":19},{"$f":" OFFSET( Season!$F$7,    MATCH(  $Y21,  OFFSET(  Season!$E$8,   0, 3* ( AC$12 - 1 ),   34, 1 ),  0  ),      3*(AC$12 - 1 )   )","v":10},{"$f":" OFFSET( Season!$F$7,    MATCH(  $Y21,  OFFSET(  Season!$E$8,   0, 3* ( AD$12 - 1 ),   34, 1 ),  0  ),      3*(AD$12 - 1 )   )","v":19},{"$f":" OFFSET( Season!$F$7,    MATCH(  $Y21,  OFFSET(  Season!$E$8,   0, 3* ( AE$12 - 1 ),   34, 1 ),  0  ),      3*(AE$12 - 1 )   )","v":15},{"$f":" OFFSET( Season!$F$7,    MATCH(  $Y21,  OFFSET(  Season!$E$8,   0, 3* ( AF$12 - 1 ),   34, 1 ),  0  ),      3*(AF$12 - 1 )   )","v":21},{"$f":" OFFSET( Season!$F$7,    MATCH(  $Y21,  OFFSET(  Season!$E$8,   0, 3* ( AG$12 - 1 ),   34, 1 ),  0  ),      3*(AG$12 - 1 )   )","v":20},{"$f":" OFFSET( Season!$F$7,    MATCH(  $Y21,  OFFSET(  Season!$E$8,   0, 3* ( AH$12 - 1 ),   34, 1 ),  0  ),      3*(AH$12 - 1 )   )","v":22},{"$f":" OFFSET( Season!$F$7,    MATCH(  $Y21,  OFFSET(  Season!$E$8,   0, 3* ( AI$12 - 1 ),   34, 1 ),  0  ),      3*(AI$12 - 1 )   )","v":18},{"$f":" OFFSET( Season!$F$7,    MATCH(  $Y21,  OFFSET(  Season!$E$8,   0, 3* ( AJ$12 - 1 ),   34, 1 ),  0  ),      3*(AJ$12 - 1 )   )","v":13},{"$f":" OFFSET( Season!$F$7,    MATCH(  $Y21,  OFFSET(  Season!$E$8,   0, 3* ( AK$12 - 1 ),   34, 1 ),  0  ),      3*(AK$12 - 1 )   )","v":10},{"$f":" OFFSET( Season!$F$7,    MATCH(  $Y21,  OFFSET(  Season!$E$8,   0, 3* ( AL$12 - 1 ),   34, 1 ),  0  ),      3*(AL$12 - 1 )   )","v":15},{"$f":" OFFSET( Season!$F$7,    MATCH(  $Y21,  OFFSET(  Season!$E$8,   0, 3* ( AM$12 - 1 ),   34, 1 ),  0  ),      3*(AM$12 - 1 )   )","v":6},{"$f":" OFFSET( Season!$F$7,    MATCH(  $Y21,  OFFSET(  Season!$E$8,   0, 3* ( AN$12 - 1 ),   34, 1 ),  0  ),      3*(AN$12 - 1 )   )","v":4},{"$f":" OFFSET( Season!$F$7,    MATCH(  $Y21,  OFFSET(  Season!$E$8,   0, 3* ( AO$12 - 1 ),   34, 1 ),  0  ),      3*(AO$12 - 1 )   )","v":16},null,15,null,null,{"$f":"Standings!C16","v":"X01"},16.600000000000001,{"$f":"VLOOKUP(AT21, $C$37:$D$53, 2, 0 )","v":17.866666666666667},-1.2666666666666657]
[null,9,{"$f":"Standings!C6","v":"E86"},19.916666666666668,{"$f":" OFFSET( Season!$F$7,    MATCH(  $C22,  OFFSET(  Season!$E$8,   0, 3* ( E$12 - 1 ),   34, 1 ),  0  ),      3*(E$12 - 1 )   )","v":17},{"$f":" OFFSET( Season!$F$7,    MATCH(  $C22,  OFFSET(  Season!$E$8,   0, 3* ( F$12 - 1 ),   34, 1 ),  0  ),      3*(F$12 - 1 )   )","v":30},{"$f":" OFFSET( Season!$F$7,    MATCH(  $C22,  OFFSET(  Season!$E$8,   0, 3* ( G$12 - 1 ),   34, 1 ),  0  ),      3*(G$12 - 1 )   )","v":17},{"$f":" OFFSET( Season!$F$7,    MATCH(  $C22,  OFFSET(  Season!$E$8,   0, 3* ( H$12 - 1 ),   34, 1 ),  0  ),      3*(H$12 - 1 )   )","v":18},{"$f":" OFFSET( Season!$F$7,    MATCH(  $C22,  OFFSET(  Season!$E$8,   0, 3* ( I$12 - 1 ),   34, 1 ),  0  ),      3*(I$12 - 1 )   )","v":21},{"$f":" OFFSET( Season!$F$7,    MATCH(  $C22,  OFFSET(  Season!$E$8,   0, 3* ( J$12 - 1 ),   34, 1 ),  0  ),      3*(J$12 - 1 )   )","v":13},{"$f":" OFFSET( Season!$F$7,    MATCH(  $C22,  OFFSET(  Season!$E$8,   0, 3* ( K$12 - 1 ),   34, 1 ),  0  ),      3*(K$12 - 1 )   )","v":29},{"$f":" OFFSET( Season!$F$7,    MATCH(  $C22,  OFFSET(  Season!$E$8,   0, 3* ( L$12 - 1 ),   34, 1 ),  0  ),      3*(L$12 - 1 )   )","v":"f"},{"$f":" OFFSET( Season!$F$7,    MATCH(  $C22,  OFFSET(  Season!$E$8,   0, 3* ( M$12 - 1 ),   34, 1 ),  0  ),      3*(M$12 - 1 )   )","v":12},{"$f":" OFFSET( Season!$F$7,    MATCH(  $C22,  OFFSET(  Season!$E$8,   0, 3* ( N$12 - 1 ),   34, 1 ),  0  ),      3*(N$12 - 1 )   )","v":12},{"$f":" OFFSET( Season!$F$7,    MATCH(  $C22,  OFFSET(  Season!$E$8,   0, 3* ( O$12 - 1 ),   34, 1 ),  0  ),      3*(O$12 - 1 )   )","v":25},{"$f":" OFFSET( Season!$F$7,    MATCH(  $C22,  OFFSET(  Season!$E$8,   0, 3* ( P$12 - 1 ),   34, 1 ),  0  ),      3*(P$12 - 1 )   )","v":18},{"$f":" OFFSET( Season!$F$7,    MATCH(  $C22,  OFFSET(  Season!$E$8,   0, 3* ( Q$12 - 1 ),   34, 1 ),  0  ),      3*(Q$12 - 1 )   )","v":27},{"$f":" OFFSET( Season!$F$7,    MATCH(  $C22,  OFFSET(  Season!$E$8,   0, 3* ( R$12 - 1 ),   34, 1 ),  0  ),      3*(R$12 - 1 )   )","v":"f"},{"$f":" OFFSET( Season!$F$7,    MATCH(  $C22,  OFFSET(  Season!$E$8,   0, 3* ( S$12 - 1 ),   34, 1 ),  0  ),      3*(S$12 - 1 )   )","v":0},null,12,null,null,9,{"$f":"Standings!L18","v":"A572"},15.466666666666667,{"$f":" OFFSET( Season!$F$7,    MATCH(  $Y22,  OFFSET(  Season!$E$8,   0, 3* ( AA$12 - 1 ),   34, 1 ),  0  ),      3*(AA$12 - 1 )   )","v":29},{"$f":" OFFSET( Season!$F$7,    MATCH(  $Y22,  OFFSET(  Season!$E$8,   0, 3* ( AB$12 - 1 ),   34, 1 ),  0  ),      3*(AB$12 - 1 )   )","v":27},{"$f":" OFFSET( Season!$F$7,    MATCH(  $Y22,  OFFSET(  Season!$E$8,   0, 3* ( AC$12 - 1 ),   34, 1 ),  0  ),      3*(AC$12 - 1 )   )","v":16},{"$f":" OFFSET( Season!$F$7,    MATCH(  $Y22,  OFFSET(  Season!$E$8,   0, 3* ( AD$12 - 1 ),   34, 1 ),  0  ),      3*(AD$12 - 1 )   )","v":14},{"$f":" OFFSET( Season!$F$7,    MATCH(  $Y22,  OFFSET(  Season!$E$8,   0, 3* ( AE$12 - 1 ),   34, 1 ),  0  ),      3*(AE$12 - 1 )   )","v":11},{"$f":" OFFSET( Season!$F$7,    MATCH(  $Y22,  OFFSET(  Season!$E$8,   0, 3* ( AF$12 - 1 ),   34, 1 ),  0  ),      3*(AF$12 - 1 )   )","v":28},{"$f":" OFFSET( Season!$F$7,    MATCH(  $Y22,  OFFSET(  Season!$E$8,   0, 3* ( AG$12 - 1 ),   34, 1 ),  0  ),      3*(AG$12 - 1 )   )","v":15},{"$f":" OFFSET( Season!$F$7,    MATCH(  $Y22,  OFFSET(  Season!$E$8,   0, 3* ( AH$12 - 1 ),   34, 1 ),  0  ),      3*(AH$12 - 1 )   )","v":16},{"$f":" OFFSET( Season!$F$7,    MATCH(  $Y22,  OFFSET(  Season!$E$8,   0, 3* ( AI$12 - 1 ),   34, 1 ),  0  ),      3*(AI$12 - 1 )   )","v":-6},{"$f":" OFFSET( Season!$F$7,    MATCH(  $Y22,  OFFSET(  Season!$E$8,   0, 3* ( AJ$12 - 1 ),   34, 1 ),  0  ),      3*(AJ$12 - 1 )   )","v":6},{"$f":" OFFSET( Season!$F$7,    MATCH(  $Y22,  OFFSET(  Season!$E$8,   0, 3* ( AK$12 - 1 ),   34, 1 ),  0  ),      3*(AK$12 - 1 )   )","v":-1},{"$f":" OFFSET( Season!$F$7,    MATCH(  $Y22,  OFFSET(  Season!$E$8,   0, 3* ( AL$12 - 1 ),   34, 1 ),  0  ),      3*(AL$12 - 1 )   )","v":18},{"$f":" OFFSET( Season!$F$7,    MATCH(  $Y22,  OFFSET(  Season!$E$8,   0, 3* ( AM$12 - 1 ),   34, 1 ),  0  ),      3*(AM$12 - 1 )   )","v":18},{"$f":" OFFSET( Season!$F$7,    MATCH(  $Y22,  OFFSET(  Season!$E$8,   0, 3* ( AN$12 - 1 ),   34, 1 ),  0  ),      3*(AN$12 - 1 )   )","v":26},{"$f":" OFFSET( Season!$F$7,    MATCH(  $Y22,  OFFSET(  Season!$E$8,   0, 3* ( AO$12 - 1 ),   34, 1 ),  0  ),      3*(AO$12 - 1 )   )","v":15},null,15,null,null,{"$f":"Standings!C22","v":0},0,0,0]
[null,10,{"$f":"Standings!C13","v":"E55B"},20.545454545454547,{"$f":" OFFSET( Season!$F$7,    MATCH(  $C23,  OFFSET(  Season!$E$8,   0, 3* ( E$12 - 1 ),   34, 1 ),  0  ),      3*(E$12 - 1 )   )","v":0},{"$f":" OFFSET( Season!$F$7,    MATCH(  $C23,  OFFSET(  Season!$E$8,   0, 3* ( F$12 - 1 ),   34, 1 ),  0  ),      3*(F$12 - 1 )   )","v":27},{"$f":" OFFSET( Season!$F$7,    MATCH(  $C23,  OFFSET(  Season!$E$8,   0, 3* ( G$12 - 1 ),   34, 1 ),  0  ),      3*(G$12 - 1 )   )","v":19},{"$f":" OFFSET( Season!$F$7,    MATCH(  $C23,  OFFSET(  Season!$E$8,   0, 3* ( H$12 - 1 ),   34, 1 ),  0  ),      3*(H$12 - 1 )   )","v":34},{"$f":" OFFSET( Season!$F$7,    MATCH(  $C23,  OFFSET(  Season!$E$8,   0, 3* ( I$12 - 1 ),   34, 1 ),  0  ),      3*(I$12 - 1 )   )","v":36},{"$f":" OFFSET( Season!$F$7,    MATCH(  $C23,  OFFSET(  Season!$E$8,   0, 3* ( J$12 - 1 ),   34, 1 ),  0  ),      3*(J$12 - 1 )   )","v":26},{"$f":" OFFSET( Season!$F$7,    MATCH(  $C23,  OFFSET(  Season!$E$8,   0, 3* ( K$12 - 1 ),   34, 1 ),  0  ),      3*(K$12 - 1 )   )","v":15.000000000000002},{"$f":" OFFSET( Season!$F$7,    MATCH(  $C23,  OFFSET(  Season!$E$8,   0, 3* ( L$12 - 1 ),   34, 1 ),  0  ),      3*(L$12 - 1 )   )","v":24},{"$f":" OFFSET( Season!$F$7,    MATCH(  $C23,  OFFSET(  Season!$E$8,   0, 3* ( M$12 - 1 ),   34, 1 ),  0  ),      3*(M$12 - 1 )   )","v":0},{"$f":" OFFSET( Season!$F$7,    MATCH(  $C23,  OFFSET(  Season!$E$8,   0, 3* ( N$12 - 1 ),   34, 1 ),  0  ),      3*(N$12 - 1 )   )","v":3},{"$f":" OFFSET( Season!$F$7,    MATCH(  $C23,  OFFSET(  Season!$E$8,   0, 3* ( O$12 - 1 ),   34, 1 ),  0  ),      3*(O$12 - 1 )   )","v":15},{"$f":" OFFSET( Season!$F$7,    MATCH(  $C23,  OFFSET(  Season!$E$8,   0, 3* ( P$12 - 1 ),   34, 1 ),  0  ),      3*(P$12 - 1 )   )","v":10},{"$f":" OFFSET( Season!$F$7,    MATCH(  $C23,  OFFSET(  Season!$E$8,   0, 3* ( Q$12 - 1 ),   34, 1 ),  0  ),      3*(Q$12 - 1 )   )","v":17},{"$f":" OFFSET( Season!$F$7,    MATCH(  $C23,  OFFSET(  Season!$E$8,   0, 3* ( R$12 - 1 ),   34, 1 ),  0  ),      3*(R$12 - 1 )   )","v":0},{"$f":" OFFSET( Season!$F$7,    MATCH(  $C23,  OFFSET(  Season!$E$8,   0, 3* ( S$12 - 1 ),   34, 1 ),  0  ),      3*(S$12 - 1 )   )","v":0},null,11,null,null,10,{"$f":"Standings!L9","v":"M10"},16,{"$f":" OFFSET( Season!$F$7,    MATCH(  $Y23,  OFFSET(  Season!$E$8,   0, 3* ( AA$12 - 1 ),   34, 1 ),  0  ),      3*(AA$12 - 1 )   )","v":10},{"$f":" OFFSET( Season!$F$7,    MATCH(  $Y23,  OFFSET(  Season!$E$8,   0, 3* ( AB$12 - 1 ),   34, 1 ),  0  ),      3*(AB$12 - 1 )   )","v":15},{"$f":" OFFSET( Season!$F$7,    MATCH(  $Y23,  OFFSET(  Season!$E$8,   0, 3* ( AC$12 - 1 ),   34, 1 ),  0  ),      3*(AC$12 - 1 )   )","v":6},{"$f":" OFFSET( Season!$F$7,    MATCH(  $Y23,  OFFSET(  Season!$E$8,   0, 3* ( AD$12 - 1 ),   34, 1 ),  0  ),      3*(AD$12 - 1 )   )","v":25},{"$f":" OFFSET( Season!$F$7,    MATCH(  $Y23,  OFFSET(  Season!$E$8,   0, 3* ( AE$12 - 1 ),   34, 1 ),  0  ),      3*(AE$12 - 1 )   )","v":14},{"$f":" OFFSET( Season!$F$7,    MATCH(  $Y23,  OFFSET(  Season!$E$8,   0, 3* ( AF$12 - 1 ),   34, 1 ),  0  ),      3*(AF$12 - 1 )   )","v":25},{"$f":" OFFSET( Season!$F$7,    MATCH(  $Y23,  OFFSET(  Season!$E$8,   0, 3* ( AG$12 - 1 ),   34, 1 ),  0  ),      3*(AG$12 - 1 )   )","v":12},{"$f":" OFFSET( Season!$F$7,    MATCH(  $Y23,  OFFSET(  Season!$E$8,   0, 3* ( AH$12 - 1 ),   34, 1 ),  0  ),      3*(AH$12 - 1 )   )","v":29},{"$f":" OFFSET( Season!$F$7,    MATCH(  $Y23,  OFFSET(  Season!$E$8,   0, 3* ( AI$12 - 1 ),   34, 1 ),  0  ),      3*(AI$12 - 1 )   )","v":11},{"$f":" OFFSET( Season!$F$7,    MATCH(  $Y23,  OFFSET(  Season!$E$8,   0, 3* ( AJ$12 - 1 ),   34, 1 ),  0  ),      3*(AJ$12 - 1 )   )","v":8},{"$f":" OFFSET( Season!$F$7,    MATCH(  $Y23,  OFFSET(  Season!$E$8,   0, 3* ( AK$12 - 1 ),   34, 1 ),  0  ),      3*(AK$12 - 1 )   )","v":17},{"$f":" OFFSET( Season!$F$7,    MATCH(  $Y23,  OFFSET(  Season!$E$8,   0, 3* ( AL$12 - 1 ),   34, 1 ),  0  ),      3*(AL$12 - 1 )   )","v":8},{"$f":" OFFSET( Season!$F$7,    MATCH(  $Y23,  OFFSET(  Season!$E$8,   0, 3* ( AM$12 - 1 ),   34, 1 ),  0  ),      3*(AM$12 - 1 )   )","v":7},{"$f":" OFFSET( Season!$F$7,    MATCH(  $Y23,  OFFSET(  Season!$E$8,   0, 3* ( AN$12 - 1 ),   34, 1 ),  0  ),      3*(AN$12 - 1 )   )","v":41},{"$f":" OFFSET( Season!$F$7,    MATCH(  $Y23,  OFFSET(  Season!$E$8,   0, 3* ( AO$12 - 1 ),   34, 1 ),  0  ),      3*(AO$12 - 1 )   )","v":12},null,15,null,null,{"$f":"Standings!C13","v":"E55B"},20.545454545454547,19.790909090909089,0.75454545454545752]
[null,11,{"$f":"Standings!C18","v":"E14"},20.714285714285715,{"$f":" OFFSET( Season!$F$7,    MATCH(  $C24,  OFFSET(  Season!$E$8,   0, 3* ( E$12 - 1 ),   34, 1 ),  0  ),      3*(E$12 - 1 )   )","v":23},{"$f":" OFFSET( Season!$F$7,    MATCH(  $C24,  OFFSET(  Season!$E$8,   0, 3* ( F$12 - 1 ),   34, 1 ),  0  ),      3*(F$12 - 1 )   )","v":33},{"$f":" OFFSET( Season!$F$7,    MATCH(  $C24,  OFFSET(  Season!$E$8,   0, 3* ( G$12 - 1 ),   34, 1 ),  0  ),      3*(G$12 - 1 )   )","v":23},{"$f":" OFFSET( Season!$F$7,    MATCH(  $C24,  OFFSET(  Season!$E$8,   0, 3* ( H$12 - 1 ),   34, 1 ),  0  ),      3*(H$12 - 1 )   )","v":15},{"$f":" OFFSET( Season!$F$7,    MATCH(  $C24,  OFFSET(  Season!$E$8,   0, 3* ( I$12 - 1 ),   34, 1 ),  0  ),      3*(I$12 - 1 )   )","v":17},{"$f":" OFFSET( Season!$F$7,    MATCH(  $C24,  OFFSET(  Season!$E$8,   0, 3* ( J$12 - 1 ),   34, 1 ),  0  ),      3*(J$12 - 1 )   )","v":13},{"$f":" OFFSET( Season!$F$7,    MATCH(  $C24,  OFFSET(  Season!$E$8,   0, 3* ( K$12 - 1 ),   34, 1 ),  0  ),      3*(K$12 - 1 )   )","v":24},{"$f":" OFFSET( Season!$F$7,    MATCH(  $C24,  OFFSET(  Season!$E$8,   0, 3* ( L$12 - 1 ),   34, 1 ),  0  ),      3*(L$12 - 1 )   )","v":12},{"$f":" OFFSET( Season!$F$7,    MATCH(  $C24,  OFFSET(  Season!$E$8,   0, 3* ( M$12 - 1 ),   34, 1 ),  0  ),      3*(M$12 - 1 )   )","v":38},{"$f":" OFFSET( Season!$F$7,    MATCH(  $C24,  OFFSET(  Season!$E$8,   0, 3* ( N$12 - 1 ),   34, 1 ),  0  ),      3*(N$12 - 1 )   )","v":19},{"$f":" OFFSET( Season!$F$7,    MATCH(  $C24,  OFFSET(  Season!$E$8,   0, 3* ( O$12 - 1 ),   34, 1 ),  0  ),      3*(O$12 - 1 )   )","v":21},{"$f":" OFFSET( Season!$F$7,    MATCH(  $C24,  OFFSET(  Season!$E$8,   0, 3* ( P$12 - 1 ),   34, 1 ),  0  ),      3*(P$12 - 1 )   )","v":24},{"$f":" OFFSET( Season!$F$7,    MATCH(  $C24,  OFFSET(  Season!$E$8,   0, 3* ( Q$12 - 1 ),   34, 1 ),  0  ),      3*(Q$12 - 1 )   )","v":5},{"$f":" OFFSET( Season!$F$7,    MATCH(  $C24,  OFFSET(  Season!$E$8,   0, 3* ( R$12 - 1 ),   34, 1 ),  0  ),      3*(R$12 - 1 )   )","v":23},{"$f":" OFFSET( Season!$F$7,    MATCH(  $C24,  OFFSET(  Season!$E$8,   0, 3* ( S$12 - 1 ),   34, 1 ),  0  ),      3*(S$12 - 1 )   )","v":"f"},null,14,null,null,11,{"$f":"Standings!L14","v":"ENGR"},17.142857142857142,{"$f":" OFFSET( Season!$F$7,    MATCH(  $Y24,  OFFSET(  Season!$E$8,   0, 3* ( AA$12 - 1 ),   34, 1 ),  0  ),      3*(AA$12 - 1 )   )","v":29},{"$f":" OFFSET( Season!$F$7,    MATCH(  $Y24,  OFFSET(  Season!$E$8,   0, 3* ( AB$12 - 1 ),   34, 1 ),  0  ),      3*(AB$12 - 1 )   )","v":34},{"$f":" OFFSET( Season!$F$7,    MATCH(  $Y24,  OFFSET(  Season!$E$8,   0, 3* ( AC$12 - 1 ),   34, 1 ),  0  ),      3*(AC$12 - 1 )   )","v":20},{"$f":" OFFSET( Season!$F$7,    MATCH(  $Y24,  OFFSET(  Season!$E$8,   0, 3* ( AD$12 - 1 ),   34, 1 ),  0  ),      3*(AD$12 - 1 )   )","v":21},{"$f":" OFFSET( Season!$F$7,    MATCH(  $Y24,  OFFSET(  Season!$E$8,   0, 3* ( AE$12 - 1 ),   34, 1 ),  0  ),      3*(AE$12 - 1 )   )","v":14},{"$f":" OFFSET( Season!$F$7,    MATCH(  $Y24,  OFFSET(  Season!$E$8,   0, 3* ( AF$12 - 1 ),   34, 1 ),  0  ),      3*(AF$12 - 1 )   )","v":38},{"$f":" OFFSET( Season!$F$7,    MATCH(  $Y24,  OFFSET(  Season!$E$8,   0, 3* ( AG$12 - 1 ),   34, 1 ),  0  ),      3*(AG$12 - 1 )   )","v":2},{"$f":" OFFSET( Season!$F$7,    MATCH(  $Y24,  OFFSET(  Season!$E$8,   0, 3* ( AH$12 - 1 ),   34, 1 ),  0  ),      3*(AH$12 - 1 )   )","v":31},{"$f":" OFFSET( Season!$F$7,    MATCH(  $Y24,  OFFSET(  Season!$E$8,   0, 3* ( AI$12 - 1 ),   34, 1 ),  0  ),      3*(AI$12 - 1 )   )","v":7},{"$f":" OFFSET( Season!$F$7,    MATCH(  $Y24,  OFFSET(  Season!$E$8,   0, 3* ( AJ$12 - 1 ),   34, 1 ),  0  ),      3*(AJ$12 - 1 )   )","v":19},{"$f":" OFFSET( Season!$F$7,    MATCH(  $Y24,  OFFSET(  Season!$E$8,   0, 3* ( AK$12 - 1 ),   34, 1 ),  0  ),      3*(AK$12 - 1 )   )","v":8},{"$f":" OFFSET( Season!$F$7,    MATCH(  $Y24,  OFFSET(  Season!$E$8,   0, 3* ( AL$12 - 1 ),   34, 1 ),  0  ),      3*(AL$12 - 1 )   )","v":-3},{"$f":" OFFSET( Season!$F$7,    MATCH(  $Y24,  OFFSET(  Season!$E$8,   0, 3* ( AM$12 - 1 ),   34, 1 ),  0  ),      3*(AM$12 - 1 )   )","v":6},{"$f":" OFFSET( Season!$F$7,    MATCH(  $Y24,  OFFSET(  Season!$E$8,   0, 3* ( AN$12 - 1 ),   34, 1 ),  0  ),      3*(AN$12 - 1 )   )","v":14},{"$f":" OFFSET( Season!$F$7,    MATCH(  $Y24,  OFFSET(  Season!$E$8,   0, 3* ( AO$12 - 1 ),   34, 1 ),  0  ),      3*(AO$12 - 1 )   )","v":0},null,14,null,null,{"$f":"Standings!C14","v":"E55a"},18.606666666666669,17.8,0.80666666666666842]
[null,12,{"$f":"Standings!C19","v":"E17"},21.5,{"$f":" OFFSET( Season!$F$7,    MATCH(  $C25,  OFFSET(  Season!$E$8,   0, 3* ( E$12 - 1 ),   34, 1 ),  0  ),      3*(E$12 - 1 )   )","v":"f"},{"$f":" OFFSET( Season!$F$7,    MATCH(  $C25,  OFFSET(  Season!$E$8,   0, 3* ( F$12 - 1 ),   34, 1 ),  0  ),      3*(F$12 - 1 )   )","v":30},{"$f":" OFFSET( Season!$F$7,    MATCH(  $C25,  OFFSET(  Season!$E$8,   0, 3* ( G$12 - 1 ),   34, 1 ),  0  ),      3*(G$12 - 1 )   )","v":30},{"$f":" OFFSET( Season!$F$7,    MATCH(  $C25,  OFFSET(  Season!$E$8,   0, 3* ( H$12 - 1 ),   34, 1 ),  0  ),      3*(H$12 - 1 )   )","v":26},{"$f":" OFFSET( Season!$F$7,    MATCH(  $C25,  OFFSET(  Season!$E$8,   0, 3* ( I$12 - 1 ),   34, 1 ),  0  ),      3*(I$12 - 1 )   )","v":31},{"$f":" OFFSET( Season!$F$7,    MATCH(  $C25,  OFFSET(  Season!$E$8,   0, 3* ( J$12 - 1 ),   34, 1 ),  0  ),      3*(J$12 - 1 )   )","v":16},{"$f":" OFFSET( Season!$F$7,    MATCH(  $C25,  OFFSET(  Season!$E$8,   0, 3* ( K$12 - 1 ),   34, 1 ),  0  ),      3*(K$12 - 1 )   )","v":15},{"$f":" OFFSET( Season!$F$7,    MATCH(  $C25,  OFFSET(  Season!$E$8,   0, 3* ( L$12 - 1 ),   34, 1 ),  0  ),      3*(L$12 - 1 )   )","v":34},{"$f":" OFFSET( Season!$F$7,    MATCH(  $C25,  OFFSET(  Season!$E$8,   0, 3* ( M$12 - 1 ),   34, 1 ),  0  ),      3*(M$12 - 1 )   )","v":8},{"$f":" OFFSET( Season!$F$7,    MATCH(  $C25,  OFFSET(  Season!$E$8,   0, 3* ( N$12 - 1 ),   34, 1 ),  0  ),      3*(N$12 - 1 )   )","v":8},{"$f":" OFFSET( Season!$F$7,    MATCH(  $C25,  OFFSET(  Season!$E$8,   0, 3* ( O$12 - 1 ),   34, 1 ),  0  ),      3*(O$12 - 1 )   )","v":"f"},{"$f":" OFFSET( Season!$F$7,    MATCH(  $C25,  OFFSET(  Season!$E$8,   0, 3* ( P$12 - 1 ),   34, 1 ),  0  ),      3*(P$12 - 1 )   )","v":33},{"$f":" OFFSET( Season!$F$7,    MATCH(  $C25,  OFFSET(  Season!$E$8,   0, 3* ( Q$12 - 1 ),   34, 1 ),  0  ),      3*(Q$12 - 1 )   )","v":14},{"$f":" OFFSET( Season!$F$7,    MATCH(  $C25,  OFFSET(  Season!$E$8,   0, 3* ( R$12 - 1 ),   34, 1 ),  0  ),      3*(R$12 - 1 )   )","v":13},{"$f":" OFFSET( Season!$F$7,    MATCH(  $C25,  OFFSET(  Season!$E$8,   0, 3* ( S$12 - 1 ),   34, 1 ),  0  ),      3*(S$12 - 1 )   )","v":"f"},null,12,null,null,12,{"$f":"Standings!L19","v":"X10"},17.666666666666668,{"$f":" OFFSET( Season!$F$7,    MATCH(  $Y25,  OFFSET(  Season!$E$8,   0, 3* ( AA$12 - 1 ),   34, 1 ),  0  ),      3*(AA$12 - 1 )   )","v":26},{"$f":" OFFSET( Season!$F$7,    MATCH(  $Y25,  OFFSET(  Season!$E$8,   0, 3* ( AB$12 - 1 ),   34, 1 ),  0  ),      3*(AB$12 - 1 )   )","v":8},{"$f":" OFFSET( Season!$F$7,    MATCH(  $Y25,  OFFSET(  Season!$E$8,   0, 3* ( AC$12 - 1 ),   34, 1 ),  0  ),      3*(AC$12 - 1 )   )","v":34},{"$f":" OFFSET( Season!$F$7,    MATCH(  $Y25,  OFFSET(  Season!$E$8,   0, 3* ( AD$12 - 1 ),   34, 1 ),  0  ),      3*(AD$12 - 1 )   )","v":11},{"$f":" OFFSET( Season!$F$7,    MATCH(  $Y25,  OFFSET(  Season!$E$8,   0, 3* ( AE$12 - 1 ),   34, 1 ),  0  ),      3*(AE$12 - 1 )   )","v":24},{"$f":" OFFSET( Season!$F$7,    MATCH(  $Y25,  OFFSET(  Season!$E$8,   0, 3* ( AF$12 - 1 ),   34, 1 ),  0  ),      3*(AF$12 - 1 )   )","v":23},{"$f":" OFFSET( Season!$F$7,    MATCH(  $Y25,  OFFSET(  Season!$E$8,   0, 3* ( AG$12 - 1 ),   34, 1 ),  0  ),      3*(AG$12 - 1 )   )","v":18},{"$f":" OFFSET( Season!$F$7,    MATCH(  $Y25,  OFFSET(  Season!$E$8,   0, 3* ( AH$12 - 1 ),   34, 1 ),  0  ),      3*(AH$12 - 1 )   )","v":21},{"$f":" OFFSET( Season!$F$7,    MATCH(  $Y25,  OFFSET(  Season!$E$8,   0, 3* ( AI$12 - 1 ),   34, 1 ),  0  ),      3*(AI$12 - 1 )   )","v":25},{"$f":" OFFSET( Season!$F$7,    MATCH(  $Y25,  OFFSET(  Season!$E$8,   0, 3* ( AJ$12 - 1 ),   34, 1 ),  0  ),      3*(AJ$12 - 1 )   )","v":10},{"$f":" OFFSET( Season!$F$7,    MATCH(  $Y25,  OFFSET(  Season!$E$8,   0, 3* ( AK$12 - 1 ),   34, 1 ),  0  ),      3*(AK$12 - 1 )   )","v":4},{"$f":" OFFSET( Season!$F$7,    MATCH(  $Y25,  OFFSET(  Season!$E$8,   0, 3* ( AL$12 - 1 ),   34, 1 ),  0  ),      3*(AL$12 - 1 )   )","v":18},{"$f":" OFFSET( Season!$F$7,    MATCH(  $Y25,  OFFSET(  Season!$E$8,   0, 3* ( AM$12 - 1 ),   34, 1 ),  0  ),      3*(AM$12 - 1 )   )","v":-2},{"$f":" OFFSET( Season!$F$7,    MATCH(  $Y25,  OFFSET(  Season!$E$8,   0, 3* ( AN$12 - 1 ),   34, 1 ),  0  ),      3*(AN$12 - 1 )   )","v":11},{"$f":" OFFSET( Season!$F$7,    MATCH(  $Y25,  OFFSET(  Season!$E$8,   0, 3* ( AO$12 - 1 ),   34, 1 ),  0  ),      3*(AO$12 - 1 )   )","v":34},null,15,null,null,{"$f":"Standings!C17","v":"AGS"},{"$f":"   VLOOKUP(  AT25,  $C$14:$D$30,  2,  0  )","v":19.53846153846154},18.692307692307693,0.8461538461538467]
[null,13,{"$f":"Standings!C9","v":"SUBS"},21.526666666666664,{"$f":" OFFSET( Season!$F$7,    MATCH(  $C26,  OFFSET(  Season!$E$8,   0, 3* ( E$12 - 1 ),   34, 1 ),  0  ),      3*(E$12 - 1 )   )","v":28},{"$f":" OFFSET( Season!$F$7,    MATCH(  $C26,  OFFSET(  Season!$E$8,   0, 3* ( F$12 - 1 ),   34, 1 ),  0  ),      3*(F$12 - 1 )   )","v":19.900000000000002},{"$f":" OFFSET( Season!$F$7,    MATCH(  $C26,  OFFSET(  Season!$E$8,   0, 3* ( G$12 - 1 ),   34, 1 ),  0  ),      3*(G$12 - 1 )   )","v":13},{"$f":" OFFSET( Season!$F$7,    MATCH(  $C26,  OFFSET(  Season!$E$8,   0, 3* ( H$12 - 1 ),   34, 1 ),  0  ),      3*(H$12 - 1 )   )","v":25},{"$f":" OFFSET( Season!$F$7,    MATCH(  $C26,  OFFSET(  Season!$E$8,   0, 3* ( I$12 - 1 ),   34, 1 ),  0  ),      3*(I$12 - 1 )   )","v":12},{"$f":" OFFSET( Season!$F$7,    MATCH(  $C26,  OFFSET(  Season!$E$8,   0, 3* ( J$12 - 1 ),   34, 1 ),  0  ),      3*(J$12 - 1 )   )","v":28},{"$f":" OFFSET( Season!$F$7,    MATCH(  $C26,  OFFSET(  Season!$E$8,   0, 3* ( K$12 - 1 ),   34, 1 ),  0  ),      3*(K$12 - 1 )   )","v":26},{"$f":" OFFSET( Season!$F$7,    MATCH(  $C26,  OFFSET(  Season!$E$8,   0, 3* ( L$12 - 1 ),   34, 1 ),  0  ),      3*(L$12 - 1 )   )","v":6},{"$f":" OFFSET( Season!$F$7,    MATCH(  $C26,  OFFSET(  Season!$E$8,   0, 3* ( M$12 - 1 ),   34, 1 ),  0  ),      3*(M$12 - 1 )   )","v":26},{"$f":" OFFSET( Season!$F$7,    MATCH(  $C26,  OFFSET(  Season!$E$8,   0, 3* ( N$12 - 1 ),   34, 1 ),  0  ),      3*(N$12 - 1 )   )","v":13},{"$f":" OFFSET( Season!$F$7,    MATCH(  $C26,  OFFSET(  Season!$E$8,   0, 3* ( O$12 - 1 ),   34, 1 ),  0  ),      3*(O$12 - 1 )   )","v":34},{"$f":" OFFSET( Season!$F$7,    MATCH(  $C26,  OFFSET(  Season!$E$8,   0, 3* ( P$12 - 1 ),   34, 1 ),  0  ),      3*(P$12 - 1 )   )","v":21},{"$f":" OFFSET( Season!$F$7,    MATCH(  $C26,  OFFSET(  Season!$E$8,   0, 3* ( Q$12 - 1 ),   34, 1 ),  0  ),      3*(Q$12 - 1 )   )","v":32},{"$f":" OFFSET( Season!$F$7,    MATCH(  $C26,  OFFSET(  Season!$E$8,   0, 3* ( R$12 - 1 ),   34, 1 ),  0  ),      3*(R$12 - 1 )   )","v":10},{"$f":" OFFSET( Season!$F$7,    MATCH(  $C26,  OFFSET(  Season!$E$8,   0, 3* ( S$12 - 1 ),   34, 1 ),  0  ),      3*(S$12 - 1 )   )","v":29},null,15,null,null,13,{"$f":"Standings!L17","v":"O19"},19.066666666666666,{"$f":" OFFSET( Season!$F$7,    MATCH(  $Y26,  OFFSET(  Season!$E$8,   0, 3* ( AA$12 - 1 ),   34, 1 ),  0  ),      3*(AA$12 - 1 )   )","v":11},{"$f":" OFFSET( Season!$F$7,    MATCH(  $Y26,  OFFSET(  Season!$E$8,   0, 3* ( AB$12 - 1 ),   34, 1 ),  0  ),      3*(AB$12 - 1 )   )","v":19},{"$f":" OFFSET( Season!$F$7,    MATCH(  $Y26,  OFFSET(  Season!$E$8,   0, 3* ( AC$12 - 1 ),   34, 1 ),  0  ),      3*(AC$12 - 1 )   )","v":29},{"$f":" OFFSET( Season!$F$7,    MATCH(  $Y26,  OFFSET(  Season!$E$8,   0, 3* ( AD$12 - 1 ),   34, 1 ),  0  ),      3*(AD$12 - 1 )   )","v":31},{"$f":" OFFSET( Season!$F$7,    MATCH(  $Y26,  OFFSET(  Season!$E$8,   0, 3* ( AE$12 - 1 ),   34, 1 ),  0  ),      3*(AE$12 - 1 )   )","v":19},{"$f":" OFFSET( Season!$F$7,    MATCH(  $Y26,  OFFSET(  Season!$E$8,   0, 3* ( AF$12 - 1 ),   34, 1 ),  0  ),      3*(AF$12 - 1 )   )","v":14},{"$f":" OFFSET( Season!$F$7,    MATCH(  $Y26,  OFFSET(  Season!$E$8,   0, 3* ( AG$12 - 1 ),   34, 1 ),  0  ),      3*(AG$12 - 1 )   )","v":26},{"$f":" OFFSET( Season!$F$7,    MATCH(  $Y26,  OFFSET(  Season!$E$8,   0, 3* ( AH$12 - 1 ),   34, 1 ),  0  ),      3*(AH$12 - 1 )   )","v":19},{"$f":" OFFSET( Season!$F$7,    MATCH(  $Y26,  OFFSET(  Season!$E$8,   0, 3* ( AI$12 - 1 ),   34, 1 ),  0  ),      3*(AI$12 - 1 )   )","v":20},{"$f":" OFFSET( Season!$F$7,    MATCH(  $Y26,  OFFSET(  Season!$E$8,   0, 3* ( AJ$12 - 1 ),   34, 1 ),  0  ),      3*(AJ$12 - 1 )   )","v":11},{"$f":" OFFSET( Season!$F$7,    MATCH(  $Y26,  OFFSET(  Season!$E$8,   0, 3* ( AK$12 - 1 ),   34, 1 ),  0  ),      3*(AK$12 - 1 )   )","v":14},{"$f":" OFFSET( Season!$F$7,    MATCH(  $Y26,  OFFSET(  Season!$E$8,   0, 3* ( AL$12 - 1 ),   34, 1 ),  0  ),      3*(AL$12 - 1 )   )","v":19},{"$f":" OFFSET( Season!$F$7,    MATCH(  $Y26,  OFFSET(  Season!$E$8,   0, 3* ( AM$12 - 1 ),   34, 1 ),  0  ),      3*(AM$12 - 1 )   )","v":22},{"$f":" OFFSET( Season!$F$7,    MATCH(  $Y26,  OFFSET(  Season!$E$8,   0, 3* ( AN$12 - 1 ),   34, 1 ),  0  ),      3*(AN$12 - 1 )   )","v":17},{"$f":" OFFSET( Season!$F$7,    MATCH(  $Y26,  OFFSET(  Season!$E$8,   0, 3* ( AO$12 - 1 ),   34, 1 ),  0  ),      3*(AO$12 - 1 )   )","v":15},null,15,null,null,{"$f":"Standings!C15","v":"E42"},{"$f":"VLOOKUP(AT26, $C$14:$D$30, 2, 0 )","v":21.8},20.133333333333333,1.6666666666666679]
[null,14,{"$f":"Standings!C15","v":"E42"},21.8,{"$f":" OFFSET( Season!$F$7,    MATCH(  $C27,  OFFSET(  Season!$E$8,   0, 3* ( E$12 - 1 ),   34, 1 ),  0  ),      3*(E$12 - 1 )   )","v":22},{"$f":" OFFSET( Season!$F$7,    MATCH(  $C27,  OFFSET(  Season!$E$8,   0, 3* ( F$12 - 1 ),   34, 1 ),  0  ),      3*(F$12 - 1 )   )","v":36},{"$f":" OFFSET( Season!$F$7,    MATCH(  $C27,  OFFSET(  Season!$E$8,   0, 3* ( G$12 - 1 ),   34, 1 ),  0  ),      3*(G$12 - 1 )   )","v":24},{"$f":" OFFSET( Season!$F$7,    MATCH(  $C27,  OFFSET(  Season!$E$8,   0, 3* ( H$12 - 1 ),   34, 1 ),  0  ),      3*(H$12 - 1 )   )","v":24},{"$f":" OFFSET( Season!$F$7,    MATCH(  $C27,  OFFSET(  Season!$E$8,   0, 3* ( I$12 - 1 ),   34, 1 ),  0  ),      3*(I$12 - 1 )   )","v":28},{"$f":" OFFSET( Season!$F$7,    MATCH(  $C27,  OFFSET(  Season!$E$8,   0, 3* ( J$12 - 1 ),   34, 1 ),  0  ),      3*(J$12 - 1 )   )","v":17},{"$f":" OFFSET( Season!$F$7,    MATCH(  $C27,  OFFSET(  Season!$E$8,   0, 3* ( K$12 - 1 ),   34, 1 ),  0  ),      3*(K$12 - 1 )   )","v":6},{"$f":" OFFSET( Season!$F$7,    MATCH(  $C27,  OFFSET(  Season!$E$8,   0, 3* ( L$12 - 1 ),   34, 1 ),  0  ),      3*(L$12 - 1 )   )","v":10},{"$f":" OFFSET( Season!$F$7,    MATCH(  $C27,  OFFSET(  Season!$E$8,   0, 3* ( M$12 - 1 ),   34, 1 ),  0  ),      3*(M$12 - 1 )   )","v":16},{"$f":" OFFSET( Season!$F$7,    MATCH(  $C27,  OFFSET(  Season!$E$8,   0, 3* ( N$12 - 1 ),   34, 1 ),  0  ),      3*(N$12 - 1 )   )","v":1},{"$f":" OFFSET( Season!$F$7,    MATCH(  $C27,  OFFSET(  Season!$E$8,   0, 3* ( O$12 - 1 ),   34, 1 ),  0  ),      3*(O$12 - 1 )   )","v":33},{"$f":" OFFSET( Season!$F$7,    MATCH(  $C27,  OFFSET(  Season!$E$8,   0, 3* ( P$12 - 1 ),   34, 1 ),  0  ),      3*(P$12 - 1 )   )","v":21},{"$f":" OFFSET( Season!$F$7,    MATCH(  $C27,  OFFSET(  Season!$E$8,   0, 3* ( Q$12 - 1 ),   34, 1 ),  0  ),      3*(Q$12 - 1 )   )","v":27},{"$f":" OFFSET( Season!$F$7,    MATCH(  $C27,  OFFSET(  Season!$E$8,   0, 3* ( R$12 - 1 ),   34, 1 ),  0  ),      3*(R$12 - 1 )   )","v":30},{"$f":" OFFSET( Season!$F$7,    MATCH(  $C27,  OFFSET(  Season!$E$8,   0, 3* ( S$12 - 1 ),   34, 1 ),  0  ),      3*(S$12 - 1 )   )","v":32},null,{"$f":"   MAX( $E$6:$S$6 )  -  COUNTIF( E27:T27, \"0\" ) -  COUNTIF( E27:T27, \"W\" ) -  COUNTIF( E27:T27, \"F\" ) -  COUNTIF( E27:T27, \"FF\" )","v":15},null,null,14,{"$f":"Standings!L13","v":"CRF"},19.399999999999999,{"$f":" OFFSET( Season!$F$7,    MATCH(  $Y27,  OFFSET(  Season!$E$8,   0, 3* ( AA$12 - 1 ),   34, 1 ),  0  ),      3*(AA$12 - 1 )   )","v":23},{"$f":" OFFSET( Season!$F$7,    MATCH(  $Y27,  OFFSET(  Season!$E$8,   0, 3* ( AB$12 - 1 ),   34, 1 ),  0  ),      3*(AB$12 - 1 )   )","v":17},{"$f":" OFFSET( Season!$F$7,    MATCH(  $Y27,  OFFSET(  Season!$E$8,   0, 3* ( AC$12 - 1 ),   34, 1 ),  0  ),      3*(AC$12 - 1 )   )","v":20},{"$f":" OFFSET( Season!$F$7,    MATCH(  $Y27,  OFFSET(  Season!$E$8,   0, 3* ( AD$12 - 1 ),   34, 1 ),  0  ),      3*(AD$12 - 1 )   )","v":21},{"$f":" OFFSET( Season!$F$7,    MATCH(  $Y27,  OFFSET(  Season!$E$8,   0, 3* ( AE$12 - 1 ),   34, 1 ),  0  ),      3*(AE$12 - 1 )   )","v":27},{"$f":" OFFSET( Season!$F$7,    MATCH(  $Y27,  OFFSET(  Season!$E$8,   0, 3* ( AF$12 - 1 ),   34, 1 ),  0  ),      3*(AF$12 - 1 )   )","v":12},{"$f":" OFFSET( Season!$F$7,    MATCH(  $Y27,  OFFSET(  Season!$E$8,   0, 3* ( AG$12 - 1 ),   34, 1 ),  0  ),      3*(AG$12 - 1 )   )","v":16},{"$f":" OFFSET( Season!$F$7,    MATCH(  $Y27,  OFFSET(  Season!$E$8,   0, 3* ( AH$12 - 1 ),   34, 1 ),  0  ),      3*(AH$12 - 1 )   )","v":12},{"$f":" OFFSET( Season!$F$7,    MATCH(  $Y27,  OFFSET(  Season!$E$8,   0, 3* ( AI$12 - 1 ),   34, 1 ),  0  ),      3*(AI$12 - 1 )   )","v":8},{"$f":" OFFSET( Season!$F$7,    MATCH(  $Y27,  OFFSET(  Season!$E$8,   0, 3* ( AJ$12 - 1 ),   34, 1 ),  0  ),      3*(AJ$12 - 1 )   )","v":26},{"$f":" OFFSET( Season!$F$7,    MATCH(  $Y27,  OFFSET(  Season!$E$8,   0, 3* ( AK$12 - 1 ),   34, 1 ),  0  ),      3*(AK$12 - 1 )   )","v":8},{"$f":" OFFSET( Season!$F$7,    MATCH(  $Y27,  OFFSET(  Season!$E$8,   0, 3* ( AL$12 - 1 ),   34, 1 ),  0  ),      3*(AL$12 - 1 )   )","v":22},{"$f":" OFFSET( Season!$F$7,    MATCH(  $Y27,  OFFSET(  Season!$E$8,   0, 3* ( AM$12 - 1 ),   34, 1 ),  0  ),      3*(AM$12 - 1 )   )","v":39},{"$f":" OFFSET( Season!$F$7,    MATCH(  $Y27,  OFFSET(  Season!$E$8,   0, 3* ( AN$12 - 1 ),   34, 1 ),  0  ),      3*(AN$12 - 1 )   )","v":23},{"$f":" OFFSET( Season!$F$7,    MATCH(  $Y27,  OFFSET(  Season!$E$8,   0, 3* ( AO$12 - 1 ),   34, 1 ),  0  ),      3*(AO$12 - 1 )   )","v":17},null,{"$f":"   MAX( $E$6:$S$6 )  -  COUNTIF( AA27:AP27, \"0\" ) -  COUNTIF( AA27:AP27, \"W\" ) -  COUNTIF( AA27:AP27, \"F\" ) -  COUNTIF( AA27:AP27, \"FF\" )","v":15},null,null,{"$f":"Standings!C18","v":"E14"},{"$f":"   VLOOKUP(  AT27, $C$14:$D$30, 2, 0 )","v":20.714285714285715},16.428642857142858,4.2856428571428573]
[null,15,{"$f":"Standings!C20","v":"AMSC"},24.076923076923077,{"$f":" OFFSET( Season!$F$7,    MATCH(  $C28,  OFFSET(  Season!$E$8,   0, 3* ( E$12 - 1 ),   34, 1 ),  0  ),      3*(E$12 - 1 )   )","v":38},{"$f":" OFFSET( Season!$F$7,    MATCH(  $C28,  OFFSET(  Season!$E$8,   0, 3* ( F$12 - 1 ),   34, 1 ),  0  ),      3*(F$12 - 1 )   )","v":31},{"$f":" OFFSET( Season!$F$7,    MATCH(  $C28,  OFFSET(  Season!$E$8,   0, 3* ( G$12 - 1 ),   34, 1 ),  0  ),      3*(G$12 - 1 )   )","v":28},{"$f":" OFFSET( Season!$F$7,    MATCH(  $C28,  OFFSET(  Season!$E$8,   0, 3* ( H$12 - 1 ),   34, 1 ),  0  ),      3*(H$12 - 1 )   )","v":30},{"$f":" OFFSET( Season!$F$7,    MATCH(  $C28,  OFFSET(  Season!$E$8,   0, 3* ( I$12 - 1 ),   34, 1 ),  0  ),      3*(I$12 - 1 )   )","v":43},{"$f":" OFFSET( Season!$F$7,    MATCH(  $C28,  OFFSET(  Season!$E$8,   0, 3* ( J$12 - 1 ),   34, 1 ),  0  ),      3*(J$12 - 1 )   )","v":21},{"$f":" OFFSET( Season!$F$7,    MATCH(  $C28,  OFFSET(  Season!$E$8,   0, 3* ( K$12 - 1 ),   34, 1 ),  0  ),      3*(K$12 - 1 )   )","v":25},{"$f":" OFFSET( Season!$F$7,    MATCH(  $C28,  OFFSET(  Season!$E$8,   0, 3* ( L$12 - 1 ),   34, 1 ),  0  ),      3*(L$12 - 1 )   )","v":0},{"$f":" OFFSET( Season!$F$7,    MATCH(  $C28,  OFFSET(  Season!$E$8,   0, 3* ( M$12 - 1 ),   34, 1 ),  0  ),      3*(M$12 - 1 )   )","v":7},{"$f":" OFFSET( Season!$F$7,    MATCH(  $C28,  OFFSET(  Season!$E$8,   0, 3* ( N$12 - 1 ),   34, 1 ),  0  ),      3*(N$12 - 1 )   )","v":12},{"$f":" OFFSET( Season!$F$7,    MATCH(  $C28,  OFFSET(  Season!$E$8,   0, 3* ( O$12 - 1 ),   34, 1 ),  0  ),      3*(O$12 - 1 )   )","v":14},{"$f":" OFFSET( Season!$F$7,    MATCH(  $C28,  OFFSET(  Season!$E$8,   0, 3* ( P$12 - 1 ),   34, 1 ),  0  ),      3*(P$12 - 1 )   )","v":22},{"$f":" OFFSET( Season!$F$7,    MATCH(  $C28,  OFFSET(  Season!$E$8,   0, 3* ( Q$12 - 1 ),   34, 1 ),  0  ),      3*(Q$12 - 1 )   )","v":19},{"$f":" OFFSET( Season!$F$7,    MATCH(  $C28,  OFFSET(  Season!$E$8,   0, 3* ( R$12 - 1 ),   34, 1 ),  0  ),      3*(R$12 - 1 )   )","v":23},{"$f":" OFFSET( Season!$F$7,    MATCH(  $C28,  OFFSET(  Season!$E$8,   0, 3* ( S$12 - 1 ),   34, 1 ),  0  ),      3*(S$12 - 1 )   )","v":0},null,13,null,null,15,{"$f":"Standings!L20","v":"CVN"},20.846153846153847,{"$f":" OFFSET( Season!$F$7,    MATCH(  $Y28,  OFFSET(  Season!$E$8,   0, 3* ( AA$12 - 1 ),   34, 1 ),  0  ),      3*(AA$12 - 1 )   )","v":18},{"$f":" OFFSET( Season!$F$7,    MATCH(  $Y28,  OFFSET(  Season!$E$8,   0, 3* ( AB$12 - 1 ),   34, 1 ),  0  ),      3*(AB$12 - 1 )   )","v":17},{"$f":" OFFSET( Season!$F$7,    MATCH(  $Y28,  OFFSET(  Season!$E$8,   0, 3* ( AC$12 - 1 ),   34, 1 ),  0  ),      3*(AC$12 - 1 )   )","v":21},{"$f":" OFFSET( Season!$F$7,    MATCH(  $Y28,  OFFSET(  Season!$E$8,   0, 3* ( AD$12 - 1 ),   34, 1 ),  0  ),      3*(AD$12 - 1 )   )","v":9},{"$f":" OFFSET( Season!$F$7,    MATCH(  $Y28,  OFFSET(  Season!$E$8,   0, 3* ( AE$12 - 1 ),   34, 1 ),  0  ),      3*(AE$12 - 1 )   )","v":35},{"$f":" OFFSET( Season!$F$7,    MATCH(  $Y28,  OFFSET(  Season!$E$8,   0, 3* ( AF$12 - 1 ),   34, 1 ),  0  ),      3*(AF$12 - 1 )   )","v":23},{"$f":" OFFSET( Season!$F$7,    MATCH(  $Y28,  OFFSET(  Season!$E$8,   0, 3* ( AG$12 - 1 ),   34, 1 ),  0  ),      3*(AG$12 - 1 )   )","v":25},{"$f":" OFFSET( Season!$F$7,    MATCH(  $Y28,  OFFSET(  Season!$E$8,   0, 3* ( AH$12 - 1 ),   34, 1 ),  0  ),      3*(AH$12 - 1 )   )","v":"f"},{"$f":" OFFSET( Season!$F$7,    MATCH(  $Y28,  OFFSET(  Season!$E$8,   0, 3* ( AI$12 - 1 ),   34, 1 ),  0  ),      3*(AI$12 - 1 )   )","v":31},{"$f":" OFFSET( Season!$F$7,    MATCH(  $Y28,  OFFSET(  Season!$E$8,   0, 3* ( AJ$12 - 1 ),   34, 1 ),  0  ),      3*(AJ$12 - 1 )   )","v":28},{"$f":" OFFSET( Season!$F$7,    MATCH(  $Y28,  OFFSET(  Season!$E$8,   0, 3* ( AK$12 - 1 ),   34, 1 ),  0  ),      3*(AK$12 - 1 )   )","v":-1},{"$f":" OFFSET( Season!$F$7,    MATCH(  $Y28,  OFFSET(  Season!$E$8,   0, 3* ( AL$12 - 1 ),   34, 1 ),  0  ),      3*(AL$12 - 1 )   )","v":23},{"$f":" OFFSET( Season!$F$7,    MATCH(  $Y28,  OFFSET(  Season!$E$8,   0, 3* ( AM$12 - 1 ),   34, 1 ),  0  ),      3*(AM$12 - 1 )   )","v":22},{"$f":" OFFSET( Season!$F$7,    MATCH(  $Y28,  OFFSET(  Season!$E$8,   0, 3* ( AN$12 - 1 ),   34, 1 ),  0  ),      3*(AN$12 - 1 )   )","v":20},{"$f":" OFFSET( Season!$F$7,    MATCH(  $Y28,  OFFSET(  Season!$E$8,   0, 3* ( AO$12 - 1 ),   34, 1 ),  0  ),      3*(AO$12 - 1 )   )","v":"f"},null,13,null,null,{"$f":"Standings!C19","v":"E17"},{"$f":"VLOOKUP(AT28, $C$14:$D$30, 2, 0 )","v":21.5},16.166666666666668,5.3333333333333321]
[null,16,{"$f":"Standings!C21","v":"X04"},25,{"$f":" OFFSET( Season!$F$7,    MATCH(  $C29,  OFFSET(  Season!$E$8,   0, 3* ( E$12 - 1 ),   34, 1 ),  0  ),      3*(E$12 - 1 )   )","v":24},{"$f":" OFFSET( Season!$F$7,    MATCH(  $C29,  OFFSET(  Season!$E$8,   0, 3* ( F$12 - 1 ),   34, 1 ),  0  ),      3*(F$12 - 1 )   )","v":32},{"$f":" OFFSET( Season!$F$7,    MATCH(  $C29,  OFFSET(  Season!$E$8,   0, 3* ( G$12 - 1 ),   34, 1 ),  0  ),      3*(G$12 - 1 )   )","v":22},{"$f":" OFFSET( Season!$F$7,    MATCH(  $C29,  OFFSET(  Season!$E$8,   0, 3* ( H$12 - 1 ),   34, 1 ),  0  ),      3*(H$12 - 1 )   )","v":27},{"$f":" OFFSET( Season!$F$7,    MATCH(  $C29,  OFFSET(  Season!$E$8,   0, 3* ( I$12 - 1 ),   34, 1 ),  0  ),      3*(I$12 - 1 )   )","v":24},{"$f":" OFFSET( Season!$F$7,    MATCH(  $C29,  OFFSET(  Season!$E$8,   0, 3* ( J$12 - 1 ),   34, 1 ),  0  ),      3*(J$12 - 1 )   )","v":29},{"$f":" OFFSET( Season!$F$7,    MATCH(  $C29,  OFFSET(  Season!$E$8,   0, 3* ( K$12 - 1 ),   34, 1 ),  0  ),      3*(K$12 - 1 )   )","v":34},{"$f":" OFFSET( Season!$F$7,    MATCH(  $C29,  OFFSET(  Season!$E$8,   0, 3* ( L$12 - 1 ),   34, 1 ),  0  ),      3*(L$12 - 1 )   )","v":20},{"$f":" OFFSET( Season!$F$7,    MATCH(  $C29,  OFFSET(  Season!$E$8,   0, 3* ( M$12 - 1 ),   34, 1 ),  0  ),      3*(M$12 - 1 )   )","v":"f"},{"$f":" OFFSET( Season!$F$7,    MATCH(  $C29,  OFFSET(  Season!$E$8,   0, 3* ( N$12 - 1 ),   34, 1 ),  0  ),      3*(N$12 - 1 )   )","v":12},{"$f":" OFFSET( Season!$F$7,    MATCH(  $C29,  OFFSET(  Season!$E$8,   0, 3* ( O$12 - 1 ),   34, 1 ),  0  ),      3*(O$12 - 1 )   )","v":28},{"$f":" OFFSET( Season!$F$7,    MATCH(  $C29,  OFFSET(  Season!$E$8,   0, 3* ( P$12 - 1 ),   34, 1 ),  0  ),      3*(P$12 - 1 )   )","v":13},{"$f":" OFFSET( Season!$F$7,    MATCH(  $C29,  OFFSET(  Season!$E$8,   0, 3* ( Q$12 - 1 ),   34, 1 ),  0  ),      3*(Q$12 - 1 )   )","v":25},{"$f":" OFFSET( Season!$F$7,    MATCH(  $C29,  OFFSET(  Season!$E$8,   0, 3* ( R$12 - 1 ),   34, 1 ),  0  ),      3*(R$12 - 1 )   )","v":0},{"$f":" OFFSET( Season!$F$7,    MATCH(  $C29,  OFFSET(  Season!$E$8,   0, 3* ( S$12 - 1 ),   34, 1 ),  0  ),      3*(S$12 - 1 )   )","v":35},null,13,null,null,16,{"$f":"Standings!L21","v":"E25"},24.642857142857142,{"$f":" OFFSET( Season!$F$7,    MATCH(  $Y29,  OFFSET(  Season!$E$8,   0, 3* ( AA$12 - 1 ),   34, 1 ),  0  ),      3*(AA$12 - 1 )   )","v":11},{"$f":" OFFSET( Season!$F$7,    MATCH(  $Y29,  OFFSET(  Season!$E$8,   0, 3* ( AB$12 - 1 ),   34, 1 ),  0  ),      3*(AB$12 - 1 )   )","v":32},{"$f":" OFFSET( Season!$F$7,    MATCH(  $Y29,  OFFSET(  Season!$E$8,   0, 3* ( AC$12 - 1 ),   34, 1 ),  0  ),      3*(AC$12 - 1 )   )","v":21},{"$f":" OFFSET( Season!$F$7,    MATCH(  $Y29,  OFFSET(  Season!$E$8,   0, 3* ( AD$12 - 1 ),   34, 1 ),  0  ),      3*(AD$12 - 1 )   )","v":41},{"$f":" OFFSET( Season!$F$7,    MATCH(  $Y29,  OFFSET(  Season!$E$8,   0, 3* ( AE$12 - 1 ),   34, 1 ),  0  ),      3*(AE$12 - 1 )   )","v":15},{"$f":" OFFSET( Season!$F$7,    MATCH(  $Y29,  OFFSET(  Season!$E$8,   0, 3* ( AF$12 - 1 ),   34, 1 ),  0  ),      3*(AF$12 - 1 )   )","v":39},{"$f":" OFFSET( Season!$F$7,    MATCH(  $Y29,  OFFSET(  Season!$E$8,   0, 3* ( AG$12 - 1 ),   34, 1 ),  0  ),      3*(AG$12 - 1 )   )","v":26},{"$f":" OFFSET( Season!$F$7,    MATCH(  $Y29,  OFFSET(  Season!$E$8,   0, 3* ( AH$12 - 1 ),   34, 1 ),  0  ),      3*(AH$12 - 1 )   )","v":0},{"$f":" OFFSET( Season!$F$7,    MATCH(  $Y29,  OFFSET(  Season!$E$8,   0, 3* ( AI$12 - 1 ),   34, 1 ),  0  ),      3*(AI$12 - 1 )   )","v":37},{"$f":" OFFSET( Season!$F$7,    MATCH(  $Y29,  OFFSET(  Season!$E$8,   0, 3* ( AJ$12 - 1 ),   34, 1 ),  0  ),      3*(AJ$12 - 1 )   )","v":20},{"$f":" OFFSET( Season!$F$7,    MATCH(  $Y29,  OFFSET(  Season!$E$8,   0, 3* ( AK$12 - 1 ),   34, 1 ),  0  ),      3*(AK$12 - 1 )   )","v":17},{"$f":" OFFSET( Season!$F$7,    MATCH(  $Y29,  OFFSET(  Season!$E$8,   0, 3* ( AL$12 - 1 ),   34, 1 ),  0  ),      3*(AL$12 - 1 )   )","v":25},{"$f":" OFFSET( Season!$F$7,    MATCH(  $Y29,  OFFSET(  Season!$E$8,   0, 3* ( AM$12 - 1 ),   34, 1 ),  0  ),      3*(AM$12 - 1 )   )","v":27},{"$f":" OFFSET( Season!$F$7,    MATCH(  $Y29,  OFFSET(  Season!$E$8,   0, 3* ( AN$12 - 1 ),   34, 1 ),  0  ),      3*(AN$12 - 1 )   )","v":19},{"$f":" OFFSET( Season!$F$7,    MATCH(  $Y29,  OFFSET(  Season!$E$8,   0, 3* ( AO$12 - 1 ),   34, 1 ),  0  ),      3*(AO$12 - 1 )   )","v":15},null,14,null,null,{"$f":"Standings!C20","v":"AMSC"},{"$f":"VLOOKUP(AT29, $C$14:$D$30, 2, 0 )","v":24.076923076923077},16.53846153846154,7.5384615384615365]
[null,17,{"$f":"Standings!C22","v":0},null,null,null,null,null,null,null,null,null,null,null,null,null,null,null,null,null,null,null,null,17,{"$f":"Standings!L22","v":0},null,null,null,null,null,null,null,null,null,null,null,null,null,null,null,null,null,null,null,null,{"$f":"Standings!C21","v":"X04"},{"$f":"VLOOKUP(AT30, $C$14:$D$30, 2, 0 )","v":25},16.315384615384616,8.684615384615384]
[null,null,"Ave",{"$f":"  IF(  U31 = 0,  \"\",  SUM(  E14:T30  ) /   U31    )","v":18.763072072072074},{"$f":" IF( SUM(E14:E30)= 0, 0,  SUM(E14:E30) / COUNTIF(E14:E30,\"<>0\") )","v":19.5625},24.976470588235291,19.117647058823529,19.823529411764707,21.529470588235291,17.705882352941178,17.511764705882353,14.6875,13.875,11.823529411764707,17.006250000000001,14.117705882352942,17.588235294117649,11.8,{"$f":" IF( SUM(S14:S30)= 0, 0,  SUM(S14:S30) / COUNTIF(S14:S30,\"<>0\") )","v":11.923076923076923},0,{"$f":"   SUM(  U14:U30  )","v":222},null,null,null,"Ave",{"$f":"  IF(  AQ31 = 0,  \"\",  SUM(  AA14:AP30  ) /   AQ31    )","v":16.389316239316241},{"$f":" IF( SUM(AA14:AA30)= 0, 0,  SUM(AA14:AA30) / COUNTIF(AA14:AA30,\"<>0\") )","v":19},18.352941176470587,16.588235294117649,17.470588235294116,17.005882352941178,20.058823529411764,14.470588235294118,13.333333333333334,14.529411764705882,13.176470588235293,10.235294117647058,12.470588235294118,13.705882352941176,14.058823529411764,{"$f":" IF( SUM(AO14:AO30)= 0, 0,  SUM(AO14:AO30) / COUNTIF(AO14:AO30,\"<>0\") )","v":13.5},0,{"$f":"   SUM(  AQ14:AQ30  )","v":234}]
[null,null,{"$f":" IF(C31>0, COUNTIF( Season!C26:C41, \"=5\"), \"\" )","v":0},{"$f":" IF(D31>0, COUNTIF( Season!D26:D41, \"=5\"), \"\" )","v":0},{"$f":" IF(E31>0, COUNTIF( Season!E26:E41, \"=5\"), \"\" )","v":0},{"$f":" IF(F31>0, COUNTIF( Season!F26:F41, \"=5\"), \"\" )","v":0},{"$f":" IF(G31>0, COUNTIF( Season!G26:G41, \"=5\"), \"\" )","v":0},{"$f":" IF(H31>0, COUNTIF( Season!H26:H41, \"=5\"), \"\" )","v":0},{"$f":" IF(I31>0, COUNTIF( Season!I26:I41, \"=5\"), \"\" )","v":0},{"$f":" IF(J31>0, COUNTIF( Season!J26:J41, \"=5\"), \"\" )","v":0},{"$f":" IF(K31>0, COUNTIF( Season!K26:K41, \"=5\"), \"\" )","v":0},{"$f":" IF(L31>0, COUNTIF( Season!L26:L41, \"=5\"), \"\" )","v":0},{"$f":" IF(M31>0, COUNTIF( Season!M26:M41, \"=5\"), \"\" )","v":0},{"$f":" IF(N31>0, COUNTIF( Season!N26:N41, \"=5\"), \"\" )","v":0},{"$f":" IF(O31>0, COUNTIF( Season!O26:O41, \"=5\"), \"\" )","v":0},{"$f":" IF(P31>0, COUNTIF( Season!P26:P41, \"=5\"), \"\" )","v":0},{"$f":" IF(Q31>0, COUNTIF( Season!Q26:Q41, \"=5\"), \"\" )","v":0},{"$f":" IF(R31>0, COUNTIF( Season!R26:R41, \"=5\"), \"\" )","v":0},{"$f":" IF(S31>0, COUNTIF( Season!S26:S41, \"=5\"), \"\" )","v":0},{"$f":" IF(T31>0, COUNTIF( Season!T26:T41, \"=5\"), \"\" )","v":""}]
[]
[null,null,null,null,"Week by Week Scoring by your Opponents ",null,null,null,null,null,null,null,null,null,null,null,null,null,null,null,null,null,null,null,null,null,{"$f":"E34","v":"Week by Week Scoring by your Opponents "},null,null,null,null,null,null,null,null,null,null,null,null,null,null,null,null,null,null,null,"B league"]
[null,null,"Team","Ave",1,{"$f":"E35+1","v":2},3,4,5,6,7,8,9,10,11,12,13,14,{"$f":"R35+1","v":15},{"$f":"S35+1","v":16},"No",null,null,null,"Team","Ave",1,{"$f":"AA35+1","v":2},3,4,5,6,7,8,9,10,11,12,13,14,{"$f":"AN35+1","v":15},{"$f":"AO35+1","v":16},"No",null,null,"Team","For","Opp","Diff"]
[null,null,null,0,null,null,null,null,null,null,null,null,null,null,null,null,null,null,null,null,null,null,null,null,null,0,null,null,null,null,null,null,null,null,null,null,null,null,null,null,null,null,null,null,null,null,null,null,99]
[null,{"$f":"B36+1","v":1},{"$f":"Standings!C9","v":"SUBS"},{"$f":"  IF(  U37 = 0,  \"\",  SUM(  E37:T37  ) /   U37    )","v":23.779999999999998},{"$f":"  OFFSET( Season!$F$7,   IF( MOD(    MATCH(  $C37,  OFFSET(  Season!$E$8,   0, 3* ( E$12 - 1 ),   34, 1 ),  0  ),    2 ) = 1,    1, -1 )     +   MATCH(  $C37,  OFFSET(  Season!$E$8,   0, 3* ( E$12 - 1 ),   34, 1 ),  0  ),    3*(E$35 - 1) )","v":30},{"$f":"  OFFSET( Season!$F$7,   IF( MOD(    MATCH(  $C37,  OFFSET(  Season!$E$8,   0, 3* ( F$12 - 1 ),   34, 1 ),  0  ),    2 ) = 1,    1, -1 )     +   MATCH(  $C37,  OFFSET(  Season!$E$8,   0, 3* ( F$12 - 1 ),   34, 1 ),  0  ),    3*(F$35 - 1) )","v":22.699999999999996},{"$f":"  OFFSET( Season!$F$7,   IF( MOD(    MATCH(  $C37,  OFFSET(  Season!$E$8,   0, 3* ( G$12 - 1 ),   34, 1 ),  0  ),    2 ) = 1,    1, -1 )     +   MATCH(  $C37,  OFFSET(  Season!$E$8,   0, 3* ( G$12 - 1 ),   34, 1 ),  0  ),    3*(G$35 - 1) )","v":22},{"$f":"  OFFSET( Season!$F$7,   IF( MOD(    MATCH(  $C37,  OFFSET(  Season!$E$8,   0, 3* ( H$12 - 1 ),   34, 1 ),  0  ),    2 ) = 1,    1, -1 )     +   MATCH(  $C37,  OFFSET(  Season!$E$8,   0, 3* ( H$12 - 1 ),   34, 1 ),  0  ),    3*(H$35 - 1) )","v":24},{"$f":"  OFFSET( Season!$F$7,   IF( MOD(    MATCH(  $C37,  OFFSET(  Season!$E$8,   0, 3* ( I$12 - 1 ),   34, 1 ),  0  ),    2 ) = 1,    1, -1 )     +   MATCH(  $C37,  OFFSET(  Season!$E$8,   0, 3* ( I$12 - 1 ),   34, 1 ),  0  ),    3*(I$35 - 1) )","v":43},{"$f":"  OFFSET( Season!$F$7,   IF( MOD(    MATCH(  $C37,  OFFSET(  Season!$E$8,   0, 3* ( J$12 - 1 ),   34, 1 ),  0  ),    2 ) = 1,    1, -1 )     +   MATCH(  $C37,  OFFSET(  Season!$E$8,   0, 3* ( J$12 - 1 ),   34, 1 ),  0  ),    3*(J$35 - 1) )","v":35},{"$f":"  OFFSET( Season!$F$7,   IF( MOD(    MATCH(  $C37,  OFFSET(  Season!$E$8,   0, 3* ( K$12 - 1 ),   34, 1 ),  0  ),    2 ) = 1,    1, -1 )     +   MATCH(  $C37,  OFFSET(  Season!$E$8,   0, 3* ( K$12 - 1 ),   34, 1 ),  0  ),    3*(K$35 - 1) )","v":15},{"$f":"  OFFSET( Season!$F$7,   IF( MOD(    MATCH(  $C37,  OFFSET(  Season!$E$8,   0, 3* ( L$12 - 1 ),   34, 1 ),  0  ),    2 ) = 1,    1, -1 )     +   MATCH(  $C37,  OFFSET(  Season!$E$8,   0, 3* ( L$12 - 1 ),   34, 1 ),  0  ),    3*(L$35 - 1) )","v":24},{"$f":"  OFFSET( Season!$F$7,   IF( MOD(    MATCH(  $C37,  OFFSET(  Season!$E$8,   0, 3* ( M$12 - 1 ),   34, 1 ),  0  ),    2 ) = 1,    1, -1 )     +   MATCH(  $C37,  OFFSET(  Season!$E$8,   0, 3* ( M$12 - 1 ),   34, 1 ),  0  ),    3*(M$35 - 1) )","v":38},{"$f":"  OFFSET( Season!$F$7,   IF( MOD(    MATCH(  $C37,  OFFSET(  Season!$E$8,   0, 3* ( N$12 - 1 ),   34, 1 ),  0  ),    2 ) = 1,    1, -1 )     +   MATCH(  $C37,  OFFSET(  Season!$E$8,   0, 3* ( N$12 - 1 ),   34, 1 ),  0  ),    3*(N$35 - 1) )","v":16},{"$f":"  OFFSET( Season!$F$7,   IF( MOD(    MATCH(  $C37,  OFFSET(  Season!$E$8,   0, 3* ( O$12 - 1 ),   34, 1 ),  0  ),    2 ) = 1,    1, -1 )     +   MATCH(  $C37,  OFFSET(  Season!$E$8,   0, 3* ( O$12 - 1 ),   34, 1 ),  0  ),    3*(O$35 - 1) )","v":25},{"$f":"  OFFSET( Season!$F$7,   IF( MOD(    MATCH(  $C37,  OFFSET(  Season!$E$8,   0, 3* ( P$12 - 1 ),   34, 1 ),  0  ),    2 ) = 1,    1, -1 )     +   MATCH(  $C37,  OFFSET(  Season!$E$8,   0, 3* ( P$12 - 1 ),   34, 1 ),  0  ),    3*(P$35 - 1) )","v":18},{"$f":"  OFFSET( Season!$F$7,   IF( MOD(    MATCH(  $C37,  OFFSET(  Season!$E$8,   0, 3* ( Q$12 - 1 ),   34, 1 ),  0  ),    2 ) = 1,    1, -1 )     +   MATCH(  $C37,  OFFSET(  Season!$E$8,   0, 3* ( Q$12 - 1 ),   34, 1 ),  0  ),    3*(Q$35 - 1) )","v":9},{"$f":"  OFFSET( Season!$F$7,   IF( MOD(    MATCH(  $C37,  OFFSET(  Season!$E$8,   0, 3* ( R$12 - 1 ),   34, 1 ),  0  ),    2 ) = 1,    1, -1 )     +   MATCH(  $C37,  OFFSET(  Season!$E$8,   0, 3* ( R$12 - 1 ),   34, 1 ),  0  ),    3*(R$35 - 1) )","v":3},{"$f":"  OFFSET( Season!$F$7,   IF( MOD(    MATCH(  $C37,  OFFSET(  Season!$E$8,   0, 3* ( S$12 - 1 ),   34, 1 ),  0  ),    2 ) = 1,    1, -1 )     +   MATCH(  $C37,  OFFSET(  Season!$E$8,   0, 3* ( S$12 - 1 ),   34, 1 ),  0  ),    3*(S$35 - 1) )","v":32},null,{"$f":"   MAX( $E$6:$S$6 )  -  COUNTIF( E37:T37, \"0\" ) -  COUNTIF( E37:T37, \"W\" ) -  COUNTIF( E37:T37, \"F\" ) -  COUNTIF( E37:T37, \"FF\" )","v":15},null,null,{"$f":"X36+1","v":1},{"$f":"Standings!L12","v":"ARG"},{"$f":"  IF(  AQ37 = 0,  \"\",  SUM(  AA37:AP37  ) /   AQ37    )","v":18.857142857142858},{"$f":"  OFFSET( Season!$F$7,   IF( MOD(    MATCH(  $Y37,  OFFSET(  Season!$E$8,   0, 3* ( AA$12 - 1 ),   34, 1 ),  0  ),    2 ) = 1,    1, -1 )     +   MATCH(  $Y37,  OFFSET(  Season!$E$8,   0, 3* ( AA$12 - 1 ),   34, 1 ),  0  ),    3*(AA$35 - 1) )","v":23},{"$f":"  OFFSET( Season!$F$7,   IF( MOD(    MATCH(  $Y37,  OFFSET(  Season!$E$8,   0, 3* ( AB$12 - 1 ),   34, 1 ),  0  ),    2 ) = 1,    1, -1 )     +   MATCH(  $Y37,  OFFSET(  Season!$E$8,   0, 3* ( AB$12 - 1 ),   34, 1 ),  0  ),    3*(AB$35 - 1) )","v":34},{"$f":"  OFFSET( Season!$F$7,   IF( MOD(    MATCH(  $Y37,  OFFSET(  Season!$E$8,   0, 3* ( AC$12 - 1 ),   34, 1 ),  0  ),    2 ) = 1,    1, -1 )     +   MATCH(  $Y37,  OFFSET(  Season!$E$8,   0, 3* ( AC$12 - 1 ),   34, 1 ),  0  ),    3*(AC$35 - 1) )","v":10},{"$f":"  OFFSET( Season!$F$7,   IF( MOD(    MATCH(  $Y37,  OFFSET(  Season!$E$8,   0, 3* ( AD$12 - 1 ),   34, 1 ),  0  ),    2 ) = 1,    1, -1 )     +   MATCH(  $Y37,  OFFSET(  Season!$E$8,   0, 3* ( AD$12 - 1 ),   34, 1 ),  0  ),    3*(AD$35 - 1) )","v":9},{"$f":"  OFFSET( Season!$F$7,   IF( MOD(    MATCH(  $Y37,  OFFSET(  Season!$E$8,   0, 3* ( AE$12 - 1 ),   34, 1 ),  0  ),    2 ) = 1,    1, -1 )     +   MATCH(  $Y37,  OFFSET(  Season!$E$8,   0, 3* ( AE$12 - 1 ),   34, 1 ),  0  ),    3*(AE$35 - 1) )","v":31},{"$f":"  OFFSET( Season!$F$7,   IF( MOD(    MATCH(  $Y37,  OFFSET(  Season!$E$8,   0, 3* ( AF$12 - 1 ),   34, 1 ),  0  ),    2 ) = 1,    1, -1 )     +   MATCH(  $Y37,  OFFSET(  Season!$E$8,   0, 3* ( AF$12 - 1 ),   34, 1 ),  0  ),    3*(AF$35 - 1) )","v":39},{"$f":"  OFFSET( Season!$F$7,   IF( MOD(    MATCH(  $Y37,  OFFSET(  Season!$E$8,   0, 3* ( AG$12 - 1 ),   34, 1 ),  0  ),    2 ) = 1,    1, -1 )     +   MATCH(  $Y37,  OFFSET(  Season!$E$8,   0, 3* ( AG$12 - 1 ),   34, 1 ),  0  ),    3*(AG$35 - 1) )","v":18},{"$f":"  OFFSET( Season!$F$7,   IF( MOD(    MATCH(  $Y37,  OFFSET(  Season!$E$8,   0, 3* ( AH$12 - 1 ),   34, 1 ),  0  ),    2 ) = 1,    1, -1 )     +   MATCH(  $Y37,  OFFSET(  Season!$E$8,   0, 3* ( AH$12 - 1 ),   34, 1 ),  0  ),    3*(AH$35 - 1) )","v":"f"},{"$f":"  OFFSET( Season!$F$7,   IF( MOD(    MATCH(  $Y37,  OFFSET(  Season!$E$8,   0, 3* ( AI$12 - 1 ),   34, 1 ),  0  ),    2 ) = 1,    1, -1 )     +   MATCH(  $Y37,  OFFSET(  Season!$E$8,   0, 3* ( AI$12 - 1 ),   34, 1 ),  0  ),    3*(AI$35 - 1) )","v":20},{"$f":"  OFFSET( Season!$F$7,   IF( MOD(    MATCH(  $Y37,  OFFSET(  Season!$E$8,   0, 3* ( AJ$12 - 1 ),   34, 1 ),  0  ),    2 ) = 1,    1, -1 )     +   MATCH(  $Y37,  OFFSET(  Season!$E$8,   0, 3* ( AJ$12 - 1 ),   34, 1 ),  0  ),    3*(AJ$35 - 1) )","v":6},{"$f":"  OFFSET( Season!$F$7,   IF( MOD(    MATCH(  $Y37,  OFFSET(  Season!$E$8,   0, 3* ( AK$12 - 1 ),   34, 1 ),  0  ),    2 ) = 1,    1, -1 )     +   MATCH(  $Y37,  OFFSET(  Season!$E$8,   0, 3* ( AK$12 - 1 ),   34, 1 ),  0  ),    3*(AK$35 - 1) )","v":17},{"$f":"  OFFSET( Season!$F$7,   IF( MOD(    MATCH(  $Y37,  OFFSET(  Season!$E$8,   0, 3* ( AL$12 - 1 ),   34, 1 ),  0  ),    2 ) = 1,    1, -1 )     +   MATCH(  $Y37,  OFFSET(  Season!$E$8,   0, 3* ( AL$12 - 1 ),   34, 1 ),  0  ),    3*(AL$35 - 1) )","v":2},{"$f":"  OFFSET( Season!$F$7,   IF( MOD(    MATCH(  $Y37,  OFFSET(  Season!$E$8,   0, 3* ( AM$12 - 1 ),   34, 1 ),  0  ),    2 ) = 1,    1, -1 )     +   MATCH(  $Y37,  OFFSET(  Season!$E$8,   0, 3* ( AM$12 - 1 ),   34, 1 ),  0  ),    3*(AM$35 - 1) )","v":22},{"$f":"  OFFSET( Season!$F$7,   IF( MOD(    MATCH(  $Y37,  OFFSET(  Season!$E$8,   0, 3* ( AN$12 - 1 ),   34, 1 ),  0  ),    2 ) = 1,    1, -1 )     +   MATCH(  $Y37,  OFFSET(  Season!$E$8,   0, 3* ( AN$12 - 1 ),   34, 1 ),  0  ),    3*(AN$35 - 1) )","v":20},{"$f":"  OFFSET( Season!$F$7,   IF( MOD(    MATCH(  $Y37,  OFFSET(  Season!$E$8,   0, 3* ( AO$12 - 1 ),   34, 1 ),  0  ),    2 ) = 1,    1, -1 )     +   MATCH(  $Y37,  OFFSET(  Season!$E$8,   0, 3* ( AO$12 - 1 ),   34, 1 ),  0  ),    3*(AO$35 - 1) )","v":13},null,{"$f":"   MAX( $E$6:$S$6 )  -  COUNTIF( AA37:AP37, \"0\" ) -  COUNTIF( AA37:AP37, \"W\" ) -  COUNTIF( AA37:AP37, \"F\" ) -  COUNTIF( AA37:AP37, \"FF\" )","v":14},null,null,{"$f":"Standings!L10","v":"SCM"},{"$f":"VLOOKUP(AT37, $Y$14:$Z$30, 2, 0 )","v":11.2},{"$f":"VLOOKUP(AT37, $Y$37:$Z$53, 2, 0 )","v":17.066666666666666},{"$f":"  IF(  AV37 = \"\",  \"\",  AU37 - AV37  )","v":-5.8666666666666671}]
[null,{"$f":"B37+1","v":2},{"$f":"Standings!C6","v":"E86"},23.25,{"$f":"  OFFSET( Season!$F$7,   IF( MOD(    MATCH(  $C38,  OFFSET(  Season!$E$8,   0, 3* ( E$12 - 1 ),   34, 1 ),  0  ),    2 ) = 1,    1, -1 )     +   MATCH(  $C38,  OFFSET(  Season!$E$8,   0, 3* ( E$12 - 1 ),   34, 1 ),  0  ),    3*(E$35 - 1) )","v":23},{"$f":"  OFFSET( Season!$F$7,   IF( MOD(    MATCH(  $C38,  OFFSET(  Season!$E$8,   0, 3* ( F$12 - 1 ),   34, 1 ),  0  ),    2 ) = 1,    1, -1 )     +   MATCH(  $C38,  OFFSET(  Season!$E$8,   0, 3* ( F$12 - 1 ),   34, 1 ),  0  ),    3*(F$35 - 1) )","v":16},{"$f":"  OFFSET( Season!$F$7,   IF( MOD(    MATCH(  $C38,  OFFSET(  Season!$E$8,   0, 3* ( G$12 - 1 ),   34, 1 ),  0  ),    2 ) = 1,    1, -1 )     +   MATCH(  $C38,  OFFSET(  Season!$E$8,   0, 3* ( G$12 - 1 ),   34, 1 ),  0  ),    3*(G$35 - 1) )","v":21},{"$f":"  OFFSET( Season!$F$7,   IF( MOD(    MATCH(  $C38,  OFFSET(  Season!$E$8,   0, 3* ( H$12 - 1 ),   34, 1 ),  0  ),    2 ) = 1,    1, -1 )     +   MATCH(  $C38,  OFFSET(  Season!$E$8,   0, 3* ( H$12 - 1 ),   34, 1 ),  0  ),    3*(H$35 - 1) )","v":28},{"$f":"  OFFSET( Season!$F$7,   IF( MOD(    MATCH(  $C38,  OFFSET(  Season!$E$8,   0, 3* ( I$12 - 1 ),   34, 1 ),  0  ),    2 ) = 1,    1, -1 )     +   MATCH(  $C38,  OFFSET(  Season!$E$8,   0, 3* ( I$12 - 1 ),   34, 1 ),  0  ),    3*(I$35 - 1) )","v":26},{"$f":"  OFFSET( Season!$F$7,   IF( MOD(    MATCH(  $C38,  OFFSET(  Season!$E$8,   0, 3* ( J$12 - 1 ),   34, 1 ),  0  ),    2 ) = 1,    1, -1 )     +   MATCH(  $C38,  OFFSET(  Season!$E$8,   0, 3* ( J$12 - 1 ),   34, 1 ),  0  ),    3*(J$35 - 1) )","v":21},{"$f":"  OFFSET( Season!$F$7,   IF( MOD(    MATCH(  $C38,  OFFSET(  Season!$E$8,   0, 3* ( K$12 - 1 ),   34, 1 ),  0  ),    2 ) = 1,    1, -1 )     +   MATCH(  $C38,  OFFSET(  Season!$E$8,   0, 3* ( K$12 - 1 ),   34, 1 ),  0  ),    3*(K$35 - 1) )","v":34},{"$f":"  OFFSET( Season!$F$7,   IF( MOD(    MATCH(  $C38,  OFFSET(  Season!$E$8,   0, 3* ( L$12 - 1 ),   34, 1 ),  0  ),    2 ) = 1,    1, -1 )     +   MATCH(  $C38,  OFFSET(  Season!$E$8,   0, 3* ( L$12 - 1 ),   34, 1 ),  0  ),    3*(L$35 - 1) )","v":0},{"$f":"  OFFSET( Season!$F$7,   IF( MOD(    MATCH(  $C38,  OFFSET(  Season!$E$8,   0, 3* ( M$12 - 1 ),   34, 1 ),  0  ),    2 ) = 1,    1, -1 )     +   MATCH(  $C38,  OFFSET(  Season!$E$8,   0, 3* ( M$12 - 1 ),   34, 1 ),  0  ),    3*(M$35 - 1) )","v":12},{"$f":"  OFFSET( Season!$F$7,   IF( MOD(    MATCH(  $C38,  OFFSET(  Season!$E$8,   0, 3* ( N$12 - 1 ),   34, 1 ),  0  ),    2 ) = 1,    1, -1 )     +   MATCH(  $C38,  OFFSET(  Season!$E$8,   0, 3* ( N$12 - 1 ),   34, 1 ),  0  ),    3*(N$35 - 1) )","v":24},{"$f":"  OFFSET( Season!$F$7,   IF( MOD(    MATCH(  $C38,  OFFSET(  Season!$E$8,   0, 3* ( O$12 - 1 ),   34, 1 ),  0  ),    2 ) = 1,    1, -1 )     +   MATCH(  $C38,  OFFSET(  Season!$E$8,   0, 3* ( O$12 - 1 ),   34, 1 ),  0  ),    3*(O$35 - 1) )","v":26},{"$f":"  OFFSET( Season!$F$7,   IF( MOD(    MATCH(  $C38,  OFFSET(  Season!$E$8,   0, 3* ( P$12 - 1 ),   34, 1 ),  0  ),    2 ) = 1,    1, -1 )     +   MATCH(  $C38,  OFFSET(  Season!$E$8,   0, 3* ( P$12 - 1 ),   34, 1 ),  0  ),    3*(P$35 - 1) )","v":21},{"$f":"  OFFSET( Season!$F$7,   IF( MOD(    MATCH(  $C38,  OFFSET(  Season!$E$8,   0, 3* ( Q$12 - 1 ),   34, 1 ),  0  ),    2 ) = 1,    1, -1 )     +   MATCH(  $C38,  OFFSET(  Season!$E$8,   0, 3* ( Q$12 - 1 ),   34, 1 ),  0  ),    3*(Q$35 - 1) )","v":27},{"$f":"  OFFSET( Season!$F$7,   IF( MOD(    MATCH(  $C38,  OFFSET(  Season!$E$8,   0, 3* ( R$12 - 1 ),   34, 1 ),  0  ),    2 ) = 1,    1, -1 )     +   MATCH(  $C38,  OFFSET(  Season!$E$8,   0, 3* ( R$12 - 1 ),   34, 1 ),  0  ),    3*(R$35 - 1) )","v":0},{"$f":"  OFFSET( Season!$F$7,   IF( MOD(    MATCH(  $C38,  OFFSET(  Season!$E$8,   0, 3* ( S$12 - 1 ),   34, 1 ),  0  ),    2 ) = 1,    1, -1 )     +   MATCH(  $C38,  OFFSET(  Season!$E$8,   0, 3* ( S$12 - 1 ),   34, 1 ),  0  ),    3*(S$35 - 1) )","v":"f"},null,{"$f":"   MAX( $E$6:$S$6 )  -  COUNTIF( E38:T38, \"0\" ) -  COUNTIF( E38:T38, \"W\" ) -  COUNTIF( E38:T38, \"F\" ) -  COUNTIF( E38:T38, \"FF\" )","v":12},null,null,2,{"$f":"Standings!L17","v":"O19"},18.533333333333335,{"$f":"  OFFSET( Season!$F$7,   IF( MOD(    MATCH(  $Y38,  OFFSET(  Season!$E$8,   0, 3* ( AA$12 - 1 ),   34, 1 ),  0  ),    2 ) = 1,    1, -1 )     +   MATCH(  $Y38,  OFFSET(  Season!$E$8,   0, 3* ( AA$12 - 1 ),   34, 1 ),  0  ),    3*(AA$35 - 1) )","v":29},{"$f":"  OFFSET( Season!$F$7,   IF( MOD(    MATCH(  $Y38,  OFFSET(  Season!$E$8,   0, 3* ( AB$12 - 1 ),   34, 1 ),  0  ),    2 ) = 1,    1, -1 )     +   MATCH(  $Y38,  OFFSET(  Season!$E$8,   0, 3* ( AB$12 - 1 ),   34, 1 ),  0  ),    3*(AB$35 - 1) )","v":13},{"$f":"  OFFSET( Season!$F$7,   IF( MOD(    MATCH(  $Y38,  OFFSET(  Season!$E$8,   0, 3* ( AC$12 - 1 ),   34, 1 ),  0  ),    2 ) = 1,    1, -1 )     +   MATCH(  $Y38,  OFFSET(  Season!$E$8,   0, 3* ( AC$12 - 1 ),   34, 1 ),  0  ),    3*(AC$35 - 1) )","v":20},{"$f":"  OFFSET( Season!$F$7,   IF( MOD(    MATCH(  $Y38,  OFFSET(  Season!$E$8,   0, 3* ( AD$12 - 1 ),   34, 1 ),  0  ),    2 ) = 1,    1, -1 )     +   MATCH(  $Y38,  OFFSET(  Season!$E$8,   0, 3* ( AD$12 - 1 ),   34, 1 ),  0  ),    3*(AD$35 - 1) )","v":11},{"$f":"  OFFSET( Season!$F$7,   IF( MOD(    MATCH(  $Y38,  OFFSET(  Season!$E$8,   0, 3* ( AE$12 - 1 ),   34, 1 ),  0  ),    2 ) = 1,    1, -1 )     +   MATCH(  $Y38,  OFFSET(  Season!$E$8,   0, 3* ( AE$12 - 1 ),   34, 1 ),  0  ),    3*(AE$35 - 1) )","v":8},{"$f":"  OFFSET( Season!$F$7,   IF( MOD(    MATCH(  $Y38,  OFFSET(  Season!$E$8,   0, 3* ( AF$12 - 1 ),   34, 1 ),  0  ),    2 ) = 1,    1, -1 )     +   MATCH(  $Y38,  OFFSET(  Season!$E$8,   0, 3* ( AF$12 - 1 ),   34, 1 ),  0  ),    3*(AF$35 - 1) )","v":21},{"$f":"  OFFSET( Season!$F$7,   IF( MOD(    MATCH(  $Y38,  OFFSET(  Season!$E$8,   0, 3* ( AG$12 - 1 ),   34, 1 ),  0  ),    2 ) = 1,    1, -1 )     +   MATCH(  $Y38,  OFFSET(  Season!$E$8,   0, 3* ( AG$12 - 1 ),   34, 1 ),  0  ),    3*(AG$35 - 1) )","v":16},{"$f":"  OFFSET( Season!$F$7,   IF( MOD(    MATCH(  $Y38,  OFFSET(  Season!$E$8,   0, 3* ( AH$12 - 1 ),   34, 1 ),  0  ),    2 ) = 1,    1, -1 )     +   MATCH(  $Y38,  OFFSET(  Season!$E$8,   0, 3* ( AH$12 - 1 ),   34, 1 ),  0  ),    3*(AH$35 - 1) )","v":24},{"$f":"  OFFSET( Season!$F$7,   IF( MOD(    MATCH(  $Y38,  OFFSET(  Season!$E$8,   0, 3* ( AI$12 - 1 ),   34, 1 ),  0  ),    2 ) = 1,    1, -1 )     +   MATCH(  $Y38,  OFFSET(  Season!$E$8,   0, 3* ( AI$12 - 1 ),   34, 1 ),  0  ),    3*(AI$35 - 1) )","v":31},{"$f":"  OFFSET( Season!$F$7,   IF( MOD(    MATCH(  $Y38,  OFFSET(  Season!$E$8,   0, 3* ( AJ$12 - 1 ),   34, 1 ),  0  ),    2 ) = 1,    1, -1 )     +   MATCH(  $Y38,  OFFSET(  Season!$E$8,   0, 3* ( AJ$12 - 1 ),   34, 1 ),  0  ),    3*(AJ$35 - 1) )","v":19},{"$f":"  OFFSET( Season!$F$7,   IF( MOD(    MATCH(  $Y38,  OFFSET(  Season!$E$8,   0, 3* ( AK$12 - 1 ),   34, 1 ),  0  ),    2 ) = 1,    1, -1 )     +   MATCH(  $Y38,  OFFSET(  Season!$E$8,   0, 3* ( AK$12 - 1 ),   34, 1 ),  0  ),    3*(AK$35 - 1) )","v":6},{"$f":"  OFFSET( Season!$F$7,   IF( MOD(    MATCH(  $Y38,  OFFSET(  Season!$E$8,   0, 3* ( AL$12 - 1 ),   34, 1 ),  0  ),    2 ) = 1,    1, -1 )     +   MATCH(  $Y38,  OFFSET(  Season!$E$8,   0, 3* ( AL$12 - 1 ),   34, 1 ),  0  ),    3*(AL$35 - 1) )","v":14},{"$f":"  OFFSET( Season!$F$7,   IF( MOD(    MATCH(  $Y38,  OFFSET(  Season!$E$8,   0, 3* ( AM$12 - 1 ),   34, 1 ),  0  ),    2 ) = 1,    1, -1 )     +   MATCH(  $Y38,  OFFSET(  Season!$E$8,   0, 3* ( AM$12 - 1 ),   34, 1 ),  0  ),    3*(AM$35 - 1) )","v":10},{"$f":"  OFFSET( Season!$F$7,   IF( MOD(    MATCH(  $Y38,  OFFSET(  Season!$E$8,   0, 3* ( AN$12 - 1 ),   34, 1 ),  0  ),    2 ) = 1,    1, -1 )     +   MATCH(  $Y38,  OFFSET(  Season!$E$8,   0, 3* ( AN$12 - 1 ),   34, 1 ),  0  ),    3*(AN$35 - 1) )","v":41},{"$f":"  OFFSET( Season!$F$7,   IF( MOD(    MATCH(  $Y38,  OFFSET(  Season!$E$8,   0, 3* ( AO$12 - 1 ),   34, 1 ),  0  ),    2 ) = 1,    1, -1 )     +   MATCH(  $Y38,  OFFSET(  Season!$E$8,   0, 3* ( AO$12 - 1 ),   34, 1 ),  0  ),    3*(AO$35 - 1) )","v":15},null,{"$f":"   MAX( $E$6:$S$6 )  -  COUNTIF( AA38:AP38, \"0\" ) -  COUNTIF( AA38:AP38, \"W\" ) -  COUNTIF( AA38:AP38, \"F\" ) -  COUNTIF( AA38:AP38, \"FF\" )","v":15},null,null,{"$f":"Standings!L12","v":"ARG"},14.071428571428571,18.857142857142858,-4.7857142857142865]
[null,3,{"$f":"Standings!C7","v":"X87"},20.266666666666666,{"$f":"  OFFSET( Season!$F$7,   IF( MOD(    MATCH(  $C39,  OFFSET(  Season!$E$8,   0, 3* ( E$12 - 1 ),   34, 1 ),  0  ),    2 ) = 1,    1, -1 )     +   MATCH(  $C39,  OFFSET(  Season!$E$8,   0, 3* ( E$12 - 1 ),   34, 1 ),  0  ),    3*(E$35 - 1) )","v":7},{"$f":"  OFFSET( Season!$F$7,   IF( MOD(    MATCH(  $C39,  OFFSET(  Season!$E$8,   0, 3* ( F$12 - 1 ),   34, 1 ),  0  ),    2 ) = 1,    1, -1 )     +   MATCH(  $C39,  OFFSET(  Season!$E$8,   0, 3* ( F$12 - 1 ),   34, 1 ),  0  ),    3*(F$35 - 1) )","v":27},{"$f":"  OFFSET( Season!$F$7,   IF( MOD(    MATCH(  $C39,  OFFSET(  Season!$E$8,   0, 3* ( G$12 - 1 ),   34, 1 ),  0  ),    2 ) = 1,    1, -1 )     +   MATCH(  $C39,  OFFSET(  Season!$E$8,   0, 3* ( G$12 - 1 ),   34, 1 ),  0  ),    3*(G$35 - 1) )","v":23},{"$f":"  OFFSET( Season!$F$7,   IF( MOD(    MATCH(  $C39,  OFFSET(  Season!$E$8,   0, 3* ( H$12 - 1 ),   34, 1 ),  0  ),    2 ) = 1,    1, -1 )     +   MATCH(  $C39,  OFFSET(  Season!$E$8,   0, 3* ( H$12 - 1 ),   34, 1 ),  0  ),    3*(H$35 - 1) )","v":26},{"$f":"  OFFSET( Season!$F$7,   IF( MOD(    MATCH(  $C39,  OFFSET(  Season!$E$8,   0, 3* ( I$12 - 1 ),   34, 1 ),  0  ),    2 ) = 1,    1, -1 )     +   MATCH(  $C39,  OFFSET(  Season!$E$8,   0, 3* ( I$12 - 1 ),   34, 1 ),  0  ),    3*(I$35 - 1) )","v":21},{"$f":"  OFFSET( Season!$F$7,   IF( MOD(    MATCH(  $C39,  OFFSET(  Season!$E$8,   0, 3* ( J$12 - 1 ),   34, 1 ),  0  ),    2 ) = 1,    1, -1 )     +   MATCH(  $C39,  OFFSET(  Season!$E$8,   0, 3* ( J$12 - 1 ),   34, 1 ),  0  ),    3*(J$35 - 1) )","v":29},{"$f":"  OFFSET( Season!$F$7,   IF( MOD(    MATCH(  $C39,  OFFSET(  Season!$E$8,   0, 3* ( K$12 - 1 ),   34, 1 ),  0  ),    2 ) = 1,    1, -1 )     +   MATCH(  $C39,  OFFSET(  Season!$E$8,   0, 3* ( K$12 - 1 ),   34, 1 ),  0  ),    3*(K$35 - 1) )","v":17},{"$f":"  OFFSET( Season!$F$7,   IF( MOD(    MATCH(  $C39,  OFFSET(  Season!$E$8,   0, 3* ( L$12 - 1 ),   34, 1 ),  0  ),    2 ) = 1,    1, -1 )     +   MATCH(  $C39,  OFFSET(  Season!$E$8,   0, 3* ( L$12 - 1 ),   34, 1 ),  0  ),    3*(L$35 - 1) )","v":18},{"$f":"  OFFSET( Season!$F$7,   IF( MOD(    MATCH(  $C39,  OFFSET(  Season!$E$8,   0, 3* ( M$12 - 1 ),   34, 1 ),  0  ),    2 ) = 1,    1, -1 )     +   MATCH(  $C39,  OFFSET(  Season!$E$8,   0, 3* ( M$12 - 1 ),   34, 1 ),  0  ),    3*(M$35 - 1) )","v":17},{"$f":"  OFFSET( Season!$F$7,   IF( MOD(    MATCH(  $C39,  OFFSET(  Season!$E$8,   0, 3* ( N$12 - 1 ),   34, 1 ),  0  ),    2 ) = 1,    1, -1 )     +   MATCH(  $C39,  OFFSET(  Season!$E$8,   0, 3* ( N$12 - 1 ),   34, 1 ),  0  ),    3*(N$35 - 1) )","v":28},{"$f":"  OFFSET( Season!$F$7,   IF( MOD(    MATCH(  $C39,  OFFSET(  Season!$E$8,   0, 3* ( O$12 - 1 ),   34, 1 ),  0  ),    2 ) = 1,    1, -1 )     +   MATCH(  $C39,  OFFSET(  Season!$E$8,   0, 3* ( O$12 - 1 ),   34, 1 ),  0  ),    3*(O$35 - 1) )","v":14},{"$f":"  OFFSET( Season!$F$7,   IF( MOD(    MATCH(  $C39,  OFFSET(  Season!$E$8,   0, 3* ( P$12 - 1 ),   34, 1 ),  0  ),    2 ) = 1,    1, -1 )     +   MATCH(  $C39,  OFFSET(  Season!$E$8,   0, 3* ( P$12 - 1 ),   34, 1 ),  0  ),    3*(P$35 - 1) )","v":21},{"$f":"  OFFSET( Season!$F$7,   IF( MOD(    MATCH(  $C39,  OFFSET(  Season!$E$8,   0, 3* ( Q$12 - 1 ),   34, 1 ),  0  ),    2 ) = 1,    1, -1 )     +   MATCH(  $C39,  OFFSET(  Season!$E$8,   0, 3* ( Q$12 - 1 ),   34, 1 ),  0  ),    3*(Q$35 - 1) )","v":32},{"$f":"  OFFSET( Season!$F$7,   IF( MOD(    MATCH(  $C39,  OFFSET(  Season!$E$8,   0, 3* ( R$12 - 1 ),   34, 1 ),  0  ),    2 ) = 1,    1, -1 )     +   MATCH(  $C39,  OFFSET(  Season!$E$8,   0, 3* ( R$12 - 1 ),   34, 1 ),  0  ),    3*(R$35 - 1) )","v":4},{"$f":"  OFFSET( Season!$F$7,   IF( MOD(    MATCH(  $C39,  OFFSET(  Season!$E$8,   0, 3* ( S$12 - 1 ),   34, 1 ),  0  ),    2 ) = 1,    1, -1 )     +   MATCH(  $C39,  OFFSET(  Season!$E$8,   0, 3* ( S$12 - 1 ),   34, 1 ),  0  ),    3*(S$35 - 1) )","v":20},null,15,null,null,3,{"$f":"Standings!L19","v":"X10"},17.733333333333334,{"$f":"  OFFSET( Season!$F$7,   IF( MOD(    MATCH(  $Y39,  OFFSET(  Season!$E$8,   0, 3* ( AA$12 - 1 ),   34, 1 ),  0  ),    2 ) = 1,    1, -1 )     +   MATCH(  $Y39,  OFFSET(  Season!$E$8,   0, 3* ( AA$12 - 1 ),   34, 1 ),  0  ),    3*(AA$35 - 1) )","v":26},{"$f":"  OFFSET( Season!$F$7,   IF( MOD(    MATCH(  $Y39,  OFFSET(  Season!$E$8,   0, 3* ( AB$12 - 1 ),   34, 1 ),  0  ),    2 ) = 1,    1, -1 )     +   MATCH(  $Y39,  OFFSET(  Season!$E$8,   0, 3* ( AB$12 - 1 ),   34, 1 ),  0  ),    3*(AB$35 - 1) )","v":27},{"$f":"  OFFSET( Season!$F$7,   IF( MOD(    MATCH(  $Y39,  OFFSET(  Season!$E$8,   0, 3* ( AC$12 - 1 ),   34, 1 ),  0  ),    2 ) = 1,    1, -1 )     +   MATCH(  $Y39,  OFFSET(  Season!$E$8,   0, 3* ( AC$12 - 1 ),   34, 1 ),  0  ),    3*(AC$35 - 1) )","v":6},{"$f":"  OFFSET( Season!$F$7,   IF( MOD(    MATCH(  $Y39,  OFFSET(  Season!$E$8,   0, 3* ( AD$12 - 1 ),   34, 1 ),  0  ),    2 ) = 1,    1, -1 )     +   MATCH(  $Y39,  OFFSET(  Season!$E$8,   0, 3* ( AD$12 - 1 ),   34, 1 ),  0  ),    3*(AD$35 - 1) )","v":31},{"$f":"  OFFSET( Season!$F$7,   IF( MOD(    MATCH(  $Y39,  OFFSET(  Season!$E$8,   0, 3* ( AE$12 - 1 ),   34, 1 ),  0  ),    2 ) = 1,    1, -1 )     +   MATCH(  $Y39,  OFFSET(  Season!$E$8,   0, 3* ( AE$12 - 1 ),   34, 1 ),  0  ),    3*(AE$35 - 1) )","v":15},{"$f":"  OFFSET( Season!$F$7,   IF( MOD(    MATCH(  $Y39,  OFFSET(  Season!$E$8,   0, 3* ( AF$12 - 1 ),   34, 1 ),  0  ),    2 ) = 1,    1, -1 )     +   MATCH(  $Y39,  OFFSET(  Season!$E$8,   0, 3* ( AF$12 - 1 ),   34, 1 ),  0  ),    3*(AF$35 - 1) )","v":21},{"$f":"  OFFSET( Season!$F$7,   IF( MOD(    MATCH(  $Y39,  OFFSET(  Season!$E$8,   0, 3* ( AG$12 - 1 ),   34, 1 ),  0  ),    2 ) = 1,    1, -1 )     +   MATCH(  $Y39,  OFFSET(  Season!$E$8,   0, 3* ( AG$12 - 1 ),   34, 1 ),  0  ),    3*(AG$35 - 1) )","v":19},{"$f":"  OFFSET( Season!$F$7,   IF( MOD(    MATCH(  $Y39,  OFFSET(  Season!$E$8,   0, 3* ( AH$12 - 1 ),   34, 1 ),  0  ),    2 ) = 1,    1, -1 )     +   MATCH(  $Y39,  OFFSET(  Season!$E$8,   0, 3* ( AH$12 - 1 ),   34, 1 ),  0  ),    3*(AH$35 - 1) )","v":31},{"$f":"  OFFSET( Season!$F$7,   IF( MOD(    MATCH(  $Y39,  OFFSET(  Season!$E$8,   0, 3* ( AI$12 - 1 ),   34, 1 ),  0  ),    2 ) = 1,    1, -1 )     +   MATCH(  $Y39,  OFFSET(  Season!$E$8,   0, 3* ( AI$12 - 1 ),   34, 1 ),  0  ),    3*(AI$35 - 1) )","v":14},{"$f":"  OFFSET( Season!$F$7,   IF( MOD(    MATCH(  $Y39,  OFFSET(  Season!$E$8,   0, 3* ( AJ$12 - 1 ),   34, 1 ),  0  ),    2 ) = 1,    1, -1 )     +   MATCH(  $Y39,  OFFSET(  Season!$E$8,   0, 3* ( AJ$12 - 1 ),   34, 1 ),  0  ),    3*(AJ$35 - 1) )","v":6},{"$f":"  OFFSET( Season!$F$7,   IF( MOD(    MATCH(  $Y39,  OFFSET(  Season!$E$8,   0, 3* ( AK$12 - 1 ),   34, 1 ),  0  ),    2 ) = 1,    1, -1 )     +   MATCH(  $Y39,  OFFSET(  Season!$E$8,   0, 3* ( AK$12 - 1 ),   34, 1 ),  0  ),    3*(AK$35 - 1) )","v":-1},{"$f":"  OFFSET( Season!$F$7,   IF( MOD(    MATCH(  $Y39,  OFFSET(  Season!$E$8,   0, 3* ( AL$12 - 1 ),   34, 1 ),  0  ),    2 ) = 1,    1, -1 )     +   MATCH(  $Y39,  OFFSET(  Season!$E$8,   0, 3* ( AL$12 - 1 ),   34, 1 ),  0  ),    3*(AL$35 - 1) )","v":15},{"$f":"  OFFSET( Season!$F$7,   IF( MOD(    MATCH(  $Y39,  OFFSET(  Season!$E$8,   0, 3* ( AM$12 - 1 ),   34, 1 ),  0  ),    2 ) = 1,    1, -1 )     +   MATCH(  $Y39,  OFFSET(  Season!$E$8,   0, 3* ( AM$12 - 1 ),   34, 1 ),  0  ),    3*(AM$35 - 1) )","v":39},{"$f":"  OFFSET( Season!$F$7,   IF( MOD(    MATCH(  $Y39,  OFFSET(  Season!$E$8,   0, 3* ( AN$12 - 1 ),   34, 1 ),  0  ),    2 ) = 1,    1, -1 )     +   MATCH(  $Y39,  OFFSET(  Season!$E$8,   0, 3* ( AN$12 - 1 ),   34, 1 ),  0  ),    3*(AN$35 - 1) )","v":-5},{"$f":"  OFFSET( Season!$F$7,   IF( MOD(    MATCH(  $Y39,  OFFSET(  Season!$E$8,   0, 3* ( AO$12 - 1 ),   34, 1 ),  0  ),    2 ) = 1,    1, -1 )     +   MATCH(  $Y39,  OFFSET(  Season!$E$8,   0, 3* ( AO$12 - 1 ),   34, 1 ),  0  ),    3*(AO$35 - 1) )","v":22},null,15,null,null,{"$f":"Standings!L7","v":"X31"},13.792857142857143,17.071428571428573,-3.2785714285714302]
[null,4,{"$f":"Standings!C15","v":"E42"},20.133333333333333,{"$f":"  OFFSET( Season!$F$7,   IF( MOD(    MATCH(  $C40,  OFFSET(  Season!$E$8,   0, 3* ( E$12 - 1 ),   34, 1 ),  0  ),    2 ) = 1,    1, -1 )     +   MATCH(  $C40,  OFFSET(  Season!$E$8,   0, 3* ( E$12 - 1 ),   34, 1 ),  0  ),    3*(E$35 - 1) )","v":24},{"$f":"  OFFSET( Season!$F$7,   IF( MOD(    MATCH(  $C40,  OFFSET(  Season!$E$8,   0, 3* ( F$12 - 1 ),   34, 1 ),  0  ),    2 ) = 1,    1, -1 )     +   MATCH(  $C40,  OFFSET(  Season!$E$8,   0, 3* ( F$12 - 1 ),   34, 1 ),  0  ),    3*(F$35 - 1) )","v":25},{"$f":"  OFFSET( Season!$F$7,   IF( MOD(    MATCH(  $C40,  OFFSET(  Season!$E$8,   0, 3* ( G$12 - 1 ),   34, 1 ),  0  ),    2 ) = 1,    1, -1 )     +   MATCH(  $C40,  OFFSET(  Season!$E$8,   0, 3* ( G$12 - 1 ),   34, 1 ),  0  ),    3*(G$35 - 1) )","v":22},{"$f":"  OFFSET( Season!$F$7,   IF( MOD(    MATCH(  $C40,  OFFSET(  Season!$E$8,   0, 3* ( H$12 - 1 ),   34, 1 ),  0  ),    2 ) = 1,    1, -1 )     +   MATCH(  $C40,  OFFSET(  Season!$E$8,   0, 3* ( H$12 - 1 ),   34, 1 ),  0  ),    3*(H$35 - 1) )","v":30},{"$f":"  OFFSET( Season!$F$7,   IF( MOD(    MATCH(  $C40,  OFFSET(  Season!$E$8,   0, 3* ( I$12 - 1 ),   34, 1 ),  0  ),    2 ) = 1,    1, -1 )     +   MATCH(  $C40,  OFFSET(  Season!$E$8,   0, 3* ( I$12 - 1 ),   34, 1 ),  0  ),    3*(I$35 - 1) )","v":30},{"$f":"  OFFSET( Season!$F$7,   IF( MOD(    MATCH(  $C40,  OFFSET(  Season!$E$8,   0, 3* ( J$12 - 1 ),   34, 1 ),  0  ),    2 ) = 1,    1, -1 )     +   MATCH(  $C40,  OFFSET(  Season!$E$8,   0, 3* ( J$12 - 1 ),   34, 1 ),  0  ),    3*(J$35 - 1) )","v":16},{"$f":"  OFFSET( Season!$F$7,   IF( MOD(    MATCH(  $C40,  OFFSET(  Season!$E$8,   0, 3* ( K$12 - 1 ),   34, 1 ),  0  ),    2 ) = 1,    1, -1 )     +   MATCH(  $C40,  OFFSET(  Season!$E$8,   0, 3* ( K$12 - 1 ),   34, 1 ),  0  ),    3*(K$35 - 1) )","v":8},{"$f":"  OFFSET( Season!$F$7,   IF( MOD(    MATCH(  $C40,  OFFSET(  Season!$E$8,   0, 3* ( L$12 - 1 ),   34, 1 ),  0  ),    2 ) = 1,    1, -1 )     +   MATCH(  $C40,  OFFSET(  Season!$E$8,   0, 3* ( L$12 - 1 ),   34, 1 ),  0  ),    3*(L$35 - 1) )","v":18},{"$f":"  OFFSET( Season!$F$7,   IF( MOD(    MATCH(  $C40,  OFFSET(  Season!$E$8,   0, 3* ( M$12 - 1 ),   34, 1 ),  0  ),    2 ) = 1,    1, -1 )     +   MATCH(  $C40,  OFFSET(  Season!$E$8,   0, 3* ( M$12 - 1 ),   34, 1 ),  0  ),    3*(M$35 - 1) )","v":10},{"$f":"  OFFSET( Season!$F$7,   IF( MOD(    MATCH(  $C40,  OFFSET(  Season!$E$8,   0, 3* ( N$12 - 1 ),   34, 1 ),  0  ),    2 ) = 1,    1, -1 )     +   MATCH(  $C40,  OFFSET(  Season!$E$8,   0, 3* ( N$12 - 1 ),   34, 1 ),  0  ),    3*(N$35 - 1) )","v":19},{"$f":"  OFFSET( Season!$F$7,   IF( MOD(    MATCH(  $C40,  OFFSET(  Season!$E$8,   0, 3* ( O$12 - 1 ),   34, 1 ),  0  ),    2 ) = 1,    1, -1 )     +   MATCH(  $C40,  OFFSET(  Season!$E$8,   0, 3* ( O$12 - 1 ),   34, 1 ),  0  ),    3*(O$35 - 1) )","v":15},{"$f":"  OFFSET( Season!$F$7,   IF( MOD(    MATCH(  $C40,  OFFSET(  Season!$E$8,   0, 3* ( P$12 - 1 ),   34, 1 ),  0  ),    2 ) = 1,    1, -1 )     +   MATCH(  $C40,  OFFSET(  Season!$E$8,   0, 3* ( P$12 - 1 ),   34, 1 ),  0  ),    3*(P$35 - 1) )","v":21},{"$f":"  OFFSET( Season!$F$7,   IF( MOD(    MATCH(  $C40,  OFFSET(  Season!$E$8,   0, 3* ( Q$12 - 1 ),   34, 1 ),  0  ),    2 ) = 1,    1, -1 )     +   MATCH(  $C40,  OFFSET(  Season!$E$8,   0, 3* ( Q$12 - 1 ),   34, 1 ),  0  ),    3*(Q$35 - 1) )","v":27},{"$f":"  OFFSET( Season!$F$7,   IF( MOD(    MATCH(  $C40,  OFFSET(  Season!$E$8,   0, 3* ( R$12 - 1 ),   34, 1 ),  0  ),    2 ) = 1,    1, -1 )     +   MATCH(  $C40,  OFFSET(  Season!$E$8,   0, 3* ( R$12 - 1 ),   34, 1 ),  0  ),    3*(R$35 - 1) )","v":8},{"$f":"  OFFSET( Season!$F$7,   IF( MOD(    MATCH(  $C40,  OFFSET(  Season!$E$8,   0, 3* ( S$12 - 1 ),   34, 1 ),  0  ),    2 ) = 1,    1, -1 )     +   MATCH(  $C40,  OFFSET(  Season!$E$8,   0, 3* ( S$12 - 1 ),   34, 1 ),  0  ),    3*(S$35 - 1) )","v":29},null,15,null,null,4,{"$f":"Standings!L6","v":"E75"},17.399999999999999,{"$f":"  OFFSET( Season!$F$7,   IF( MOD(    MATCH(  $Y40,  OFFSET(  Season!$E$8,   0, 3* ( AA$12 - 1 ),   34, 1 ),  0  ),    2 ) = 1,    1, -1 )     +   MATCH(  $Y40,  OFFSET(  Season!$E$8,   0, 3* ( AA$12 - 1 ),   34, 1 ),  0  ),    3*(AA$35 - 1) )","v":24},{"$f":"  OFFSET( Season!$F$7,   IF( MOD(    MATCH(  $Y40,  OFFSET(  Season!$E$8,   0, 3* ( AB$12 - 1 ),   34, 1 ),  0  ),    2 ) = 1,    1, -1 )     +   MATCH(  $Y40,  OFFSET(  Season!$E$8,   0, 3* ( AB$12 - 1 ),   34, 1 ),  0  ),    3*(AB$35 - 1) )","v":17},{"$f":"  OFFSET( Season!$F$7,   IF( MOD(    MATCH(  $Y40,  OFFSET(  Season!$E$8,   0, 3* ( AC$12 - 1 ),   34, 1 ),  0  ),    2 ) = 1,    1, -1 )     +   MATCH(  $Y40,  OFFSET(  Season!$E$8,   0, 3* ( AC$12 - 1 ),   34, 1 ),  0  ),    3*(AC$35 - 1) )","v":20},{"$f":"  OFFSET( Season!$F$7,   IF( MOD(    MATCH(  $Y40,  OFFSET(  Season!$E$8,   0, 3* ( AD$12 - 1 ),   34, 1 ),  0  ),    2 ) = 1,    1, -1 )     +   MATCH(  $Y40,  OFFSET(  Season!$E$8,   0, 3* ( AD$12 - 1 ),   34, 1 ),  0  ),    3*(AD$35 - 1) )","v":17},{"$f":"  OFFSET( Season!$F$7,   IF( MOD(    MATCH(  $Y40,  OFFSET(  Season!$E$8,   0, 3* ( AE$12 - 1 ),   34, 1 ),  0  ),    2 ) = 1,    1, -1 )     +   MATCH(  $Y40,  OFFSET(  Season!$E$8,   0, 3* ( AE$12 - 1 ),   34, 1 ),  0  ),    3*(AE$35 - 1) )","v":14},{"$f":"  OFFSET( Season!$F$7,   IF( MOD(    MATCH(  $Y40,  OFFSET(  Season!$E$8,   0, 3* ( AF$12 - 1 ),   34, 1 ),  0  ),    2 ) = 1,    1, -1 )     +   MATCH(  $Y40,  OFFSET(  Season!$E$8,   0, 3* ( AF$12 - 1 ),   34, 1 ),  0  ),    3*(AF$35 - 1) )","v":23},{"$f":"  OFFSET( Season!$F$7,   IF( MOD(    MATCH(  $Y40,  OFFSET(  Season!$E$8,   0, 3* ( AG$12 - 1 ),   34, 1 ),  0  ),    2 ) = 1,    1, -1 )     +   MATCH(  $Y40,  OFFSET(  Season!$E$8,   0, 3* ( AG$12 - 1 ),   34, 1 ),  0  ),    3*(AG$35 - 1) )","v":26},{"$f":"  OFFSET( Season!$F$7,   IF( MOD(    MATCH(  $Y40,  OFFSET(  Season!$E$8,   0, 3* ( AH$12 - 1 ),   34, 1 ),  0  ),    2 ) = 1,    1, -1 )     +   MATCH(  $Y40,  OFFSET(  Season!$E$8,   0, 3* ( AH$12 - 1 ),   34, 1 ),  0  ),    3*(AH$35 - 1) )","v":29},{"$f":"  OFFSET( Season!$F$7,   IF( MOD(    MATCH(  $Y40,  OFFSET(  Season!$E$8,   0, 3* ( AI$12 - 1 ),   34, 1 ),  0  ),    2 ) = 1,    1, -1 )     +   MATCH(  $Y40,  OFFSET(  Season!$E$8,   0, 3* ( AI$12 - 1 ),   34, 1 ),  0  ),    3*(AI$35 - 1) )","v":-6},{"$f":"  OFFSET( Season!$F$7,   IF( MOD(    MATCH(  $Y40,  OFFSET(  Season!$E$8,   0, 3* ( AJ$12 - 1 ),   34, 1 ),  0  ),    2 ) = 1,    1, -1 )     +   MATCH(  $Y40,  OFFSET(  Season!$E$8,   0, 3* ( AJ$12 - 1 ),   34, 1 ),  0  ),    3*(AJ$35 - 1) )","v":20},{"$f":"  OFFSET( Season!$F$7,   IF( MOD(    MATCH(  $Y40,  OFFSET(  Season!$E$8,   0, 3* ( AK$12 - 1 ),   34, 1 ),  0  ),    2 ) = 1,    1, -1 )     +   MATCH(  $Y40,  OFFSET(  Season!$E$8,   0, 3* ( AK$12 - 1 ),   34, 1 ),  0  ),    3*(AK$35 - 1) )","v":20},{"$f":"  OFFSET( Season!$F$7,   IF( MOD(    MATCH(  $Y40,  OFFSET(  Season!$E$8,   0, 3* ( AL$12 - 1 ),   34, 1 ),  0  ),    2 ) = 1,    1, -1 )     +   MATCH(  $Y40,  OFFSET(  Season!$E$8,   0, 3* ( AL$12 - 1 ),   34, 1 ),  0  ),    3*(AL$35 - 1) )","v":19},{"$f":"  OFFSET( Season!$F$7,   IF( MOD(    MATCH(  $Y40,  OFFSET(  Season!$E$8,   0, 3* ( AM$12 - 1 ),   34, 1 ),  0  ),    2 ) = 1,    1, -1 )     +   MATCH(  $Y40,  OFFSET(  Season!$E$8,   0, 3* ( AM$12 - 1 ),   34, 1 ),  0  ),    3*(AM$35 - 1) )","v":26},{"$f":"  OFFSET( Season!$F$7,   IF( MOD(    MATCH(  $Y40,  OFFSET(  Season!$E$8,   0, 3* ( AN$12 - 1 ),   34, 1 ),  0  ),    2 ) = 1,    1, -1 )     +   MATCH(  $Y40,  OFFSET(  Season!$E$8,   0, 3* ( AN$12 - 1 ),   34, 1 ),  0  ),    3*(AN$35 - 1) )","v":14},{"$f":"  OFFSET( Season!$F$7,   IF( MOD(    MATCH(  $Y40,  OFFSET(  Season!$E$8,   0, 3* ( AO$12 - 1 ),   34, 1 ),  0  ),    2 ) = 1,    1, -1 )     +   MATCH(  $Y40,  OFFSET(  Season!$E$8,   0, 3* ( AO$12 - 1 ),   34, 1 ),  0  ),    3*(AO$35 - 1) )","v":-2},null,15,null,null,{"$f":"Standings!L6","v":"E75"},14.733333333333333,17.399999999999999,-2.6666666666666661]
[null,5,{"$f":"Standings!C11","v":"X88"},20.126666666666665,{"$f":"  OFFSET( Season!$F$7,   IF( MOD(    MATCH(  $C41,  OFFSET(  Season!$E$8,   0, 3* ( E$12 - 1 ),   34, 1 ),  0  ),    2 ) = 1,    1, -1 )     +   MATCH(  $C41,  OFFSET(  Season!$E$8,   0, 3* ( E$12 - 1 ),   34, 1 ),  0  ),    3*(E$35 - 1) )","v":16},{"$f":"  OFFSET( Season!$F$7,   IF( MOD(    MATCH(  $C41,  OFFSET(  Season!$E$8,   0, 3* ( F$12 - 1 ),   34, 1 ),  0  ),    2 ) = 1,    1, -1 )     +   MATCH(  $C41,  OFFSET(  Season!$E$8,   0, 3* ( F$12 - 1 ),   34, 1 ),  0  ),    3*(F$35 - 1) )","v":19.900000000000002},{"$f":"  OFFSET( Season!$F$7,   IF( MOD(    MATCH(  $C41,  OFFSET(  Season!$E$8,   0, 3* ( G$12 - 1 ),   34, 1 ),  0  ),    2 ) = 1,    1, -1 )     +   MATCH(  $C41,  OFFSET(  Season!$E$8,   0, 3* ( G$12 - 1 ),   34, 1 ),  0  ),    3*(G$35 - 1) )","v":28},{"$f":"  OFFSET( Season!$F$7,   IF( MOD(    MATCH(  $C41,  OFFSET(  Season!$E$8,   0, 3* ( H$12 - 1 ),   34, 1 ),  0  ),    2 ) = 1,    1, -1 )     +   MATCH(  $C41,  OFFSET(  Season!$E$8,   0, 3* ( H$12 - 1 ),   34, 1 ),  0  ),    3*(H$35 - 1) )","v":16},{"$f":"  OFFSET( Season!$F$7,   IF( MOD(    MATCH(  $C41,  OFFSET(  Season!$E$8,   0, 3* ( I$12 - 1 ),   34, 1 ),  0  ),    2 ) = 1,    1, -1 )     +   MATCH(  $C41,  OFFSET(  Season!$E$8,   0, 3* ( I$12 - 1 ),   34, 1 ),  0  ),    3*(I$35 - 1) )","v":24},{"$f":"  OFFSET( Season!$F$7,   IF( MOD(    MATCH(  $C41,  OFFSET(  Season!$E$8,   0, 3* ( J$12 - 1 ),   34, 1 ),  0  ),    2 ) = 1,    1, -1 )     +   MATCH(  $C41,  OFFSET(  Season!$E$8,   0, 3* ( J$12 - 1 ),   34, 1 ),  0  ),    3*(J$35 - 1) )","v":18},{"$f":"  OFFSET( Season!$F$7,   IF( MOD(    MATCH(  $C41,  OFFSET(  Season!$E$8,   0, 3* ( K$12 - 1 ),   34, 1 ),  0  ),    2 ) = 1,    1, -1 )     +   MATCH(  $C41,  OFFSET(  Season!$E$8,   0, 3* ( K$12 - 1 ),   34, 1 ),  0  ),    3*(K$35 - 1) )","v":15.000000000000002},{"$f":"  OFFSET( Season!$F$7,   IF( MOD(    MATCH(  $C41,  OFFSET(  Season!$E$8,   0, 3* ( L$12 - 1 ),   34, 1 ),  0  ),    2 ) = 1,    1, -1 )     +   MATCH(  $C41,  OFFSET(  Season!$E$8,   0, 3* ( L$12 - 1 ),   34, 1 ),  0  ),    3*(L$35 - 1) )","v":34},{"$f":"  OFFSET( Season!$F$7,   IF( MOD(    MATCH(  $C41,  OFFSET(  Season!$E$8,   0, 3* ( M$12 - 1 ),   34, 1 ),  0  ),    2 ) = 1,    1, -1 )     +   MATCH(  $C41,  OFFSET(  Season!$E$8,   0, 3* ( M$12 - 1 ),   34, 1 ),  0  ),    3*(M$35 - 1) )","v":12},{"$f":"  OFFSET( Season!$F$7,   IF( MOD(    MATCH(  $C41,  OFFSET(  Season!$E$8,   0, 3* ( N$12 - 1 ),   34, 1 ),  0  ),    2 ) = 1,    1, -1 )     +   MATCH(  $C41,  OFFSET(  Season!$E$8,   0, 3* ( N$12 - 1 ),   34, 1 ),  0  ),    3*(N$35 - 1) )","v":10},{"$f":"  OFFSET( Season!$F$7,   IF( MOD(    MATCH(  $C41,  OFFSET(  Season!$E$8,   0, 3* ( O$12 - 1 ),   34, 1 ),  0  ),    2 ) = 1,    1, -1 )     +   MATCH(  $C41,  OFFSET(  Season!$E$8,   0, 3* ( O$12 - 1 ),   34, 1 ),  0  ),    3*(O$35 - 1) )","v":15},{"$f":"  OFFSET( Season!$F$7,   IF( MOD(    MATCH(  $C41,  OFFSET(  Season!$E$8,   0, 3* ( P$12 - 1 ),   34, 1 ),  0  ),    2 ) = 1,    1, -1 )     +   MATCH(  $C41,  OFFSET(  Season!$E$8,   0, 3* ( P$12 - 1 ),   34, 1 ),  0  ),    3*(P$35 - 1) )","v":24},{"$f":"  OFFSET( Season!$F$7,   IF( MOD(    MATCH(  $C41,  OFFSET(  Season!$E$8,   0, 3* ( Q$12 - 1 ),   34, 1 ),  0  ),    2 ) = 1,    1, -1 )     +   MATCH(  $C41,  OFFSET(  Season!$E$8,   0, 3* ( Q$12 - 1 ),   34, 1 ),  0  ),    3*(Q$35 - 1) )","v":26},{"$f":"  OFFSET( Season!$F$7,   IF( MOD(    MATCH(  $C41,  OFFSET(  Season!$E$8,   0, 3* ( R$12 - 1 ),   34, 1 ),  0  ),    2 ) = 1,    1, -1 )     +   MATCH(  $C41,  OFFSET(  Season!$E$8,   0, 3* ( R$12 - 1 ),   34, 1 ),  0  ),    3*(R$35 - 1) )","v":30},{"$f":"  OFFSET( Season!$F$7,   IF( MOD(    MATCH(  $C41,  OFFSET(  Season!$E$8,   0, 3* ( S$12 - 1 ),   34, 1 ),  0  ),    2 ) = 1,    1, -1 )     +   MATCH(  $C41,  OFFSET(  Season!$E$8,   0, 3* ( S$12 - 1 ),   34, 1 ),  0  ),    3*(S$35 - 1) )","v":14},null,15,null,null,5,{"$f":"Standings!L9","v":"M10"},17.34,{"$f":"  OFFSET( Season!$F$7,   IF( MOD(    MATCH(  $Y41,  OFFSET(  Season!$E$8,   0, 3* ( AA$12 - 1 ),   34, 1 ),  0  ),    2 ) = 1,    1, -1 )     +   MATCH(  $Y41,  OFFSET(  Season!$E$8,   0, 3* ( AA$12 - 1 ),   34, 1 ),  0  ),    3*(AA$35 - 1) )","v":11},{"$f":"  OFFSET( Season!$F$7,   IF( MOD(    MATCH(  $Y41,  OFFSET(  Season!$E$8,   0, 3* ( AB$12 - 1 ),   34, 1 ),  0  ),    2 ) = 1,    1, -1 )     +   MATCH(  $Y41,  OFFSET(  Season!$E$8,   0, 3* ( AB$12 - 1 ),   34, 1 ),  0  ),    3*(AB$35 - 1) )","v":30},{"$f":"  OFFSET( Season!$F$7,   IF( MOD(    MATCH(  $Y41,  OFFSET(  Season!$E$8,   0, 3* ( AC$12 - 1 ),   34, 1 ),  0  ),    2 ) = 1,    1, -1 )     +   MATCH(  $Y41,  OFFSET(  Season!$E$8,   0, 3* ( AC$12 - 1 ),   34, 1 ),  0  ),    3*(AC$35 - 1) )","v":34},{"$f":"  OFFSET( Season!$F$7,   IF( MOD(    MATCH(  $Y41,  OFFSET(  Season!$E$8,   0, 3* ( AD$12 - 1 ),   34, 1 ),  0  ),    2 ) = 1,    1, -1 )     +   MATCH(  $Y41,  OFFSET(  Season!$E$8,   0, 3* ( AD$12 - 1 ),   34, 1 ),  0  ),    3*(AD$35 - 1) )","v":6},{"$f":"  OFFSET( Season!$F$7,   IF( MOD(    MATCH(  $Y41,  OFFSET(  Season!$E$8,   0, 3* ( AE$12 - 1 ),   34, 1 ),  0  ),    2 ) = 1,    1, -1 )     +   MATCH(  $Y41,  OFFSET(  Season!$E$8,   0, 3* ( AE$12 - 1 ),   34, 1 ),  0  ),    3*(AE$35 - 1) )","v":0.1},{"$f":"  OFFSET( Season!$F$7,   IF( MOD(    MATCH(  $Y41,  OFFSET(  Season!$E$8,   0, 3* ( AF$12 - 1 ),   34, 1 ),  0  ),    2 ) = 1,    1, -1 )     +   MATCH(  $Y41,  OFFSET(  Season!$E$8,   0, 3* ( AF$12 - 1 ),   34, 1 ),  0  ),    3*(AF$35 - 1) )","v":38},{"$f":"  OFFSET( Season!$F$7,   IF( MOD(    MATCH(  $Y41,  OFFSET(  Season!$E$8,   0, 3* ( AG$12 - 1 ),   34, 1 ),  0  ),    2 ) = 1,    1, -1 )     +   MATCH(  $Y41,  OFFSET(  Season!$E$8,   0, 3* ( AG$12 - 1 ),   34, 1 ),  0  ),    3*(AG$35 - 1) )","v":25},{"$f":"  OFFSET( Season!$F$7,   IF( MOD(    MATCH(  $Y41,  OFFSET(  Season!$E$8,   0, 3* ( AH$12 - 1 ),   34, 1 ),  0  ),    2 ) = 1,    1, -1 )     +   MATCH(  $Y41,  OFFSET(  Season!$E$8,   0, 3* ( AH$12 - 1 ),   34, 1 ),  0  ),    3*(AH$35 - 1) )","v":18},{"$f":"  OFFSET( Season!$F$7,   IF( MOD(    MATCH(  $Y41,  OFFSET(  Season!$E$8,   0, 3* ( AI$12 - 1 ),   34, 1 ),  0  ),    2 ) = 1,    1, -1 )     +   MATCH(  $Y41,  OFFSET(  Season!$E$8,   0, 3* ( AI$12 - 1 ),   34, 1 ),  0  ),    3*(AI$35 - 1) )","v":8},{"$f":"  OFFSET( Season!$F$7,   IF( MOD(    MATCH(  $Y41,  OFFSET(  Season!$E$8,   0, 3* ( AJ$12 - 1 ),   34, 1 ),  0  ),    2 ) = 1,    1, -1 )     +   MATCH(  $Y41,  OFFSET(  Season!$E$8,   0, 3* ( AJ$12 - 1 ),   34, 1 ),  0  ),    3*(AJ$35 - 1) )","v":13},{"$f":"  OFFSET( Season!$F$7,   IF( MOD(    MATCH(  $Y41,  OFFSET(  Season!$E$8,   0, 3* ( AK$12 - 1 ),   34, 1 ),  0  ),    2 ) = 1,    1, -1 )     +   MATCH(  $Y41,  OFFSET(  Season!$E$8,   0, 3* ( AK$12 - 1 ),   34, 1 ),  0  ),    3*(AK$35 - 1) )","v":28},{"$f":"  OFFSET( Season!$F$7,   IF( MOD(    MATCH(  $Y41,  OFFSET(  Season!$E$8,   0, 3* ( AL$12 - 1 ),   34, 1 ),  0  ),    2 ) = 1,    1, -1 )     +   MATCH(  $Y41,  OFFSET(  Season!$E$8,   0, 3* ( AL$12 - 1 ),   34, 1 ),  0  ),    3*(AL$35 - 1) )","v":10},{"$f":"  OFFSET( Season!$F$7,   IF( MOD(    MATCH(  $Y41,  OFFSET(  Season!$E$8,   0, 3* ( AM$12 - 1 ),   34, 1 ),  0  ),    2 ) = 1,    1, -1 )     +   MATCH(  $Y41,  OFFSET(  Season!$E$8,   0, 3* ( AM$12 - 1 ),   34, 1 ),  0  ),    3*(AM$35 - 1) )","v":7},{"$f":"  OFFSET( Season!$F$7,   IF( MOD(    MATCH(  $Y41,  OFFSET(  Season!$E$8,   0, 3* ( AN$12 - 1 ),   34, 1 ),  0  ),    2 ) = 1,    1, -1 )     +   MATCH(  $Y41,  OFFSET(  Season!$E$8,   0, 3* ( AN$12 - 1 ),   34, 1 ),  0  ),    3*(AN$35 - 1) )","v":17},{"$f":"  OFFSET( Season!$F$7,   IF( MOD(    MATCH(  $Y41,  OFFSET(  Season!$E$8,   0, 3* ( AO$12 - 1 ),   34, 1 ),  0  ),    2 ) = 1,    1, -1 )     +   MATCH(  $Y41,  OFFSET(  Season!$E$8,   0, 3* ( AO$12 - 1 ),   34, 1 ),  0  ),    3*(AO$35 - 1) )","v":15},null,15,null,null,{"$f":"Standings!L11","v":"NNIT"},13.866666666666667,15.666666666666666,-1.7999999999999989]
[null,6,{"$f":"Standings!C13","v":"E55B"},19.790909090909089,{"$f":"  OFFSET( Season!$F$7,   IF( MOD(    MATCH(  $C42,  OFFSET(  Season!$E$8,   0, 3* ( E$12 - 1 ),   34, 1 ),  0  ),    2 ) = 1,    1, -1 )     +   MATCH(  $C42,  OFFSET(  Season!$E$8,   0, 3* ( E$12 - 1 ),   34, 1 ),  0  ),    3*(E$35 - 1) )","v":"f"},{"$f":"  OFFSET( Season!$F$7,   IF( MOD(    MATCH(  $C42,  OFFSET(  Season!$E$8,   0, 3* ( F$12 - 1 ),   34, 1 ),  0  ),    2 ) = 1,    1, -1 )     +   MATCH(  $C42,  OFFSET(  Season!$E$8,   0, 3* ( F$12 - 1 ),   34, 1 ),  0  ),    3*(F$35 - 1) )","v":17},{"$f":"  OFFSET( Season!$F$7,   IF( MOD(    MATCH(  $C42,  OFFSET(  Season!$E$8,   0, 3* ( G$12 - 1 ),   34, 1 ),  0  ),    2 ) = 1,    1, -1 )     +   MATCH(  $C42,  OFFSET(  Season!$E$8,   0, 3* ( G$12 - 1 ),   34, 1 ),  0  ),    3*(G$35 - 1) )","v":14},{"$f":"  OFFSET( Season!$F$7,   IF( MOD(    MATCH(  $C42,  OFFSET(  Season!$E$8,   0, 3* ( H$12 - 1 ),   34, 1 ),  0  ),    2 ) = 1,    1, -1 )     +   MATCH(  $C42,  OFFSET(  Season!$E$8,   0, 3* ( H$12 - 1 ),   34, 1 ),  0  ),    3*(H$35 - 1) )","v":32},{"$f":"  OFFSET( Season!$F$7,   IF( MOD(    MATCH(  $C42,  OFFSET(  Season!$E$8,   0, 3* ( I$12 - 1 ),   34, 1 ),  0  ),    2 ) = 1,    1, -1 )     +   MATCH(  $C42,  OFFSET(  Season!$E$8,   0, 3* ( I$12 - 1 ),   34, 1 ),  0  ),    3*(I$35 - 1) )","v":20},{"$f":"  OFFSET( Season!$F$7,   IF( MOD(    MATCH(  $C42,  OFFSET(  Season!$E$8,   0, 3* ( J$12 - 1 ),   34, 1 ),  0  ),    2 ) = 1,    1, -1 )     +   MATCH(  $C42,  OFFSET(  Season!$E$8,   0, 3* ( J$12 - 1 ),   34, 1 ),  0  ),    3*(J$35 - 1) )","v":13},{"$f":"  OFFSET( Season!$F$7,   IF( MOD(    MATCH(  $C42,  OFFSET(  Season!$E$8,   0, 3* ( K$12 - 1 ),   34, 1 ),  0  ),    2 ) = 1,    1, -1 )     +   MATCH(  $C42,  OFFSET(  Season!$E$8,   0, 3* ( K$12 - 1 ),   34, 1 ),  0  ),    3*(K$35 - 1) )","v":34.700000000000003},{"$f":"  OFFSET( Season!$F$7,   IF( MOD(    MATCH(  $C42,  OFFSET(  Season!$E$8,   0, 3* ( L$12 - 1 ),   34, 1 ),  0  ),    2 ) = 1,    1, -1 )     +   MATCH(  $C42,  OFFSET(  Season!$E$8,   0, 3* ( L$12 - 1 ),   34, 1 ),  0  ),    3*(L$35 - 1) )","v":6},{"$f":"  OFFSET( Season!$F$7,   IF( MOD(    MATCH(  $C42,  OFFSET(  Season!$E$8,   0, 3* ( M$12 - 1 ),   34, 1 ),  0  ),    2 ) = 1,    1, -1 )     +   MATCH(  $C42,  OFFSET(  Season!$E$8,   0, 3* ( M$12 - 1 ),   34, 1 ),  0  ),    3*(M$35 - 1) )","v":"f"},{"$f":"  OFFSET( Season!$F$7,   IF( MOD(    MATCH(  $C42,  OFFSET(  Season!$E$8,   0, 3* ( N$12 - 1 ),   34, 1 ),  0  ),    2 ) = 1,    1, -1 )     +   MATCH(  $C42,  OFFSET(  Season!$E$8,   0, 3* ( N$12 - 1 ),   34, 1 ),  0  ),    3*(N$35 - 1) )","v":11},{"$f":"  OFFSET( Season!$F$7,   IF( MOD(    MATCH(  $C42,  OFFSET(  Season!$E$8,   0, 3* ( O$12 - 1 ),   34, 1 ),  0  ),    2 ) = 1,    1, -1 )     +   MATCH(  $C42,  OFFSET(  Season!$E$8,   0, 3* ( O$12 - 1 ),   34, 1 ),  0  ),    3*(O$35 - 1) )","v":33},{"$f":"  OFFSET( Season!$F$7,   IF( MOD(    MATCH(  $C42,  OFFSET(  Season!$E$8,   0, 3* ( P$12 - 1 ),   34, 1 ),  0  ),    2 ) = 1,    1, -1 )     +   MATCH(  $C42,  OFFSET(  Season!$E$8,   0, 3* ( P$12 - 1 ),   34, 1 ),  0  ),    3*(P$35 - 1) )","v":22},{"$f":"  OFFSET( Season!$F$7,   IF( MOD(    MATCH(  $C42,  OFFSET(  Season!$E$8,   0, 3* ( Q$12 - 1 ),   34, 1 ),  0  ),    2 ) = 1,    1, -1 )     +   MATCH(  $C42,  OFFSET(  Season!$E$8,   0, 3* ( Q$12 - 1 ),   34, 1 ),  0  ),    3*(Q$35 - 1) )","v":15},{"$f":"  OFFSET( Season!$F$7,   IF( MOD(    MATCH(  $C42,  OFFSET(  Season!$E$8,   0, 3* ( R$12 - 1 ),   34, 1 ),  0  ),    2 ) = 1,    1, -1 )     +   MATCH(  $C42,  OFFSET(  Season!$E$8,   0, 3* ( R$12 - 1 ),   34, 1 ),  0  ),    3*(R$35 - 1) )","v":"f"},{"$f":"  OFFSET( Season!$F$7,   IF( MOD(    MATCH(  $C42,  OFFSET(  Season!$E$8,   0, 3* ( S$12 - 1 ),   34, 1 ),  0  ),    2 ) = 1,    1, -1 )     +   MATCH(  $C42,  OFFSET(  Season!$E$8,   0, 3* ( S$12 - 1 ),   34, 1 ),  0  ),    3*(S$35 - 1) )","v":"f"},null,11,null,null,6,{"$f":"Standings!L20","v":"CVN"},17.153846153846153,{"$f":"  OFFSET( Season!$F$7,   IF( MOD(    MATCH(  $Y42,  OFFSET(  Season!$E$8,   0, 3* ( AA$12 - 1 ),   34, 1 ),  0  ),    2 ) = 1,    1, -1 )     +   MATCH(  $Y42,  OFFSET(  Season!$E$8,   0, 3* ( AA$12 - 1 ),   34, 1 ),  0  ),    3*(AA$35 - 1) )","v":22},{"$f":"  OFFSET( Season!$F$7,   IF( MOD(    MATCH(  $Y42,  OFFSET(  Season!$E$8,   0, 3* ( AB$12 - 1 ),   34, 1 ),  0  ),    2 ) = 1,    1, -1 )     +   MATCH(  $Y42,  OFFSET(  Season!$E$8,   0, 3* ( AB$12 - 1 ),   34, 1 ),  0  ),    3*(AB$35 - 1) )","v":13},{"$f":"  OFFSET( Season!$F$7,   IF( MOD(    MATCH(  $Y42,  OFFSET(  Season!$E$8,   0, 3* ( AC$12 - 1 ),   34, 1 ),  0  ),    2 ) = 1,    1, -1 )     +   MATCH(  $Y42,  OFFSET(  Season!$E$8,   0, 3* ( AC$12 - 1 ),   34, 1 ),  0  ),    3*(AC$35 - 1) )","v":11},{"$f":"  OFFSET( Season!$F$7,   IF( MOD(    MATCH(  $Y42,  OFFSET(  Season!$E$8,   0, 3* ( AD$12 - 1 ),   34, 1 ),  0  ),    2 ) = 1,    1, -1 )     +   MATCH(  $Y42,  OFFSET(  Season!$E$8,   0, 3* ( AD$12 - 1 ),   34, 1 ),  0  ),    3*(AD$35 - 1) )","v":19},{"$f":"  OFFSET( Season!$F$7,   IF( MOD(    MATCH(  $Y42,  OFFSET(  Season!$E$8,   0, 3* ( AE$12 - 1 ),   34, 1 ),  0  ),    2 ) = 1,    1, -1 )     +   MATCH(  $Y42,  OFFSET(  Season!$E$8,   0, 3* ( AE$12 - 1 ),   34, 1 ),  0  ),    3*(AE$35 - 1) )","v":27},{"$f":"  OFFSET( Season!$F$7,   IF( MOD(    MATCH(  $Y42,  OFFSET(  Season!$E$8,   0, 3* ( AF$12 - 1 ),   34, 1 ),  0  ),    2 ) = 1,    1, -1 )     +   MATCH(  $Y42,  OFFSET(  Season!$E$8,   0, 3* ( AF$12 - 1 ),   34, 1 ),  0  ),    3*(AF$35 - 1) )","v":31},{"$f":"  OFFSET( Season!$F$7,   IF( MOD(    MATCH(  $Y42,  OFFSET(  Season!$E$8,   0, 3* ( AG$12 - 1 ),   34, 1 ),  0  ),    2 ) = 1,    1, -1 )     +   MATCH(  $Y42,  OFFSET(  Season!$E$8,   0, 3* ( AG$12 - 1 ),   34, 1 ),  0  ),    3*(AG$35 - 1) )","v":12},{"$f":"  OFFSET( Season!$F$7,   IF( MOD(    MATCH(  $Y42,  OFFSET(  Season!$E$8,   0, 3* ( AH$12 - 1 ),   34, 1 ),  0  ),    2 ) = 1,    1, -1 )     +   MATCH(  $Y42,  OFFSET(  Season!$E$8,   0, 3* ( AH$12 - 1 ),   34, 1 ),  0  ),    3*(AH$35 - 1) )","v":0},{"$f":"  OFFSET( Season!$F$7,   IF( MOD(    MATCH(  $Y42,  OFFSET(  Season!$E$8,   0, 3* ( AI$12 - 1 ),   34, 1 ),  0  ),    2 ) = 1,    1, -1 )     +   MATCH(  $Y42,  OFFSET(  Season!$E$8,   0, 3* ( AI$12 - 1 ),   34, 1 ),  0  ),    3*(AI$35 - 1) )","v":20},{"$f":"  OFFSET( Season!$F$7,   IF( MOD(    MATCH(  $Y42,  OFFSET(  Season!$E$8,   0, 3* ( AJ$12 - 1 ),   34, 1 ),  0  ),    2 ) = 1,    1, -1 )     +   MATCH(  $Y42,  OFFSET(  Season!$E$8,   0, 3* ( AJ$12 - 1 ),   34, 1 ),  0  ),    3*(AJ$35 - 1) )","v":21},{"$f":"  OFFSET( Season!$F$7,   IF( MOD(    MATCH(  $Y42,  OFFSET(  Season!$E$8,   0, 3* ( AK$12 - 1 ),   34, 1 ),  0  ),    2 ) = 1,    1, -1 )     +   MATCH(  $Y42,  OFFSET(  Season!$E$8,   0, 3* ( AK$12 - 1 ),   34, 1 ),  0  ),    3*(AK$35 - 1) )","v":4},{"$f":"  OFFSET( Season!$F$7,   IF( MOD(    MATCH(  $Y42,  OFFSET(  Season!$E$8,   0, 3* ( AL$12 - 1 ),   34, 1 ),  0  ),    2 ) = 1,    1, -1 )     +   MATCH(  $Y42,  OFFSET(  Season!$E$8,   0, 3* ( AL$12 - 1 ),   34, 1 ),  0  ),    3*(AL$35 - 1) )","v":18},{"$f":"  OFFSET( Season!$F$7,   IF( MOD(    MATCH(  $Y42,  OFFSET(  Season!$E$8,   0, 3* ( AM$12 - 1 ),   34, 1 ),  0  ),    2 ) = 1,    1, -1 )     +   MATCH(  $Y42,  OFFSET(  Season!$E$8,   0, 3* ( AM$12 - 1 ),   34, 1 ),  0  ),    3*(AM$35 - 1) )","v":2},{"$f":"  OFFSET( Season!$F$7,   IF( MOD(    MATCH(  $Y42,  OFFSET(  Season!$E$8,   0, 3* ( AN$12 - 1 ),   34, 1 ),  0  ),    2 ) = 1,    1, -1 )     +   MATCH(  $Y42,  OFFSET(  Season!$E$8,   0, 3* ( AN$12 - 1 ),   34, 1 ),  0  ),    3*(AN$35 - 1) )","v":23},{"$f":"  OFFSET( Season!$F$7,   IF( MOD(    MATCH(  $Y42,  OFFSET(  Season!$E$8,   0, 3* ( AO$12 - 1 ),   34, 1 ),  0  ),    2 ) = 1,    1, -1 )     +   MATCH(  $Y42,  OFFSET(  Season!$E$8,   0, 3* ( AO$12 - 1 ),   34, 1 ),  0  ),    3*(AO$35 - 1) )","v":0},null,13,null,null,{"$f":"Standings!L9","v":"M10"},16,17.34,-1.3399999999999999]
[null,7,{"$f":"Standings!C17","v":"AGS"},18.692307692307693,{"$f":"  OFFSET( Season!$F$7,   IF( MOD(    MATCH(  $C43,  OFFSET(  Season!$E$8,   0, 3* ( E$12 - 1 ),   34, 1 ),  0  ),    2 ) = 1,    1, -1 )     +   MATCH(  $C43,  OFFSET(  Season!$E$8,   0, 3* ( E$12 - 1 ),   34, 1 ),  0  ),    3*(E$35 - 1) )","v":19},{"$f":"  OFFSET( Season!$F$7,   IF( MOD(    MATCH(  $C43,  OFFSET(  Season!$E$8,   0, 3* ( F$12 - 1 ),   34, 1 ),  0  ),    2 ) = 1,    1, -1 )     +   MATCH(  $C43,  OFFSET(  Season!$E$8,   0, 3* ( F$12 - 1 ),   34, 1 ),  0  ),    3*(F$35 - 1) )","v":28},{"$f":"  OFFSET( Season!$F$7,   IF( MOD(    MATCH(  $C43,  OFFSET(  Season!$E$8,   0, 3* ( G$12 - 1 ),   34, 1 ),  0  ),    2 ) = 1,    1, -1 )     +   MATCH(  $C43,  OFFSET(  Season!$E$8,   0, 3* ( G$12 - 1 ),   34, 1 ),  0  ),    3*(G$35 - 1) )","v":17},{"$f":"  OFFSET( Season!$F$7,   IF( MOD(    MATCH(  $C43,  OFFSET(  Season!$E$8,   0, 3* ( H$12 - 1 ),   34, 1 ),  0  ),    2 ) = 1,    1, -1 )     +   MATCH(  $C43,  OFFSET(  Season!$E$8,   0, 3* ( H$12 - 1 ),   34, 1 ),  0  ),    3*(H$35 - 1) )","v":25},{"$f":"  OFFSET( Season!$F$7,   IF( MOD(    MATCH(  $C43,  OFFSET(  Season!$E$8,   0, 3* ( I$12 - 1 ),   34, 1 ),  0  ),    2 ) = 1,    1, -1 )     +   MATCH(  $C43,  OFFSET(  Season!$E$8,   0, 3* ( I$12 - 1 ),   34, 1 ),  0  ),    3*(I$35 - 1) )","v":28},{"$f":"  OFFSET( Season!$F$7,   IF( MOD(    MATCH(  $C43,  OFFSET(  Season!$E$8,   0, 3* ( J$12 - 1 ),   34, 1 ),  0  ),    2 ) = 1,    1, -1 )     +   MATCH(  $C43,  OFFSET(  Season!$E$8,   0, 3* ( J$12 - 1 ),   34, 1 ),  0  ),    3*(J$35 - 1) )","v":13},{"$f":"  OFFSET( Season!$F$7,   IF( MOD(    MATCH(  $C43,  OFFSET(  Season!$E$8,   0, 3* ( K$12 - 1 ),   34, 1 ),  0  ),    2 ) = 1,    1, -1 )     +   MATCH(  $C43,  OFFSET(  Season!$E$8,   0, 3* ( K$12 - 1 ),   34, 1 ),  0  ),    3*(K$35 - 1) )","v":22},{"$f":"  OFFSET( Season!$F$7,   IF( MOD(    MATCH(  $C43,  OFFSET(  Season!$E$8,   0, 3* ( L$12 - 1 ),   34, 1 ),  0  ),    2 ) = 1,    1, -1 )     +   MATCH(  $C43,  OFFSET(  Season!$E$8,   0, 3* ( L$12 - 1 ),   34, 1 ),  0  ),    3*(L$35 - 1) )","v":7},{"$f":"  OFFSET( Season!$F$7,   IF( MOD(    MATCH(  $C43,  OFFSET(  Season!$E$8,   0, 3* ( M$12 - 1 ),   34, 1 ),  0  ),    2 ) = 1,    1, -1 )     +   MATCH(  $C43,  OFFSET(  Season!$E$8,   0, 3* ( M$12 - 1 ),   34, 1 ),  0  ),    3*(M$35 - 1) )","v":23},{"$f":"  OFFSET( Season!$F$7,   IF( MOD(    MATCH(  $C43,  OFFSET(  Season!$E$8,   0, 3* ( N$12 - 1 ),   34, 1 ),  0  ),    2 ) = 1,    1, -1 )     +   MATCH(  $C43,  OFFSET(  Season!$E$8,   0, 3* ( N$12 - 1 ),   34, 1 ),  0  ),    3*(N$35 - 1) )","v":8},{"$f":"  OFFSET( Season!$F$7,   IF( MOD(    MATCH(  $C43,  OFFSET(  Season!$E$8,   0, 3* ( O$12 - 1 ),   34, 1 ),  0  ),    2 ) = 1,    1, -1 )     +   MATCH(  $C43,  OFFSET(  Season!$E$8,   0, 3* ( O$12 - 1 ),   34, 1 ),  0  ),    3*(O$35 - 1) )","v":25},{"$f":"  OFFSET( Season!$F$7,   IF( MOD(    MATCH(  $C43,  OFFSET(  Season!$E$8,   0, 3* ( P$12 - 1 ),   34, 1 ),  0  ),    2 ) = 1,    1, -1 )     +   MATCH(  $C43,  OFFSET(  Season!$E$8,   0, 3* ( P$12 - 1 ),   34, 1 ),  0  ),    3*(P$35 - 1) )","v":11},{"$f":"  OFFSET( Season!$F$7,   IF( MOD(    MATCH(  $C43,  OFFSET(  Season!$E$8,   0, 3* ( Q$12 - 1 ),   34, 1 ),  0  ),    2 ) = 1,    1, -1 )     +   MATCH(  $C43,  OFFSET(  Season!$E$8,   0, 3* ( Q$12 - 1 ),   34, 1 ),  0  ),    3*(Q$35 - 1) )","v":17},{"$f":"  OFFSET( Season!$F$7,   IF( MOD(    MATCH(  $C43,  OFFSET(  Season!$E$8,   0, 3* ( R$12 - 1 ),   34, 1 ),  0  ),    2 ) = 1,    1, -1 )     +   MATCH(  $C43,  OFFSET(  Season!$E$8,   0, 3* ( R$12 - 1 ),   34, 1 ),  0  ),    3*(R$35 - 1) )","v":0},{"$f":"  OFFSET( Season!$F$7,   IF( MOD(    MATCH(  $C43,  OFFSET(  Season!$E$8,   0, 3* ( S$12 - 1 ),   34, 1 ),  0  ),    2 ) = 1,    1, -1 )     +   MATCH(  $C43,  OFFSET(  Season!$E$8,   0, 3* ( S$12 - 1 ),   34, 1 ),  0  ),    3*(S$35 - 1) )","v":0},null,13,null,null,7,{"$f":"Standings!L7","v":"X31"},17.071428571428573,{"$f":"  OFFSET( Season!$F$7,   IF( MOD(    MATCH(  $Y43,  OFFSET(  Season!$E$8,   0, 3* ( AA$12 - 1 ),   34, 1 ),  0  ),    2 ) = 1,    1, -1 )     +   MATCH(  $Y43,  OFFSET(  Season!$E$8,   0, 3* ( AA$12 - 1 ),   34, 1 ),  0  ),    3*(AA$35 - 1) )","v":26},{"$f":"  OFFSET( Season!$F$7,   IF( MOD(    MATCH(  $Y43,  OFFSET(  Season!$E$8,   0, 3* ( AB$12 - 1 ),   34, 1 ),  0  ),    2 ) = 1,    1, -1 )     +   MATCH(  $Y43,  OFFSET(  Season!$E$8,   0, 3* ( AB$12 - 1 ),   34, 1 ),  0  ),    3*(AB$35 - 1) )","v":19},{"$f":"  OFFSET( Season!$F$7,   IF( MOD(    MATCH(  $Y43,  OFFSET(  Season!$E$8,   0, 3* ( AC$12 - 1 ),   34, 1 ),  0  ),    2 ) = 1,    1, -1 )     +   MATCH(  $Y43,  OFFSET(  Season!$E$8,   0, 3* ( AC$12 - 1 ),   34, 1 ),  0  ),    3*(AC$35 - 1) )","v":21},{"$f":"  OFFSET( Season!$F$7,   IF( MOD(    MATCH(  $Y43,  OFFSET(  Season!$E$8,   0, 3* ( AD$12 - 1 ),   34, 1 ),  0  ),    2 ) = 1,    1, -1 )     +   MATCH(  $Y43,  OFFSET(  Season!$E$8,   0, 3* ( AD$12 - 1 ),   34, 1 ),  0  ),    3*(AD$35 - 1) )","v":14},{"$f":"  OFFSET( Season!$F$7,   IF( MOD(    MATCH(  $Y43,  OFFSET(  Season!$E$8,   0, 3* ( AE$12 - 1 ),   34, 1 ),  0  ),    2 ) = 1,    1, -1 )     +   MATCH(  $Y43,  OFFSET(  Season!$E$8,   0, 3* ( AE$12 - 1 ),   34, 1 ),  0  ),    3*(AE$35 - 1) )","v":14},{"$f":"  OFFSET( Season!$F$7,   IF( MOD(    MATCH(  $Y43,  OFFSET(  Season!$E$8,   0, 3* ( AF$12 - 1 ),   34, 1 ),  0  ),    2 ) = 1,    1, -1 )     +   MATCH(  $Y43,  OFFSET(  Season!$E$8,   0, 3* ( AF$12 - 1 ),   34, 1 ),  0  ),    3*(AF$35 - 1) )","v":23},{"$f":"  OFFSET( Season!$F$7,   IF( MOD(    MATCH(  $Y43,  OFFSET(  Season!$E$8,   0, 3* ( AG$12 - 1 ),   34, 1 ),  0  ),    2 ) = 1,    1, -1 )     +   MATCH(  $Y43,  OFFSET(  Season!$E$8,   0, 3* ( AG$12 - 1 ),   34, 1 ),  0  ),    3*(AG$35 - 1) )","v":2},{"$f":"  OFFSET( Season!$F$7,   IF( MOD(    MATCH(  $Y43,  OFFSET(  Season!$E$8,   0, 3* ( AH$12 - 1 ),   34, 1 ),  0  ),    2 ) = 1,    1, -1 )     +   MATCH(  $Y43,  OFFSET(  Season!$E$8,   0, 3* ( AH$12 - 1 ),   34, 1 ),  0  ),    3*(AH$35 - 1) )","v":0},{"$f":"  OFFSET( Season!$F$7,   IF( MOD(    MATCH(  $Y43,  OFFSET(  Season!$E$8,   0, 3* ( AI$12 - 1 ),   34, 1 ),  0  ),    2 ) = 1,    1, -1 )     +   MATCH(  $Y43,  OFFSET(  Season!$E$8,   0, 3* ( AI$12 - 1 ),   34, 1 ),  0  ),    3*(AI$35 - 1) )","v":18},{"$f":"  OFFSET( Season!$F$7,   IF( MOD(    MATCH(  $Y43,  OFFSET(  Season!$E$8,   0, 3* ( AJ$12 - 1 ),   34, 1 ),  0  ),    2 ) = 1,    1, -1 )     +   MATCH(  $Y43,  OFFSET(  Season!$E$8,   0, 3* ( AJ$12 - 1 ),   34, 1 ),  0  ),    3*(AJ$35 - 1) )","v":26},{"$f":"  OFFSET( Season!$F$7,   IF( MOD(    MATCH(  $Y43,  OFFSET(  Season!$E$8,   0, 3* ( AK$12 - 1 ),   34, 1 ),  0  ),    2 ) = 1,    1, -1 )     +   MATCH(  $Y43,  OFFSET(  Season!$E$8,   0, 3* ( AK$12 - 1 ),   34, 1 ),  0  ),    3*(AK$35 - 1) )","v":26},{"$f":"  OFFSET( Season!$F$7,   IF( MOD(    MATCH(  $Y43,  OFFSET(  Season!$E$8,   0, 3* ( AL$12 - 1 ),   34, 1 ),  0  ),    2 ) = 1,    1, -1 )     +   MATCH(  $Y43,  OFFSET(  Season!$E$8,   0, 3* ( AL$12 - 1 ),   34, 1 ),  0  ),    3*(AL$35 - 1) )","v":15},{"$f":"  OFFSET( Season!$F$7,   IF( MOD(    MATCH(  $Y43,  OFFSET(  Season!$E$8,   0, 3* ( AM$12 - 1 ),   34, 1 ),  0  ),    2 ) = 1,    1, -1 )     +   MATCH(  $Y43,  OFFSET(  Season!$E$8,   0, 3* ( AM$12 - 1 ),   34, 1 ),  0  ),    3*(AM$35 - 1) )","v":13},{"$f":"  OFFSET( Season!$F$7,   IF( MOD(    MATCH(  $Y43,  OFFSET(  Season!$E$8,   0, 3* ( AN$12 - 1 ),   34, 1 ),  0  ),    2 ) = 1,    1, -1 )     +   MATCH(  $Y43,  OFFSET(  Season!$E$8,   0, 3* ( AN$12 - 1 ),   34, 1 ),  0  ),    3*(AN$35 - 1) )","v":9},{"$f":"  OFFSET( Season!$F$7,   IF( MOD(    MATCH(  $Y43,  OFFSET(  Season!$E$8,   0, 3* ( AO$12 - 1 ),   34, 1 ),  0  ),    2 ) = 1,    1, -1 )     +   MATCH(  $Y43,  OFFSET(  Season!$E$8,   0, 3* ( AO$12 - 1 ),   34, 1 ),  0  ),    3*(AO$35 - 1) )","v":13},null,14,null,null,{"$f":"Standings!L16","v":"O46"},14.733333333333333,15.8,-1.0666666666666682]
[null,8,{"$f":"Standings!C8","v":"E60"},17.928571428571427,{"$f":"  OFFSET( Season!$F$7,   IF( MOD(    MATCH(  $C44,  OFFSET(  Season!$E$8,   0, 3* ( E$12 - 1 ),   34, 1 ),  0  ),    2 ) = 1,    1, -1 )     +   MATCH(  $C44,  OFFSET(  Season!$E$8,   0, 3* ( E$12 - 1 ),   34, 1 ),  0  ),    3*(E$35 - 1) )","v":38},{"$f":"  OFFSET( Season!$F$7,   IF( MOD(    MATCH(  $C44,  OFFSET(  Season!$E$8,   0, 3* ( F$12 - 1 ),   34, 1 ),  0  ),    2 ) = 1,    1, -1 )     +   MATCH(  $C44,  OFFSET(  Season!$E$8,   0, 3* ( F$12 - 1 ),   34, 1 ),  0  ),    3*(F$35 - 1) )","v":36},{"$f":"  OFFSET( Season!$F$7,   IF( MOD(    MATCH(  $C44,  OFFSET(  Season!$E$8,   0, 3* ( G$12 - 1 ),   34, 1 ),  0  ),    2 ) = 1,    1, -1 )     +   MATCH(  $C44,  OFFSET(  Season!$E$8,   0, 3* ( G$12 - 1 ),   34, 1 ),  0  ),    3*(G$35 - 1) )","v":19},{"$f":"  OFFSET( Season!$F$7,   IF( MOD(    MATCH(  $C44,  OFFSET(  Season!$E$8,   0, 3* ( H$12 - 1 ),   34, 1 ),  0  ),    2 ) = 1,    1, -1 )     +   MATCH(  $C44,  OFFSET(  Season!$E$8,   0, 3* ( H$12 - 1 ),   34, 1 ),  0  ),    3*(H$35 - 1) )","v":27},{"$f":"  OFFSET( Season!$F$7,   IF( MOD(    MATCH(  $C44,  OFFSET(  Season!$E$8,   0, 3* ( I$12 - 1 ),   34, 1 ),  0  ),    2 ) = 1,    1, -1 )     +   MATCH(  $C44,  OFFSET(  Season!$E$8,   0, 3* ( I$12 - 1 ),   34, 1 ),  0  ),    3*(I$35 - 1) )","v":16},{"$f":"  OFFSET( Season!$F$7,   IF( MOD(    MATCH(  $C44,  OFFSET(  Season!$E$8,   0, 3* ( J$12 - 1 ),   34, 1 ),  0  ),    2 ) = 1,    1, -1 )     +   MATCH(  $C44,  OFFSET(  Season!$E$8,   0, 3* ( J$12 - 1 ),   34, 1 ),  0  ),    3*(J$35 - 1) )","v":26},{"$f":"  OFFSET( Season!$F$7,   IF( MOD(    MATCH(  $C44,  OFFSET(  Season!$E$8,   0, 3* ( K$12 - 1 ),   34, 1 ),  0  ),    2 ) = 1,    1, -1 )     +   MATCH(  $C44,  OFFSET(  Season!$E$8,   0, 3* ( K$12 - 1 ),   34, 1 ),  0  ),    3*(K$35 - 1) )","v":7},{"$f":"  OFFSET( Season!$F$7,   IF( MOD(    MATCH(  $C44,  OFFSET(  Season!$E$8,   0, 3* ( L$12 - 1 ),   34, 1 ),  0  ),    2 ) = 1,    1, -1 )     +   MATCH(  $C44,  OFFSET(  Season!$E$8,   0, 3* ( L$12 - 1 ),   34, 1 ),  0  ),    3*(L$35 - 1) )","v":17},{"$f":"  OFFSET( Season!$F$7,   IF( MOD(    MATCH(  $C44,  OFFSET(  Season!$E$8,   0, 3* ( M$12 - 1 ),   34, 1 ),  0  ),    2 ) = 1,    1, -1 )     +   MATCH(  $C44,  OFFSET(  Season!$E$8,   0, 3* ( M$12 - 1 ),   34, 1 ),  0  ),    3*(M$35 - 1) )","v":10},{"$f":"  OFFSET( Season!$F$7,   IF( MOD(    MATCH(  $C44,  OFFSET(  Season!$E$8,   0, 3* ( N$12 - 1 ),   34, 1 ),  0  ),    2 ) = 1,    1, -1 )     +   MATCH(  $C44,  OFFSET(  Season!$E$8,   0, 3* ( N$12 - 1 ),   34, 1 ),  0  ),    3*(N$35 - 1) )","v":12},{"$f":"  OFFSET( Season!$F$7,   IF( MOD(    MATCH(  $C44,  OFFSET(  Season!$E$8,   0, 3* ( O$12 - 1 ),   34, 1 ),  0  ),    2 ) = 1,    1, -1 )     +   MATCH(  $C44,  OFFSET(  Season!$E$8,   0, 3* ( O$12 - 1 ),   34, 1 ),  0  ),    3*(O$35 - 1) )","v":"f"},{"$f":"  OFFSET( Season!$F$7,   IF( MOD(    MATCH(  $C44,  OFFSET(  Season!$E$8,   0, 3* ( P$12 - 1 ),   34, 1 ),  0  ),    2 ) = 1,    1, -1 )     +   MATCH(  $C44,  OFFSET(  Season!$E$8,   0, 3* ( P$12 - 1 ),   34, 1 ),  0  ),    3*(P$35 - 1) )","v":19},{"$f":"  OFFSET( Season!$F$7,   IF( MOD(    MATCH(  $C44,  OFFSET(  Season!$E$8,   0, 3* ( Q$12 - 1 ),   34, 1 ),  0  ),    2 ) = 1,    1, -1 )     +   MATCH(  $C44,  OFFSET(  Season!$E$8,   0, 3* ( Q$12 - 1 ),   34, 1 ),  0  ),    3*(Q$35 - 1) )","v":5},{"$f":"  OFFSET( Season!$F$7,   IF( MOD(    MATCH(  $C44,  OFFSET(  Season!$E$8,   0, 3* ( R$12 - 1 ),   34, 1 ),  0  ),    2 ) = 1,    1, -1 )     +   MATCH(  $C44,  OFFSET(  Season!$E$8,   0, 3* ( R$12 - 1 ),   34, 1 ),  0  ),    3*(R$35 - 1) )","v":10},{"$f":"  OFFSET( Season!$F$7,   IF( MOD(    MATCH(  $C44,  OFFSET(  Season!$E$8,   0, 3* ( S$12 - 1 ),   34, 1 ),  0  ),    2 ) = 1,    1, -1 )     +   MATCH(  $C44,  OFFSET(  Season!$E$8,   0, 3* ( S$12 - 1 ),   34, 1 ),  0  ),    3*(S$35 - 1) )","v":9},null,14,null,null,8,{"$f":"Standings!L10","v":"SCM"},17.066666666666666,{"$f":"  OFFSET( Season!$F$7,   IF( MOD(    MATCH(  $Y44,  OFFSET(  Season!$E$8,   0, 3* ( AA$12 - 1 ),   34, 1 ),  0  ),    2 ) = 1,    1, -1 )     +   MATCH(  $Y44,  OFFSET(  Season!$E$8,   0, 3* ( AA$12 - 1 ),   34, 1 ),  0  ),    3*(AA$35 - 1) )","v":18},{"$f":"  OFFSET( Season!$F$7,   IF( MOD(    MATCH(  $Y44,  OFFSET(  Season!$E$8,   0, 3* ( AB$12 - 1 ),   34, 1 ),  0  ),    2 ) = 1,    1, -1 )     +   MATCH(  $Y44,  OFFSET(  Season!$E$8,   0, 3* ( AB$12 - 1 ),   34, 1 ),  0  ),    3*(AB$35 - 1) )","v":32},{"$f":"  OFFSET( Season!$F$7,   IF( MOD(    MATCH(  $Y44,  OFFSET(  Season!$E$8,   0, 3* ( AC$12 - 1 ),   34, 1 ),  0  ),    2 ) = 1,    1, -1 )     +   MATCH(  $Y44,  OFFSET(  Season!$E$8,   0, 3* ( AC$12 - 1 ),   34, 1 ),  0  ),    3*(AC$35 - 1) )","v":29},{"$f":"  OFFSET( Season!$F$7,   IF( MOD(    MATCH(  $Y44,  OFFSET(  Season!$E$8,   0, 3* ( AD$12 - 1 ),   34, 1 ),  0  ),    2 ) = 1,    1, -1 )     +   MATCH(  $Y44,  OFFSET(  Season!$E$8,   0, 3* ( AD$12 - 1 ),   34, 1 ),  0  ),    3*(AD$35 - 1) )","v":25},{"$f":"  OFFSET( Season!$F$7,   IF( MOD(    MATCH(  $Y44,  OFFSET(  Season!$E$8,   0, 3* ( AE$12 - 1 ),   34, 1 ),  0  ),    2 ) = 1,    1, -1 )     +   MATCH(  $Y44,  OFFSET(  Season!$E$8,   0, 3* ( AE$12 - 1 ),   34, 1 ),  0  ),    3*(AE$35 - 1) )","v":11},{"$f":"  OFFSET( Season!$F$7,   IF( MOD(    MATCH(  $Y44,  OFFSET(  Season!$E$8,   0, 3* ( AF$12 - 1 ),   34, 1 ),  0  ),    2 ) = 1,    1, -1 )     +   MATCH(  $Y44,  OFFSET(  Season!$E$8,   0, 3* ( AF$12 - 1 ),   34, 1 ),  0  ),    3*(AF$35 - 1) )","v":21},{"$f":"  OFFSET( Season!$F$7,   IF( MOD(    MATCH(  $Y44,  OFFSET(  Season!$E$8,   0, 3* ( AG$12 - 1 ),   34, 1 ),  0  ),    2 ) = 1,    1, -1 )     +   MATCH(  $Y44,  OFFSET(  Season!$E$8,   0, 3* ( AG$12 - 1 ),   34, 1 ),  0  ),    3*(AG$35 - 1) )","v":23},{"$f":"  OFFSET( Season!$F$7,   IF( MOD(    MATCH(  $Y44,  OFFSET(  Season!$E$8,   0, 3* ( AH$12 - 1 ),   34, 1 ),  0  ),    2 ) = 1,    1, -1 )     +   MATCH(  $Y44,  OFFSET(  Season!$E$8,   0, 3* ( AH$12 - 1 ),   34, 1 ),  0  ),    3*(AH$35 - 1) )","v":22},{"$f":"  OFFSET( Season!$F$7,   IF( MOD(    MATCH(  $Y44,  OFFSET(  Season!$E$8,   0, 3* ( AI$12 - 1 ),   34, 1 ),  0  ),    2 ) = 1,    1, -1 )     +   MATCH(  $Y44,  OFFSET(  Season!$E$8,   0, 3* ( AI$12 - 1 ),   34, 1 ),  0  ),    3*(AI$35 - 1) )","v":17},{"$f":"  OFFSET( Season!$F$7,   IF( MOD(    MATCH(  $Y44,  OFFSET(  Season!$E$8,   0, 3* ( AJ$12 - 1 ),   34, 1 ),  0  ),    2 ) = 1,    1, -1 )     +   MATCH(  $Y44,  OFFSET(  Season!$E$8,   0, 3* ( AJ$12 - 1 ),   34, 1 ),  0  ),    3*(AJ$35 - 1) )","v":8},{"$f":"  OFFSET( Season!$F$7,   IF( MOD(    MATCH(  $Y44,  OFFSET(  Season!$E$8,   0, 3* ( AK$12 - 1 ),   34, 1 ),  0  ),    2 ) = 1,    1, -1 )     +   MATCH(  $Y44,  OFFSET(  Season!$E$8,   0, 3* ( AK$12 - 1 ),   34, 1 ),  0  ),    3*(AK$35 - 1) )","v":8},{"$f":"  OFFSET( Season!$F$7,   IF( MOD(    MATCH(  $Y44,  OFFSET(  Season!$E$8,   0, 3* ( AL$12 - 1 ),   34, 1 ),  0  ),    2 ) = 1,    1, -1 )     +   MATCH(  $Y44,  OFFSET(  Season!$E$8,   0, 3* ( AL$12 - 1 ),   34, 1 ),  0  ),    3*(AL$35 - 1) )","v":-3},{"$f":"  OFFSET( Season!$F$7,   IF( MOD(    MATCH(  $Y44,  OFFSET(  Season!$E$8,   0, 3* ( AM$12 - 1 ),   34, 1 ),  0  ),    2 ) = 1,    1, -1 )     +   MATCH(  $Y44,  OFFSET(  Season!$E$8,   0, 3* ( AM$12 - 1 ),   34, 1 ),  0  ),    3*(AM$35 - 1) )","v":22},{"$f":"  OFFSET( Season!$F$7,   IF( MOD(    MATCH(  $Y44,  OFFSET(  Season!$E$8,   0, 3* ( AN$12 - 1 ),   34, 1 ),  0  ),    2 ) = 1,    1, -1 )     +   MATCH(  $Y44,  OFFSET(  Season!$E$8,   0, 3* ( AN$12 - 1 ),   34, 1 ),  0  ),    3*(AN$35 - 1) )","v":11},{"$f":"  OFFSET( Season!$F$7,   IF( MOD(    MATCH(  $Y44,  OFFSET(  Season!$E$8,   0, 3* ( AO$12 - 1 ),   34, 1 ),  0  ),    2 ) = 1,    1, -1 )     +   MATCH(  $Y44,  OFFSET(  Season!$E$8,   0, 3* ( AO$12 - 1 ),   34, 1 ),  0  ),    3*(AO$35 - 1) )","v":12},null,15,null,null,{"$f":"Standings!L8","v":"O87"},15,15.133333333333333,-0.13333333333333286]
[null,9,{"$f":"Standings!C16","v":"X01"},17.866666666666667,{"$f":"  OFFSET( Season!$F$7,   IF( MOD(    MATCH(  $C45,  OFFSET(  Season!$E$8,   0, 3* ( E$12 - 1 ),   34, 1 ),  0  ),    2 ) = 1,    1, -1 )     +   MATCH(  $C45,  OFFSET(  Season!$E$8,   0, 3* ( E$12 - 1 ),   34, 1 ),  0  ),    3*(E$35 - 1) )","v":30},{"$f":"  OFFSET( Season!$F$7,   IF( MOD(    MATCH(  $C45,  OFFSET(  Season!$E$8,   0, 3* ( F$12 - 1 ),   34, 1 ),  0  ),    2 ) = 1,    1, -1 )     +   MATCH(  $C45,  OFFSET(  Season!$E$8,   0, 3* ( F$12 - 1 ),   34, 1 ),  0  ),    3*(F$35 - 1) )","v":33},{"$f":"  OFFSET( Season!$F$7,   IF( MOD(    MATCH(  $C45,  OFFSET(  Season!$E$8,   0, 3* ( G$12 - 1 ),   34, 1 ),  0  ),    2 ) = 1,    1, -1 )     +   MATCH(  $C45,  OFFSET(  Season!$E$8,   0, 3* ( G$12 - 1 ),   34, 1 ),  0  ),    3*(G$35 - 1) )","v":19},{"$f":"  OFFSET( Season!$F$7,   IF( MOD(    MATCH(  $C45,  OFFSET(  Season!$E$8,   0, 3* ( H$12 - 1 ),   34, 1 ),  0  ),    2 ) = 1,    1, -1 )     +   MATCH(  $C45,  OFFSET(  Season!$E$8,   0, 3* ( H$12 - 1 ),   34, 1 ),  0  ),    3*(H$35 - 1) )","v":18},{"$f":"  OFFSET( Season!$F$7,   IF( MOD(    MATCH(  $C45,  OFFSET(  Season!$E$8,   0, 3* ( I$12 - 1 ),   34, 1 ),  0  ),    2 ) = 1,    1, -1 )     +   MATCH(  $C45,  OFFSET(  Season!$E$8,   0, 3* ( I$12 - 1 ),   34, 1 ),  0  ),    3*(I$35 - 1) )","v":31},{"$f":"  OFFSET( Season!$F$7,   IF( MOD(    MATCH(  $C45,  OFFSET(  Season!$E$8,   0, 3* ( J$12 - 1 ),   34, 1 ),  0  ),    2 ) = 1,    1, -1 )     +   MATCH(  $C45,  OFFSET(  Season!$E$8,   0, 3* ( J$12 - 1 ),   34, 1 ),  0  ),    3*(J$35 - 1) )","v":28},{"$f":"  OFFSET( Season!$F$7,   IF( MOD(    MATCH(  $C45,  OFFSET(  Season!$E$8,   0, 3* ( K$12 - 1 ),   34, 1 ),  0  ),    2 ) = 1,    1, -1 )     +   MATCH(  $C45,  OFFSET(  Season!$E$8,   0, 3* ( K$12 - 1 ),   34, 1 ),  0  ),    3*(K$35 - 1) )","v":6},{"$f":"  OFFSET( Season!$F$7,   IF( MOD(    MATCH(  $C45,  OFFSET(  Season!$E$8,   0, 3* ( L$12 - 1 ),   34, 1 ),  0  ),    2 ) = 1,    1, -1 )     +   MATCH(  $C45,  OFFSET(  Season!$E$8,   0, 3* ( L$12 - 1 ),   34, 1 ),  0  ),    3*(L$35 - 1) )","v":21},{"$f":"  OFFSET( Season!$F$7,   IF( MOD(    MATCH(  $C45,  OFFSET(  Season!$E$8,   0, 3* ( M$12 - 1 ),   34, 1 ),  0  ),    2 ) = 1,    1, -1 )     +   MATCH(  $C45,  OFFSET(  Season!$E$8,   0, 3* ( M$12 - 1 ),   34, 1 ),  0  ),    3*(M$35 - 1) )","v":11},{"$f":"  OFFSET( Season!$F$7,   IF( MOD(    MATCH(  $C45,  OFFSET(  Season!$E$8,   0, 3* ( N$12 - 1 ),   34, 1 ),  0  ),    2 ) = 1,    1, -1 )     +   MATCH(  $C45,  OFFSET(  Season!$E$8,   0, 3* ( N$12 - 1 ),   34, 1 ),  0  ),    3*(N$35 - 1) )","v":12},{"$f":"  OFFSET( Season!$F$7,   IF( MOD(    MATCH(  $C45,  OFFSET(  Season!$E$8,   0, 3* ( O$12 - 1 ),   34, 1 ),  0  ),    2 ) = 1,    1, -1 )     +   MATCH(  $C45,  OFFSET(  Season!$E$8,   0, 3* ( O$12 - 1 ),   34, 1 ),  0  ),    3*(O$35 - 1) )","v":6},{"$f":"  OFFSET( Season!$F$7,   IF( MOD(    MATCH(  $C45,  OFFSET(  Season!$E$8,   0, 3* ( P$12 - 1 ),   34, 1 ),  0  ),    2 ) = 1,    1, -1 )     +   MATCH(  $C45,  OFFSET(  Season!$E$8,   0, 3* ( P$12 - 1 ),   34, 1 ),  0  ),    3*(P$35 - 1) )","v":3},{"$f":"  OFFSET( Season!$F$7,   IF( MOD(    MATCH(  $C45,  OFFSET(  Season!$E$8,   0, 3* ( Q$12 - 1 ),   34, 1 ),  0  ),    2 ) = 1,    1, -1 )     +   MATCH(  $C45,  OFFSET(  Season!$E$8,   0, 3* ( Q$12 - 1 ),   34, 1 ),  0  ),    3*(Q$35 - 1) )","v":25},{"$f":"  OFFSET( Season!$F$7,   IF( MOD(    MATCH(  $C45,  OFFSET(  Season!$E$8,   0, 3* ( R$12 - 1 ),   34, 1 ),  0  ),    2 ) = 1,    1, -1 )     +   MATCH(  $C45,  OFFSET(  Season!$E$8,   0, 3* ( R$12 - 1 ),   34, 1 ),  0  ),    3*(R$35 - 1) )","v":12},{"$f":"  OFFSET( Season!$F$7,   IF( MOD(    MATCH(  $C45,  OFFSET(  Season!$E$8,   0, 3* ( S$12 - 1 ),   34, 1 ),  0  ),    2 ) = 1,    1, -1 )     +   MATCH(  $C45,  OFFSET(  Season!$E$8,   0, 3* ( S$12 - 1 ),   34, 1 ),  0  ),    3*(S$35 - 1) )","v":13},null,15,null,null,9,{"$f":"Standings!L13","v":"CRF"},16.533333333333335,{"$f":"  OFFSET( Season!$F$7,   IF( MOD(    MATCH(  $Y45,  OFFSET(  Season!$E$8,   0, 3* ( AA$12 - 1 ),   34, 1 ),  0  ),    2 ) = 1,    1, -1 )     +   MATCH(  $Y45,  OFFSET(  Season!$E$8,   0, 3* ( AA$12 - 1 ),   34, 1 ),  0  ),    3*(AA$35 - 1) )","v":30},{"$f":"  OFFSET( Season!$F$7,   IF( MOD(    MATCH(  $Y45,  OFFSET(  Season!$E$8,   0, 3* ( AB$12 - 1 ),   34, 1 ),  0  ),    2 ) = 1,    1, -1 )     +   MATCH(  $Y45,  OFFSET(  Season!$E$8,   0, 3* ( AB$12 - 1 ),   34, 1 ),  0  ),    3*(AB$35 - 1) )","v":24},{"$f":"  OFFSET( Season!$F$7,   IF( MOD(    MATCH(  $Y45,  OFFSET(  Season!$E$8,   0, 3* ( AC$12 - 1 ),   34, 1 ),  0  ),    2 ) = 1,    1, -1 )     +   MATCH(  $Y45,  OFFSET(  Season!$E$8,   0, 3* ( AC$12 - 1 ),   34, 1 ),  0  ),    3*(AC$35 - 1) )","v":18},{"$f":"  OFFSET( Season!$F$7,   IF( MOD(    MATCH(  $Y45,  OFFSET(  Season!$E$8,   0, 3* ( AD$12 - 1 ),   34, 1 ),  0  ),    2 ) = 1,    1, -1 )     +   MATCH(  $Y45,  OFFSET(  Season!$E$8,   0, 3* ( AD$12 - 1 ),   34, 1 ),  0  ),    3*(AD$35 - 1) )","v":21},{"$f":"  OFFSET( Season!$F$7,   IF( MOD(    MATCH(  $Y45,  OFFSET(  Season!$E$8,   0, 3* ( AE$12 - 1 ),   34, 1 ),  0  ),    2 ) = 1,    1, -1 )     +   MATCH(  $Y45,  OFFSET(  Season!$E$8,   0, 3* ( AE$12 - 1 ),   34, 1 ),  0  ),    3*(AE$35 - 1) )","v":35},{"$f":"  OFFSET( Season!$F$7,   IF( MOD(    MATCH(  $Y45,  OFFSET(  Season!$E$8,   0, 3* ( AF$12 - 1 ),   34, 1 ),  0  ),    2 ) = 1,    1, -1 )     +   MATCH(  $Y45,  OFFSET(  Season!$E$8,   0, 3* ( AF$12 - 1 ),   34, 1 ),  0  ),    3*(AF$35 - 1) )","v":8},{"$f":"  OFFSET( Season!$F$7,   IF( MOD(    MATCH(  $Y45,  OFFSET(  Season!$E$8,   0, 3* ( AG$12 - 1 ),   34, 1 ),  0  ),    2 ) = 1,    1, -1 )     +   MATCH(  $Y45,  OFFSET(  Season!$E$8,   0, 3* ( AG$12 - 1 ),   34, 1 ),  0  ),    3*(AG$35 - 1) )","v":26},{"$f":"  OFFSET( Season!$F$7,   IF( MOD(    MATCH(  $Y45,  OFFSET(  Season!$E$8,   0, 3* ( AH$12 - 1 ),   34, 1 ),  0  ),    2 ) = 1,    1, -1 )     +   MATCH(  $Y45,  OFFSET(  Season!$E$8,   0, 3* ( AH$12 - 1 ),   34, 1 ),  0  ),    3*(AH$35 - 1) )","v":16},{"$f":"  OFFSET( Season!$F$7,   IF( MOD(    MATCH(  $Y45,  OFFSET(  Season!$E$8,   0, 3* ( AI$12 - 1 ),   34, 1 ),  0  ),    2 ) = 1,    1, -1 )     +   MATCH(  $Y45,  OFFSET(  Season!$E$8,   0, 3* ( AI$12 - 1 ),   34, 1 ),  0  ),    3*(AI$35 - 1) )","v":11},{"$f":"  OFFSET( Season!$F$7,   IF( MOD(    MATCH(  $Y45,  OFFSET(  Season!$E$8,   0, 3* ( AJ$12 - 1 ),   34, 1 ),  0  ),    2 ) = 1,    1, -1 )     +   MATCH(  $Y45,  OFFSET(  Season!$E$8,   0, 3* ( AJ$12 - 1 ),   34, 1 ),  0  ),    3*(AJ$35 - 1) )","v":10},{"$f":"  OFFSET( Season!$F$7,   IF( MOD(    MATCH(  $Y45,  OFFSET(  Season!$E$8,   0, 3* ( AK$12 - 1 ),   34, 1 ),  0  ),    2 ) = 1,    1, -1 )     +   MATCH(  $Y45,  OFFSET(  Season!$E$8,   0, 3* ( AK$12 - 1 ),   34, 1 ),  0  ),    3*(AK$35 - 1) )","v":-6},{"$f":"  OFFSET( Season!$F$7,   IF( MOD(    MATCH(  $Y45,  OFFSET(  Season!$E$8,   0, 3* ( AL$12 - 1 ),   34, 1 ),  0  ),    2 ) = 1,    1, -1 )     +   MATCH(  $Y45,  OFFSET(  Season!$E$8,   0, 3* ( AL$12 - 1 ),   34, 1 ),  0  ),    3*(AL$35 - 1) )","v":25},{"$f":"  OFFSET( Season!$F$7,   IF( MOD(    MATCH(  $Y45,  OFFSET(  Season!$E$8,   0, 3* ( AM$12 - 1 ),   34, 1 ),  0  ),    2 ) = 1,    1, -1 )     +   MATCH(  $Y45,  OFFSET(  Season!$E$8,   0, 3* ( AM$12 - 1 ),   34, 1 ),  0  ),    3*(AM$35 - 1) )","v":-2},{"$f":"  OFFSET( Season!$F$7,   IF( MOD(    MATCH(  $Y45,  OFFSET(  Season!$E$8,   0, 3* ( AN$12 - 1 ),   34, 1 ),  0  ),    2 ) = 1,    1, -1 )     +   MATCH(  $Y45,  OFFSET(  Season!$E$8,   0, 3* ( AN$12 - 1 ),   34, 1 ),  0  ),    3*(AN$35 - 1) )","v":16},{"$f":"  OFFSET( Season!$F$7,   IF( MOD(    MATCH(  $Y45,  OFFSET(  Season!$E$8,   0, 3* ( AO$12 - 1 ),   34, 1 ),  0  ),    2 ) = 1,    1, -1 )     +   MATCH(  $Y45,  OFFSET(  Season!$E$8,   0, 3* ( AO$12 - 1 ),   34, 1 ),  0  ),    3*(AO$35 - 1) )","v":16},null,15,null,null,{"$f":"Standings!L19","v":"X10"},17.666666666666668,17.733333333333334,-6.666666666666643E-2]
[null,10,{"$f":"Standings!C14","v":"E55a"},17.8,{"$f":"  OFFSET( Season!$F$7,   IF( MOD(    MATCH(  $C46,  OFFSET(  Season!$E$8,   0, 3* ( E$12 - 1 ),   34, 1 ),  0  ),    2 ) = 1,    1, -1 )     +   MATCH(  $C46,  OFFSET(  Season!$E$8,   0, 3* ( E$12 - 1 ),   34, 1 ),  0  ),    3*(E$35 - 1) )","v":23},{"$f":"  OFFSET( Season!$F$7,   IF( MOD(    MATCH(  $C46,  OFFSET(  Season!$E$8,   0, 3* ( F$12 - 1 ),   34, 1 ),  0  ),    2 ) = 1,    1, -1 )     +   MATCH(  $C46,  OFFSET(  Season!$E$8,   0, 3* ( F$12 - 1 ),   34, 1 ),  0  ),    3*(F$35 - 1) )","v":30},{"$f":"  OFFSET( Season!$F$7,   IF( MOD(    MATCH(  $C46,  OFFSET(  Season!$E$8,   0, 3* ( G$12 - 1 ),   34, 1 ),  0  ),    2 ) = 1,    1, -1 )     +   MATCH(  $C46,  OFFSET(  Season!$E$8,   0, 3* ( G$12 - 1 ),   34, 1 ),  0  ),    3*(G$35 - 1) )","v":17},{"$f":"  OFFSET( Season!$F$7,   IF( MOD(    MATCH(  $C46,  OFFSET(  Season!$E$8,   0, 3* ( H$12 - 1 ),   34, 1 ),  0  ),    2 ) = 1,    1, -1 )     +   MATCH(  $C46,  OFFSET(  Season!$E$8,   0, 3* ( H$12 - 1 ),   34, 1 ),  0  ),    3*(H$35 - 1) )","v":34},{"$f":"  OFFSET( Season!$F$7,   IF( MOD(    MATCH(  $C46,  OFFSET(  Season!$E$8,   0, 3* ( I$12 - 1 ),   34, 1 ),  0  ),    2 ) = 1,    1, -1 )     +   MATCH(  $C46,  OFFSET(  Season!$E$8,   0, 3* ( I$12 - 1 ),   34, 1 ),  0  ),    3*(I$35 - 1) )","v":17},{"$f":"  OFFSET( Season!$F$7,   IF( MOD(    MATCH(  $C46,  OFFSET(  Season!$E$8,   0, 3* ( J$12 - 1 ),   34, 1 ),  0  ),    2 ) = 1,    1, -1 )     +   MATCH(  $C46,  OFFSET(  Season!$E$8,   0, 3* ( J$12 - 1 ),   34, 1 ),  0  ),    3*(J$35 - 1) )","v":21},{"$f":"  OFFSET( Season!$F$7,   IF( MOD(    MATCH(  $C46,  OFFSET(  Season!$E$8,   0, 3* ( K$12 - 1 ),   34, 1 ),  0  ),    2 ) = 1,    1, -1 )     +   MATCH(  $C46,  OFFSET(  Season!$E$8,   0, 3* ( K$12 - 1 ),   34, 1 ),  0  ),    3*(K$35 - 1) )","v":15},{"$f":"  OFFSET( Season!$F$7,   IF( MOD(    MATCH(  $C46,  OFFSET(  Season!$E$8,   0, 3* ( L$12 - 1 ),   34, 1 ),  0  ),    2 ) = 1,    1, -1 )     +   MATCH(  $C46,  OFFSET(  Season!$E$8,   0, 3* ( L$12 - 1 ),   34, 1 ),  0  ),    3*(L$35 - 1) )","v":14},{"$f":"  OFFSET( Season!$F$7,   IF( MOD(    MATCH(  $C46,  OFFSET(  Season!$E$8,   0, 3* ( M$12 - 1 ),   34, 1 ),  0  ),    2 ) = 1,    1, -1 )     +   MATCH(  $C46,  OFFSET(  Season!$E$8,   0, 3* ( M$12 - 1 ),   34, 1 ),  0  ),    3*(M$35 - 1) )","v":16},{"$f":"  OFFSET( Season!$F$7,   IF( MOD(    MATCH(  $C46,  OFFSET(  Season!$E$8,   0, 3* ( N$12 - 1 ),   34, 1 ),  0  ),    2 ) = 1,    1, -1 )     +   MATCH(  $C46,  OFFSET(  Season!$E$8,   0, 3* ( N$12 - 1 ),   34, 1 ),  0  ),    3*(N$35 - 1) )","v":13},{"$f":"  OFFSET( Season!$F$7,   IF( MOD(    MATCH(  $C46,  OFFSET(  Season!$E$8,   0, 3* ( O$12 - 1 ),   34, 1 ),  0  ),    2 ) = 1,    1, -1 )     +   MATCH(  $C46,  OFFSET(  Season!$E$8,   0, 3* ( O$12 - 1 ),   34, 1 ),  0  ),    3*(O$35 - 1) )","v":28},{"$f":"  OFFSET( Season!$F$7,   IF( MOD(    MATCH(  $C46,  OFFSET(  Season!$E$8,   0, 3* ( P$12 - 1 ),   34, 1 ),  0  ),    2 ) = 1,    1, -1 )     +   MATCH(  $C46,  OFFSET(  Season!$E$8,   0, 3* ( P$12 - 1 ),   34, 1 ),  0  ),    3*(P$35 - 1) )","v":5},{"$f":"  OFFSET( Season!$F$7,   IF( MOD(    MATCH(  $C46,  OFFSET(  Season!$E$8,   0, 3* ( Q$12 - 1 ),   34, 1 ),  0  ),    2 ) = 1,    1, -1 )     +   MATCH(  $C46,  OFFSET(  Season!$E$8,   0, 3* ( Q$12 - 1 ),   34, 1 ),  0  ),    3*(Q$35 - 1) )","v":26},{"$f":"  OFFSET( Season!$F$7,   IF( MOD(    MATCH(  $C46,  OFFSET(  Season!$E$8,   0, 3* ( R$12 - 1 ),   34, 1 ),  0  ),    2 ) = 1,    1, -1 )     +   MATCH(  $C46,  OFFSET(  Season!$E$8,   0, 3* ( R$12 - 1 ),   34, 1 ),  0  ),    3*(R$35 - 1) )","v":14},{"$f":"  OFFSET( Season!$F$7,   IF( MOD(    MATCH(  $C46,  OFFSET(  Season!$E$8,   0, 3* ( S$12 - 1 ),   34, 1 ),  0  ),    2 ) = 1,    1, -1 )     +   MATCH(  $C46,  OFFSET(  Season!$E$8,   0, 3* ( S$12 - 1 ),   34, 1 ),  0  ),    3*(S$35 - 1) )","v":-6},null,15,null,null,10,{"$f":"Standings!L21","v":"E25"},16.5,{"$f":"  OFFSET( Season!$F$7,   IF( MOD(    MATCH(  $Y46,  OFFSET(  Season!$E$8,   0, 3* ( AA$12 - 1 ),   34, 1 ),  0  ),    2 ) = 1,    1, -1 )     +   MATCH(  $Y46,  OFFSET(  Season!$E$8,   0, 3* ( AA$12 - 1 ),   34, 1 ),  0  ),    3*(AA$35 - 1) )","v":10},{"$f":"  OFFSET( Season!$F$7,   IF( MOD(    MATCH(  $Y46,  OFFSET(  Season!$E$8,   0, 3* ( AB$12 - 1 ),   34, 1 ),  0  ),    2 ) = 1,    1, -1 )     +   MATCH(  $Y46,  OFFSET(  Season!$E$8,   0, 3* ( AB$12 - 1 ),   34, 1 ),  0  ),    3*(AB$35 - 1) )","v":13},{"$f":"  OFFSET( Season!$F$7,   IF( MOD(    MATCH(  $Y46,  OFFSET(  Season!$E$8,   0, 3* ( AC$12 - 1 ),   34, 1 ),  0  ),    2 ) = 1,    1, -1 )     +   MATCH(  $Y46,  OFFSET(  Season!$E$8,   0, 3* ( AC$12 - 1 ),   34, 1 ),  0  ),    3*(AC$35 - 1) )","v":13},{"$f":"  OFFSET( Season!$F$7,   IF( MOD(    MATCH(  $Y46,  OFFSET(  Season!$E$8,   0, 3* ( AD$12 - 1 ),   34, 1 ),  0  ),    2 ) = 1,    1, -1 )     +   MATCH(  $Y46,  OFFSET(  Season!$E$8,   0, 3* ( AD$12 - 1 ),   34, 1 ),  0  ),    3*(AD$35 - 1) )","v":37},{"$f":"  OFFSET( Season!$F$7,   IF( MOD(    MATCH(  $Y46,  OFFSET(  Season!$E$8,   0, 3* ( AE$12 - 1 ),   34, 1 ),  0  ),    2 ) = 1,    1, -1 )     +   MATCH(  $Y46,  OFFSET(  Season!$E$8,   0, 3* ( AE$12 - 1 ),   34, 1 ),  0  ),    3*(AE$35 - 1) )","v":24},{"$f":"  OFFSET( Season!$F$7,   IF( MOD(    MATCH(  $Y46,  OFFSET(  Season!$E$8,   0, 3* ( AF$12 - 1 ),   34, 1 ),  0  ),    2 ) = 1,    1, -1 )     +   MATCH(  $Y46,  OFFSET(  Season!$E$8,   0, 3* ( AF$12 - 1 ),   34, 1 ),  0  ),    3*(AF$35 - 1) )","v":9},{"$f":"  OFFSET( Season!$F$7,   IF( MOD(    MATCH(  $Y46,  OFFSET(  Season!$E$8,   0, 3* ( AG$12 - 1 ),   34, 1 ),  0  ),    2 ) = 1,    1, -1 )     +   MATCH(  $Y46,  OFFSET(  Season!$E$8,   0, 3* ( AG$12 - 1 ),   34, 1 ),  0  ),    3*(AG$35 - 1) )","v":25},{"$f":"  OFFSET( Season!$F$7,   IF( MOD(    MATCH(  $Y46,  OFFSET(  Season!$E$8,   0, 3* ( AH$12 - 1 ),   34, 1 ),  0  ),    2 ) = 1,    1, -1 )     +   MATCH(  $Y46,  OFFSET(  Season!$E$8,   0, 3* ( AH$12 - 1 ),   34, 1 ),  0  ),    3*(AH$35 - 1) )","v":"f"},{"$f":"  OFFSET( Season!$F$7,   IF( MOD(    MATCH(  $Y46,  OFFSET(  Season!$E$8,   0, 3* ( AI$12 - 1 ),   34, 1 ),  0  ),    2 ) = 1,    1, -1 )     +   MATCH(  $Y46,  OFFSET(  Season!$E$8,   0, 3* ( AI$12 - 1 ),   34, 1 ),  0  ),    3*(AI$35 - 1) )","v":18},{"$f":"  OFFSET( Season!$F$7,   IF( MOD(    MATCH(  $Y46,  OFFSET(  Season!$E$8,   0, 3* ( AJ$12 - 1 ),   34, 1 ),  0  ),    2 ) = 1,    1, -1 )     +   MATCH(  $Y46,  OFFSET(  Season!$E$8,   0, 3* ( AJ$12 - 1 ),   34, 1 ),  0  ),    3*(AJ$35 - 1) )","v":5},{"$f":"  OFFSET( Season!$F$7,   IF( MOD(    MATCH(  $Y46,  OFFSET(  Season!$E$8,   0, 3* ( AK$12 - 1 ),   34, 1 ),  0  ),    2 ) = 1,    1, -1 )     +   MATCH(  $Y46,  OFFSET(  Season!$E$8,   0, 3* ( AK$12 - 1 ),   34, 1 ),  0  ),    3*(AK$35 - 1) )","v":8},{"$f":"  OFFSET( Season!$F$7,   IF( MOD(    MATCH(  $Y46,  OFFSET(  Season!$E$8,   0, 3* ( AL$12 - 1 ),   34, 1 ),  0  ),    2 ) = 1,    1, -1 )     +   MATCH(  $Y46,  OFFSET(  Season!$E$8,   0, 3* ( AL$12 - 1 ),   34, 1 ),  0  ),    3*(AL$35 - 1) )","v":22},{"$f":"  OFFSET( Season!$F$7,   IF( MOD(    MATCH(  $Y46,  OFFSET(  Season!$E$8,   0, 3* ( AM$12 - 1 ),   34, 1 ),  0  ),    2 ) = 1,    1, -1 )     +   MATCH(  $Y46,  OFFSET(  Season!$E$8,   0, 3* ( AM$12 - 1 ),   34, 1 ),  0  ),    3*(AM$35 - 1) )","v":6},{"$f":"  OFFSET( Season!$F$7,   IF( MOD(    MATCH(  $Y46,  OFFSET(  Season!$E$8,   0, 3* ( AN$12 - 1 ),   34, 1 ),  0  ),    2 ) = 1,    1, -1 )     +   MATCH(  $Y46,  OFFSET(  Season!$E$8,   0, 3* ( AN$12 - 1 ),   34, 1 ),  0  ),    3*(AN$35 - 1) )","v":26},{"$f":"  OFFSET( Season!$F$7,   IF( MOD(    MATCH(  $Y46,  OFFSET(  Season!$E$8,   0, 3* ( AO$12 - 1 ),   34, 1 ),  0  ),    2 ) = 1,    1, -1 )     +   MATCH(  $Y46,  OFFSET(  Season!$E$8,   0, 3* ( AO$12 - 1 ),   34, 1 ),  0  ),    3*(AO$35 - 1) )","v":15},null,14,null,null,{"$f":"Standings!L22","v":0},0,0,0]
[null,11,{"$f":"Standings!C12","v":"E12"},17.46673333333333,{"$f":"  OFFSET( Season!$F$7,   IF( MOD(    MATCH(  $C47,  OFFSET(  Season!$E$8,   0, 3* ( E$12 - 1 ),   34, 1 ),  0  ),    2 ) = 1,    1, -1 )     +   MATCH(  $C47,  OFFSET(  Season!$E$8,   0, 3* ( E$12 - 1 ),   34, 1 ),  0  ),    3*(E$35 - 1) )","v":28},{"$f":"  OFFSET( Season!$F$7,   IF( MOD(    MATCH(  $C47,  OFFSET(  Season!$E$8,   0, 3* ( F$12 - 1 ),   34, 1 ),  0  ),    2 ) = 1,    1, -1 )     +   MATCH(  $C47,  OFFSET(  Season!$E$8,   0, 3* ( F$12 - 1 ),   34, 1 ),  0  ),    3*(F$35 - 1) )","v":26},{"$f":"  OFFSET( Season!$F$7,   IF( MOD(    MATCH(  $C47,  OFFSET(  Season!$E$8,   0, 3* ( G$12 - 1 ),   34, 1 ),  0  ),    2 ) = 1,    1, -1 )     +   MATCH(  $C47,  OFFSET(  Season!$E$8,   0, 3* ( G$12 - 1 ),   34, 1 ),  0  ),    3*(G$35 - 1) )","v":24},{"$f":"  OFFSET( Season!$F$7,   IF( MOD(    MATCH(  $C47,  OFFSET(  Season!$E$8,   0, 3* ( H$12 - 1 ),   34, 1 ),  0  ),    2 ) = 1,    1, -1 )     +   MATCH(  $C47,  OFFSET(  Season!$E$8,   0, 3* ( H$12 - 1 ),   34, 1 ),  0  ),    3*(H$35 - 1) )","v":17},{"$f":"  OFFSET( Season!$F$7,   IF( MOD(    MATCH(  $C47,  OFFSET(  Season!$E$8,   0, 3* ( I$12 - 1 ),   34, 1 ),  0  ),    2 ) = 1,    1, -1 )     +   MATCH(  $C47,  OFFSET(  Season!$E$8,   0, 3* ( I$12 - 1 ),   34, 1 ),  0  ),    3*(I$35 - 1) )","v":1E-3},{"$f":"  OFFSET( Season!$F$7,   IF( MOD(    MATCH(  $C47,  OFFSET(  Season!$E$8,   0, 3* ( J$12 - 1 ),   34, 1 ),  0  ),    2 ) = 1,    1, -1 )     +   MATCH(  $C47,  OFFSET(  Season!$E$8,   0, 3* ( J$12 - 1 ),   34, 1 ),  0  ),    3*(J$35 - 1) )","v":13},{"$f":"  OFFSET( Season!$F$7,   IF( MOD(    MATCH(  $C47,  OFFSET(  Season!$E$8,   0, 3* ( K$12 - 1 ),   34, 1 ),  0  ),    2 ) = 1,    1, -1 )     +   MATCH(  $C47,  OFFSET(  Season!$E$8,   0, 3* ( K$12 - 1 ),   34, 1 ),  0  ),    3*(K$35 - 1) )","v":18},{"$f":"  OFFSET( Season!$F$7,   IF( MOD(    MATCH(  $C47,  OFFSET(  Season!$E$8,   0, 3* ( L$12 - 1 ),   34, 1 ),  0  ),    2 ) = 1,    1, -1 )     +   MATCH(  $C47,  OFFSET(  Season!$E$8,   0, 3* ( L$12 - 1 ),   34, 1 ),  0  ),    3*(L$35 - 1) )","v":18},{"$f":"  OFFSET( Season!$F$7,   IF( MOD(    MATCH(  $C47,  OFFSET(  Season!$E$8,   0, 3* ( M$12 - 1 ),   34, 1 ),  0  ),    2 ) = 1,    1, -1 )     +   MATCH(  $C47,  OFFSET(  Season!$E$8,   0, 3* ( M$12 - 1 ),   34, 1 ),  0  ),    3*(M$35 - 1) )","v":17},{"$f":"  OFFSET( Season!$F$7,   IF( MOD(    MATCH(  $C47,  OFFSET(  Season!$E$8,   0, 3* ( N$12 - 1 ),   34, 1 ),  0  ),    2 ) = 1,    1, -1 )     +   MATCH(  $C47,  OFFSET(  Season!$E$8,   0, 3* ( N$12 - 1 ),   34, 1 ),  0  ),    3*(N$35 - 1) )","v":3},{"$f":"  OFFSET( Season!$F$7,   IF( MOD(    MATCH(  $C47,  OFFSET(  Season!$E$8,   0, 3* ( O$12 - 1 ),   34, 1 ),  0  ),    2 ) = 1,    1, -1 )     +   MATCH(  $C47,  OFFSET(  Season!$E$8,   0, 3* ( O$12 - 1 ),   34, 1 ),  0  ),    3*(O$35 - 1) )","v":21},{"$f":"  OFFSET( Season!$F$7,   IF( MOD(    MATCH(  $C47,  OFFSET(  Season!$E$8,   0, 3* ( P$12 - 1 ),   34, 1 ),  0  ),    2 ) = 1,    1, -1 )     +   MATCH(  $C47,  OFFSET(  Season!$E$8,   0, 3* ( P$12 - 1 ),   34, 1 ),  0  ),    3*(P$35 - 1) )","v":5},{"$f":"  OFFSET( Season!$F$7,   IF( MOD(    MATCH(  $C47,  OFFSET(  Season!$E$8,   0, 3* ( Q$12 - 1 ),   34, 1 ),  0  ),    2 ) = 1,    1, -1 )     +   MATCH(  $C47,  OFFSET(  Season!$E$8,   0, 3* ( Q$12 - 1 ),   34, 1 ),  0  ),    3*(Q$35 - 1) )","v":14},{"$f":"  OFFSET( Season!$F$7,   IF( MOD(    MATCH(  $C47,  OFFSET(  Season!$E$8,   0, 3* ( R$12 - 1 ),   34, 1 ),  0  ),    2 ) = 1,    1, -1 )     +   MATCH(  $C47,  OFFSET(  Season!$E$8,   0, 3* ( R$12 - 1 ),   34, 1 ),  0  ),    3*(R$35 - 1) )","v":23},{"$f":"  OFFSET( Season!$F$7,   IF( MOD(    MATCH(  $C47,  OFFSET(  Season!$E$8,   0, 3* ( S$12 - 1 ),   34, 1 ),  0  ),    2 ) = 1,    1, -1 )     +   MATCH(  $C47,  OFFSET(  Season!$E$8,   0, 3* ( S$12 - 1 ),   34, 1 ),  0  ),    3*(S$35 - 1) )","v":35},null,15,null,null,11,{"$f":"Standings!L16","v":"O46"},15.8,{"$f":"  OFFSET( Season!$F$7,   IF( MOD(    MATCH(  $Y47,  OFFSET(  Season!$E$8,   0, 3* ( AA$12 - 1 ),   34, 1 ),  0  ),    2 ) = 1,    1, -1 )     +   MATCH(  $Y47,  OFFSET(  Season!$E$8,   0, 3* ( AA$12 - 1 ),   34, 1 ),  0  ),    3*(AA$35 - 1) )","v":29},{"$f":"  OFFSET( Season!$F$7,   IF( MOD(    MATCH(  $Y47,  OFFSET(  Season!$E$8,   0, 3* ( AB$12 - 1 ),   34, 1 ),  0  ),    2 ) = 1,    1, -1 )     +   MATCH(  $Y47,  OFFSET(  Season!$E$8,   0, 3* ( AB$12 - 1 ),   34, 1 ),  0  ),    3*(AB$35 - 1) )","v":17},{"$f":"  OFFSET( Season!$F$7,   IF( MOD(    MATCH(  $Y47,  OFFSET(  Season!$E$8,   0, 3* ( AC$12 - 1 ),   34, 1 ),  0  ),    2 ) = 1,    1, -1 )     +   MATCH(  $Y47,  OFFSET(  Season!$E$8,   0, 3* ( AC$12 - 1 ),   34, 1 ),  0  ),    3*(AC$35 - 1) )","v":21},{"$f":"  OFFSET( Season!$F$7,   IF( MOD(    MATCH(  $Y47,  OFFSET(  Season!$E$8,   0, 3* ( AD$12 - 1 ),   34, 1 ),  0  ),    2 ) = 1,    1, -1 )     +   MATCH(  $Y47,  OFFSET(  Season!$E$8,   0, 3* ( AD$12 - 1 ),   34, 1 ),  0  ),    3*(AD$35 - 1) )","v":7},{"$f":"  OFFSET( Season!$F$7,   IF( MOD(    MATCH(  $Y47,  OFFSET(  Season!$E$8,   0, 3* ( AE$12 - 1 ),   34, 1 ),  0  ),    2 ) = 1,    1, -1 )     +   MATCH(  $Y47,  OFFSET(  Season!$E$8,   0, 3* ( AE$12 - 1 ),   34, 1 ),  0  ),    3*(AE$35 - 1) )","v":12},{"$f":"  OFFSET( Season!$F$7,   IF( MOD(    MATCH(  $Y47,  OFFSET(  Season!$E$8,   0, 3* ( AF$12 - 1 ),   34, 1 ),  0  ),    2 ) = 1,    1, -1 )     +   MATCH(  $Y47,  OFFSET(  Season!$E$8,   0, 3* ( AF$12 - 1 ),   34, 1 ),  0  ),    3*(AF$35 - 1) )","v":16},{"$f":"  OFFSET( Season!$F$7,   IF( MOD(    MATCH(  $Y47,  OFFSET(  Season!$E$8,   0, 3* ( AG$12 - 1 ),   34, 1 ),  0  ),    2 ) = 1,    1, -1 )     +   MATCH(  $Y47,  OFFSET(  Season!$E$8,   0, 3* ( AG$12 - 1 ),   34, 1 ),  0  ),    3*(AG$35 - 1) )","v":15},{"$f":"  OFFSET( Season!$F$7,   IF( MOD(    MATCH(  $Y47,  OFFSET(  Season!$E$8,   0, 3* ( AH$12 - 1 ),   34, 1 ),  0  ),    2 ) = 1,    1, -1 )     +   MATCH(  $Y47,  OFFSET(  Season!$E$8,   0, 3* ( AH$12 - 1 ),   34, 1 ),  0  ),    3*(AH$35 - 1) )","v":19},{"$f":"  OFFSET( Season!$F$7,   IF( MOD(    MATCH(  $Y47,  OFFSET(  Season!$E$8,   0, 3* ( AI$12 - 1 ),   34, 1 ),  0  ),    2 ) = 1,    1, -1 )     +   MATCH(  $Y47,  OFFSET(  Season!$E$8,   0, 3* ( AI$12 - 1 ),   34, 1 ),  0  ),    3*(AI$35 - 1) )","v":37},{"$f":"  OFFSET( Season!$F$7,   IF( MOD(    MATCH(  $Y47,  OFFSET(  Season!$E$8,   0, 3* ( AJ$12 - 1 ),   34, 1 ),  0  ),    2 ) = 1,    1, -1 )     +   MATCH(  $Y47,  OFFSET(  Season!$E$8,   0, 3* ( AJ$12 - 1 ),   34, 1 ),  0  ),    3*(AJ$35 - 1) )","v":10},{"$f":"  OFFSET( Season!$F$7,   IF( MOD(    MATCH(  $Y47,  OFFSET(  Season!$E$8,   0, 3* ( AK$12 - 1 ),   34, 1 ),  0  ),    2 ) = 1,    1, -1 )     +   MATCH(  $Y47,  OFFSET(  Season!$E$8,   0, 3* ( AK$12 - 1 ),   34, 1 ),  0  ),    3*(AK$35 - 1) )","v":12},{"$f":"  OFFSET( Season!$F$7,   IF( MOD(    MATCH(  $Y47,  OFFSET(  Season!$E$8,   0, 3* ( AL$12 - 1 ),   34, 1 ),  0  ),    2 ) = 1,    1, -1 )     +   MATCH(  $Y47,  OFFSET(  Season!$E$8,   0, 3* ( AL$12 - 1 ),   34, 1 ),  0  ),    3*(AL$35 - 1) )","v":8},{"$f":"  OFFSET( Season!$F$7,   IF( MOD(    MATCH(  $Y47,  OFFSET(  Season!$E$8,   0, 3* ( AM$12 - 1 ),   34, 1 ),  0  ),    2 ) = 1,    1, -1 )     +   MATCH(  $Y47,  OFFSET(  Season!$E$8,   0, 3* ( AM$12 - 1 ),   34, 1 ),  0  ),    3*(AM$35 - 1) )","v":18},{"$f":"  OFFSET( Season!$F$7,   IF( MOD(    MATCH(  $Y47,  OFFSET(  Season!$E$8,   0, 3* ( AN$12 - 1 ),   34, 1 ),  0  ),    2 ) = 1,    1, -1 )     +   MATCH(  $Y47,  OFFSET(  Season!$E$8,   0, 3* ( AN$12 - 1 ),   34, 1 ),  0  ),    3*(AN$35 - 1) )","v":4},{"$f":"  OFFSET( Season!$F$7,   IF( MOD(    MATCH(  $Y47,  OFFSET(  Season!$E$8,   0, 3* ( AO$12 - 1 ),   34, 1 ),  0  ),    2 ) = 1,    1, -1 )     +   MATCH(  $Y47,  OFFSET(  Season!$E$8,   0, 3* ( AO$12 - 1 ),   34, 1 ),  0  ),    3*(AO$35 - 1) )","v":12},null,15,null,null,{"$f":"Standings!L17","v":"O19"},19.066666666666666,18.533333333333335,0.53333333333333144]
[null,12,{"$f":"Standings!C10","v":"E83"},17.466666666666665,{"$f":"  OFFSET( Season!$F$7,   IF( MOD(    MATCH(  $C48,  OFFSET(  Season!$E$8,   0, 3* ( E$12 - 1 ),   34, 1 ),  0  ),    2 ) = 1,    1, -1 )     +   MATCH(  $C48,  OFFSET(  Season!$E$8,   0, 3* ( E$12 - 1 ),   34, 1 ),  0  ),    3*(E$35 - 1) )","v":20},{"$f":"  OFFSET( Season!$F$7,   IF( MOD(    MATCH(  $C48,  OFFSET(  Season!$E$8,   0, 3* ( F$12 - 1 ),   34, 1 ),  0  ),    2 ) = 1,    1, -1 )     +   MATCH(  $C48,  OFFSET(  Season!$E$8,   0, 3* ( F$12 - 1 ),   34, 1 ),  0  ),    3*(F$35 - 1) )","v":30},{"$f":"  OFFSET( Season!$F$7,   IF( MOD(    MATCH(  $C48,  OFFSET(  Season!$E$8,   0, 3* ( G$12 - 1 ),   34, 1 ),  0  ),    2 ) = 1,    1, -1 )     +   MATCH(  $C48,  OFFSET(  Season!$E$8,   0, 3* ( G$12 - 1 ),   34, 1 ),  0  ),    3*(G$35 - 1) )","v":30},{"$f":"  OFFSET( Season!$F$7,   IF( MOD(    MATCH(  $C48,  OFFSET(  Season!$E$8,   0, 3* ( H$12 - 1 ),   34, 1 ),  0  ),    2 ) = 1,    1, -1 )     +   MATCH(  $C48,  OFFSET(  Season!$E$8,   0, 3* ( H$12 - 1 ),   34, 1 ),  0  ),    3*(H$35 - 1) )","v":15},{"$f":"  OFFSET( Season!$F$7,   IF( MOD(    MATCH(  $C48,  OFFSET(  Season!$E$8,   0, 3* ( I$12 - 1 ),   34, 1 ),  0  ),    2 ) = 1,    1, -1 )     +   MATCH(  $C48,  OFFSET(  Season!$E$8,   0, 3* ( I$12 - 1 ),   34, 1 ),  0  ),    3*(I$35 - 1) )","v":36},{"$f":"  OFFSET( Season!$F$7,   IF( MOD(    MATCH(  $C48,  OFFSET(  Season!$E$8,   0, 3* ( J$12 - 1 ),   34, 1 ),  0  ),    2 ) = 1,    1, -1 )     +   MATCH(  $C48,  OFFSET(  Season!$E$8,   0, 3* ( J$12 - 1 ),   34, 1 ),  0  ),    3*(J$35 - 1) )","v":-3},{"$f":"  OFFSET( Season!$F$7,   IF( MOD(    MATCH(  $C48,  OFFSET(  Season!$E$8,   0, 3* ( K$12 - 1 ),   34, 1 ),  0  ),    2 ) = 1,    1, -1 )     +   MATCH(  $C48,  OFFSET(  Season!$E$8,   0, 3* ( K$12 - 1 ),   34, 1 ),  0  ),    3*(K$35 - 1) )","v":2},{"$f":"  OFFSET( Season!$F$7,   IF( MOD(    MATCH(  $C48,  OFFSET(  Season!$E$8,   0, 3* ( L$12 - 1 ),   34, 1 ),  0  ),    2 ) = 1,    1, -1 )     +   MATCH(  $C48,  OFFSET(  Season!$E$8,   0, 3* ( L$12 - 1 ),   34, 1 ),  0  ),    3*(L$35 - 1) )","v":10},{"$f":"  OFFSET( Season!$F$7,   IF( MOD(    MATCH(  $C48,  OFFSET(  Season!$E$8,   0, 3* ( M$12 - 1 ),   34, 1 ),  0  ),    2 ) = 1,    1, -1 )     +   MATCH(  $C48,  OFFSET(  Season!$E$8,   0, 3* ( M$12 - 1 ),   34, 1 ),  0  ),    3*(M$35 - 1) )","v":15},{"$f":"  OFFSET( Season!$F$7,   IF( MOD(    MATCH(  $C48,  OFFSET(  Season!$E$8,   0, 3* ( N$12 - 1 ),   34, 1 ),  0  ),    2 ) = 1,    1, -1 )     +   MATCH(  $C48,  OFFSET(  Season!$E$8,   0, 3* ( N$12 - 1 ),   34, 1 ),  0  ),    3*(N$35 - 1) )","v":12},{"$f":"  OFFSET( Season!$F$7,   IF( MOD(    MATCH(  $C48,  OFFSET(  Season!$E$8,   0, 3* ( O$12 - 1 ),   34, 1 ),  0  ),    2 ) = 1,    1, -1 )     +   MATCH(  $C48,  OFFSET(  Season!$E$8,   0, 3* ( O$12 - 1 ),   34, 1 ),  0  ),    3*(O$35 - 1) )","v":34},{"$f":"  OFFSET( Season!$F$7,   IF( MOD(    MATCH(  $C48,  OFFSET(  Season!$E$8,   0, 3* ( P$12 - 1 ),   34, 1 ),  0  ),    2 ) = 1,    1, -1 )     +   MATCH(  $C48,  OFFSET(  Season!$E$8,   0, 3* ( P$12 - 1 ),   34, 1 ),  0  ),    3*(P$35 - 1) )","v":14},{"$f":"  OFFSET( Season!$F$7,   IF( MOD(    MATCH(  $C48,  OFFSET(  Season!$E$8,   0, 3* ( Q$12 - 1 ),   34, 1 ),  0  ),    2 ) = 1,    1, -1 )     +   MATCH(  $C48,  OFFSET(  Season!$E$8,   0, 3* ( Q$12 - 1 ),   34, 1 ),  0  ),    3*(Q$35 - 1) )","v":19},{"$f":"  OFFSET( Season!$F$7,   IF( MOD(    MATCH(  $C48,  OFFSET(  Season!$E$8,   0, 3* ( R$12 - 1 ),   34, 1 ),  0  ),    2 ) = 1,    1, -1 )     +   MATCH(  $C48,  OFFSET(  Season!$E$8,   0, 3* ( R$12 - 1 ),   34, 1 ),  0  ),    3*(R$35 - 1) )","v":14},{"$f":"  OFFSET( Season!$F$7,   IF( MOD(    MATCH(  $C48,  OFFSET(  Season!$E$8,   0, 3* ( S$12 - 1 ),   34, 1 ),  0  ),    2 ) = 1,    1, -1 )     +   MATCH(  $C48,  OFFSET(  Season!$E$8,   0, 3* ( S$12 - 1 ),   34, 1 ),  0  ),    3*(S$35 - 1) )","v":14},null,15,null,null,12,{"$f":"Standings!L11","v":"NNIT"},15.666666666666666,{"$f":"  OFFSET( Season!$F$7,   IF( MOD(    MATCH(  $Y48,  OFFSET(  Season!$E$8,   0, 3* ( AA$12 - 1 ),   34, 1 ),  0  ),    2 ) = 1,    1, -1 )     +   MATCH(  $Y48,  OFFSET(  Season!$E$8,   0, 3* ( AA$12 - 1 ),   34, 1 ),  0  ),    3*(AA$35 - 1) )","v":18},{"$f":"  OFFSET( Season!$F$7,   IF( MOD(    MATCH(  $Y48,  OFFSET(  Season!$E$8,   0, 3* ( AB$12 - 1 ),   34, 1 ),  0  ),    2 ) = 1,    1, -1 )     +   MATCH(  $Y48,  OFFSET(  Season!$E$8,   0, 3* ( AB$12 - 1 ),   34, 1 ),  0  ),    3*(AB$35 - 1) )","v":19},{"$f":"  OFFSET( Season!$F$7,   IF( MOD(    MATCH(  $Y48,  OFFSET(  Season!$E$8,   0, 3* ( AC$12 - 1 ),   34, 1 ),  0  ),    2 ) = 1,    1, -1 )     +   MATCH(  $Y48,  OFFSET(  Season!$E$8,   0, 3* ( AC$12 - 1 ),   34, 1 ),  0  ),    3*(AC$35 - 1) )","v":20},{"$f":"  OFFSET( Season!$F$7,   IF( MOD(    MATCH(  $Y48,  OFFSET(  Season!$E$8,   0, 3* ( AD$12 - 1 ),   34, 1 ),  0  ),    2 ) = 1,    1, -1 )     +   MATCH(  $Y48,  OFFSET(  Season!$E$8,   0, 3* ( AD$12 - 1 ),   34, 1 ),  0  ),    3*(AD$35 - 1) )","v":16},{"$f":"  OFFSET( Season!$F$7,   IF( MOD(    MATCH(  $Y48,  OFFSET(  Season!$E$8,   0, 3* ( AE$12 - 1 ),   34, 1 ),  0  ),    2 ) = 1,    1, -1 )     +   MATCH(  $Y48,  OFFSET(  Season!$E$8,   0, 3* ( AE$12 - 1 ),   34, 1 ),  0  ),    3*(AE$35 - 1) )","v":19},{"$f":"  OFFSET( Season!$F$7,   IF( MOD(    MATCH(  $Y48,  OFFSET(  Season!$E$8,   0, 3* ( AF$12 - 1 ),   34, 1 ),  0  ),    2 ) = 1,    1, -1 )     +   MATCH(  $Y48,  OFFSET(  Season!$E$8,   0, 3* ( AF$12 - 1 ),   34, 1 ),  0  ),    3*(AF$35 - 1) )","v":28},{"$f":"  OFFSET( Season!$F$7,   IF( MOD(    MATCH(  $Y48,  OFFSET(  Season!$E$8,   0, 3* ( AG$12 - 1 ),   34, 1 ),  0  ),    2 ) = 1,    1, -1 )     +   MATCH(  $Y48,  OFFSET(  Season!$E$8,   0, 3* ( AG$12 - 1 ),   34, 1 ),  0  ),    3*(AG$35 - 1) )","v":-3},{"$f":"  OFFSET( Season!$F$7,   IF( MOD(    MATCH(  $Y48,  OFFSET(  Season!$E$8,   0, 3* ( AH$12 - 1 ),   34, 1 ),  0  ),    2 ) = 1,    1, -1 )     +   MATCH(  $Y48,  OFFSET(  Season!$E$8,   0, 3* ( AH$12 - 1 ),   34, 1 ),  0  ),    3*(AH$35 - 1) )","v":-4},{"$f":"  OFFSET( Season!$F$7,   IF( MOD(    MATCH(  $Y48,  OFFSET(  Season!$E$8,   0, 3* ( AI$12 - 1 ),   34, 1 ),  0  ),    2 ) = 1,    1, -1 )     +   MATCH(  $Y48,  OFFSET(  Season!$E$8,   0, 3* ( AI$12 - 1 ),   34, 1 ),  0  ),    3*(AI$35 - 1) )","v":25},{"$f":"  OFFSET( Season!$F$7,   IF( MOD(    MATCH(  $Y48,  OFFSET(  Season!$E$8,   0, 3* ( AJ$12 - 1 ),   34, 1 ),  0  ),    2 ) = 1,    1, -1 )     +   MATCH(  $Y48,  OFFSET(  Season!$E$8,   0, 3* ( AJ$12 - 1 ),   34, 1 ),  0  ),    3*(AJ$35 - 1) )","v":20},{"$f":"  OFFSET( Season!$F$7,   IF( MOD(    MATCH(  $Y48,  OFFSET(  Season!$E$8,   0, 3* ( AK$12 - 1 ),   34, 1 ),  0  ),    2 ) = 1,    1, -1 )     +   MATCH(  $Y48,  OFFSET(  Season!$E$8,   0, 3* ( AK$12 - 1 ),   34, 1 ),  0  ),    3*(AK$35 - 1) )","v":14},{"$f":"  OFFSET( Season!$F$7,   IF( MOD(    MATCH(  $Y48,  OFFSET(  Season!$E$8,   0, 3* ( AL$12 - 1 ),   34, 1 ),  0  ),    2 ) = 1,    1, -1 )     +   MATCH(  $Y48,  OFFSET(  Season!$E$8,   0, 3* ( AL$12 - 1 ),   34, 1 ),  0  ),    3*(AL$35 - 1) )","v":11},{"$f":"  OFFSET( Season!$F$7,   IF( MOD(    MATCH(  $Y48,  OFFSET(  Season!$E$8,   0, 3* ( AM$12 - 1 ),   34, 1 ),  0  ),    2 ) = 1,    1, -1 )     +   MATCH(  $Y48,  OFFSET(  Season!$E$8,   0, 3* ( AM$12 - 1 ),   34, 1 ),  0  ),    3*(AM$35 - 1) )","v":7},{"$f":"  OFFSET( Season!$F$7,   IF( MOD(    MATCH(  $Y48,  OFFSET(  Season!$E$8,   0, 3* ( AN$12 - 1 ),   34, 1 ),  0  ),    2 ) = 1,    1, -1 )     +   MATCH(  $Y48,  OFFSET(  Season!$E$8,   0, 3* ( AN$12 - 1 ),   34, 1 ),  0  ),    3*(AN$35 - 1) )","v":23},{"$f":"  OFFSET( Season!$F$7,   IF( MOD(    MATCH(  $Y48,  OFFSET(  Season!$E$8,   0, 3* ( AO$12 - 1 ),   34, 1 ),  0  ),    2 ) = 1,    1, -1 )     +   MATCH(  $Y48,  OFFSET(  Season!$E$8,   0, 3* ( AO$12 - 1 ),   34, 1 ),  0  ),    3*(AO$35 - 1) )","v":22},null,15,null,null,{"$f":"Standings!L15","v":"E20"},15.466666666666667,14.866666666666667,0.59999999999999964]
[null,13,{"$f":"Standings!C20","v":"AMSC"},16.53846153846154,{"$f":"  OFFSET( Season!$F$7,   IF( MOD(    MATCH(  $C49,  OFFSET(  Season!$E$8,   0, 3* ( E$12 - 1 ),   34, 1 ),  0  ),    2 ) = 1,    1, -1 )     +   MATCH(  $C49,  OFFSET(  Season!$E$8,   0, 3* ( E$12 - 1 ),   34, 1 ),  0  ),    3*(E$35 - 1) )","v":16},{"$f":"  OFFSET( Season!$F$7,   IF( MOD(    MATCH(  $C49,  OFFSET(  Season!$E$8,   0, 3* ( F$12 - 1 ),   34, 1 ),  0  ),    2 ) = 1,    1, -1 )     +   MATCH(  $C49,  OFFSET(  Season!$E$8,   0, 3* ( F$12 - 1 ),   34, 1 ),  0  ),    3*(F$35 - 1) )","v":32},{"$f":"  OFFSET( Season!$F$7,   IF( MOD(    MATCH(  $C49,  OFFSET(  Season!$E$8,   0, 3* ( G$12 - 1 ),   34, 1 ),  0  ),    2 ) = 1,    1, -1 )     +   MATCH(  $C49,  OFFSET(  Season!$E$8,   0, 3* ( G$12 - 1 ),   34, 1 ),  0  ),    3*(G$35 - 1) )","v":23},{"$f":"  OFFSET( Season!$F$7,   IF( MOD(    MATCH(  $C49,  OFFSET(  Season!$E$8,   0, 3* ( H$12 - 1 ),   34, 1 ),  0  ),    2 ) = 1,    1, -1 )     +   MATCH(  $C49,  OFFSET(  Season!$E$8,   0, 3* ( H$12 - 1 ),   34, 1 ),  0  ),    3*(H$35 - 1) )","v":24},{"$f":"  OFFSET( Season!$F$7,   IF( MOD(    MATCH(  $C49,  OFFSET(  Season!$E$8,   0, 3* ( I$12 - 1 ),   34, 1 ),  0  ),    2 ) = 1,    1, -1 )     +   MATCH(  $C49,  OFFSET(  Season!$E$8,   0, 3* ( I$12 - 1 ),   34, 1 ),  0  ),    3*(I$35 - 1) )","v":12},{"$f":"  OFFSET( Season!$F$7,   IF( MOD(    MATCH(  $C49,  OFFSET(  Season!$E$8,   0, 3* ( J$12 - 1 ),   34, 1 ),  0  ),    2 ) = 1,    1, -1 )     +   MATCH(  $C49,  OFFSET(  Season!$E$8,   0, 3* ( J$12 - 1 ),   34, 1 ),  0  ),    3*(J$35 - 1) )","v":17},{"$f":"  OFFSET( Season!$F$7,   IF( MOD(    MATCH(  $C49,  OFFSET(  Season!$E$8,   0, 3* ( K$12 - 1 ),   34, 1 ),  0  ),    2 ) = 1,    1, -1 )     +   MATCH(  $C49,  OFFSET(  Season!$E$8,   0, 3* ( K$12 - 1 ),   34, 1 ),  0  ),    3*(K$35 - 1) )","v":24},{"$f":"  OFFSET( Season!$F$7,   IF( MOD(    MATCH(  $C49,  OFFSET(  Season!$E$8,   0, 3* ( L$12 - 1 ),   34, 1 ),  0  ),    2 ) = 1,    1, -1 )     +   MATCH(  $C49,  OFFSET(  Season!$E$8,   0, 3* ( L$12 - 1 ),   34, 1 ),  0  ),    3*(L$35 - 1) )","v":"f"},{"$f":"  OFFSET( Season!$F$7,   IF( MOD(    MATCH(  $C49,  OFFSET(  Season!$E$8,   0, 3* ( M$12 - 1 ),   34, 1 ),  0  ),    2 ) = 1,    1, -1 )     +   MATCH(  $C49,  OFFSET(  Season!$E$8,   0, 3* ( M$12 - 1 ),   34, 1 ),  0  ),    3*(M$35 - 1) )","v":8},{"$f":"  OFFSET( Season!$F$7,   IF( MOD(    MATCH(  $C49,  OFFSET(  Season!$E$8,   0, 3* ( N$12 - 1 ),   34, 1 ),  0  ),    2 ) = 1,    1, -1 )     +   MATCH(  $C49,  OFFSET(  Season!$E$8,   0, 3* ( N$12 - 1 ),   34, 1 ),  0  ),    3*(N$35 - 1) )","v":2},{"$f":"  OFFSET( Season!$F$7,   IF( MOD(    MATCH(  $C49,  OFFSET(  Season!$E$8,   0, 3* ( O$12 - 1 ),   34, 1 ),  0  ),    2 ) = 1,    1, -1 )     +   MATCH(  $C49,  OFFSET(  Season!$E$8,   0, 3* ( O$12 - 1 ),   34, 1 ),  0  ),    3*(O$35 - 1) )","v":10},{"$f":"  OFFSET( Season!$F$7,   IF( MOD(    MATCH(  $C49,  OFFSET(  Season!$E$8,   0, 3* ( P$12 - 1 ),   34, 1 ),  0  ),    2 ) = 1,    1, -1 )     +   MATCH(  $C49,  OFFSET(  Season!$E$8,   0, 3* ( P$12 - 1 ),   34, 1 ),  0  ),    3*(P$35 - 1) )","v":10},{"$f":"  OFFSET( Season!$F$7,   IF( MOD(    MATCH(  $C49,  OFFSET(  Season!$E$8,   0, 3* ( Q$12 - 1 ),   34, 1 ),  0  ),    2 ) = 1,    1, -1 )     +   MATCH(  $C49,  OFFSET(  Season!$E$8,   0, 3* ( Q$12 - 1 ),   34, 1 ),  0  ),    3*(Q$35 - 1) )","v":14},{"$f":"  OFFSET( Season!$F$7,   IF( MOD(    MATCH(  $C49,  OFFSET(  Season!$E$8,   0, 3* ( R$12 - 1 ),   34, 1 ),  0  ),    2 ) = 1,    1, -1 )     +   MATCH(  $C49,  OFFSET(  Season!$E$8,   0, 3* ( R$12 - 1 ),   34, 1 ),  0  ),    3*(R$35 - 1) )","v":23},{"$f":"  OFFSET( Season!$F$7,   IF( MOD(    MATCH(  $C49,  OFFSET(  Season!$E$8,   0, 3* ( S$12 - 1 ),   34, 1 ),  0  ),    2 ) = 1,    1, -1 )     +   MATCH(  $C49,  OFFSET(  Season!$E$8,   0, 3* ( S$12 - 1 ),   34, 1 ),  0  ),    3*(S$35 - 1) )","v":0},null,13,null,null,13,{"$f":"Standings!L8","v":"O87"},15.133333333333333,{"$f":"  OFFSET( Season!$F$7,   IF( MOD(    MATCH(  $Y49,  OFFSET(  Season!$E$8,   0, 3* ( AA$12 - 1 ),   34, 1 ),  0  ),    2 ) = 1,    1, -1 )     +   MATCH(  $Y49,  OFFSET(  Season!$E$8,   0, 3* ( AA$12 - 1 ),   34, 1 ),  0  ),    3*(AA$35 - 1) )","v":7},{"$f":"  OFFSET( Season!$F$7,   IF( MOD(    MATCH(  $Y49,  OFFSET(  Season!$E$8,   0, 3* ( AB$12 - 1 ),   34, 1 ),  0  ),    2 ) = 1,    1, -1 )     +   MATCH(  $Y49,  OFFSET(  Season!$E$8,   0, 3* ( AB$12 - 1 ),   34, 1 ),  0  ),    3*(AB$35 - 1) )","v":15},{"$f":"  OFFSET( Season!$F$7,   IF( MOD(    MATCH(  $Y49,  OFFSET(  Season!$E$8,   0, 3* ( AC$12 - 1 ),   34, 1 ),  0  ),    2 ) = 1,    1, -1 )     +   MATCH(  $Y49,  OFFSET(  Season!$E$8,   0, 3* ( AC$12 - 1 ),   34, 1 ),  0  ),    3*(AC$35 - 1) )","v":16},{"$f":"  OFFSET( Season!$F$7,   IF( MOD(    MATCH(  $Y49,  OFFSET(  Season!$E$8,   0, 3* ( AD$12 - 1 ),   34, 1 ),  0  ),    2 ) = 1,    1, -1 )     +   MATCH(  $Y49,  OFFSET(  Season!$E$8,   0, 3* ( AD$12 - 1 ),   34, 1 ),  0  ),    3*(AD$35 - 1) )","v":41},{"$f":"  OFFSET( Season!$F$7,   IF( MOD(    MATCH(  $Y49,  OFFSET(  Season!$E$8,   0, 3* ( AE$12 - 1 ),   34, 1 ),  0  ),    2 ) = 1,    1, -1 )     +   MATCH(  $Y49,  OFFSET(  Season!$E$8,   0, 3* ( AE$12 - 1 ),   34, 1 ),  0  ),    3*(AE$35 - 1) )","v":19},{"$f":"  OFFSET( Season!$F$7,   IF( MOD(    MATCH(  $Y49,  OFFSET(  Season!$E$8,   0, 3* ( AF$12 - 1 ),   34, 1 ),  0  ),    2 ) = 1,    1, -1 )     +   MATCH(  $Y49,  OFFSET(  Season!$E$8,   0, 3* ( AF$12 - 1 ),   34, 1 ),  0  ),    3*(AF$35 - 1) )","v":12},{"$f":"  OFFSET( Season!$F$7,   IF( MOD(    MATCH(  $Y49,  OFFSET(  Season!$E$8,   0, 3* ( AG$12 - 1 ),   34, 1 ),  0  ),    2 ) = 1,    1, -1 )     +   MATCH(  $Y49,  OFFSET(  Season!$E$8,   0, 3* ( AG$12 - 1 ),   34, 1 ),  0  ),    3*(AG$35 - 1) )","v":20},{"$f":"  OFFSET( Season!$F$7,   IF( MOD(    MATCH(  $Y49,  OFFSET(  Season!$E$8,   0, 3* ( AH$12 - 1 ),   34, 1 ),  0  ),    2 ) = 1,    1, -1 )     +   MATCH(  $Y49,  OFFSET(  Season!$E$8,   0, 3* ( AH$12 - 1 ),   34, 1 ),  0  ),    3*(AH$35 - 1) )","v":-11},{"$f":"  OFFSET( Season!$F$7,   IF( MOD(    MATCH(  $Y49,  OFFSET(  Season!$E$8,   0, 3* ( AI$12 - 1 ),   34, 1 ),  0  ),    2 ) = 1,    1, -1 )     +   MATCH(  $Y49,  OFFSET(  Season!$E$8,   0, 3* ( AI$12 - 1 ),   34, 1 ),  0  ),    3*(AI$35 - 1) )","v":7},{"$f":"  OFFSET( Season!$F$7,   IF( MOD(    MATCH(  $Y49,  OFFSET(  Season!$E$8,   0, 3* ( AJ$12 - 1 ),   34, 1 ),  0  ),    2 ) = 1,    1, -1 )     +   MATCH(  $Y49,  OFFSET(  Season!$E$8,   0, 3* ( AJ$12 - 1 ),   34, 1 ),  0  ),    3*(AJ$35 - 1) )","v":28},{"$f":"  OFFSET( Season!$F$7,   IF( MOD(    MATCH(  $Y49,  OFFSET(  Season!$E$8,   0, 3* ( AK$12 - 1 ),   34, 1 ),  0  ),    2 ) = 1,    1, -1 )     +   MATCH(  $Y49,  OFFSET(  Season!$E$8,   0, 3* ( AK$12 - 1 ),   34, 1 ),  0  ),    3*(AK$35 - 1) )","v":12},{"$f":"  OFFSET( Season!$F$7,   IF( MOD(    MATCH(  $Y49,  OFFSET(  Season!$E$8,   0, 3* ( AL$12 - 1 ),   34, 1 ),  0  ),    2 ) = 1,    1, -1 )     +   MATCH(  $Y49,  OFFSET(  Season!$E$8,   0, 3* ( AL$12 - 1 ),   34, 1 ),  0  ),    3*(AL$35 - 1) )","v":4},{"$f":"  OFFSET( Season!$F$7,   IF( MOD(    MATCH(  $Y49,  OFFSET(  Season!$E$8,   0, 3* ( AM$12 - 1 ),   34, 1 ),  0  ),    2 ) = 1,    1, -1 )     +   MATCH(  $Y49,  OFFSET(  Season!$E$8,   0, 3* ( AM$12 - 1 ),   34, 1 ),  0  ),    3*(AM$35 - 1) )","v":12},{"$f":"  OFFSET( Season!$F$7,   IF( MOD(    MATCH(  $Y49,  OFFSET(  Season!$E$8,   0, 3* ( AN$12 - 1 ),   34, 1 ),  0  ),    2 ) = 1,    1, -1 )     +   MATCH(  $Y49,  OFFSET(  Season!$E$8,   0, 3* ( AN$12 - 1 ),   34, 1 ),  0  ),    3*(AN$35 - 1) )","v":11},{"$f":"  OFFSET( Season!$F$7,   IF( MOD(    MATCH(  $Y49,  OFFSET(  Season!$E$8,   0, 3* ( AO$12 - 1 ),   34, 1 ),  0  ),    2 ) = 1,    1, -1 )     +   MATCH(  $Y49,  OFFSET(  Season!$E$8,   0, 3* ( AO$12 - 1 ),   34, 1 ),  0  ),    3*(AO$35 - 1) )","v":34},null,15,null,null,{"$f":"Standings!L18","v":"A572"},15.466666666666667,13.2,2.2666666666666675]
[null,14,{"$f":"Standings!C18","v":"E14"},16.428642857142858,{"$f":"  OFFSET( Season!$F$7,   IF( MOD(    MATCH(  $C50,  OFFSET(  Season!$E$8,   0, 3* ( E$12 - 1 ),   34, 1 ),  0  ),    2 ) = 1,    1, -1 )     +   MATCH(  $C50,  OFFSET(  Season!$E$8,   0, 3* ( E$12 - 1 ),   34, 1 ),  0  ),    3*(E$35 - 1) )","v":17},{"$f":"  OFFSET( Season!$F$7,   IF( MOD(    MATCH(  $C50,  OFFSET(  Season!$E$8,   0, 3* ( F$12 - 1 ),   34, 1 ),  0  ),    2 ) = 1,    1, -1 )     +   MATCH(  $C50,  OFFSET(  Season!$E$8,   0, 3* ( F$12 - 1 ),   34, 1 ),  0  ),    3*(F$35 - 1) )","v":27},{"$f":"  OFFSET( Season!$F$7,   IF( MOD(    MATCH(  $C50,  OFFSET(  Season!$E$8,   0, 3* ( G$12 - 1 ),   34, 1 ),  0  ),    2 ) = 1,    1, -1 )     +   MATCH(  $C50,  OFFSET(  Season!$E$8,   0, 3* ( G$12 - 1 ),   34, 1 ),  0  ),    3*(G$35 - 1) )","v":16},{"$f":"  OFFSET( Season!$F$7,   IF( MOD(    MATCH(  $C50,  OFFSET(  Season!$E$8,   0, 3* ( H$12 - 1 ),   34, 1 ),  0  ),    2 ) = 1,    1, -1 )     +   MATCH(  $C50,  OFFSET(  Season!$E$8,   0, 3* ( H$12 - 1 ),   34, 1 ),  0  ),    3*(H$35 - 1) )","v":4},{"$f":"  OFFSET( Season!$F$7,   IF( MOD(    MATCH(  $C50,  OFFSET(  Season!$E$8,   0, 3* ( I$12 - 1 ),   34, 1 ),  0  ),    2 ) = 1,    1, -1 )     +   MATCH(  $C50,  OFFSET(  Season!$E$8,   0, 3* ( I$12 - 1 ),   34, 1 ),  0  ),    3*(I$35 - 1) )","v":29},{"$f":"  OFFSET( Season!$F$7,   IF( MOD(    MATCH(  $C50,  OFFSET(  Season!$E$8,   0, 3* ( J$12 - 1 ),   34, 1 ),  0  ),    2 ) = 1,    1, -1 )     +   MATCH(  $C50,  OFFSET(  Season!$E$8,   0, 3* ( J$12 - 1 ),   34, 1 ),  0  ),    3*(J$35 - 1) )","v":26},{"$f":"  OFFSET( Season!$F$7,   IF( MOD(    MATCH(  $C50,  OFFSET(  Season!$E$8,   0, 3* ( K$12 - 1 ),   34, 1 ),  0  ),    2 ) = 1,    1, -1 )     +   MATCH(  $C50,  OFFSET(  Season!$E$8,   0, 3* ( K$12 - 1 ),   34, 1 ),  0  ),    3*(K$35 - 1) )","v":25},{"$f":"  OFFSET( Season!$F$7,   IF( MOD(    MATCH(  $C50,  OFFSET(  Season!$E$8,   0, 3* ( L$12 - 1 ),   34, 1 ),  0  ),    2 ) = 1,    1, -1 )     +   MATCH(  $C50,  OFFSET(  Season!$E$8,   0, 3* ( L$12 - 1 ),   34, 1 ),  0  ),    3*(L$35 - 1) )","v":20},{"$f":"  OFFSET( Season!$F$7,   IF( MOD(    MATCH(  $C50,  OFFSET(  Season!$E$8,   0, 3* ( M$12 - 1 ),   34, 1 ),  0  ),    2 ) = 1,    1, -1 )     +   MATCH(  $C50,  OFFSET(  Season!$E$8,   0, 3* ( M$12 - 1 ),   34, 1 ),  0  ),    3*(M$35 - 1) )","v":26},{"$f":"  OFFSET( Season!$F$7,   IF( MOD(    MATCH(  $C50,  OFFSET(  Season!$E$8,   0, 3* ( N$12 - 1 ),   34, 1 ),  0  ),    2 ) = 1,    1, -1 )     +   MATCH(  $C50,  OFFSET(  Season!$E$8,   0, 3* ( N$12 - 1 ),   34, 1 ),  0  ),    3*(N$35 - 1) )","v":1},{"$f":"  OFFSET( Season!$F$7,   IF( MOD(    MATCH(  $C50,  OFFSET(  Season!$E$8,   0, 3* ( O$12 - 1 ),   34, 1 ),  0  ),    2 ) = 1,    1, -1 )     +   MATCH(  $C50,  OFFSET(  Season!$E$8,   0, 3* ( O$12 - 1 ),   34, 1 ),  0  ),    3*(O$35 - 1) )","v":8},{"$f":"  OFFSET( Season!$F$7,   IF( MOD(    MATCH(  $C50,  OFFSET(  Season!$E$8,   0, 3* ( P$12 - 1 ),   34, 1 ),  0  ),    2 ) = 1,    1, -1 )     +   MATCH(  $C50,  OFFSET(  Season!$E$8,   0, 3* ( P$12 - 1 ),   34, 1 ),  0  ),    3*(P$35 - 1) )","v":1E-3},{"$f":"  OFFSET( Season!$F$7,   IF( MOD(    MATCH(  $C50,  OFFSET(  Season!$E$8,   0, 3* ( Q$12 - 1 ),   34, 1 ),  0  ),    2 ) = 1,    1, -1 )     +   MATCH(  $C50,  OFFSET(  Season!$E$8,   0, 3* ( Q$12 - 1 ),   34, 1 ),  0  ),    3*(Q$35 - 1) )","v":18},{"$f":"  OFFSET( Season!$F$7,   IF( MOD(    MATCH(  $C50,  OFFSET(  Season!$E$8,   0, 3* ( R$12 - 1 ),   34, 1 ),  0  ),    2 ) = 1,    1, -1 )     +   MATCH(  $C50,  OFFSET(  Season!$E$8,   0, 3* ( R$12 - 1 ),   34, 1 ),  0  ),    3*(R$35 - 1) )","v":13},{"$f":"  OFFSET( Season!$F$7,   IF( MOD(    MATCH(  $C50,  OFFSET(  Season!$E$8,   0, 3* ( S$12 - 1 ),   34, 1 ),  0  ),    2 ) = 1,    1, -1 )     +   MATCH(  $C50,  OFFSET(  Season!$E$8,   0, 3* ( S$12 - 1 ),   34, 1 ),  0  ),    3*(S$35 - 1) )","v":0},null,{"$f":"   MAX( $E$6:$S$6 )  -  COUNTIF( E50:T50, \"0\" ) -  COUNTIF( E50:T50, \"W\" ) -  COUNTIF( E50:T50, \"F\" ) -  COUNTIF( E50:T50, \"FF\" )","v":14},null,null,14,{"$f":"Standings!L15","v":"E20"},14.866666666666667,{"$f":"  OFFSET( Season!$F$7,   IF( MOD(    MATCH(  $Y50,  OFFSET(  Season!$E$8,   0, 3* ( AA$12 - 1 ),   34, 1 ),  0  ),    2 ) = 1,    1, -1 )     +   MATCH(  $Y50,  OFFSET(  Season!$E$8,   0, 3* ( AA$12 - 1 ),   34, 1 ),  0  ),    3*(AA$35 - 1) )","v":14},{"$f":"  OFFSET( Season!$F$7,   IF( MOD(    MATCH(  $Y50,  OFFSET(  Season!$E$8,   0, 3* ( AB$12 - 1 ),   34, 1 ),  0  ),    2 ) = 1,    1, -1 )     +   MATCH(  $Y50,  OFFSET(  Season!$E$8,   0, 3* ( AB$12 - 1 ),   34, 1 ),  0  ),    3*(AB$35 - 1) )","v":32},{"$f":"  OFFSET( Season!$F$7,   IF( MOD(    MATCH(  $Y50,  OFFSET(  Season!$E$8,   0, 3* ( AC$12 - 1 ),   34, 1 ),  0  ),    2 ) = 1,    1, -1 )     +   MATCH(  $Y50,  OFFSET(  Season!$E$8,   0, 3* ( AC$12 - 1 ),   34, 1 ),  0  ),    3*(AC$35 - 1) )","v":21},{"$f":"  OFFSET( Season!$F$7,   IF( MOD(    MATCH(  $Y50,  OFFSET(  Season!$E$8,   0, 3* ( AD$12 - 1 ),   34, 1 ),  0  ),    2 ) = 1,    1, -1 )     +   MATCH(  $Y50,  OFFSET(  Season!$E$8,   0, 3* ( AD$12 - 1 ),   34, 1 ),  0  ),    3*(AD$35 - 1) )","v":9},{"$f":"  OFFSET( Season!$F$7,   IF( MOD(    MATCH(  $Y50,  OFFSET(  Season!$E$8,   0, 3* ( AE$12 - 1 ),   34, 1 ),  0  ),    2 ) = 1,    1, -1 )     +   MATCH(  $Y50,  OFFSET(  Season!$E$8,   0, 3* ( AE$12 - 1 ),   34, 1 ),  0  ),    3*(AE$35 - 1) )","v":14},{"$f":"  OFFSET( Season!$F$7,   IF( MOD(    MATCH(  $Y50,  OFFSET(  Season!$E$8,   0, 3* ( AF$12 - 1 ),   34, 1 ),  0  ),    2 ) = 1,    1, -1 )     +   MATCH(  $Y50,  OFFSET(  Season!$E$8,   0, 3* ( AF$12 - 1 ),   34, 1 ),  0  ),    3*(AF$35 - 1) )","v":14},{"$f":"  OFFSET( Season!$F$7,   IF( MOD(    MATCH(  $Y50,  OFFSET(  Season!$E$8,   0, 3* ( AG$12 - 1 ),   34, 1 ),  0  ),    2 ) = 1,    1, -1 )     +   MATCH(  $Y50,  OFFSET(  Season!$E$8,   0, 3* ( AG$12 - 1 ),   34, 1 ),  0  ),    3*(AG$35 - 1) )","v":11},{"$f":"  OFFSET( Season!$F$7,   IF( MOD(    MATCH(  $Y50,  OFFSET(  Season!$E$8,   0, 3* ( AH$12 - 1 ),   34, 1 ),  0  ),    2 ) = 1,    1, -1 )     +   MATCH(  $Y50,  OFFSET(  Season!$E$8,   0, 3* ( AH$12 - 1 ),   34, 1 ),  0  ),    3*(AH$35 - 1) )","v":23},{"$f":"  OFFSET( Season!$F$7,   IF( MOD(    MATCH(  $Y50,  OFFSET(  Season!$E$8,   0, 3* ( AI$12 - 1 ),   34, 1 ),  0  ),    2 ) = 1,    1, -1 )     +   MATCH(  $Y50,  OFFSET(  Season!$E$8,   0, 3* ( AI$12 - 1 ),   34, 1 ),  0  ),    3*(AI$35 - 1) )","v":23},{"$f":"  OFFSET( Season!$F$7,   IF( MOD(    MATCH(  $Y50,  OFFSET(  Season!$E$8,   0, 3* ( AJ$12 - 1 ),   34, 1 ),  0  ),    2 ) = 1,    1, -1 )     +   MATCH(  $Y50,  OFFSET(  Season!$E$8,   0, 3* ( AJ$12 - 1 ),   34, 1 ),  0  ),    3*(AJ$35 - 1) )","v":8},{"$f":"  OFFSET( Season!$F$7,   IF( MOD(    MATCH(  $Y50,  OFFSET(  Season!$E$8,   0, 3* ( AK$12 - 1 ),   34, 1 ),  0  ),    2 ) = 1,    1, -1 )     +   MATCH(  $Y50,  OFFSET(  Season!$E$8,   0, 3* ( AK$12 - 1 ),   34, 1 ),  0  ),    3*(AK$35 - 1) )","v":-1},{"$f":"  OFFSET( Season!$F$7,   IF( MOD(    MATCH(  $Y50,  OFFSET(  Season!$E$8,   0, 3* ( AL$12 - 1 ),   34, 1 ),  0  ),    2 ) = 1,    1, -1 )     +   MATCH(  $Y50,  OFFSET(  Season!$E$8,   0, 3* ( AL$12 - 1 ),   34, 1 ),  0  ),    3*(AL$35 - 1) )","v":18},{"$f":"  OFFSET( Season!$F$7,   IF( MOD(    MATCH(  $Y50,  OFFSET(  Season!$E$8,   0, 3* ( AM$12 - 1 ),   34, 1 ),  0  ),    2 ) = 1,    1, -1 )     +   MATCH(  $Y50,  OFFSET(  Season!$E$8,   0, 3* ( AM$12 - 1 ),   34, 1 ),  0  ),    3*(AM$35 - 1) )","v":27},{"$f":"  OFFSET( Season!$F$7,   IF( MOD(    MATCH(  $Y50,  OFFSET(  Season!$E$8,   0, 3* ( AN$12 - 1 ),   34, 1 ),  0  ),    2 ) = 1,    1, -1 )     +   MATCH(  $Y50,  OFFSET(  Season!$E$8,   0, 3* ( AN$12 - 1 ),   34, 1 ),  0  ),    3*(AN$35 - 1) )","v":-7},{"$f":"  OFFSET( Season!$F$7,   IF( MOD(    MATCH(  $Y50,  OFFSET(  Season!$E$8,   0, 3* ( AO$12 - 1 ),   34, 1 ),  0  ),    2 ) = 1,    1, -1 )     +   MATCH(  $Y50,  OFFSET(  Season!$E$8,   0, 3* ( AO$12 - 1 ),   34, 1 ),  0  ),    3*(AO$35 - 1) )","v":17},null,{"$f":"   MAX( $E$6:$S$6 )  -  COUNTIF( AA50:AP50, \"0\" ) -  COUNTIF( AA50:AP50, \"W\" ) -  COUNTIF( AA50:AP50, \"F\" ) -  COUNTIF( AA50:AP50, \"FF\" )","v":15},null,null,{"$f":"Standings!L13","v":"CRF"},19.399999999999999,16.533333333333335,2.8666666666666636]
[null,15,{"$f":"Standings!C21","v":"X04"},16.315384615384616,{"$f":"  OFFSET( Season!$F$7,   IF( MOD(    MATCH(  $C51,  OFFSET(  Season!$E$8,   0, 3* ( E$12 - 1 ),   34, 1 ),  0  ),    2 ) = 1,    1, -1 )     +   MATCH(  $C51,  OFFSET(  Season!$E$8,   0, 3* ( E$12 - 1 ),   34, 1 ),  0  ),    3*(E$35 - 1) )","v":22},{"$f":"  OFFSET( Season!$F$7,   IF( MOD(    MATCH(  $C51,  OFFSET(  Season!$E$8,   0, 3* ( F$12 - 1 ),   34, 1 ),  0  ),    2 ) = 1,    1, -1 )     +   MATCH(  $C51,  OFFSET(  Season!$E$8,   0, 3* ( F$12 - 1 ),   34, 1 ),  0  ),    3*(F$35 - 1) )","v":31},{"$f":"  OFFSET( Season!$F$7,   IF( MOD(    MATCH(  $C51,  OFFSET(  Season!$E$8,   0, 3* ( G$12 - 1 ),   34, 1 ),  0  ),    2 ) = 1,    1, -1 )     +   MATCH(  $C51,  OFFSET(  Season!$E$8,   0, 3* ( G$12 - 1 ),   34, 1 ),  0  ),    3*(G$35 - 1) )","v":13},{"$f":"  OFFSET( Season!$F$7,   IF( MOD(    MATCH(  $C51,  OFFSET(  Season!$E$8,   0, 3* ( H$12 - 1 ),   34, 1 ),  0  ),    2 ) = 1,    1, -1 )     +   MATCH(  $C51,  OFFSET(  Season!$E$8,   0, 3* ( H$12 - 1 ),   34, 1 ),  0  ),    3*(H$35 - 1) )","v":10},{"$f":"  OFFSET( Season!$F$7,   IF( MOD(    MATCH(  $C51,  OFFSET(  Season!$E$8,   0, 3* ( I$12 - 1 ),   34, 1 ),  0  ),    2 ) = 1,    1, -1 )     +   MATCH(  $C51,  OFFSET(  Season!$E$8,   0, 3* ( I$12 - 1 ),   34, 1 ),  0  ),    3*(I$35 - 1) )","v":20},{"$f":"  OFFSET( Season!$F$7,   IF( MOD(    MATCH(  $C51,  OFFSET(  Season!$E$8,   0, 3* ( J$12 - 1 ),   34, 1 ),  0  ),    2 ) = 1,    1, -1 )     +   MATCH(  $C51,  OFFSET(  Season!$E$8,   0, 3* ( J$12 - 1 ),   34, 1 ),  0  ),    3*(J$35 - 1) )","v":11},{"$f":"  OFFSET( Season!$F$7,   IF( MOD(    MATCH(  $C51,  OFFSET(  Season!$E$8,   0, 3* ( K$12 - 1 ),   34, 1 ),  0  ),    2 ) = 1,    1, -1 )     +   MATCH(  $C51,  OFFSET(  Season!$E$8,   0, 3* ( K$12 - 1 ),   34, 1 ),  0  ),    3*(K$35 - 1) )","v":29},{"$f":"  OFFSET( Season!$F$7,   IF( MOD(    MATCH(  $C51,  OFFSET(  Season!$E$8,   0, 3* ( L$12 - 1 ),   34, 1 ),  0  ),    2 ) = 1,    1, -1 )     +   MATCH(  $C51,  OFFSET(  Season!$E$8,   0, 3* ( L$12 - 1 ),   34, 1 ),  0  ),    3*(L$35 - 1) )","v":12},{"$f":"  OFFSET( Season!$F$7,   IF( MOD(    MATCH(  $C51,  OFFSET(  Season!$E$8,   0, 3* ( M$12 - 1 ),   34, 1 ),  0  ),    2 ) = 1,    1, -1 )     +   MATCH(  $C51,  OFFSET(  Season!$E$8,   0, 3* ( M$12 - 1 ),   34, 1 ),  0  ),    3*(M$35 - 1) )","v":0},{"$f":"  OFFSET( Season!$F$7,   IF( MOD(    MATCH(  $C51,  OFFSET(  Season!$E$8,   0, 3* ( N$12 - 1 ),   34, 1 ),  0  ),    2 ) = 1,    1, -1 )     +   MATCH(  $C51,  OFFSET(  Season!$E$8,   0, 3* ( N$12 - 1 ),   34, 1 ),  0  ),    3*(N$35 - 1) )","v":16},{"$f":"  OFFSET( Season!$F$7,   IF( MOD(    MATCH(  $C51,  OFFSET(  Season!$E$8,   0, 3* ( O$12 - 1 ),   34, 1 ),  0  ),    2 ) = 1,    1, -1 )     +   MATCH(  $C51,  OFFSET(  Season!$E$8,   0, 3* ( O$12 - 1 ),   34, 1 ),  0  ),    3*(O$35 - 1) )","v":12.1},{"$f":"  OFFSET( Season!$F$7,   IF( MOD(    MATCH(  $C51,  OFFSET(  Season!$E$8,   0, 3* ( P$12 - 1 ),   34, 1 ),  0  ),    2 ) = 1,    1, -1 )     +   MATCH(  $C51,  OFFSET(  Season!$E$8,   0, 3* ( P$12 - 1 ),   34, 1 ),  0  ),    3*(P$35 - 1) )","v":33},{"$f":"  OFFSET( Season!$F$7,   IF( MOD(    MATCH(  $C51,  OFFSET(  Season!$E$8,   0, 3* ( Q$12 - 1 ),   34, 1 ),  0  ),    2 ) = 1,    1, -1 )     +   MATCH(  $C51,  OFFSET(  Season!$E$8,   0, 3* ( Q$12 - 1 ),   34, 1 ),  0  ),    3*(Q$35 - 1) )","v":8},{"$f":"  OFFSET( Season!$F$7,   IF( MOD(    MATCH(  $C51,  OFFSET(  Season!$E$8,   0, 3* ( R$12 - 1 ),   34, 1 ),  0  ),    2 ) = 1,    1, -1 )     +   MATCH(  $C51,  OFFSET(  Season!$E$8,   0, 3* ( R$12 - 1 ),   34, 1 ),  0  ),    3*(R$35 - 1) )","v":"f"},{"$f":"  OFFSET( Season!$F$7,   IF( MOD(    MATCH(  $C51,  OFFSET(  Season!$E$8,   0, 3* ( S$12 - 1 ),   34, 1 ),  0  ),    2 ) = 1,    1, -1 )     +   MATCH(  $C51,  OFFSET(  Season!$E$8,   0, 3* ( S$12 - 1 ),   34, 1 ),  0  ),    3*(S$35 - 1) )","v":-5},null,13,null,null,15,{"$f":"Standings!L14","v":"ENGR"},13.5,{"$f":"  OFFSET( Season!$F$7,   IF( MOD(    MATCH(  $Y51,  OFFSET(  Season!$E$8,   0, 3* ( AA$12 - 1 ),   34, 1 ),  0  ),    2 ) = 1,    1, -1 )     +   MATCH(  $Y51,  OFFSET(  Season!$E$8,   0, 3* ( AA$12 - 1 ),   34, 1 ),  0  ),    3*(AA$35 - 1) )","v":25},{"$f":"  OFFSET( Season!$F$7,   IF( MOD(    MATCH(  $Y51,  OFFSET(  Season!$E$8,   0, 3* ( AB$12 - 1 ),   34, 1 ),  0  ),    2 ) = 1,    1, -1 )     +   MATCH(  $Y51,  OFFSET(  Season!$E$8,   0, 3* ( AB$12 - 1 ),   34, 1 ),  0  ),    3*(AB$35 - 1) )","v":-1},{"$f":"  OFFSET( Season!$F$7,   IF( MOD(    MATCH(  $Y51,  OFFSET(  Season!$E$8,   0, 3* ( AC$12 - 1 ),   34, 1 ),  0  ),    2 ) = 1,    1, -1 )     +   MATCH(  $Y51,  OFFSET(  Season!$E$8,   0, 3* ( AC$12 - 1 ),   34, 1 ),  0  ),    3*(AC$35 - 1) )","v":7},{"$f":"  OFFSET( Season!$F$7,   IF( MOD(    MATCH(  $Y51,  OFFSET(  Season!$E$8,   0, 3* ( AD$12 - 1 ),   34, 1 ),  0  ),    2 ) = 1,    1, -1 )     +   MATCH(  $Y51,  OFFSET(  Season!$E$8,   0, 3* ( AD$12 - 1 ),   34, 1 ),  0  ),    3*(AD$35 - 1) )","v":21},{"$f":"  OFFSET( Season!$F$7,   IF( MOD(    MATCH(  $Y51,  OFFSET(  Season!$E$8,   0, 3* ( AE$12 - 1 ),   34, 1 ),  0  ),    2 ) = 1,    1, -1 )     +   MATCH(  $Y51,  OFFSET(  Season!$E$8,   0, 3* ( AE$12 - 1 ),   34, 1 ),  0  ),    3*(AE$35 - 1) )","v":15},{"$f":"  OFFSET( Season!$F$7,   IF( MOD(    MATCH(  $Y51,  OFFSET(  Season!$E$8,   0, 3* ( AF$12 - 1 ),   34, 1 ),  0  ),    2 ) = 1,    1, -1 )     +   MATCH(  $Y51,  OFFSET(  Season!$E$8,   0, 3* ( AF$12 - 1 ),   34, 1 ),  0  ),    3*(AF$35 - 1) )","v":25},{"$f":"  OFFSET( Season!$F$7,   IF( MOD(    MATCH(  $Y51,  OFFSET(  Season!$E$8,   0, 3* ( AG$12 - 1 ),   34, 1 ),  0  ),    2 ) = 1,    1, -1 )     +   MATCH(  $Y51,  OFFSET(  Season!$E$8,   0, 3* ( AG$12 - 1 ),   34, 1 ),  0  ),    3*(AG$35 - 1) )","v":-8},{"$f":"  OFFSET( Season!$F$7,   IF( MOD(    MATCH(  $Y51,  OFFSET(  Season!$E$8,   0, 3* ( AH$12 - 1 ),   34, 1 ),  0  ),    2 ) = 1,    1, -1 )     +   MATCH(  $Y51,  OFFSET(  Season!$E$8,   0, 3* ( AH$12 - 1 ),   34, 1 ),  0  ),    3*(AH$35 - 1) )","v":21},{"$f":"  OFFSET( Season!$F$7,   IF( MOD(    MATCH(  $Y51,  OFFSET(  Season!$E$8,   0, 3* ( AI$12 - 1 ),   34, 1 ),  0  ),    2 ) = 1,    1, -1 )     +   MATCH(  $Y51,  OFFSET(  Season!$E$8,   0, 3* ( AI$12 - 1 ),   34, 1 ),  0  ),    3*(AI$35 - 1) )","v":10},{"$f":"  OFFSET( Season!$F$7,   IF( MOD(    MATCH(  $Y51,  OFFSET(  Season!$E$8,   0, 3* ( AJ$12 - 1 ),   34, 1 ),  0  ),    2 ) = 1,    1, -1 )     +   MATCH(  $Y51,  OFFSET(  Season!$E$8,   0, 3* ( AJ$12 - 1 ),   34, 1 ),  0  ),    3*(AJ$35 - 1) )","v":11},{"$f":"  OFFSET( Season!$F$7,   IF( MOD(    MATCH(  $Y51,  OFFSET(  Season!$E$8,   0, 3* ( AK$12 - 1 ),   34, 1 ),  0  ),    2 ) = 1,    1, -1 )     +   MATCH(  $Y51,  OFFSET(  Season!$E$8,   0, 3* ( AK$12 - 1 ),   34, 1 ),  0  ),    3*(AK$35 - 1) )","v":17},{"$f":"  OFFSET( Season!$F$7,   IF( MOD(    MATCH(  $Y51,  OFFSET(  Season!$E$8,   0, 3* ( AL$12 - 1 ),   34, 1 ),  0  ),    2 ) = 1,    1, -1 )     +   MATCH(  $Y51,  OFFSET(  Season!$E$8,   0, 3* ( AL$12 - 1 ),   34, 1 ),  0  ),    3*(AL$35 - 1) )","v":11},{"$f":"  OFFSET( Season!$F$7,   IF( MOD(    MATCH(  $Y51,  OFFSET(  Season!$E$8,   0, 3* ( AM$12 - 1 ),   34, 1 ),  0  ),    2 ) = 1,    1, -1 )     +   MATCH(  $Y51,  OFFSET(  Season!$E$8,   0, 3* ( AM$12 - 1 ),   34, 1 ),  0  ),    3*(AM$35 - 1) )","v":18},{"$f":"  OFFSET( Season!$F$7,   IF( MOD(    MATCH(  $Y51,  OFFSET(  Season!$E$8,   0, 3* ( AN$12 - 1 ),   34, 1 ),  0  ),    2 ) = 1,    1, -1 )     +   MATCH(  $Y51,  OFFSET(  Season!$E$8,   0, 3* ( AN$12 - 1 ),   34, 1 ),  0  ),    3*(AN$35 - 1) )","v":17},{"$f":"  OFFSET( Season!$F$7,   IF( MOD(    MATCH(  $Y51,  OFFSET(  Season!$E$8,   0, 3* ( AO$12 - 1 ),   34, 1 ),  0  ),    2 ) = 1,    1, -1 )     +   MATCH(  $Y51,  OFFSET(  Season!$E$8,   0, 3* ( AO$12 - 1 ),   34, 1 ),  0  ),    3*(AO$35 - 1) )","v":"f"},null,14,null,null,{"$f":"Standings!L14","v":"ENGR"},17.142857142857142,13.5,3.6428571428571423]
[null,16,{"$f":"Standings!C19","v":"E17"},16.166666666666668,{"$f":"  OFFSET( Season!$F$7,   IF( MOD(    MATCH(  $C52,  OFFSET(  Season!$E$8,   0, 3* ( E$12 - 1 ),   34, 1 ),  0  ),    2 ) = 1,    1, -1 )     +   MATCH(  $C52,  OFFSET(  Season!$E$8,   0, 3* ( E$12 - 1 ),   34, 1 ),  0  ),    3*(E$35 - 1) )","v":0},{"$f":"  OFFSET( Season!$F$7,   IF( MOD(    MATCH(  $C52,  OFFSET(  Season!$E$8,   0, 3* ( F$12 - 1 ),   34, 1 ),  0  ),    2 ) = 1,    1, -1 )     +   MATCH(  $C52,  OFFSET(  Season!$E$8,   0, 3* ( F$12 - 1 ),   34, 1 ),  0  ),    3*(F$35 - 1) )","v":24},{"$f":"  OFFSET( Season!$F$7,   IF( MOD(    MATCH(  $C52,  OFFSET(  Season!$E$8,   0, 3* ( G$12 - 1 ),   34, 1 ),  0  ),    2 ) = 1,    1, -1 )     +   MATCH(  $C52,  OFFSET(  Season!$E$8,   0, 3* ( G$12 - 1 ),   34, 1 ),  0  ),    3*(G$35 - 1) )","v":17},{"$f":"  OFFSET( Season!$F$7,   IF( MOD(    MATCH(  $C52,  OFFSET(  Season!$E$8,   0, 3* ( H$12 - 1 ),   34, 1 ),  0  ),    2 ) = 1,    1, -1 )     +   MATCH(  $C52,  OFFSET(  Season!$E$8,   0, 3* ( H$12 - 1 ),   34, 1 ),  0  ),    3*(H$35 - 1) )","v":7},{"$f":"  OFFSET( Season!$F$7,   IF( MOD(    MATCH(  $C52,  OFFSET(  Season!$E$8,   0, 3* ( I$12 - 1 ),   34, 1 ),  0  ),    2 ) = 1,    1, -1 )     +   MATCH(  $C52,  OFFSET(  Season!$E$8,   0, 3* ( I$12 - 1 ),   34, 1 ),  0  ),    3*(I$35 - 1) )","v":13},{"$f":"  OFFSET( Season!$F$7,   IF( MOD(    MATCH(  $C52,  OFFSET(  Season!$E$8,   0, 3* ( J$12 - 1 ),   34, 1 ),  0  ),    2 ) = 1,    1, -1 )     +   MATCH(  $C52,  OFFSET(  Season!$E$8,   0, 3* ( J$12 - 1 ),   34, 1 ),  0  ),    3*(J$35 - 1) )","v":17},{"$f":"  OFFSET( Season!$F$7,   IF( MOD(    MATCH(  $C52,  OFFSET(  Season!$E$8,   0, 3* ( K$12 - 1 ),   34, 1 ),  0  ),    2 ) = 1,    1, -1 )     +   MATCH(  $C52,  OFFSET(  Season!$E$8,   0, 3* ( K$12 - 1 ),   34, 1 ),  0  ),    3*(K$35 - 1) )","v":26},{"$f":"  OFFSET( Season!$F$7,   IF( MOD(    MATCH(  $C52,  OFFSET(  Season!$E$8,   0, 3* ( L$12 - 1 ),   34, 1 ),  0  ),    2 ) = 1,    1, -1 )     +   MATCH(  $C52,  OFFSET(  Season!$E$8,   0, 3* ( L$12 - 1 ),   34, 1 ),  0  ),    3*(L$35 - 1) )","v":16},{"$f":"  OFFSET( Season!$F$7,   IF( MOD(    MATCH(  $C52,  OFFSET(  Season!$E$8,   0, 3* ( M$12 - 1 ),   34, 1 ),  0  ),    2 ) = 1,    1, -1 )     +   MATCH(  $C52,  OFFSET(  Season!$E$8,   0, 3* ( M$12 - 1 ),   34, 1 ),  0  ),    3*(M$35 - 1) )","v":7},{"$f":"  OFFSET( Season!$F$7,   IF( MOD(    MATCH(  $C52,  OFFSET(  Season!$E$8,   0, 3* ( N$12 - 1 ),   34, 1 ),  0  ),    2 ) = 1,    1, -1 )     +   MATCH(  $C52,  OFFSET(  Season!$E$8,   0, 3* ( N$12 - 1 ),   34, 1 ),  0  ),    3*(N$35 - 1) )","v":14},{"$f":"  OFFSET( Season!$F$7,   IF( MOD(    MATCH(  $C52,  OFFSET(  Season!$E$8,   0, 3* ( O$12 - 1 ),   34, 1 ),  0  ),    2 ) = 1,    1, -1 )     +   MATCH(  $C52,  OFFSET(  Season!$E$8,   0, 3* ( O$12 - 1 ),   34, 1 ),  0  ),    3*(O$35 - 1) )","v":0},{"$f":"  OFFSET( Season!$F$7,   IF( MOD(    MATCH(  $C52,  OFFSET(  Season!$E$8,   0, 3* ( P$12 - 1 ),   34, 1 ),  0  ),    2 ) = 1,    1, -1 )     +   MATCH(  $C52,  OFFSET(  Season!$E$8,   0, 3* ( P$12 - 1 ),   34, 1 ),  0  ),    3*(P$35 - 1) )","v":13},{"$f":"  OFFSET( Season!$F$7,   IF( MOD(    MATCH(  $C52,  OFFSET(  Season!$E$8,   0, 3* ( Q$12 - 1 ),   34, 1 ),  0  ),    2 ) = 1,    1, -1 )     +   MATCH(  $C52,  OFFSET(  Season!$E$8,   0, 3* ( Q$12 - 1 ),   34, 1 ),  0  ),    3*(Q$35 - 1) )","v":17},{"$f":"  OFFSET( Season!$F$7,   IF( MOD(    MATCH(  $C52,  OFFSET(  Season!$E$8,   0, 3* ( R$12 - 1 ),   34, 1 ),  0  ),    2 ) = 1,    1, -1 )     +   MATCH(  $C52,  OFFSET(  Season!$E$8,   0, 3* ( R$12 - 1 ),   34, 1 ),  0  ),    3*(R$35 - 1) )","v":23},{"$f":"  OFFSET( Season!$F$7,   IF( MOD(    MATCH(  $C52,  OFFSET(  Season!$E$8,   0, 3* ( S$12 - 1 ),   34, 1 ),  0  ),    2 ) = 1,    1, -1 )     +   MATCH(  $C52,  OFFSET(  Season!$E$8,   0, 3* ( S$12 - 1 ),   34, 1 ),  0  ),    3*(S$35 - 1) )","v":0},null,12,null,null,16,{"$f":"Standings!L18","v":"A572"},13.2,{"$f":"  OFFSET( Season!$F$7,   IF( MOD(    MATCH(  $Y52,  OFFSET(  Season!$E$8,   0, 3* ( AA$12 - 1 ),   34, 1 ),  0  ),    2 ) = 1,    1, -1 )     +   MATCH(  $Y52,  OFFSET(  Season!$E$8,   0, 3* ( AA$12 - 1 ),   34, 1 ),  0  ),    3*(AA$35 - 1) )","v":11},{"$f":"  OFFSET( Season!$F$7,   IF( MOD(    MATCH(  $Y52,  OFFSET(  Season!$E$8,   0, 3* ( AB$12 - 1 ),   34, 1 ),  0  ),    2 ) = 1,    1, -1 )     +   MATCH(  $Y52,  OFFSET(  Season!$E$8,   0, 3* ( AB$12 - 1 ),   34, 1 ),  0  ),    3*(AB$35 - 1) )","v":8},{"$f":"  OFFSET( Season!$F$7,   IF( MOD(    MATCH(  $Y52,  OFFSET(  Season!$E$8,   0, 3* ( AC$12 - 1 ),   34, 1 ),  0  ),    2 ) = 1,    1, -1 )     +   MATCH(  $Y52,  OFFSET(  Season!$E$8,   0, 3* ( AC$12 - 1 ),   34, 1 ),  0  ),    3*(AC$35 - 1) )","v":15},{"$f":"  OFFSET( Season!$F$7,   IF( MOD(    MATCH(  $Y52,  OFFSET(  Season!$E$8,   0, 3* ( AD$12 - 1 ),   34, 1 ),  0  ),    2 ) = 1,    1, -1 )     +   MATCH(  $Y52,  OFFSET(  Season!$E$8,   0, 3* ( AD$12 - 1 ),   34, 1 ),  0  ),    3*(AD$35 - 1) )","v":13},{"$f":"  OFFSET( Season!$F$7,   IF( MOD(    MATCH(  $Y52,  OFFSET(  Season!$E$8,   0, 3* ( AE$12 - 1 ),   34, 1 ),  0  ),    2 ) = 1,    1, -1 )     +   MATCH(  $Y52,  OFFSET(  Season!$E$8,   0, 3* ( AE$12 - 1 ),   34, 1 ),  0  ),    3*(AE$35 - 1) )","v":31},{"$f":"  OFFSET( Season!$F$7,   IF( MOD(    MATCH(  $Y52,  OFFSET(  Season!$E$8,   0, 3* ( AF$12 - 1 ),   34, 1 ),  0  ),    2 ) = 1,    1, -1 )     +   MATCH(  $Y52,  OFFSET(  Season!$E$8,   0, 3* ( AF$12 - 1 ),   34, 1 ),  0  ),    3*(AF$35 - 1) )","v":12},{"$f":"  OFFSET( Season!$F$7,   IF( MOD(    MATCH(  $Y52,  OFFSET(  Season!$E$8,   0, 3* ( AG$12 - 1 ),   34, 1 ),  0  ),    2 ) = 1,    1, -1 )     +   MATCH(  $Y52,  OFFSET(  Season!$E$8,   0, 3* ( AG$12 - 1 ),   34, 1 ),  0  ),    3*(AG$35 - 1) )","v":19},{"$f":"  OFFSET( Season!$F$7,   IF( MOD(    MATCH(  $Y52,  OFFSET(  Season!$E$8,   0, 3* ( AH$12 - 1 ),   34, 1 ),  0  ),    2 ) = 1,    1, -1 )     +   MATCH(  $Y52,  OFFSET(  Season!$E$8,   0, 3* ( AH$12 - 1 ),   34, 1 ),  0  ),    3*(AH$35 - 1) )","v":12},{"$f":"  OFFSET( Season!$F$7,   IF( MOD(    MATCH(  $Y52,  OFFSET(  Season!$E$8,   0, 3* ( AI$12 - 1 ),   34, 1 ),  0  ),    2 ) = 1,    1, -1 )     +   MATCH(  $Y52,  OFFSET(  Season!$E$8,   0, 3* ( AI$12 - 1 ),   34, 1 ),  0  ),    3*(AI$35 - 1) )","v":-6},{"$f":"  OFFSET( Season!$F$7,   IF( MOD(    MATCH(  $Y52,  OFFSET(  Season!$E$8,   0, 3* ( AJ$12 - 1 ),   34, 1 ),  0  ),    2 ) = 1,    1, -1 )     +   MATCH(  $Y52,  OFFSET(  Season!$E$8,   0, 3* ( AJ$12 - 1 ),   34, 1 ),  0  ),    3*(AJ$35 - 1) )","v":13},{"$f":"  OFFSET( Season!$F$7,   IF( MOD(    MATCH(  $Y52,  OFFSET(  Season!$E$8,   0, 3* ( AK$12 - 1 ),   34, 1 ),  0  ),    2 ) = 1,    1, -1 )     +   MATCH(  $Y52,  OFFSET(  Season!$E$8,   0, 3* ( AK$12 - 1 ),   34, 1 ),  0  ),    3*(AK$35 - 1) )","v":10},{"$f":"  OFFSET( Season!$F$7,   IF( MOD(    MATCH(  $Y52,  OFFSET(  Season!$E$8,   0, 3* ( AL$12 - 1 ),   34, 1 ),  0  ),    2 ) = 1,    1, -1 )     +   MATCH(  $Y52,  OFFSET(  Season!$E$8,   0, 3* ( AL$12 - 1 ),   34, 1 ),  0  ),    3*(AL$35 - 1) )","v":23},{"$f":"  OFFSET( Season!$F$7,   IF( MOD(    MATCH(  $Y52,  OFFSET(  Season!$E$8,   0, 3* ( AM$12 - 1 ),   34, 1 ),  0  ),    2 ) = 1,    1, -1 )     +   MATCH(  $Y52,  OFFSET(  Season!$E$8,   0, 3* ( AM$12 - 1 ),   34, 1 ),  0  ),    3*(AM$35 - 1) )","v":6},{"$f":"  OFFSET( Season!$F$7,   IF( MOD(    MATCH(  $Y52,  OFFSET(  Season!$E$8,   0, 3* ( AN$12 - 1 ),   34, 1 ),  0  ),    2 ) = 1,    1, -1 )     +   MATCH(  $Y52,  OFFSET(  Season!$E$8,   0, 3* ( AN$12 - 1 ),   34, 1 ),  0  ),    3*(AN$35 - 1) )","v":19},{"$f":"  OFFSET( Season!$F$7,   IF( MOD(    MATCH(  $Y52,  OFFSET(  Season!$E$8,   0, 3* ( AO$12 - 1 ),   34, 1 ),  0  ),    2 ) = 1,    1, -1 )     +   MATCH(  $Y52,  OFFSET(  Season!$E$8,   0, 3* ( AO$12 - 1 ),   34, 1 ),  0  ),    3*(AO$35 - 1) )","v":12},null,15,null,null,{"$f":"Standings!L20","v":"CVN"},20.846153846153847,17.153846153846153,3.6923076923076934]
[null,17,{"$f":"Standings!C22","v":0},null,null,null,null,null,null,null,null,null,null,null,null,null,null,null,null,null,null,null,null,17,{"$f":"Standings!L22","v":0},null,null,null,null,null,null,null,null,null,null,null,null,null,null,null,null,null,null,null,null,{"$f":"Standings!L21","v":"E25"},24.642857142857142,16.5,8.1428571428571423]
[null,null,"Ave",{"$f":"  IF(  U54 = 0,  \"\",  SUM(  E37:T53  ) /   U54    )","v":18.763072072072074},{"$f":" IF( SUM(E37:E53)= 0, 0,  SUM(E37:E53) / COUNTIF(E37:E53,\"<>0\") )","v":19.5625},24.976470588235294,19.117647058823529,19.823529411764707,21.529470588235291,17.705882352941178,17.511764705882353,14.6875,13.875,11.823529411764707,17.006250000000001,14.117705882352942,17.588235294117649,11.8,{"$f":" IF( SUM(S37:S53)= 0, 0,  SUM(S37:S53) / COUNTIF(S37:S53,\"<>0\") )","v":11.923076923076923},0,{"$f":"   SUM(  U37:U53  )","v":222},null,null,null,"Ave",{"$f":"  IF(  AQ54 = 0,  \"\",  SUM(  AA37:AP53  ) /   AQ54    )","v":16.389316239316241},{"$f":" IF( SUM(AA37:AA53)= 0, 0,  SUM(AA37:AA53) / COUNTIF(AA37:AA53,\"<>0\") )","v":19},18.352941176470587,16.588235294117649,17.470588235294116,17.005882352941178,20.058823529411764,14.470588235294118,13.333333333333334,14.529411764705882,13.176470588235293,10.235294117647058,12.470588235294118,13.705882352941176,14.058823529411764,{"$f":" IF( SUM(AO37:AO53)= 0, 0,  SUM(AO37:AO53) / COUNTIF(AO37:AO53,\"<>0\") )","v":13.5},0,{"$f":"   SUM(  AQ37:AQ53  )","v":234}]
[null,null,null,{"$f":"  IF(  D54 = \"\", \"\",  D54/6  )","v":3.1271786786786788},null,{"$f":" IF( SUM(E37:H53)= 0, 0,  SUM(E37:H53) /  COUNTIF(E37:H53,\"<>0\")  )","v":20.889552238805969},{"$f":"F55/6","v":3.481592039800995},null,null,{"$f":" IF( SUM(I37:L53)= 0, 0,  SUM(I37:L53) /  COUNTIF(I37:L53,\"<>0\")  )","v":17.905985074626866},{"$f":"J55/6","v":2.9843308457711442},null,null,{"$f":" IF( SUM(M37:P53)= 0, 0,  SUM(M37:P53) /  COUNTIF(M37:P53,\"<>0\")  )","v":14.16819696969697},{"$f":"N55/6","v":2.3613661616161616},null,null,{"$f":" IF( SUM(Q37:T53)= 0, 0,  SUM(Q37:T53) /  COUNTIF(Q37:T53,\"<>0\")  )","v":10.17741935483871},{"$f":"R55/6","v":1.696236559139785},null,null,null,null,null,null,{"$f":"  IF(  Z54 = \"\", \"\",  Z54/6  )","v":2.7315527065527068},null,{"$f":" IF( SUM(AA37:AD53)= 0, 0,  SUM(AA37:AD53) /  COUNTIF(AA37:AD53,\"<>0\")  )","v":17.852941176470587},{"$f":"AB55/6","v":2.975490196078431},null,null,{"$f":" IF( SUM(AE37:AH53)= 0, 0,  SUM(AE37:AH53) /  COUNTIF(AE37:AH53,\"<>0\")  )","v":16.304545454545455},{"$f":"AF55/6","v":2.7174242424242423},null,null,{"$f":" IF( SUM(AI37:AL53)= 0, 0,  SUM(AI37:AL53) /  COUNTIF(AI37:AL53,\"<>0\")  )","v":12.602941176470589},{"$f":"AJ55/6","v":2.1004901960784315},null,null,{"$f":" IF( SUM(AM37:AP53)= 0, 0,  SUM(AM37:AP53) /  COUNTIF(AM37:AP53,\"<>0\")  )","v":10.26865671641791},{"$f":"AN55/6","v":1.7114427860696517}]
[null,null,null,null,null,null,null,{"$f":" IF( SUM(E37:L53)= 0, 0,  SUM(E37:L53) / COUNTIF(E37:L53,\"<>0\") )","v":19.397768656716419},{"$f":"H56/6","v":3.23296144278607},null,null,null,null,null,null,{"$f":" IF( SUM(M37:U53)= 0, 0,  SUM(M37:U53) / COUNTIF(M37:U53,\"<>0\") )","v":12.331731034482758},{"$f":"P56/6","v":2.0552885057471264},null,null,null,null,null,null,null,null,null,null,null,null,{"$f":" IF( SUM(AA37:AH53)= 0, 0,  SUM(AA37:AH53) / COUNTIF(AA37:AH53,\"<>0\") )","v":17.090298507462688},{"$f":"AD56/6","v":2.8483830845771148},null,null,null,null,null,null,{"$f":" IF( SUM(AI37:AQ53)= 0, 0,  SUM(AI37:AQ53) / COUNTIF(AI37:AQ53,\"<>0\") )","v":11.703947368421053},{"$f":"AL56/6","v":1.9506578947368423}]
[null,null,null,null,null," - Forfeits",null,null,null," - Canceled",null,null,null,null,null,null,null,null,null,null,null,null,null,null,null,null,null," - Forfeits",null,null,null," - Canceled"]

{"sheet":"LastWeek","index":4,"n_rows":260,"n_cols":28,"rows_kept":260,"cut":false,"hidden":false,"merged":[]}
[]
[null,"Prior Week Scores, Players and Teams"]
[]
[null,null,null,null,"Week","Match","Venue",null,null,null,"H",{"$f":"  OFFSET(  $AA$7, 2* $F$5 - 1, 0 )","v":"E42"},{"$f":"  OFFSET(  $AB$7, 2* $F$5 - 1, 0 )","v":30},null,null,null,"AOP - Adjusted Over Par"]
[null,null,null,null,{"$f":"  OFFSET(  $W$7, 2* $F$5 - 1, 0 )","v":14},1,{"$f":"  UPPER(  LEFT(  OFFSET(  $Y$7,  2* $F$5 - 1,  0 ),  2  )  )  &  IF(  LEN( OFFSET(  $Y$7,  2* $F$5 - 1,  0 )  ) = 3,  \"b\", \"\"  )","v":"OH"},null,null,null,"A",{"$f":"  OFFSET(  $AA$7, 2* $F$5 - 0, 0 )","v":"X88"},{"$f":"  OFFSET(  $AB$7, 2* $F$5 - 0, 0 )","v":8}]
[null,null,null,null,null,null,null,null,null,null,null,null,null,null,null,null,null,null,null,null,null,"Team data ordered per Season sheet"]
[null,{"$f":"  IF( C8 > 6, \"See row 46 for playoff match results\", \"\" )","v":""},null,null,null,null,null,null,null,"H","A","Week","Venue","Date","Team","Player","AOP","CH","Net",null,null,"Sort","Week","H/A","Venue","Date","Team","Net"]
[null,null,{"$f":" MAX( $J$7:$J$260)","v":6},{"$f":"  OFFSET(  $AA$7, 2* $F$5 - 1, 0 )","v":"E42"},"AOP"," - CH =","Net","ESC",null,{"$f":"  IF(  AND( $O8 = $D$8, $L8 = $E$5 ),  MAX( J$7:J7 ) + 1,  \"\" )","v":1},{"$f":"  IF(  AND( $O8 = $D$18, $L8 = $E$5 ),  MAX( K$7:K7 ) + 1,  \"\" )","v":""},14,"oh","2024-07-11","E42","Keith Carter",12,10,2,null,{"$f":"U7+1","v":1},999,14,"H","oh","2024-07-11","E42",30]
[null,null,1,{"$f":"  IF(  $C$8 = 0,  \"\",  OFFSET(  $P$7,  MATCH(  $C9,  $J$8:$J$260, 0 ), 0  )  )","v":"Keith Carter"},{"$f":"  IF(  $C$8 = 0,  \"\",  OFFSET(  $Q$7,  MATCH(  $C9,  $J$8:$J$260, 0 ), 0  )  )","v":12},{"$f":"  IF(  $C$8 = 0,  \"\",  OFFSET(  $R$7,  MATCH(  $C9,  $J$8:$J$260, 0 ), 0  )  )","v":10},{"$f":"  IF(  $C$8 = 0,  \"\",  OFFSET(  $S$7,  MATCH(  $C9,  $J$8:$J$260, 0 ), 0  )  )","v":2},{"$f":"  G9 + F9 - E9","v":0},null,{"$f":"  IF(  AND( $O9 = $D$8, $L9 = $E$5 ),  MAX( J$7:J8 ) + 1,  \"\" )","v":2},{"$f":"  IF(  AND( $O9 = $D$18, $L9 = $E$5 ),  MAX( K$7:K8 ) + 1,  \"\" )","v":""},14,"oh","2024-07-11","E42","Henry Beale",14,6,8,null,null,999,14,"A","oh","2024-07-11","X88",8]
[null,null,2,"Henry Beale",14,6,8,0,null,{"$f":"  IF(  AND( $O10 = $D$8, $L10 = $E$5 ),  MAX( J$7:J9 ) + 1,  \"\" )","v":3},{"$f":"  IF(  AND( $O10 = $D$18, $L10 = $E$5 ),  MAX( K$7:K9 ) + 1,  \"\" )","v":""},14,"oh","2024-07-11","E42","Walt Jones",13,9,4,null,{"$f":"U8+1","v":2},999,15,"H","oh","2024-07-17","E25",15]
[null,null,3,"Walt Jones",13,9,4,{"$f":"  G11 + F11 - E11","v":0},null,{"$f":"  IF(  AND( $O11 = $D$8, $L11 = $E$5 ),  MAX( J$7:J10 ) + 1,  \"\" )","v":4},{"$f":"  IF(  AND( $O11 = $D$18, $L11 = $E$5 ),  MAX( K$7:K10 ) + 1,  \"\" )","v":""},14,"oh","2024-07-11","E42","Roger Woods",12,10,2,null,null,999,15,"A","oh","2024-07-17","O19",15]
[null,null,4,"Roger Woods",12,10,2,{"$f":"  G12 + F12 - E12","v":0},null,{"$f":"  IF(  AND( $O12 = $D$8, $L12 = $E$5 ),  MAX( J$7:J11 ) + 1,  \"\" )","v":5},{"$f":"  IF(  AND( $O12 = $D$18, $L12 = $E$5 ),  MAX( K$7:K11 ) + 1,  \"\" )","v":""},14,"oh","2024-07-11","E42","Vincent Saunders",20,14,6,null,{"$f":"U10+1","v":3},999,15,"H","ohb","2024-07-17","M10",12]
[null,null,5,"Vincent Saunders",20,14,6,0,null,{"$f":"  IF(  AND( $O13 = $D$8, $L13 = $E$5 ),  MAX( J$7:J12 ) + 1,  \"\" )","v":6},{"$f":"  IF(  AND( $O13 = $D$18, $L13 = $E$5 ),  MAX( K$7:K12 ) + 1,  \"\" )","v":""},14,"oh","2024-07-11","E42","Jason love",24,13,8,null,null,999,15,"A","ohb","2024-07-17","A572",15]
[null,null,6,"Jason love",24,13,8,-3,null,{"$f":"  IF(  AND( $O14 = $D$8, $L14 = $E$5 ),  MAX( J$7:J13 ) + 1,  \"\" )","v":""},{"$f":"  IF(  AND( $O14 = $D$18, $L14 = $E$5 ),  MAX( K$7:K13 ) + 1,  \"\" )","v":1},14,"oh","2024-07-11","X88","Mark Barker",3,4,-1,null,{"$f":"U12+1","v":4},999]
[null,null,null,"Totals",{"$f":"SUM(E9:E14)","v":95},{"$f":"SUM(F9:F14)","v":62},{"$f":"IF( $E$15>0, SUM(G9:G14), \"\")","v":30},null,null,{"$f":"  IF(  AND( $O15 = $D$8, $L15 = $E$5 ),  MAX( J$7:J14 ) + 1,  \"\" )","v":""},{"$f":"  IF(  AND( $O15 = $D$18, $L15 = $E$5 ),  MAX( K$7:K14 ) + 1,  \"\" )","v":2},14,"oh","2024-07-11","X88","Ed Spruill",8,8,0,null,null,999]
[null,null,null,null,null,null,null,null,null,{"$f":"  IF(  AND( $O16 = $D$8, $L16 = $E$5 ),  MAX( J$7:J15 ) + 1,  \"\" )","v":""},{"$f":"  IF(  AND( $O16 = $D$18, $L16 = $E$5 ),  MAX( K$7:K15 ) + 1,  \"\" )","v":3},14,"oh","2024-07-11","X88","Dale Stumpf",10,11,-1,null,{"$f":"U14+1","v":5},999]
[null,null,null,null,null,null,null,null,null,{"$f":"  IF(  AND( $O17 = $D$8, $L17 = $E$5 ),  MAX( J$7:J16 ) + 1,  \"\" )","v":""},{"$f":"  IF(  AND( $O17 = $D$18, $L17 = $E$5 ),  MAX( K$7:K16 ) + 1,  \"\" )","v":4},14,"oh","2024-07-11","X88","Rich Dietz",15,11,4,null,null,999]
[null,null,{"$f":" MAX( $K$8:$K$260)","v":6},{"$f":"  OFFSET(  $AA$7, 2* $F$5 - 0, 0 )","v":"X88"},"AOP"," - CH =","Net","ESC",null,{"$f":"  IF(  AND( $O18 = $D$8, $L18 = $E$5 ),  MAX( J$7:J17 ) + 1,  \"\" )","v":""},{"$f":"  IF(  AND( $O18 = $D$18, $L18 = $E$5 ),  MAX( K$7:K17 ) + 1,  \"\" )","v":5},14,"oh","2024-07-11","X88","Darrell Goodrich",14,16,-2,null,{"$f":"U16+1","v":6},999]
[null,null,1,{"$f":"  IF(  $C$18 = 0,  \"\",  OFFSET(  $P$7,  MATCH(  $C9,  $K$8:$K$260, 0 ), 0  )  )","v":"Mark Barker"},{"$f":"  IF(  $C$18 = 0,  \"\",  OFFSET(  $Q$7,  MATCH(  $C19,  $K$8:$K$260, 0 ), 0  )  )","v":3},{"$f":"  IF(  $C$18 = 0,  \"\",  OFFSET(  $R$7,  MATCH(  $C19,  $K$8:$K$260, 0 ), 0  )  )","v":4},{"$f":"  IF(  $C$18 = 0,  \"\",  OFFSET(  $S$7,  MATCH(  $C19,  $K$8:$K$260, 0 ), 0  )  )","v":-1},{"$f":"  G19 + F19 - E19","v":0},null,{"$f":"  IF(  AND( $O19 = $D$8, $L19 = $E$5 ),  MAX( J$7:J18 ) + 1,  \"\" )","v":""},{"$f":"  IF(  AND( $O19 = $D$18, $L19 = $E$5 ),  MAX( K$7:K18 ) + 1,  \"\" )","v":6},14,"oh","2024-07-11","X88","John Plevelich",20,10,8,null,null,999]
[null,null,2,"Ed Spruill",8,8,0,0,null,{"$f":"  IF(  AND( $O20 = $D$8, $L20 = $E$5 ),  MAX( J$7:J19 ) + 1,  \"\" )","v":""},{"$f":"  IF(  AND( $O20 = $D$18, $L20 = $E$5 ),  MAX( K$7:K19 ) + 1,  \"\" )","v":""},15,"oh","2024-07-17","E25","Tim Moore",6,2,4,null,{"$f":"U18+1","v":7},999]
[null,null,3,"Dale Stumpf",10,11,-1,{"$f":"  G21 + F21 - E21","v":0},null,{"$f":"  IF(  AND( $O21 = $D$8, $L21 = $E$5 ),  MAX( J$7:J20 ) + 1,  \"\" )","v":""},{"$f":"  IF(  AND( $O21 = $D$18, $L21 = $E$5 ),  MAX( K$7:K20 ) + 1,  \"\" )","v":""},15,"oh","2024-07-17","E25","Bob Garrison",6,5,1,null,null,999]
[null,null,4,"Rich Dietz",15,11,4,{"$f":"  G22 + F22 - E22","v":0},null,{"$f":"  IF(  AND( $O22 = $D$8, $L22 = $E$5 ),  MAX( J$7:J21 ) + 1,  \"\" )","v":""},{"$f":"  IF(  AND( $O22 = $D$18, $L22 = $E$5 ),  MAX( K$7:K21 ) + 1,  \"\" )","v":""},15,"oh","2024-07-17","E25","Terry Dishmon",11,12,-1,null,{"$f":"U20+1","v":8},999]
[null,null,5,"Darrell Goodrich",14,16,-2,0,null,{"$f":"  IF(  AND( $O23 = $D$8, $L23 = $E$5 ),  MAX( J$7:J22 ) + 1,  \"\" )","v":""},{"$f":"  IF(  AND( $O23 = $D$18, $L23 = $E$5 ),  MAX( K$7:K22 ) + 1,  \"\" )","v":""},15,"oh","2024-07-17","E25","Tavin Keys",8,9,-1,null,null,999]
[null,null,6,"John Plevelich",20,10,8,-2,null,{"$f":"  IF(  AND( $O24 = $D$8, $L24 = $E$5 ),  MAX( J$7:J23 ) + 1,  \"\" )","v":""},{"$f":"  IF(  AND( $O24 = $D$18, $L24 = $E$5 ),  MAX( K$7:K23 ) + 1,  \"\" )","v":""},15,"oh","2024-07-17","E25","Adrian Shirley",24,18,6,null,{"$f":"U22+1","v":9},999]
[null,null,null,"Totals",{"$f":"SUM(E19:E24)","v":70},{"$f":"SUM(F19:F24)","v":60},{"$f":"IF( $E$15>0, SUM(G19:G24), \"\")","v":8},null,null,{"$f":"  IF(  AND( $O25 = $D$8, $L25 = $E$5 ),  MAX( J$7:J24 ) + 1,  \"\" )","v":""},{"$f":"  IF(  AND( $O25 = $D$18, $L25 = $E$5 ),  MAX( K$7:K24 ) + 1,  \"\" )","v":""},15,"oh","2024-07-17","E25","Benjamin Markiewicz",24,18,6,null,null,999]
[null,"Note: Line-up per sort order, not per actual match.",null,null,null,null,null,null,null,{"$f":"  IF(  AND( $O26 = $D$8, $L26 = $E$5 ),  MAX( J$7:J25 ) + 1,  \"\" )","v":""},{"$f":"  IF(  AND( $O26 = $D$18, $L26 = $E$5 ),  MAX( K$7:K25 ) + 1,  \"\" )","v":""},15,"oh","2024-07-17","O19","Willie Adams",4,3,1,null,{"$f":"U24+1","v":10},999]
[null,null,null,null,null,null,null,null,null,{"$f":"  IF(  AND( $O27 = $D$8, $L27 = $E$5 ),  MAX( J$7:J26 ) + 1,  \"\" )","v":""},{"$f":"  IF(  AND( $O27 = $D$18, $L27 = $E$5 ),  MAX( K$7:K26 ) + 1,  \"\" )","v":""},15,"oh","2024-07-17","O19","Chris Smith",11,7,4,null,null,999]
[null,null,null,null,null,null,null,null,null,{"$f":"  IF(  AND( $O28 = $D$8, $L28 = $E$5 ),  MAX( J$7:J27 ) + 1,  \"\" )","v":""},{"$f":"  IF(  AND( $O28 = $D$18, $L28 = $E$5 ),  MAX( K$7:K27 ) + 1,  \"\" )","v":""},15,"oh","2024-07-17","O19","Steve Speight",12,7,5,null,{"$f":"U26+1","v":11},999]
[null,null,null,null,null,null,null,null,null,{"$f":"  IF(  AND( $O29 = $D$8, $L29 = $E$5 ),  MAX( J$7:J28 ) + 1,  \"\" )","v":""},{"$f":"  IF(  AND( $O29 = $D$18, $L29 = $E$5 ),  MAX( K$7:K28 ) + 1,  \"\" )","v":""},15,"oh","2024-07-17","O19","Andre' Jones",6,9,-3,null,null,999]
[null,null,null,null,null,null,null,null,null,{"$f":"  IF(  AND( $O30 = $D$8, $L30 = $E$5 ),  MAX( J$7:J29 ) + 1,  \"\" )","v":""},{"$f":"  IF(  AND( $O30 = $D$18, $L30 = $E$5 ),  MAX( K$7:K29 ) + 1,  \"\" )","v":""},15,"oh","2024-07-17","O19","Dominick Moore",18,14,4,null,{"$f":"U28+1","v":12},999]
[null,null,null,null,null,null,null,null,null,{"$f":"  IF(  AND( $O31 = $D$8, $L31 = $E$5 ),  MAX( J$7:J30 ) + 1,  \"\" )","v":""},{"$f":"  IF(  AND( $O31 = $D$18, $L31 = $E$5 ),  MAX( K$7:K30 ) + 1,  \"\" )","v":""},15,"oh","2024-07-17","O19","Dave Cash",13,9,4,null,null,999]
[null,null,null,null,null,null,null,null,null,{"$f":"  IF(  AND( $O32 = $D$8, $L32 = $E$5 ),  MAX( J$7:J31 ) + 1,  \"\" )","v":""},{"$f":"  IF(  AND( $O32 = $D$18, $L32 = $E$5 ),  MAX( K$7:K31 ) + 1,  \"\" )","v":""},15,"ohb","2024-07-17","M10","Chris Hildebrand",7.5,6,1.5,null,{"$f":"U30+1","v":13},999]
[null,null,null,null,null,null,null,null,null,{"$f":"  IF(  AND( $O33 = $D$8, $L33 = $E$5 ),  MAX( J$7:J32 ) + 1,  \"\" )","v":""},{"$f":"  IF(  AND( $O33 = $D$18, $L33 = $E$5 ),  MAX( K$7:K32 ) + 1,  \"\" )","v":""},15,"ohb","2024-07-17","M10","Chris Harris",6,7,-1,null,null,999]
[null,null,null,null,null,null,null,null,null,{"$f":"  IF(  AND( $O34 = $D$8, $L34 = $E$5 ),  MAX( J$7:J33 ) + 1,  \"\" )","v":""},{"$f":"  IF(  AND( $O34 = $D$18, $L34 = $E$5 ),  MAX( K$7:K33 ) + 1,  \"\" )","v":""},15,"ohb","2024-07-17","M10","Jimmy Gollihugh",7.5,8,-0.5,null,{"$f":"U32+1","v":14},999]
[null,null,null,null,null,null,null,null,null,{"$f":"  IF(  AND( $O35 = $D$8, $L35 = $E$5 ),  MAX( J$7:J34 ) + 1,  \"\" )","v":""},{"$f":"  IF(  AND( $O35 = $D$18, $L35 = $E$5 ),  MAX( K$7:K34 ) + 1,  \"\" )","v":""},15,"ohb","2024-07-17","M10","Chris Glidewell",6,3,3,null,null,999]
[null,null,null,null,null,null,null,null,null,{"$f":"  IF(  AND( $O36 = $D$8, $L36 = $E$5 ),  MAX( J$7:J35 ) + 1,  \"\" )","v":""},{"$f":"  IF(  AND( $O36 = $D$18, $L36 = $E$5 ),  MAX( K$7:K35 ) + 1,  \"\" )","v":""},15,"ohb","2024-07-17","M10","Jason Roach",22.5,15,7.5,null,{"$f":"U34+1","v":15},999]
[null,null,null,null,null,null,null,null,null,{"$f":"  IF(  AND( $O37 = $D$8, $L37 = $E$5 ),  MAX( J$7:J36 ) + 1,  \"\" )","v":""},{"$f":"  IF(  AND( $O37 = $D$18, $L37 = $E$5 ),  MAX( K$7:K36 ) + 1,  \"\" )","v":""},15,"ohb","2024-07-17","M10","Hayden Champigny",13.5,12,1.5,null,null,999]
[null,null,null,null,null,null,null,null,null,{"$f":"  IF(  AND( $O38 = $D$8, $L38 = $E$5 ),  MAX( J$7:J37 ) + 1,  \"\" )","v":""},{"$f":"  IF(  AND( $O38 = $D$18, $L38 = $E$5 ),  MAX( K$7:K37 ) + 1,  \"\" )","v":""},15,"ohb","2024-07-17","A572","Bill Callis",10.5,7,3.5,null,{"$f":"U36+1","v":16},999]
[null,null,null,null,null,null,null,null,null,{"$f":"  IF(  AND( $O39 = $D$8, $L39 = $E$5 ),  MAX( J$7:J38 ) + 1,  \"\" )","v":""},{"$f":"  IF(  AND( $O39 = $D$18, $L39 = $E$5 ),  MAX( K$7:K38 ) + 1,  \"\" )","v":""},15,"ohb","2024-07-17","A572","Brenton Shapiro",-1.5,2,-3.5,null,null,999]
[null,null,null,null,null,null,null,null,null,{"$f":"  IF(  AND( $O40 = $D$8, $L40 = $E$5 ),  MAX( J$7:J39 ) + 1,  \"\" )","v":""},{"$f":"  IF(  AND( $O40 = $D$18, $L40 = $E$5 ),  MAX( K$7:K39 ) + 1,  \"\" )","v":""},15,"ohb","2024-07-17","A572","Marc Morotini",7.5,8,-0.5,null,{"$f":"U38+1","v":17},999]
[null,null,null,null,null,null,null,null,null,{"$f":"  IF(  AND( $O41 = $D$8, $L41 = $E$5 ),  MAX( J$7:J40 ) + 1,  \"\" )","v":""},{"$f":"  IF(  AND( $O41 = $D$18, $L41 = $E$5 ),  MAX( K$7:K40 ) + 1,  \"\" )","v":""},15,"ohb","2024-07-17","A572","Steve McFann",10.5,10,0.5,null,null,999]
[null,null,null,null,null,null,null,null,null,{"$f":"  IF(  AND( $O42 = $D$8, $L42 = $E$5 ),  MAX( J$7:J41 ) + 1,  \"\" )","v":""},{"$f":"  IF(  AND( $O42 = $D$18, $L42 = $E$5 ),  MAX( K$7:K41 ) + 1,  \"\" )","v":""},15,"ohb","2024-07-17","A572","Brian Costello",21,16,5,null,{"$f":"U40+1","v":18},"x"]
[null,null,null,null,null,null,null,null,null,{"$f":"  IF(  AND( $O43 = $D$8, $L43 = $E$5 ),  MAX( J$7:J42 ) + 1,  \"\" )","v":""},{"$f":"  IF(  AND( $O43 = $D$18, $L43 = $E$5 ),  MAX( K$7:K42 ) + 1,  \"\" )","v":""},15,"ohb","2024-07-17","A572","No Show",null,null,10,null,null,"x"]
[null,null,null,null,null,null,null,null,null,{"$f":"  IF(  AND( $O44 = $D$8, $L44 = $E$5 ),  MAX( J$7:J43 ) + 1,  \"\" )","v":""},{"$f":"  IF(  AND( $O44 = $D$18, $L44 = $E$5 ),  MAX( K$7:K43 ) + 1,  \"\" )","v":""},null,null,null,null,null,null,null,null,null,{"$f":"U42+1","v":19},"x"]
[null,null,null,null,null,null,null,null,null,{"$f":"  IF(  AND( $O45 = $D$8, $L45 = $E$5 ),  MAX( J$7:J44 ) + 1,  \"\" )","v":""},{"$f":"  IF(  AND( $O45 = $D$18, $L45 = $E$5 ),  MAX( K$7:K44 ) + 1,  \"\" )","v":""},null,null,null,null,null,null,null,null,null,null,"x"]
[null,null,{"$f":" MAX( $J$7:$J$260)","v":6},{"$f":"  OFFSET(  $AA$7, 2* $F$5 - 1, 0 )","v":"E42"},"AOP"," - CH =","Net","ESC",null,{"$f":"  IF(  AND( $O46 = $D$8, $L46 = $E$5 ),  MAX( J$7:J45 ) + 1,  \"\" )","v":""},{"$f":"  IF(  AND( $O46 = $D$18, $L46 = $E$5 ),  MAX( K$7:K45 ) + 1,  \"\" )","v":""},null,null,null,null,null,null,null,null,null,{"$f":"U44+1","v":20},"x"]
[null,null,1,{"$f":"  IF(  $C$8 = 0,  \"\",  OFFSET(  $P$7,  MATCH(  $C47,  $J$8:$J$260, 0 ), 0  )  )","v":"Keith Carter"},{"$f":"  IF(  $C$8 = 0,  \"\",  OFFSET(  $Q$7,  MATCH(  $C47,  $J$8:$J$260, 0 ), 0  )  )","v":12},{"$f":"  IF(  $C$8 = 0,  \"\",  OFFSET(  $R$7,  MATCH(  $C47,  $J$8:$J$260, 0 ), 0  )  )","v":10},{"$f":"  IF(  $C$8 = 0,  \"\",  OFFSET(  $S$7,  MATCH(  $C47,  $J$8:$J$260, 0 ), 0  )  )","v":2},{"$f":"  G47 + F47 - E47","v":0},null,{"$f":"  IF(  AND( $O47 = $D$8, $L47 = $E$5 ),  MAX( J$7:J46 ) + 1,  \"\" )","v":""},{"$f":"  IF(  AND( $O47 = $D$18, $L47 = $E$5 ),  MAX( K$7:K46 ) + 1,  \"\" )","v":""},null,null,null,null,null,null,null,null,null,null,"x"]
[null,null,2,"Henry Beale",14,6,8,0,null,{"$f":"  IF(  AND( $O48 = $D$8, $L48 = $E$5 ),  MAX( J$7:J47 ) + 1,  \"\" )","v":""},{"$f":"  IF(  AND( $O48 = $D$18, $L48 = $E$5 ),  MAX( K$7:K47 ) + 1,  \"\" )","v":""},null,null,null,null,null,null,null,null,null,{"$f":"U46+1","v":21},"x"]
[null,null,3,"Walt Jones",13,9,4,{"$f":"  G49 + F49 - E49","v":0},null,{"$f":"  IF(  AND( $O49 = $D$8, $L49 = $E$5 ),  MAX( J$7:J48 ) + 1,  \"\" )","v":""},{"$f":"  IF(  AND( $O49 = $D$18, $L49 = $E$5 ),  MAX( K$7:K48 ) + 1,  \"\" )","v":""},null,null,null,null,null,null,null,null,null,null,"x"]
[null,null,4,"Roger Woods",12,10,2,{"$f":"  G50 + F50 - E50","v":0},null,{"$f":"  IF(  AND( $O50 = $D$8, $L50 = $E$5 ),  MAX( J$7:J49 ) + 1,  \"\" )","v":""},{"$f":"  IF(  AND( $O50 = $D$18, $L50 = $E$5 ),  MAX( K$7:K49 ) + 1,  \"\" )","v":""},null,null,null,null,null,null,null,null,null,{"$f":"U48+1","v":22},"x"]
[null,null,5,"Vincent Saunders",20,14,6,0,null,{"$f":"  IF(  AND( $O51 = $D$8, $L51 = $E$5 ),  MAX( J$7:J50 ) + 1,  \"\" )","v":""},{"$f":"  IF(  AND( $O51 = $D$18, $L51 = $E$5 ),  MAX( K$7:K50 ) + 1,  \"\" )","v":""},null,null,null,null,null,null,null,null,null,null,"x"]
[null,null,6,"Jason love",24,13,8,{"$f":"  G52 + F52 - E52","v":-3},null,{"$f":"  IF(  AND( $O52 = $D$8, $L52 = $E$5 ),  MAX( J$7:J51 ) + 1,  \"\" )","v":""},{"$f":"  IF(  AND( $O52 = $D$18, $L52 = $E$5 ),  MAX( K$7:K51 ) + 1,  \"\" )","v":""}]
[null,null,7,{"$error":"#N/A"},{"$error":"#N/A"},{"$error":"#N/A"},{"$error":"#N/A"},{"$error":"#N/A"},null,{"$f":"  IF(  AND( $O53 = $D$8, $L53 = $E$5 ),  MAX( J$7:J52 ) + 1,  \"\" )","v":""},{"$f":"  IF(  AND( $O53 = $D$18, $L53 = $E$5 ),  MAX( K$7:K52 ) + 1,  \"\" )","v":""}]
[null,null,8,{"$error":"#N/A"},{"$error":"#N/A"},{"$error":"#N/A"},{"$error":"#N/A"},{"$error":"#N/A"},null,{"$f":"  IF(  AND( $O54 = $D$8, $L54 = $E$5 ),  MAX( J$7:J53 ) + 1,  \"\" )","v":""},{"$f":"  IF(  AND( $O54 = $D$18, $L54 = $E$5 ),  MAX( K$7:K53 ) + 1,  \"\" )","v":""}]
[null,null,9,{"$error":"#N/A"},{"$error":"#N/A"},{"$error":"#N/A"},{"$error":"#N/A"},{"$error":"#N/A"},null,{"$f":"  IF(  AND( $O55 = $D$8, $L55 = $E$5 ),  MAX( J$7:J54 ) + 1,  \"\" )","v":""},{"$f":"  IF(  AND( $O55 = $D$18, $L55 = $E$5 ),  MAX( K$7:K54 ) + 1,  \"\" )","v":""}]
[null,null,10,{"$error":"#N/A"},{"$error":"#N/A"},{"$error":"#N/A"},{"$error":"#N/A"},{"$error":"#N/A"},null,{"$f":"  IF(  AND( $O56 = $D$8, $L56 = $E$5 ),  MAX( J$7:J55 ) + 1,  \"\" )","v":""},{"$f":"  IF(  AND( $O56 = $D$18, $L56 = $E$5 ),  MAX( K$7:K55 ) + 1,  \"\" )","v":""}]
[null,null,11,{"$error":"#N/A"},{"$error":"#N/A"},{"$error":"#N/A"},{"$error":"#N/A"},{"$error":"#N/A"},null,{"$f":"  IF(  AND( $O57 = $D$8, $L57 = $E$5 ),  MAX( J$7:J56 ) + 1,  \"\" )","v":""},{"$f":"  IF(  AND( $O57 = $D$18, $L57 = $E$5 ),  MAX( K$7:K56 ) + 1,  \"\" )","v":""}]
[null,null,12,{"$error":"#N/A"},{"$error":"#N/A"},{"$error":"#N/A"},{"$error":"#N/A"},{"$error":"#N/A"},null,{"$f":"  IF(  AND( $O58 = $D$8, $L58 = $E$5 ),  MAX( J$7:J57 ) + 1,  \"\" )","v":""},{"$f":"  IF(  AND( $O58 = $D$18, $L58 = $E$5 ),  MAX( K$7:K57 ) + 1,  \"\" )","v":""}]
[null,null,null,null,{"$f":"SUM(E53:E58)","v":{"$error":"#N/A"}},{"$f":"SUM(F53:F58)","v":{"$error":"#N/A"}},{"$f":"IF( $E$15>0, SUM(G47:G58), \"\")","v":{"$error":"#N/A"}},null,null,{"$f":"  IF(  AND( $O59 = $D$8, $L59 = $E$5 ),  MAX( J$7:J58 ) + 1,  \"\" )","v":""},{"$f":"  IF(  AND( $O59 = $D$18, $L59 = $E$5 ),  MAX( K$7:K58 ) + 1,  \"\" )","v":""}]
[null,null,null,null,null,"Max",{"$f":"  MAX( G47:G58 )","v":{"$error":"#N/A"}},null,null,{"$f":"  IF(  AND( $O60 = $D$8, $L60 = $E$5 ),  MAX( J$7:J59 ) + 1,  \"\" )","v":""},{"$f":"  IF(  AND( $O60 = $D$18, $L60 = $E$5 ),  MAX( K$7:K59 ) + 1,  \"\" )","v":""}]
[null,null,null,null,null,"Net",{"$f":"  G59-G60","v":{"$error":"#N/A"}},null,null,{"$f":"  IF(  AND( $O61 = $D$8, $L61 = $E$5 ),  MAX( J$7:J60 ) + 1,  \"\" )","v":""},{"$f":"  IF(  AND( $O61 = $D$18, $L61 = $E$5 ),  MAX( K$7:K60 ) + 1,  \"\" )","v":""}]
[null,null,null,null,null,null,null,null,null,{"$f":"  IF(  AND( $O62 = $D$8, $L62 = $E$5 ),  MAX( J$7:J61 ) + 1,  \"\" )","v":""},{"$f":"  IF(  AND( $O62 = $D$18, $L62 = $E$5 ),  MAX( K$7:K61 ) + 1,  \"\" )","v":""}]
[null,null,{"$f":" MAX( $K$8:$K$260)","v":6},{"$f":"  OFFSET(  $AA$7, 2* $F$5 - 0, 0 )","v":"X88"},"AOP"," - CH =","Net","ESC",null,{"$f":"  IF(  AND( $O63 = $D$8, $L63 = $E$5 ),  MAX( J$7:J62 ) + 1,  \"\" )","v":""},{"$f":"  IF(  AND( $O63 = $D$18, $L63 = $E$5 ),  MAX( K$7:K62 ) + 1,  \"\" )","v":""}]
[null,null,1,{"$f":"  IF(  $C$18 = 0,  \"\",  OFFSET(  $P$7,  MATCH(  $C64,  $K$8:$K$260, 0 ), 0  )  )","v":"Mark Barker"},{"$f":"  IF(  $C$18 = 0,  \"\",  OFFSET(  $Q$7,  MATCH(  $C64,  $K$8:$K$260, 0 ), 0  )  )","v":3},{"$f":"  IF(  $C$18 = 0,  \"\",  OFFSET(  $R$7,  MATCH(  $C64,  $K$8:$K$260, 0 ), 0  )  )","v":4},{"$f":"  IF(  $C$18 = 0,  \"\",  OFFSET(  $S$7,  MATCH(  $C64,  $K$8:$K$260, 0 ), 0  )  )","v":-1},{"$f":"  G64 + F64 - E64","v":0},null,{"$f":"  IF(  AND( $O64 = $D$8, $L64 = $E$5 ),  MAX( J$7:J63 ) + 1,  \"\" )","v":""},{"$f":"  IF(  AND( $O64 = $D$18, $L64 = $E$5 ),  MAX( K$7:K63 ) + 1,  \"\" )","v":""}]
[null,null,2,"Ed Spruill",8,8,0,0,null,{"$f":"  IF(  AND( $O65 = $D$8, $L65 = $E$5 ),  MAX( J$7:J64 ) + 1,  \"\" )","v":""},{"$f":"  IF(  AND( $O65 = $D$18, $L65 = $E$5 ),  MAX( K$7:K64 ) + 1,  \"\" )","v":""}]
[null,null,3,"Dale Stumpf",10,11,-1,{"$f":"  G66 + F66 - E66","v":0},null,{"$f":"  IF(  AND( $O66 = $D$8, $L66 = $E$5 ),  MAX( J$7:J65 ) + 1,  \"\" )","v":""},{"$f":"  IF(  AND( $O66 = $D$18, $L66 = $E$5 ),  MAX( K$7:K65 ) + 1,  \"\" )","v":""}]
[null,null,4,"Rich Dietz",15,11,4,{"$f":"  G67 + F67 - E67","v":0},null,{"$f":"  IF(  AND( $O67 = $D$8, $L67 = $E$5 ),  MAX( J$7:J66 ) + 1,  \"\" )","v":""},{"$f":"  IF(  AND( $O67 = $D$18, $L67 = $E$5 ),  MAX( K$7:K66 ) + 1,  \"\" )","v":""}]
[null,null,5,"Darrell Goodrich",14,16,-2,0,null,{"$f":"  IF(  AND( $O68 = $D$8, $L68 = $E$5 ),  MAX( J$7:J67 ) + 1,  \"\" )","v":""},{"$f":"  IF(  AND( $O68 = $D$18, $L68 = $E$5 ),  MAX( K$7:K67 ) + 1,  \"\" )","v":""}]
[null,null,6,"John Plevelich",20,10,8,{"$f":"  G69 + F69 - E69","v":-2},null,{"$f":"  IF(  AND( $O69 = $D$8, $L69 = $E$5 ),  MAX( J$7:J68 ) + 1,  \"\" )","v":""},{"$f":"  IF(  AND( $O69 = $D$18, $L69 = $E$5 ),  MAX( K$7:K68 ) + 1,  \"\" )","v":""}]
[null,null,7,{"$error":"#N/A"},{"$error":"#N/A"},{"$error":"#N/A"},{"$error":"#N/A"},{"$error":"#N/A"},null,{"$f":"  IF(  AND( $O70 = $D$8, $L70 = $E$5 ),  MAX( J$7:J69 ) + 1,  \"\" )","v":""},{"$f":"  IF(  AND( $O70 = $D$18, $L70 = $E$5 ),  MAX( K$7:K69 ) + 1,  \"\" )","v":""}]
[null,null,8,{"$error":"#N/A"},{"$error":"#N/A"},{"$error":"#N/A"},{"$error":"#N/A"},{"$error":"#N/A"},null,{"$f":"  IF(  AND( $O71 = $D$8, $L71 = $E$5 ),  MAX( J$7:J70 ) + 1,  \"\" )","v":""},{"$f":"  IF(  AND( $O71 = $D$18, $L71 = $E$5 ),  MAX( K$7:K70 ) + 1,  \"\" )","v":""}]
[null,null,9,{"$error":"#N/A"},{"$error":"#N/A"},{"$error":"#N/A"},{"$error":"#N/A"},{"$error":"#N/A"},null,{"$f":"  IF(  AND( $O72 = $D$8, $L72 = $E$5 ),  MAX( J$7:J71 ) + 1,  \"\" )","v":""},{"$f":"  IF(  AND( $O72 = $D$18, $L72 = $E$5 ),  MAX( K$7:K71 ) + 1,  \"\" )","v":""}]
[null,null,10,{"$error":"#N/A"},{"$error":"#N/A"},{"$error":"#N/A"},{"$error":"#N/A"},{"$error":"#N/A"},null,{"$f":"  IF(  AND( $O73 = $D$8, $L73 = $E$5 ),  MAX( J$7:J72 ) + 1,  \"\" )","v":""},{"$f":"  IF(  AND( $O73 = $D$18, $L73 = $E$5 ),  MAX( K$7:K72 ) + 1,  \"\" )","v":""}]
[null,null,11,{"$error":"#N/A"},{"$error":"#N/A"},{"$error":"#N/A"},{"$error":"#N/A"},{"$error":"#N/A"},null,{"$f":"  IF(  AND( $O74 = $D$8, $L74 = $E$5 ),  MAX( J$7:J73 ) + 1,  \"\" )","v":""},{"$f":"  IF(  AND( $O74 = $D$18, $L74 = $E$5 ),  MAX( K$7:K73 ) + 1,  \"\" )","v":""}]
[null,null,12,{"$error":"#N/A"},{"$error":"#N/A"},{"$error":"#N/A"},{"$error":"#N/A"},{"$error":"#N/A"},null,{"$f":"  IF(  AND( $O75 = $D$8, $L75 = $E$5 ),  MAX( J$7:J74 ) + 1,  \"\" )","v":""},{"$f":"  IF(  AND( $O75 = $D$18, $L75 = $E$5 ),  MAX( K$7:K74 ) + 1,  \"\" )","v":""}]
[null,null,null,null,{"$f":"SUM(E70:E75)","v":{"$error":"#N/A"}},{"$f":"SUM(F70:F75)","v":{"$error":"#N/A"}},{"$f":"IF( $E$15>0, SUM(G64:G75), \"\")","v":{"$error":"#N/A"}},null,null,{"$f":"  IF(  AND( $O76 = $D$8, $L76 = $E$5 ),  MAX( J$7:J75 ) + 1,  \"\" )","v":""},{"$f":"  IF(  AND( $O76 = $D$18, $L76 = $E$5 ),  MAX( K$7:K75 ) + 1,  \"\" )","v":""}]
[null,null,null,null,null,"Max",{"$f":"  MAX( G64:G75 )","v":{"$error":"#N/A"}},null,null,{"$f":"  IF(  AND( $O77 = $D$8, $L77 = $E$5 ),  MAX( J$7:J76 ) + 1,  \"\" )","v":""},{"$f":"  IF(  AND( $O77 = $D$18, $L77 = $E$5 ),  MAX( K$7:K76 ) + 1,  \"\" )","v":""}]
[null,null,null,null,null,"Net",{"$f":"  G76-G77","v":{"$error":"#N/A"}},null,null,{"$f":"  IF(  AND( $O78 = $D$8, $L78 = $E$5 ),  MAX( J$7:J77 ) + 1,  \"\" )","v":""},{"$f":"  IF(  AND( $O78 = $D$18, $L78 = $E$5 ),  MAX( K$7:K77 ) + 1,  \"\" )","v":""}]
[null,null,null,null,null,null,null,null,null,{"$f":"  IF(  AND( $O79 = $D$8, $L79 = $E$5 ),  MAX( J$7:J78 ) + 1,  \"\" )","v":""},{"$f":"  IF(  AND( $O79 = $D$18, $L79 = $E$5 ),  MAX( K$7:K78 ) + 1,  \"\" )","v":""}]
[null,null,null,null,null,null,null,null,null,{"$f":"  IF(  AND( $O80 = $D$8, $L80 = $E$5 ),  MAX( J$7:J79 ) + 1,  \"\" )","v":""},{"$f":"  IF(  AND( $O80 = $D$18, $L80 = $E$5 ),  MAX( K$7:K79 ) + 1,  \"\" )","v":""}]
[null,null,null,null,null,null,null,null,null,{"$f":"  IF(  AND( $O81 = $D$8, $L81 = $E$5 ),  MAX( J$7:J80 ) + 1,  \"\" )","v":""},{"$f":"  IF(  AND( $O81 = $D$18, $L81 = $E$5 ),  MAX( K$7:K80 ) + 1,  \"\" )","v":""}]
[null,null,null,null,null,null,null,null,null,{"$f":"  IF(  AND( $O82 = $D$8, $L82 = $E$5 ),  MAX( J$7:J81 ) + 1,  \"\" )","v":""},{"$f":"  IF(  AND( $O82 = $D$18, $L82 = $E$5 ),  MAX( K$7:K81 ) + 1,  \"\" )","v":""}]
[null,null,null,null,null,null,null,null,null,{"$f":"  IF(  AND( $O83 = $D$8, $L83 = $E$5 ),  MAX( J$7:J82 ) + 1,  \"\" )","v":""},{"$f":"  IF(  AND( $O83 = $D$18, $L83 = $E$5 ),  MAX( K$7:K82 ) + 1,  \"\" )","v":""}]
[null,null,null,null,null,null,null,null,null,{"$f":"  IF(  AND( $O84 = $D$8, $L84 = $E$5 ),  MAX( J$7:J83 ) + 1,  \"\" )","v":""},{"$f":"  IF(  AND( $O84 = $D$18, $L84 = $E$5 ),  MAX( K$7:K83 ) + 1,  \"\" )","v":""}]
[null,null,null,null,null,null,null,null,null,{"$f":"  IF(  AND( $O85 = $D$8, $L85 = $E$5 ),  MAX( J$7:J84 ) + 1,  \"\" )","v":""},{"$f":"  IF(  AND( $O85 = $D$18, $L85 = $E$5 ),  MAX( K$7:K84 ) + 1,  \"\" )","v":""}]
[null,null,null,null,null,null,null,null,null,{"$f":"  IF(  AND( $O86 = $D$8, $L86 = $E$5 ),  MAX( J$7:J85 ) + 1,  \"\" )","v":""},{"$f":"  IF(  AND( $O86 = $D$18, $L86 = $E$5 ),  MAX( K$7:K85 ) + 1,  \"\" )","v":""}]
[null,null,null,null,null,null,null,null,null,{"$f":"  IF(  AND( $O87 = $D$8, $L87 = $E$5 ),  MAX( J$7:J86 ) + 1,  \"\" )","v":""},{"$f":"  IF(  AND( $O87 = $D$18, $L87 = $E$5 ),  MAX( K$7:K86 ) + 1,  \"\" )","v":""}]
[null,null,null,null,null,null,null,null,null,{"$f":"  IF(  AND( $O88 = $D$8, $L88 = $E$5 ),  MAX( J$7:J87 ) + 1,  \"\" )","v":""},{"$f":"  IF(  AND( $O88 = $D$18, $L88 = $E$5 ),  MAX( K$7:K87 ) + 1,  \"\" )","v":""}]
[null,null,null,null,null,null,null,null,null,{"$f":"  IF(  AND( $O89 = $D$8, $L89 = $E$5 ),  MAX( J$7:J88 ) + 1,  \"\" )","v":""},{"$f":"  IF(  AND( $O89 = $D$18, $L89 = $E$5 ),  MAX( K$7:K88 ) + 1,  \"\" )","v":""}]
[null,null,null,null,null,null,null,null,null,{"$f":"  IF(  AND( $O90 = $D$8, $L90 = $E$5 ),  MAX( J$7:J89 ) + 1,  \"\" )","v":""},{"$f":"  IF(  AND( $O90 = $D$18, $L90 = $E$5 ),  MAX( K$7:K89 ) + 1,  \"\" )","v":""}]
[null,null,null,null,null,null,null,null,null,{"$f":"  IF(  AND( $O91 = $D$8, $L91 = $E$5 ),  MAX( J$7:J90 ) + 1,  \"\" )","v":""},{"$f":"  IF(  AND( $O91 = $D$18, $L91 = $E$5 ),  MAX( K$7:K90 ) + 1,  \"\" )","v":""}]
[null,null,null,null,null,null,null,null,null,{"$f":"  IF(  AND( $O92 = $D$8, $L92 = $E$5 ),  MAX( J$7:J91 ) + 1,  \"\" )","v":""},{"$f":"  IF(  AND( $O92 = $D$18, $L92 = $E$5 ),  MAX( K$7:K91 ) + 1,  \"\" )","v":""}]
[null,null,null,null,null,null,null,null,null,{"$f":"  IF(  AND( $O93 = $D$8, $L93 = $E$5 ),  MAX( J$7:J92 ) + 1,  \"\" )","v":""},{"$f":"  IF(  AND( $O93 = $D$18, $L93 = $E$5 ),  MAX( K$7:K92 ) + 1,  \"\" )","v":""}]
[null,null,null,null,null,null,null,null,null,{"$f":"  IF(  AND( $O94 = $D$8, $L94 = $E$5 ),  MAX( J$7:J93 ) + 1,  \"\" )","v":""},{"$f":"  IF(  AND( $O94 = $D$18, $L94 = $E$5 ),  MAX( K$7:K93 ) + 1,  \"\" )","v":""}]
[null,null,null,null,null,null,null,null,null,{"$f":"  IF(  AND( $O95 = $D$8, $L95 = $E$5 ),  MAX( J$7:J94 ) + 1,  \"\" )","v":""},{"$f":"  IF(  AND( $O95 = $D$18, $L95 = $E$5 ),  MAX( K$7:K94 ) + 1,  \"\" )","v":""}]
[null,null,null,null,null,null,null,null,null,{"$f":"  IF(  AND( $O96 = $D$8, $L96 = $E$5 ),  MAX( J$7:J95 ) + 1,  \"\" )","v":""},{"$f":"  IF(  AND( $O96 = $D$18, $L96 = $E$5 ),  MAX( K$7:K95 ) + 1,  \"\" )","v":""}]
[null,null,null,null,null,null,null,null,null,{"$f":"  IF(  AND( $O97 = $D$8, $L97 = $E$5 ),  MAX( J$7:J96 ) + 1,  \"\" )","v":""},{"$f":"  IF(  AND( $O97 = $D$18, $L97 = $E$5 ),  MAX( K$7:K96 ) + 1,  \"\" )","v":""}]
[null,null,null,null,null,null,null,null,null,{"$f":"  IF(  AND( $O98 = $D$8, $L98 = $E$5 ),  MAX( J$7:J97 ) + 1,  \"\" )","v":""},{"$f":"  IF(  AND( $O98 = $D$18, $L98 = $E$5 ),  MAX( K$7:K97 ) + 1,  \"\" )","v":""}]
[null,null,null,null,null,null,null,null,null,{"$f":"  IF(  AND( $O99 = $D$8, $L99 = $E$5 ),  MAX( J$7:J98 ) + 1,  \"\" )","v":""},{"$f":"  IF(  AND( $O99 = $D$18, $L99 = $E$5 ),  MAX( K$7:K98 ) + 1,  \"\" )","v":""}]
[null,null,null,null,null,null,null,null,null,{"$f":"  IF(  AND( $O100 = $D$8, $L100 = $E$5 ),  MAX( J$7:J99 ) + 1,  \"\" )","v":""},{"$f":"  IF(  AND( $O100 = $D$18, $L100 = $E$5 ),  MAX( K$7:K99 ) + 1,  \"\" )","v":""}]
[null,null,null,null,null,null,null,null,null,{"$f":"  IF(  AND( $O101 = $D$8, $L101 = $E$5 ),  MAX( J$7:J100 ) + 1,  \"\" )","v":""},{"$f":"  IF(  AND( $O101 = $D$18, $L101 = $E$5 ),  MAX( K$7:K100 ) + 1,  \"\" )","v":""}]
[null,null,null,null,null,null,null,null,null,{"$f":"  IF(  AND( $O102 = $D$8, $L102 = $E$5 ),  MAX( J$7:J101 ) + 1,  \"\" )","v":""},{"$f":"  IF(  AND( $O102 = $D$18, $L102 = $E$5 ),  MAX( K$7:K101 ) + 1,  \"\" )","v":""}]
[null,null,null,null,null,null,null,null,null,{"$f":"  IF(  AND( $O103 = $D$8, $L103 = $E$5 ),  MAX( J$7:J102 ) + 1,  \"\" )","v":""},{"$f":"  IF(  AND( $O103 = $D$18, $L103 = $E$5 ),  MAX( K$7:K102 ) + 1,  \"\" )","v":""}]
[null,null,null,null,null,null,null,null,null,{"$f":"  IF(  AND( $O104 = $D$8, $L104 = $E$5 ),  MAX( J$7:J103 ) + 1,  \"\" )","v":""},{"$f":"  IF(  AND( $O104 = $D$18, $L104 = $E$5 ),  MAX( K$7:K103 ) + 1,  \"\" )","v":""}]
[null,null,null,null,null,null,null,null,null,{"$f":"  IF(  AND( $O105 = $D$8, $L105 = $E$5 ),  MAX( J$7:J104 ) + 1,  \"\" )","v":""},{"$f":"  IF(  AND( $O105 = $D$18, $L105 = $E$5 ),  MAX( K$7:K104 ) + 1,  \"\" )","v":""}]
[null,null,null,null,null,null,null,null,null,{"$f":"  IF(  AND( $O106 = $D$8, $L106 = $E$5 ),  MAX( J$7:J105 ) + 1,  \"\" )","v":""},{"$f":"  IF(  AND( $O106 = $D$18, $L106 = $E$5 ),  MAX( K$7:K105 ) + 1,  \"\" )","v":""}]
[null,null,null,null,null,null,null,null,null,{"$f":"  IF(  AND( $O107 = $D$8, $L107 = $E$5 ),  MAX( J$7:J106 ) + 1,  \"\" )","v":""},{"$f":"  IF(  AND( $O107 = $D$18, $L107 = $E$5 ),  MAX( K$7:K106 ) + 1,  \"\" )","v":""}]
[null,null,null,null,null,null,null,null,null,{"$f":"  IF(  AND( $O108 = $D$8, $L108 = $E$5 ),  MAX( J$7:J107 ) + 1,  \"\" )","v":""},{"$f":"  IF(  AND( $O108 = $D$18, $L108 = $E$5 ),  MAX( K$7:K107 ) + 1,  \"\" )","v":""}]
[null,null,null,null,null,null,null,null,null,{"$f":"  IF(  AND( $O109 = $D$8, $L109 = $E$5 ),  MAX( J$7:J108 ) + 1,  \"\" )","v":""},{"$f":"  IF(  AND( $O109 = $D$18, $L109 = $E$5 ),  MAX( K$7:K108 ) + 1,  \"\" )","v":""}]
[null,null,null,null,null,null,null,null,null,{"$f":"  IF(  AND( $O110 = $D$8, $L110 = $E$5 ),  MAX( J$7:J109 ) + 1,  \"\" )","v":""},{"$f":"  IF(  AND( $O110 = $D$18, $L110 = $E$5 ),  MAX( K$7:K109 ) + 1,  \"\" )","v":""}]
[null,null,null,null,null,null,null,null,null,{"$f":"  IF(  AND( $O111 = $D$8, $L111 = $E$5 ),  MAX( J$7:J110 ) + 1,  \"\" )","v":""},{"$f":"  IF(  AND( $O111 = $D$18, $L111 = $E$5 ),  MAX( K$7:K110 ) + 1,  \"\" )","v":""}]
[null,null,null,null,null,null,null,null,null,{"$f":"  IF(  AND( $O112 = $D$8, $L112 = $E$5 ),  MAX( J$7:J111 ) + 1,  \"\" )","v":""},{"$f":"  IF(  AND( $O112 = $D$18, $L112 = $E$5 ),  MAX( K$7:K111 ) + 1,  \"\" )","v":""}]
[null,null,null,null,null,null,null,null,null,{"$f":"  IF(  AND( $O113 = $D$8, $L113 = $E$5 ),  MAX( J$7:J112 ) + 1,  \"\" )","v":""},{"$f":"  IF(  AND( $O113 = $D$18, $L113 = $E$5 ),  MAX( K$7:K112 ) + 1,  \"\" )","v":""}]
[null,null,null,null,null,null,null,null,null,{"$f":"  IF(  AND( $O114 = $D$8, $L114 = $E$5 ),  MAX( J$7:J113 ) + 1,  \"\" )","v":""},{"$f":"  IF(  AND( $O114 = $D$18, $L114 = $E$5 ),  MAX( K$7:K113 ) + 1,  \"\" )","v":""}]
[null,null,null,null,null,null,null,null,null,{"$f":"  IF(  AND( $O115 = $D$8, $L115 = $E$5 ),  MAX( J$7:J114 ) + 1,  \"\" )","v":""},{"$f":"  IF(  AND( $O115 = $D$18, $L115 = $E$5 ),  MAX( K$7:K114 ) + 1,  \"\" )","v":""}]
[null,null,null,null,null,null,null,null,null,{"$f":"  IF(  AND( $O116 = $D$8, $L116 = $E$5 ),  MAX( J$7:J115 ) + 1,  \"\" )","v":""},{"$f":"  IF(  AND( $O116 = $D$18, $L116 = $E$5 ),  MAX( K$7:K115 ) + 1,  \"\" )","v":""}]
[null,null,null,null,null,null,null,null,null,{"$f":"  IF(  AND( $O117 = $D$8, $L117 = $E$5 ),  MAX( J$7:J116 ) + 1,  \"\" )","v":""},{"$f":"  IF(  AND( $O117 = $D$18, $L117 = $E$5 ),  MAX( K$7:K116 ) + 1,  \"\" )","v":""}]
[null,null,null,null,null,null,null,null,null,{"$f":"  IF(  AND( $O118 = $D$8, $L118 = $E$5 ),  MAX( J$7:J117 ) + 1,  \"\" )","v":""},{"$f":"  IF(  AND( $O118 = $D$18, $L118 = $E$5 ),  MAX( K$7:K117 ) + 1,  \"\" )","v":""}]
[null,null,null,null,null,null,null,null,null,{"$f":"  IF(  AND( $O119 = $D$8, $L119 = $E$5 ),  MAX( J$7:J118 ) + 1,  \"\" )","v":""},{"$f":"  IF(  AND( $O119 = $D$18, $L119 = $E$5 ),  MAX( K$7:K118 ) + 1,  \"\" )","v":""}]
[null,null,null,null,null,null,null,null,null,{"$f":"  IF(  AND( $O120 = $D$8, $L120 = $E$5 ),  MAX( J$7:J119 ) + 1,  \"\" )","v":""},{"$f":"  IF(  AND( $O120 = $D$18, $L120 = $E$5 ),  MAX( K$7:K119 ) + 1,  \"\" )","v":""}]
[null,null,null,null,null,null,null,null,null,{"$f":"  IF(  AND( $O121 = $D$8, $L121 = $E$5 ),  MAX( J$7:J120 ) + 1,  \"\" )","v":""},{"$f":"  IF(  AND( $O121 = $D$18, $L121 = $E$5 ),  MAX( K$7:K120 ) + 1,  \"\" )","v":""}]
[null,null,null,null,null,null,null,null,null,{"$f":"  IF(  AND( $O122 = $D$8, $L122 = $E$5 ),  MAX( J$7:J121 ) + 1,  \"\" )","v":""},{"$f":"  IF(  AND( $O122 = $D$18, $L122 = $E$5 ),  MAX( K$7:K121 ) + 1,  \"\" )","v":""}]
[null,null,null,null,null,null,null,null,null,{"$f":"  IF(  AND( $O123 = $D$8, $L123 = $E$5 ),  MAX( J$7:J122 ) + 1,  \"\" )","v":""},{"$f":"  IF(  AND( $O123 = $D$18, $L123 = $E$5 ),  MAX( K$7:K122 ) + 1,  \"\" )","v":""}]
[null,null,null,null,null,null,null,null,null,{"$f":"  IF(  AND( $O124 = $D$8, $L124 = $E$5 ),  MAX( J$7:J123 ) + 1,  \"\" )","v":""},{"$f":"  IF(  AND( $O124 = $D$18, $L124 = $E$5 ),  MAX( K$7:K123 ) + 1,  \"\" )","v":""}]
[null,null,null,null,null,null,null,null,null,{"$f":"  IF(  AND( $O125 = $D$8, $L125 = $E$5 ),  MAX( J$7:J124 ) + 1,  \"\" )","v":""},{"$f":"  IF(  AND( $O125 = $D$18, $L125 = $E$5 ),  MAX( K$7:K124 ) + 1,  \"\" )","v":""}]
[null,null,null,null,null,null,null,null,null,{"$f":"  IF(  AND( $O126 = $D$8, $L126 = $E$5 ),  MAX( J$7:J125 ) + 1,  \"\" )","v":""},{"$f":"  IF(  AND( $O126 = $D$18, $L126 = $E$5 ),  MAX( K$7:K125 ) + 1,  \"\" )","v":""}]
[null,null,null,null,null,null,null,null,null,{"$f":"  IF(  AND( $O127 = $D$8, $L127 = $E$5 ),  MAX( J$7:J126 ) + 1,  \"\" )","v":""},{"$f":"  IF(  AND( $O127 = $D$18, $L127 = $E$5 ),  MAX( K$7:K126 ) + 1,  \"\" )","v":""}]
[null,null,null,null,null,null,null,null,null,{"$f":"  IF(  AND( $O128 = $D$8, $L128 = $E$5 ),  MAX( J$7:J127 ) + 1,  \"\" )","v":""},{"$f":"  IF(  AND( $O128 = $D$18, $L128 = $E$5 ),  MAX( K$7:K127 ) + 1,  \"\" )","v":""}]
[null,null,null,null,null,null,null,null,null,{"$f":"  IF(  AND( $O129 = $D$8, $L129 = $E$5 ),  MAX( J$7:J128 ) + 1,  \"\" )","v":""},{"$f":"  IF(  AND( $O129 = $D$18, $L129 = $E$5 ),  MAX( K$7:K128 ) + 1,  \"\" )","v":""}]
[null,null,null,null,null,null,null,null,null,{"$f":"  IF(  AND( $O130 = $D$8, $L130 = $E$5 ),  MAX( J$7:J129 ) + 1,  \"\" )","v":""},{"$f":"  IF(  AND( $O130 = $D$18, $L130 = $E$5 ),  MAX( K$7:K129 ) + 1,  \"\" )","v":""}]
[null,null,null,null,null,null,null,null,null,{"$f":"  IF(  AND( $O131 = $D$8, $L131 = $E$5 ),  MAX( J$7:J130 ) + 1,  \"\" )","v":""},{"$f":"  IF(  AND( $O131 = $D$18, $L131 = $E$5 ),  MAX( K$7:K130 ) + 1,  \"\" )","v":""}]
[null,null,null,null,null,null,null,null,null,{"$f":"  IF(  AND( $O132 = $D$8, $L132 = $E$5 ),  MAX( J$7:J131 ) + 1,  \"\" )","v":""},{"$f":"  IF(  AND( $O132 = $D$18, $L132 = $E$5 ),  MAX( K$7:K131 ) + 1,  \"\" )","v":""}]
[null,null,null,null,null,null,null,null,null,{"$f":"  IF(  AND( $O133 = $D$8, $L133 = $E$5 ),  MAX( J$7:J132 ) + 1,  \"\" )","v":""},{"$f":"  IF(  AND( $O133 = $D$18, $L133 = $E$5 ),  MAX( K$7:K132 ) + 1,  \"\" )","v":""}]
[null,null,null,null,null,null,null,null,null,{"$f":"  IF(  AND( $O134 = $D$8, $L134 = $E$5 ),  MAX( J$7:J133 ) + 1,  \"\" )","v":""},{"$f":"  IF(  AND( $O134 = $D$18, $L134 = $E$5 ),  MAX( K$7:K133 ) + 1,  \"\" )","v":""}]
[null,null,null,null,null,null,null,null,null,{"$f":"  IF(  AND( $O135 = $D$8, $L135 = $E$5 ),  MAX( J$7:J134 ) + 1,  \"\" )","v":""},{"$f":"  IF(  AND( $O135 = $D$18, $L135 = $E$5 ),  MAX( K$7:K134 ) + 1,  \"\" )","v":""}]
[null,null,null,null,null,null,null,null,null,{"$f":"  IF(  AND( $O136 = $D$8, $L136 = $E$5 ),  MAX( J$7:J135 ) + 1,  \"\" )","v":""},{"$f":"  IF(  AND( $O136 = $D$18, $L136 = $E$5 ),  MAX( K$7:K135 ) + 1,  \"\" )","v":""}]
[null,null,null,null,null,null,null,null,null,{"$f":"  IF(  AND( $O137 = $D$8, $L137 = $E$5 ),  MAX( J$7:J136 ) + 1,  \"\" )","v":""},{"$f":"  IF(  AND( $O137 = $D$18, $L137 = $E$5 ),  MAX( K$7:K136 ) + 1,  \"\" )","v":""}]
[null,null,null,null,null,null,null,null,null,{"$f":"  IF(  AND( $O138 = $D$8, $L138 = $E$5 ),  MAX( J$7:J137 ) + 1,  \"\" )","v":""},{"$f":"  IF(  AND( $O138 = $D$18, $L138 = $E$5 ),  MAX( K$7:K137 ) + 1,  \"\" )","v":""}]
[null,null,null,null,null,null,null,null,null,{"$f":"  IF(  AND( $O139 = $D$8, $L139 = $E$5 ),  MAX( J$7:J138 ) + 1,  \"\" )","v":""},{"$f":"  IF(  AND( $O139 = $D$18, $L139 = $E$5 ),  MAX( K$7:K138 ) + 1,  \"\" )","v":""}]
[null,null,null,null,null,null,null,null,null,{"$f":"  IF(  AND( $O140 = $D$8, $L140 = $E$5 ),  MAX( J$7:J139 ) + 1,  \"\" )","v":""},{"$f":"  IF(  AND( $O140 = $D$18, $L140 = $E$5 ),  MAX( K$7:K139 ) + 1,  \"\" )","v":""}]
[null,null,null,null,null,null,null,null,null,{"$f":"  IF(  AND( $O141 = $D$8, $L141 = $E$5 ),  MAX( J$7:J140 ) + 1,  \"\" )","v":""},{"$f":"  IF(  AND( $O141 = $D$18, $L141 = $E$5 ),  MAX( K$7:K140 ) + 1,  \"\" )","v":""}]
[null,null,null,null,null,null,null,null,null,{"$f":"  IF(  AND( $O142 = $D$8, $L142 = $E$5 ),  MAX( J$7:J141 ) + 1,  \"\" )","v":""},{"$f":"  IF(  AND( $O142 = $D$18, $L142 = $E$5 ),  MAX( K$7:K141 ) + 1,  \"\" )","v":""}]
[null,null,null,null,null,null,null,null,null,{"$f":"  IF(  AND( $O143 = $D$8, $L143 = $E$5 ),  MAX( J$7:J142 ) + 1,  \"\" )","v":""},{"$f":"  IF(  AND( $O143 = $D$18, $L143 = $E$5 ),  MAX( K$7:K142 ) + 1,  \"\" )","v":""}]
[null,null,null,null,null,null,null,null,null,{"$f":"  IF(  AND( $O144 = $D$8, $L144 = $E$5 ),  MAX( J$7:J143 ) + 1,  \"\" )","v":""},{"$f":"  IF(  AND( $O144 = $D$18, $L144 = $E$5 ),  MAX( K$7:K143 ) + 1,  \"\" )","v":""}]
[null,null,null,null,null,null,null,null,null,{"$f":"  IF(  AND( $O145 = $D$8, $L145 = $E$5 ),  MAX( J$7:J144 ) + 1,  \"\" )","v":""},{"$f":"  IF(  AND( $O145 = $D$18, $L145 = $E$5 ),  MAX( K$7:K144 ) + 1,  \"\" )","v":""}]
[null,null,null,null,null,null,null,null,null,{"$f":"  IF(  AND( $O146 = $D$8, $L146 = $E$5 ),  MAX( J$7:J145 ) + 1,  \"\" )","v":""},{"$f":"  IF(  AND( $O146 = $D$18, $L146 = $E$5 ),  MAX( K$7:K145 ) + 1,  \"\" )","v":""}]
[null,null,null,null,null,null,null,null,null,{"$f":"  IF(  AND( $O147 = $D$8, $L147 = $E$5 ),  MAX( J$7:J146 ) + 1,  \"\" )","v":""},{"$f":"  IF(  AND( $O147 = $D$18, $L147 = $E$5 ),  MAX( K$7:K146 ) + 1,  \"\" )","v":""}]
[null,null,null,null,null,null,null,null,null,{"$f":"  IF(  AND( $O148 = $D$8, $L148 = $E$5 ),  MAX( J$7:J147 ) + 1,  \"\" )","v":""},{"$f":"  IF(  AND( $O148 = $D$18, $L148 = $E$5 ),  MAX( K$7:K147 ) + 1,  \"\" )","v":""}]
[null,null,null,null,null,null,null,null,null,{"$f":"  IF(  AND( $O149 = $D$8, $L149 = $E$5 ),  MAX( J$7:J148 ) + 1,  \"\" )","v":""},{"$f":"  IF(  AND( $O149 = $D$18, $L149 = $E$5 ),  MAX( K$7:K148 ) + 1,  \"\" )","v":""}]
[null,null,null,null,null,null,null,null,null,{"$f":"  IF(  AND( $O150 = $D$8, $L150 = $E$5 ),  MAX( J$7:J149 ) + 1,  \"\" )","v":""},{"$f":"  IF(  AND( $O150 = $D$18, $L150 = $E$5 ),  MAX( K$7:K149 ) + 1,  \"\" )","v":""}]
[null,null,null,null,null,null,null,null,null,{"$f":"  IF(  AND( $O151 = $D$8, $L151 = $E$5 ),  MAX( J$7:J150 ) + 1,  \"\" )","v":""},{"$f":"  IF(  AND( $O151 = $D$18, $L151 = $E$5 ),  MAX( K$7:K150 ) + 1,  \"\" )","v":""}]
[null,null,null,null,null,null,null,null,null,{"$f":"  IF(  AND( $O152 = $D$8, $L152 = $E$5 ),  MAX( J$7:J151 ) + 1,  \"\" )","v":""},{"$f":"  IF(  AND( $O152 = $D$18, $L152 = $E$5 ),  MAX( K$7:K151 ) + 1,  \"\" )","v":""}]
[null,null,null,null,null,null,null,null,null,{"$f":"  IF(  AND( $O153 = $D$8, $L153 = $E$5 ),  MAX( J$7:J152 ) + 1,  \"\" )","v":""},{"$f":"  IF(  AND( $O153 = $D$18, $L153 = $E$5 ),  MAX( K$7:K152 ) + 1,  \"\" )","v":""}]
[null,null,null,null,null,null,null,null,null,{"$f":"  IF(  AND( $O154 = $D$8, $L154 = $E$5 ),  MAX( J$7:J153 ) + 1,  \"\" )","v":""},{"$f":"  IF(  AND( $O154 = $D$18, $L154 = $E$5 ),  MAX( K$7:K153 ) + 1,  \"\" )","v":""}]
[null,null,null,null,null,null,null,null,null,{"$f":"  IF(  AND( $O155 = $D$8, $L155 = $E$5 ),  MAX( J$7:J154 ) + 1,  \"\" )","v":""},{"$f":"  IF(  AND( $O155 = $D$18, $L155 = $E$5 ),  MAX( K$7:K154 ) + 1,  \"\" )","v":""}]
[null,null,null,null,null,null,null,null,null,{"$f":"  IF(  AND( $O156 = $D$8, $L156 = $E$5 ),  MAX( J$7:J155 ) + 1,  \"\" )","v":""},{"$f":"  IF(  AND( $O156 = $D$18, $L156 = $E$5 ),  MAX( K$7:K155 ) + 1,  \"\" )","v":""}]
[null,null,null,null,null,null,null,null,null,{"$f":"  IF(  AND( $O157 = $D$8, $L157 = $E$5 ),  MAX( J$7:J156 ) + 1,  \"\" )","v":""},{"$f":"  IF(  AND( $O157 = $D$18, $L157 = $E$5 ),  MAX( K$7:K156 ) + 1,  \"\" )","v":""}]
[null,null,null,null,null,null,null,null,null,{"$f":"  IF(  AND( $O158 = $D$8, $L158 = $E$5 ),  MAX( J$7:J157 ) + 1,  \"\" )","v":""},{"$f":"  IF(  AND( $O158 = $D$18, $L158 = $E$5 ),  MAX( K$7:K157 ) + 1,  \"\" )","v":""}]
[null,null,null,null,null,null,null,null,null,{"$f":"  IF(  AND( $O159 = $D$8, $L159 = $E$5 ),  MAX( J$7:J158 ) + 1,  \"\" )","v":""},{"$f":"  IF(  AND( $O159 = $D$18, $L159 = $E$5 ),  MAX( K$7:K158 ) + 1,  \"\" )","v":""}]
[null,null,null,null,null,null,null,null,null,{"$f":"  IF(  AND( $O160 = $D$8, $L160 = $E$5 ),  MAX( J$7:J159 ) + 1,  \"\" )","v":""},{"$f":"  IF(  AND( $O160 = $D$18, $L160 = $E$5 ),  MAX( K$7:K159 ) + 1,  \"\" )","v":""}]
[null,null,null,null,null,null,null,null,null,{"$f":"  IF(  AND( $O161 = $D$8, $L161 = $E$5 ),  MAX( J$7:J160 ) + 1,  \"\" )","v":""},{"$f":"  IF(  AND( $O161 = $D$18, $L161 = $E$5 ),  MAX( K$7:K160 ) + 1,  \"\" )","v":""}]
[null,null,null,null,null,null,null,null,null,{"$f":"  IF(  AND( $O162 = $D$8, $L162 = $E$5 ),  MAX( J$7:J161 ) + 1,  \"\" )","v":""},{"$f":"  IF(  AND( $O162 = $D$18, $L162 = $E$5 ),  MAX( K$7:K161 ) + 1,  \"\" )","v":""}]
[null,null,null,null,null,null,null,null,null,{"$f":"  IF(  AND( $O163 = $D$8, $L163 = $E$5 ),  MAX( J$7:J162 ) + 1,  \"\" )","v":""},{"$f":"  IF(  AND( $O163 = $D$18, $L163 = $E$5 ),  MAX( K$7:K162 ) + 1,  \"\" )","v":""}]
[null,null,null,null,null,null,null,null,null,{"$f":"  IF(  AND( $O164 = $D$8, $L164 = $E$5 ),  MAX( J$7:J163 ) + 1,  \"\" )","v":""},{"$f":"  IF(  AND( $O164 = $D$18, $L164 = $E$5 ),  MAX( K$7:K163 ) + 1,  \"\" )","v":""}]
[null,null,null,null,null,null,null,null,null,{"$f":"  IF(  AND( $O165 = $D$8, $L165 = $E$5 ),  MAX( J$7:J164 ) + 1,  \"\" )","v":""},{"$f":"  IF(  AND( $O165 = $D$18, $L165 = $E$5 ),  MAX( K$7:K164 ) + 1,  \"\" )","v":""}]
[null,null,null,null,null,null,null,null,null,{"$f":"  IF(  AND( $O166 = $D$8, $L166 = $E$5 ),  MAX( J$7:J165 ) + 1,  \"\" )","v":""},{"$f":"  IF(  AND( $O166 = $D$18, $L166 = $E$5 ),  MAX( K$7:K165 ) + 1,  \"\" )","v":""}]
[null,null,null,null,null,null,null,null,null,{"$f":"  IF(  AND( $O167 = $D$8, $L167 = $E$5 ),  MAX( J$7:J166 ) + 1,  \"\" )","v":""},{"$f":"  IF(  AND( $O167 = $D$18, $L167 = $E$5 ),  MAX( K$7:K166 ) + 1,  \"\" )","v":""}]
[null,null,null,null,null,null,null,null,null,{"$f":"  IF(  AND( $O168 = $D$8, $L168 = $E$5 ),  MAX( J$7:J167 ) + 1,  \"\" )","v":""},{"$f":"  IF(  AND( $O168 = $D$18, $L168 = $E$5 ),  MAX( K$7:K167 ) + 1,  \"\" )","v":""}]
[null,null,null,null,null,null,null,null,null,{"$f":"  IF(  AND( $O169 = $D$8, $L169 = $E$5 ),  MAX( J$7:J168 ) + 1,  \"\" )","v":""},{"$f":"  IF(  AND( $O169 = $D$18, $L169 = $E$5 ),  MAX( K$7:K168 ) + 1,  \"\" )","v":""}]
[null,null,null,null,null,null,null,null,null,{"$f":"  IF(  AND( $O170 = $D$8, $L170 = $E$5 ),  MAX( J$7:J169 ) + 1,  \"\" )","v":""},{"$f":"  IF(  AND( $O170 = $D$18, $L170 = $E$5 ),  MAX( K$7:K169 ) + 1,  \"\" )","v":""}]
[null,null,null,null,null,null,null,null,null,{"$f":"  IF(  AND( $O171 = $D$8, $L171 = $E$5 ),  MAX( J$7:J170 ) + 1,  \"\" )","v":""},{"$f":"  IF(  AND( $O171 = $D$18, $L171 = $E$5 ),  MAX( K$7:K170 ) + 1,  \"\" )","v":""}]
[null,null,null,null,null,null,null,null,null,{"$f":"  IF(  AND( $O172 = $D$8, $L172 = $E$5 ),  MAX( J$7:J171 ) + 1,  \"\" )","v":""},{"$f":"  IF(  AND( $O172 = $D$18, $L172 = $E$5 ),  MAX( K$7:K171 ) + 1,  \"\" )","v":""}]
[null,null,null,null,null,null,null,null,null,{"$f":"  IF(  AND( $O173 = $D$8, $L173 = $E$5 ),  MAX( J$7:J172 ) + 1,  \"\" )","v":""},{"$f":"  IF(  AND( $O173 = $D$18, $L173 = $E$5 ),  MAX( K$7:K172 ) + 1,  \"\" )","v":""}]
[null,null,null,null,null,null,null,null,null,{"$f":"  IF(  AND( $O174 = $D$8, $L174 = $E$5 ),  MAX( J$7:J173 ) + 1,  \"\" )","v":""},{"$f":"  IF(  AND( $O174 = $D$18, $L174 = $E$5 ),  MAX( K$7:K173 ) + 1,  \"\" )","v":""}]
[null,null,null,null,null,null,null,null,null,{"$f":"  IF(  AND( $O175 = $D$8, $L175 = $E$5 ),  MAX( J$7:J174 ) + 1,  \"\" )","v":""},{"$f":"  IF(  AND( $O175 = $D$18, $L175 = $E$5 ),  MAX( K$7:K174 ) + 1,  \"\" )","v":""}]
[null,null,null,null,null,null,null,null,null,{"$f":"  IF(  AND( $O176 = $D$8, $L176 = $E$5 ),  MAX( J$7:J175 ) + 1,  \"\" )","v":""},{"$f":"  IF(  AND( $O176 = $D$18, $L176 = $E$5 ),  MAX( K$7:K175 ) + 1,  \"\" )","v":""}]
[null,null,null,null,null,null,null,null,null,{"$f":"  IF(  AND( $O177 = $D$8, $L177 = $E$5 ),  MAX( J$7:J176 ) + 1,  \"\" )","v":""},{"$f":"  IF(  AND( $O177 = $D$18, $L177 = $E$5 ),  MAX( K$7:K176 ) + 1,  \"\" )","v":""}]
[null,null,null,null,null,null,null,null,null,{"$f":"  IF(  AND( $O178 = $D$8, $L178 = $E$5 ),  MAX( J$7:J177 ) + 1,  \"\" )","v":""},{"$f":"  IF(  AND( $O178 = $D$18, $L178 = $E$5 ),  MAX( K$7:K177 ) + 1,  \"\" )","v":""}]
[null,null,null,null,null,null,null,null,null,{"$f":"  IF(  AND( $O179 = $D$8, $L179 = $E$5 ),  MAX( J$7:J178 ) + 1,  \"\" )","v":""},{"$f":"  IF(  AND( $O179 = $D$18, $L179 = $E$5 ),  MAX( K$7:K178 ) + 1,  \"\" )","v":""}]
[null,null,null,null,null,null,null,null,null,{"$f":"  IF(  AND( $O180 = $D$8, $L180 = $E$5 ),  MAX( J$7:J179 ) + 1,  \"\" )","v":""},{"$f":"  IF(  AND( $O180 = $D$18, $L180 = $E$5 ),  MAX( K$7:K179 ) + 1,  \"\" )","v":""}]
[null,null,null,null,null,null,null,null,null,{"$f":"  IF(  AND( $O181 = $D$8, $L181 = $E$5 ),  MAX( J$7:J180 ) + 1,  \"\" )","v":""},{"$f":"  IF(  AND( $O181 = $D$18, $L181 = $E$5 ),  MAX( K$7:K180 ) + 1,  \"\" )","v":""}]
[null,null,null,null,null,null,null,null,null,{"$f":"  IF(  AND( $O182 = $D$8, $L182 = $E$5 ),  MAX( J$7:J181 ) + 1,  \"\" )","v":""},{"$f":"  IF(  AND( $O182 = $D$18, $L182 = $E$5 ),  MAX( K$7:K181 ) + 1,  \"\" )","v":""}]
[null,null,null,null,null,null,null,null,null,{"$f":"  IF(  AND( $O183 = $D$8, $L183 = $E$5 ),  MAX( J$7:J182 ) + 1,  \"\" )","v":""},{"$f":"  IF(  AND( $O183 = $D$18, $L183 = $E$5 ),  MAX( K$7:K182 ) + 1,  \"\" )","v":""}]
[null,null,null,null,null,null,null,null,null,{"$f":"  IF(  AND( $O184 = $D$8, $L184 = $E$5 ),  MAX( J$7:J183 ) + 1,  \"\" )","v":""},{"$f":"  IF(  AND( $O184 = $D$18, $L184 = $E$5 ),  MAX( K$7:K183 ) + 1,  \"\" )","v":""}]
[null,null,null,null,null,null,null,null,null,{"$f":"  IF(  AND( $O185 = $D$8, $L185 = $E$5 ),  MAX( J$7:J184 ) + 1,  \"\" )","v":""},{"$f":"  IF(  AND( $O185 = $D$18, $L185 = $E$5 ),  MAX( K$7:K184 ) + 1,  \"\" )","v":""}]
[null,null,null,null,null,null,null,null,null,{"$f":"  IF(  AND( $O186 = $D$8, $L186 = $E$5 ),  MAX( J$7:J185 ) + 1,  \"\" )","v":""},{"$f":"  IF(  AND( $O186 = $D$18, $L186 = $E$5 ),  MAX( K$7:K185 ) + 1,  \"\" )","v":""}]
[null,null,null,null,null,null,null,null,null,{"$f":"  IF(  AND( $O187 = $D$8, $L187 = $E$5 ),  MAX( J$7:J186 ) + 1,  \"\" )","v":""},{"$f":"  IF(  AND( $O187 = $D$18, $L187 = $E$5 ),  MAX( K$7:K186 ) + 1,  \"\" )","v":""}]
[null,null,null,null,null,null,null,null,null,{"$f":"  IF(  AND( $O188 = $D$8, $L188 = $E$5 ),  MAX( J$7:J187 ) + 1,  \"\" )","v":""},{"$f":"  IF(  AND( $O188 = $D$18, $L188 = $E$5 ),  MAX( K$7:K187 ) + 1,  \"\" )","v":""}]
[null,null,null,null,null,null,null,null,null,{"$f":"  IF(  AND( $O189 = $D$8, $L189 = $E$5 ),  MAX( J$7:J188 ) + 1,  \"\" )","v":""},{"$f":"  IF(  AND( $O189 = $D$18, $L189 = $E$5 ),  MAX( K$7:K188 ) + 1,  \"\" )","v":""}]
[null,null,null,null,null,null,null,null,null,{"$f":"  IF(  AND( $O190 = $D$8, $L190 = $E$5 ),  MAX( J$7:J189 ) + 1,  \"\" )","v":""},{"$f":"  IF(  AND( $O190 = $D$18, $L190 = $E$5 ),  MAX( K$7:K189 ) + 1,  \"\" )","v":""}]
[null,null,null,null,null,null,null,null,null,{"$f":"  IF(  AND( $O191 = $D$8, $L191 = $E$5 ),  MAX( J$7:J190 ) + 1,  \"\" )","v":""},{"$f":"  IF(  AND( $O191 = $D$18, $L191 = $E$5 ),  MAX( K$7:K190 ) + 1,  \"\" )","v":""}]
[null,null,null,null,null,null,null,null,null,{"$f":"  IF(  AND( $O192 = $D$8, $L192 = $E$5 ),  MAX( J$7:J191 ) + 1,  \"\" )","v":""},{"$f":"  IF(  AND( $O192 = $D$18, $L192 = $E$5 ),  MAX( K$7:K191 ) + 1,  \"\" )","v":""}]
[null,null,null,null,null,null,null,null,null,{"$f":"  IF(  AND( $O193 = $D$8, $L193 = $E$5 ),  MAX( J$7:J192 ) + 1,  \"\" )","v":""},{"$f":"  IF(  AND( $O193 = $D$18, $L193 = $E$5 ),  MAX( K$7:K192 ) + 1,  \"\" )","v":""}]
[null,null,null,null,null,null,null,null,null,{"$f":"  IF(  AND( $O194 = $D$8, $L194 = $E$5 ),  MAX( J$7:J193 ) + 1,  \"\" )","v":""},{"$f":"  IF(  AND( $O194 = $D$18, $L194 = $E$5 ),  MAX( K$7:K193 ) + 1,  \"\" )","v":""}]
[null,null,null,null,null,null,null,null,null,{"$f":"  IF(  AND( $O195 = $D$8, $L195 = $E$5 ),  MAX( J$7:J194 ) + 1,  \"\" )","v":""},{"$f":"  IF(  AND( $O195 = $D$18, $L195 = $E$5 ),  MAX( K$7:K194 ) + 1,  \"\" )","v":""}]
[null,null,null,null,null,null,null,null,null,{"$f":"  IF(  AND( $O196 = $D$8, $L196 = $E$5 ),  MAX( J$7:J195 ) + 1,  \"\" )","v":""},{"$f":"  IF(  AND( $O196 = $D$18, $L196 = $E$5 ),  MAX( K$7:K195 ) + 1,  \"\" )","v":""}]
[null,null,null,null,null,null,null,null,null,{"$f":"  IF(  AND( $O197 = $D$8, $L197 = $E$5 ),  MAX( J$7:J196 ) + 1,  \"\" )","v":""},{"$f":"  IF(  AND( $O197 = $D$18, $L197 = $E$5 ),  MAX( K$7:K196 ) + 1,  \"\" )","v":""}]
[null,null,null,null,null,null,null,null,null,{"$f":"  IF(  AND( $O198 = $D$8, $L198 = $E$5 ),  MAX( J$7:J197 ) + 1,  \"\" )","v":""},{"$f":"  IF(  AND( $O198 = $D$18, $L198 = $E$5 ),  MAX( K$7:K197 ) + 1,  \"\" )","v":""}]
[null,null,null,null,null,null,null,null,null,{"$f":"  IF(  AND( $O199 = $D$8, $L199 = $E$5 ),  MAX( J$7:J198 ) + 1,  \"\" )","v":""},{"$f":"  IF(  AND( $O199 = $D$18, $L199 = $E$5 ),  MAX( K$7:K198 ) + 1,  \"\" )","v":""}]
[null,null,null,null,null,null,null,null,null,{"$f":"  IF(  AND( $O200 = $D$8, $L200 = $E$5 ),  MAX( J$7:J199 ) + 1,  \"\" )","v":""},{"$f":"  IF(  AND( $O200 = $D$18, $L200 = $E$5 ),  MAX( K$7:K199 ) + 1,  \"\" )","v":""}]
[null,null,null,null,null,null,null,null,null,{"$f":"  IF(  AND( $O201 = $D$8, $L201 = $E$5 ),  MAX( J$7:J200 ) + 1,  \"\" )","v":""},{"$f":"  IF(  AND( $O201 = $D$18, $L201 = $E$5 ),  MAX( K$7:K200 ) + 1,  \"\" )","v":""}]
[null,null,null,null,null,null,null,null,null,{"$f":"  IF(  AND( $O202 = $D$8, $L202 = $E$5 ),  MAX( J$7:J201 ) + 1,  \"\" )","v":""},{"$f":"  IF(  AND( $O202 = $D$18, $L202 = $E$5 ),  MAX( K$7:K201 ) + 1,  \"\" )","v":""}]
[null,null,null,null,null,null,null,null,null,{"$f":"  IF(  AND( $O203 = $D$8, $L203 = $E$5 ),  MAX( J$7:J202 ) + 1,  \"\" )","v":""},{"$f":"  IF(  AND( $O203 = $D$18, $L203 = $E$5 ),  MAX( K$7:K202 ) + 1,  \"\" )","v":""}]
[null,null,null,null,null,null,null,null,null,{"$f":"  IF(  AND( $O204 = $D$8, $L204 = $E$5 ),  MAX( J$7:J203 ) + 1,  \"\" )","v":""},{"$f":"  IF(  AND( $O204 = $D$18, $L204 = $E$5 ),  MAX( K$7:K203 ) + 1,  \"\" )","v":""}]
[null,null,null,null,null,null,null,null,null,{"$f":"  IF(  AND( $O205 = $D$8, $L205 = $E$5 ),  MAX( J$7:J204 ) + 1,  \"\" )","v":""},{"$f":"  IF(  AND( $O205 = $D$18, $L205 = $E$5 ),  MAX( K$7:K204 ) + 1,  \"\" )","v":""}]
[null,null,null,null,null,null,null,null,null,{"$f":"  IF(  AND( $O206 = $D$8, $L206 = $E$5 ),  MAX( J$7:J205 ) + 1,  \"\" )","v":""},{"$f":"  IF(  AND( $O206 = $D$18, $L206 = $E$5 ),  MAX( K$7:K205 ) + 1,  \"\" )","v":""}]
[null,null,null,null,null,null,null,null,null,{"$f":"  IF(  AND( $O207 = $D$8, $L207 = $E$5 ),  MAX( J$7:J206 ) + 1,  \"\" )","v":""},{"$f":"  IF(  AND( $O207 = $D$18, $L207 = $E$5 ),  MAX( K$7:K206 ) + 1,  \"\" )","v":""}]
[null,null,null,null,null,null,null,null,null,{"$f":"  IF(  AND( $O208 = $D$8, $L208 = $E$5 ),  MAX( J$7:J207 ) + 1,  \"\" )","v":""},{"$f":"  IF(  AND( $O208 = $D$18, $L208 = $E$5 ),  MAX( K$7:K207 ) + 1,  \"\" )","v":""}]
[null,null,null,null,null,null,null,null,null,{"$f":"  IF(  AND( $O209 = $D$8, $L209 = $E$5 ),  MAX( J$7:J208 ) + 1,  \"\" )","v":""},{"$f":"  IF(  AND( $O209 = $D$18, $L209 = $E$5 ),  MAX( K$7:K208 ) + 1,  \"\" )","v":""}]
[null,null,null,null,null,null,null,null,null,{"$f":"  IF(  AND( $O210 = $D$8, $L210 = $E$5 ),  MAX( J$7:J209 ) + 1,  \"\" )","v":""},{"$f":"  IF(  AND( $O210 = $D$18, $L210 = $E$5 ),  MAX( K$7:K209 ) + 1,  \"\" )","v":""}]
[null,null,null,null,null,null,null,null,null,{"$f":"  IF(  AND( $O211 = $D$8, $L211 = $E$5 ),  MAX( J$7:J210 ) + 1,  \"\" )","v":""},{"$f":"  IF(  AND( $O211 = $D$18, $L211 = $E$5 ),  MAX( K$7:K210 ) + 1,  \"\" )","v":""}]
[null,null,null,null,null,null,null,null,null,{"$f":"  IF(  AND( $O212 = $D$8, $L212 = $E$5 ),  MAX( J$7:J211 ) + 1,  \"\" )","v":""},{"$f":"  IF(  AND( $O212 = $D$18, $L212 = $E$5 ),  MAX( K$7:K211 ) + 1,  \"\" )","v":""}]
[null,null,null,null,null,null,null,null,null,{"$f":"  IF(  AND( $O213 = $D$8, $L213 = $E$5 ),  MAX( J$7:J212 ) + 1,  \"\" )","v":""},{"$f":"  IF(  AND( $O213 = $D$18, $L213 = $E$5 ),  MAX( K$7:K212 ) + 1,  \"\" )","v":""}]
[null,null,null,null,null,null,null,null,null,{"$f":"  IF(  AND( $O214 = $D$8, $L214 = $E$5 ),  MAX( J$7:J213 ) + 1,  \"\" )","v":""},{"$f":"  IF(  AND( $O214 = $D$18, $L214 = $E$5 ),  MAX( K$7:K213 ) + 1,  \"\" )","v":""}]
[null,null,null,null,null,null,null,null,null,{"$f":"  IF(  AND( $O215 = $D$8, $L215 = $E$5 ),  MAX( J$7:J214 ) + 1,  \"\" )","v":""},{"$f":"  IF(  AND( $O215 = $D$18, $L215 = $E$5 ),  MAX( K$7:K214 ) + 1,  \"\" )","v":""}]
[null,null,null,null,null,null,null,null,null,{"$f":"  IF(  AND( $O216 = $D$8, $L216 = $E$5 ),  MAX( J$7:J215 ) + 1,  \"\" )","v":""},{"$f":"  IF(  AND( $O216 = $D$18, $L216 = $E$5 ),  MAX( K$7:K215 ) + 1,  \"\" )","v":""}]
[null,null,null,null,null,null,null,null,null,{"$f":"  IF(  AND( $O217 = $D$8, $L217 = $E$5 ),  MAX( J$7:J216 ) + 1,  \"\" )","v":""},{"$f":"  IF(  AND( $O217 = $D$18, $L217 = $E$5 ),  MAX( K$7:K216 ) + 1,  \"\" )","v":""}]
[null,null,null,null,null,null,null,null,null,{"$f":"  IF(  AND( $O218 = $D$8, $L218 = $E$5 ),  MAX( J$7:J217 ) + 1,  \"\" )","v":""},{"$f":"  IF(  AND( $O218 = $D$18, $L218 = $E$5 ),  MAX( K$7:K217 ) + 1,  \"\" )","v":""}]
[null,null,null,null,null,null,null,null,null,{"$f":"  IF(  AND( $O219 = $D$8, $L219 = $E$5 ),  MAX( J$7:J218 ) + 1,  \"\" )","v":""},{"$f":"  IF(  AND( $O219 = $D$18, $L219 = $E$5 ),  MAX( K$7:K218 ) + 1,  \"\" )","v":""}]
[null,null,null,null,null,null,null,null,null,{"$f":"  IF(  AND( $O220 = $D$8, $L220 = $E$5 ),  MAX( J$7:J219 ) + 1,  \"\" )","v":""},{"$f":"  IF(  AND( $O220 = $D$18, $L220 = $E$5 ),  MAX( K$7:K219 ) + 1,  \"\" )","v":""}]
[null,null,null,null,null,null,null,null,null,{"$f":"  IF(  AND( $O221 = $D$8, $L221 = $E$5 ),  MAX( J$7:J220 ) + 1,  \"\" )","v":""},{"$f":"  IF(  AND( $O221 = $D$18, $L221 = $E$5 ),  MAX( K$7:K220 ) + 1,  \"\" )","v":""}]
[null,null,null,null,null,null,null,null,null,{"$f":"  IF(  AND( $O222 = $D$8, $L222 = $E$5 ),  MAX( J$7:J221 ) + 1,  \"\" )","v":""},{"$f":"  IF(  AND( $O222 = $D$18, $L222 = $E$5 ),  MAX( K$7:K221 ) + 1,  \"\" )","v":""}]
[null,null,null,null,null,null,null,null,null,{"$f":"  IF(  AND( $O223 = $D$8, $L223 = $E$5 ),  MAX( J$7:J222 ) + 1,  \"\" )","v":""},{"$f":"  IF(  AND( $O223 = $D$18, $L223 = $E$5 ),  MAX( K$7:K222 ) + 1,  \"\" )","v":""}]
[null,null,null,null,null,null,null,null,null,{"$f":"  IF(  AND( $O224 = $D$8, $L224 = $E$5 ),  MAX( J$7:J223 ) + 1,  \"\" )","v":""},{"$f":"  IF(  AND( $O224 = $D$18, $L224 = $E$5 ),  MAX( K$7:K223 ) + 1,  \"\" )","v":""}]
[null,null,null,null,null,null,null,null,null,{"$f":"  IF(  AND( $O225 = $D$8, $L225 = $E$5 ),  MAX( J$7:J224 ) + 1,  \"\" )","v":""},{"$f":"  IF(  AND( $O225 = $D$18, $L225 = $E$5 ),  MAX( K$7:K224 ) + 1,  \"\" )","v":""}]
[null,null,null,null,null,null,null,null,null,{"$f":"  IF(  AND( $O226 = $D$8, $L226 = $E$5 ),  MAX( J$7:J225 ) + 1,  \"\" )","v":""},{"$f":"  IF(  AND( $O226 = $D$18, $L226 = $E$5 ),  MAX( K$7:K225 ) + 1,  \"\" )","v":""}]
[null,null,null,null,null,null,null,null,null,{"$f":"  IF(  AND( $O227 = $D$8, $L227 = $E$5 ),  MAX( J$7:J226 ) + 1,  \"\" )","v":""},{"$f":"  IF(  AND( $O227 = $D$18, $L227 = $E$5 ),  MAX( K$7:K226 ) + 1,  \"\" )","v":""}]
[null,null,null,null,null,null,null,null,null,{"$f":"  IF(  AND( $O228 = $D$8, $L228 = $E$5 ),  MAX( J$7:J227 ) + 1,  \"\" )","v":""},{"$f":"  IF(  AND( $O228 = $D$18, $L228 = $E$5 ),  MAX( K$7:K227 ) + 1,  \"\" )","v":""}]
[null,null,null,null,null,null,null,null,null,{"$f":"  IF(  AND( $O229 = $D$8, $L229 = $E$5 ),  MAX( J$7:J228 ) + 1,  \"\" )","v":""},{"$f":"  IF(  AND( $O229 = $D$18, $L229 = $E$5 ),  MAX( K$7:K228 ) + 1,  \"\" )","v":""}]
[null,null,null,null,null,null,null,null,null,{"$f":"  IF(  AND( $O230 = $D$8, $L230 = $E$5 ),  MAX( J$7:J229 ) + 1,  \"\" )","v":""},{"$f":"  IF(  AND( $O230 = $D$18, $L230 = $E$5 ),  MAX( K$7:K229 ) + 1,  \"\" )","v":""}]
[null,null,null,null,null,null,null,null,null,{"$f":"  IF(  AND( $O231 = $D$8, $L231 = $E$5 ),  MAX( J$7:J230 ) + 1,  \"\" )","v":""},{"$f":"  IF(  AND( $O231 = $D$18, $L231 = $E$5 ),  MAX( K$7:K230 ) + 1,  \"\" )","v":""}]
[null,null,null,null,null,null,null,null,null,{"$f":"  IF(  AND( $O232 = $D$8, $L232 = $E$5 ),  MAX( J$7:J231 ) + 1,  \"\" )","v":""},{"$f":"  IF(  AND( $O232 = $D$18, $L232 = $E$5 ),  MAX( K$7:K231 ) + 1,  \"\" )","v":""}]
[null,null,null,null,null,null,null,null,null,{"$f":"  IF(  AND( $O233 = $D$8, $L233 = $E$5 ),  MAX( J$7:J232 ) + 1,  \"\" )","v":""},{"$f":"  IF(  AND( $O233 = $D$18, $L233 = $E$5 ),  MAX( K$7:K232 ) + 1,  \"\" )","v":""}]
[null,null,null,null,null,null,null,null,null,{"$f":"  IF(  AND( $O234 = $D$8, $L234 = $E$5 ),  MAX( J$7:J233 ) + 1,  \"\" )","v":""},{"$f":"  IF(  AND( $O234 = $D$18, $L234 = $E$5 ),  MAX( K$7:K233 ) + 1,  \"\" )","v":""}]
[null,null,null,null,null,null,null,null,null,{"$f":"  IF(  AND( $O235 = $D$8, $L235 = $E$5 ),  MAX( J$7:J234 ) + 1,  \"\" )","v":""},{"$f":"  IF(  AND( $O235 = $D$18, $L235 = $E$5 ),  MAX( K$7:K234 ) + 1,  \"\" )","v":""}]
[null,null,null,null,null,null,null,null,null,{"$f":"  IF(  AND( $O236 = $D$8, $L236 = $E$5 ),  MAX( J$7:J235 ) + 1,  \"\" )","v":""},{"$f":"  IF(  AND( $O236 = $D$18, $L236 = $E$5 ),  MAX( K$7:K235 ) + 1,  \"\" )","v":""}]
[null,null,null,null,null,null,null,null,null,{"$f":"  IF(  AND( $O237 = $D$8, $L237 = $E$5 ),  MAX( J$7:J236 ) + 1,  \"\" )","v":""},{"$f":"  IF(  AND( $O237 = $D$18, $L237 = $E$5 ),  MAX( K$7:K236 ) + 1,  \"\" )","v":""}]
[null,null,null,null,null,null,null,null,null,{"$f":"  IF(  AND( $O238 = $D$8, $L238 = $E$5 ),  MAX( J$7:J237 ) + 1,  \"\" )","v":""},{"$f":"  IF(  AND( $O238 = $D$18, $L238 = $E$5 ),  MAX( K$7:K237 ) + 1,  \"\" )","v":""}]
[null,null,null,null,null,null,null,null,null,{"$f":"  IF(  AND( $O239 = $D$8, $L239 = $E$5 ),  MAX( J$7:J238 ) + 1,  \"\" )","v":""},{"$f":"  IF(  AND( $O239 = $D$18, $L239 = $E$5 ),  MAX( K$7:K238 ) + 1,  \"\" )","v":""}]
[null,null,null,null,null,null,null,null,null,{"$f":"  IF(  AND( $O240 = $D$8, $L240 = $E$5 ),  MAX( J$7:J239 ) + 1,  \"\" )","v":""},{"$f":"  IF(  AND( $O240 = $D$18, $L240 = $E$5 ),  MAX( K$7:K239 ) + 1,  \"\" )","v":""}]
[null,null,null,null,null,null,null,null,null,{"$f":"  IF(  AND( $O241 = $D$8, $L241 = $E$5 ),  MAX( J$7:J240 ) + 1,  \"\" )","v":""},{"$f":"  IF(  AND( $O241 = $D$18, $L241 = $E$5 ),  MAX( K$7:K240 ) + 1,  \"\" )","v":""}]
[null,null,null,null,null,null,null,null,null,{"$f":"  IF(  AND( $O242 = $D$8, $L242 = $E$5 ),  MAX( J$7:J241 ) + 1,  \"\" )","v":""},{"$f":"  IF(  AND( $O242 = $D$18, $L242 = $E$5 ),  MAX( K$7:K241 ) + 1,  \"\" )","v":""}]
[null,null,null,null,null,null,null,null,null,{"$f":"  IF(  AND( $O243 = $D$8, $L243 = $E$5 ),  MAX( J$7:J242 ) + 1,  \"\" )","v":""},{"$f":"  IF(  AND( $O243 = $D$18, $L243 = $E$5 ),  MAX( K$7:K242 ) + 1,  \"\" )","v":""}]
[null,null,null,null,null,null,null,null,null,{"$f":"  IF(  AND( $O244 = $D$8, $L244 = $E$5 ),  MAX( J$7:J243 ) + 1,  \"\" )","v":""},{"$f":"  IF(  AND( $O244 = $D$18, $L244 = $E$5 ),  MAX( K$7:K243 ) + 1,  \"\" )","v":""}]
[null,null,null,null,null,null,null,null,null,{"$f":"  IF(  AND( $O245 = $D$8, $L245 = $E$5 ),  MAX( J$7:J244 ) + 1,  \"\" )","v":""},{"$f":"  IF(  AND( $O245 = $D$18, $L245 = $E$5 ),  MAX( K$7:K244 ) + 1,  \"\" )","v":""}]
[null,null,null,null,null,null,null,null,null,{"$f":"  IF(  AND( $O246 = $D$8, $L246 = $E$5 ),  MAX( J$7:J245 ) + 1,  \"\" )","v":""},{"$f":"  IF(  AND( $O246 = $D$18, $L246 = $E$5 ),  MAX( K$7:K245 ) + 1,  \"\" )","v":""}]
[null,null,null,null,null,null,null,null,null,{"$f":"  IF(  AND( $O247 = $D$8, $L247 = $E$5 ),  MAX( J$7:J246 ) + 1,  \"\" )","v":""},{"$f":"  IF(  AND( $O247 = $D$18, $L247 = $E$5 ),  MAX( K$7:K246 ) + 1,  \"\" )","v":""}]
[null,null,null,null,null,null,null,null,null,{"$f":"  IF(  AND( $O248 = $D$8, $L248 = $E$5 ),  MAX( J$7:J247 ) + 1,  \"\" )","v":""},{"$f":"  IF(  AND( $O248 = $D$18, $L248 = $E$5 ),  MAX( K$7:K247 ) + 1,  \"\" )","v":""}]
[null,null,null,null,null,null,null,null,null,{"$f":"  IF(  AND( $O249 = $D$8, $L249 = $E$5 ),  MAX( J$7:J248 ) + 1,  \"\" )","v":""},{"$f":"  IF(  AND( $O249 = $D$18, $L249 = $E$5 ),  MAX( K$7:K248 ) + 1,  \"\" )","v":""}]
[null,null,null,null,null,null,null,null,null,{"$f":"  IF(  AND( $O250 = $D$8, $L250 = $E$5 ),  MAX( J$7:J249 ) + 1,  \"\" )","v":""},{"$f":"  IF(  AND( $O250 = $D$18, $L250 = $E$5 ),  MAX( K$7:K249 ) + 1,  \"\" )","v":""}]
[null,null,null,null,null,null,null,null,null,{"$f":"  IF(  AND( $O251 = $D$8, $L251 = $E$5 ),  MAX( J$7:J250 ) + 1,  \"\" )","v":""},{"$f":"  IF(  AND( $O251 = $D$18, $L251 = $E$5 ),  MAX( K$7:K250 ) + 1,  \"\" )","v":""}]
[null,null,null,null,null,null,null,null,null,{"$f":"  IF(  AND( $O252 = $D$8, $L252 = $E$5 ),  MAX( J$7:J251 ) + 1,  \"\" )","v":""},{"$f":"  IF(  AND( $O252 = $D$18, $L252 = $E$5 ),  MAX( K$7:K251 ) + 1,  \"\" )","v":""}]
[null,null,null,null,null,null,null,null,null,{"$f":"  IF(  AND( $O253 = $D$8, $L253 = $E$5 ),  MAX( J$7:J252 ) + 1,  \"\" )","v":""},{"$f":"  IF(  AND( $O253 = $D$18, $L253 = $E$5 ),  MAX( K$7:K252 ) + 1,  \"\" )","v":""}]
[null,null,null,null,null,null,null,null,null,{"$f":"  IF(  AND( $O254 = $D$8, $L254 = $E$5 ),  MAX( J$7:J253 ) + 1,  \"\" )","v":""},{"$f":"  IF(  AND( $O254 = $D$18, $L254 = $E$5 ),  MAX( K$7:K253 ) + 1,  \"\" )","v":""}]
[null,null,null,null,null,null,null,null,null,{"$f":"  IF(  AND( $O255 = $D$8, $L255 = $E$5 ),  MAX( J$7:J254 ) + 1,  \"\" )","v":""},{"$f":"  IF(  AND( $O255 = $D$18, $L255 = $E$5 ),  MAX( K$7:K254 ) + 1,  \"\" )","v":""}]
[null,null,null,null,null,null,null,null,null,{"$f":"  IF(  AND( $O256 = $D$8, $L256 = $E$5 ),  MAX( J$7:J255 ) + 1,  \"\" )","v":""},{"$f":"  IF(  AND( $O256 = $D$18, $L256 = $E$5 ),  MAX( K$7:K255 ) + 1,  \"\" )","v":""}]
[null,null,null,null,null,null,null,null,null,{"$f":"  IF(  AND( $O257 = $D$8, $L257 = $E$5 ),  MAX( J$7:J256 ) + 1,  \"\" )","v":""},{"$f":"  IF(  AND( $O257 = $D$18, $L257 = $E$5 ),  MAX( K$7:K256 ) + 1,  \"\" )","v":""}]
[null,null,null,null,null,null,null,null,null,{"$f":"  IF(  AND( $O258 = $D$8, $L258 = $E$5 ),  MAX( J$7:J257 ) + 1,  \"\" )","v":""},{"$f":"  IF(  AND( $O258 = $D$18, $L258 = $E$5 ),  MAX( K$7:K257 ) + 1,  \"\" )","v":""}]
[null,null,null,null,null,null,null,null,null,{"$f":"  IF(  AND( $O259 = $D$8, $L259 = $E$5 ),  MAX( J$7:J258 ) + 1,  \"\" )","v":""},{"$f":"  IF(  AND( $O259 = $D$18, $L259 = $E$5 ),  MAX( K$7:K258 ) + 1,  \"\" )","v":""}]
[null,null,null,null,null,null,null,null,null,{"$f":"  IF(  AND( $O260 = $D$8, $L260 = $E$5 ),  MAX( J$7:J259 ) + 1,  \"\" )","v":""},{"$f":"  IF(  AND( $O260 = $D$18, $L260 = $E$5 ),  MAX( K$7:K259 ) + 1,  \"\" )","v":""}]

{"sheet":"AutoSS","index":5,"n_rows":78,"n_cols":48,"rows_kept":78,"cut":false,"hidden":true,"merged":[]}
[null,null,null,null,"Raw",{"$f":"  AC3","v":"SH"},null,null,null,null,"Adjusted ",{"$f":"L29","v":"SHb"},null,null,"  < 9 holes?",null,"   Score sheet",null,null,null,null,null,null,"File Name Suffix:",null,null,null,null,null,null,null,null,null,null,null,null,"      Tees",null,null,null,null,null,null,null,null,null,"Bruce.Herring@hii-nns.com"," :To"]
[null,null,"#",{"$f":"G31","v":"A572"},"Ov. Par"," - CH =","Net",null,"Pair Tot","ESC*","OP - ESC",{"$f":"G31","v":"A572"},"tees","new","Holes","Scaled",null,null,null,null,null,null,null,"CH from WU dated: ",{"$f":" Handicaps!$E$2","v":"2024-07-26"},null,null,"League: ",{"$f":"   IF(  SUM(  AN30:AN31  ) <=  $AN$28,  \"A\",  IF(  SUM(  AN30:AN31  ) =  $AN$28 + 1,  \"C\",  \"B\"  )  )","v":"B"},{"$f":"  OFFSET( Season!$E$6,  0,  $AN$29  ) + IF( AD3 = \"Tue\", 1, 0 ) + IF( AD3 = \"Wed\", 2, 0 ) + IF( AD3 = \"Thu\", 3, 0 )","v":"2024-07-17"}," : Date",null,null,"Team Number",null,null,null,null,null,null,null,null,null,"     email",null,null,"ryan.a.lorson@hii-nns.com;Tim.Spradlin@hii-nns.com"," :cc"]
[null,1,{"$f":"S9","v":3},{"$f":"  IF(  $C3 = 0,  $W$20,    OFFSET(  W$7, $C3, 0 )   )","v":"Marc Morotini"},null,{"$f":"  IF(  $C3 = 0,  \"\",   ROUND( OFFSET(   Handicaps!$E$1,   $AO$30  +  $C3 - 2,   OFFSET(  $AO$27,   MATCH(  $G$29,  $K$29:$L$29, 0 ),  0   )     ), 1 )   )","v":8},{"$f":"   IF(  $K$9 > 0,  IF(  C3 = 0, $B$32,  MIN( $B$33,  P3 - F3 )),  \"\"  )","v":""},null,null,null,{"$f":"   IF(  $K$9 = 0,  \"\",  P3 - J3  )","v":""},{"$f":"  IF(  $C3 = 0,  $B$32,   ROUND( OFFSET(   Handicaps!$E$1,   $AO$30  +  $C3 - 2,   $AO$29   ), 1 )   )","v":9},{"$f":" IF(  $C3 = 0, \"\",  OFFSET(   Handicaps!$T$1,   $AO$30  +  $C3 - 2, 0   )  )","v":""},{"$f":" IF(  $C3 = 0, \"\",  LEFT(  OFFSET(   Handicaps!U$1,   $AO$30  +  $C3 - 2, 0   ), 1 )  )","v":""},9,{"$f":"   IF(  $K$9 > 0,  ROUND(  E3 * 9 / O3,  1  ),  \"\"  )","v":""},null,null,null,null,null,"File: ",{"$f":"  CONCATENATE(  \"SGL\", YEAR( $Y$2 ) * 1 - 2000,  \"-WU-0\", MONTH( $Y$2),  IF(  DAY( $Y$2)*1 < 10,  \"0\", \"\" ),  DAY( $Y$2 ),  Y1   )","v":"SGL24-WU-0726"},null,null,null,null,"Course: ",{"$f":"G29","v":"SH"},{"$f":"   OFFSET(   Season!$D$7,   $AN$30,  0  )","v":"Wed"}," : Day",null,null,"#","Team",null,null,null,null,null,null,null,null,null,null,null,{"$f":"   OFFSET( $AU$6, AT5, 0 )","v":"Steven.Torres@hii-nns.com"}," :cc Captain"]
[null,2,10,{"$f":"  IF(  $C4 = 0,  $W$20,    OFFSET(  W$7, $C4, 0 )   )","v":"Brian Costello"},null,{"$f":"  IF(  $C4 = 0,  \"\",   ROUND( OFFSET(   Handicaps!$E$1,   $AO$30  +  $C4 - 2,   OFFSET(  $AO$27,   MATCH(  $G$29,  $K$29:$L$29, 0 ),  0   )     ), 1 )   )","v":17},{"$f":"   IF(  $K$9 > 0,  IF(  C4 = 0, $B$32,  MIN( $B$33,  P4 - F4 )),  \"\"  )","v":""},null,{"$f":"IF($K$9>0, G3+G4, \"\")","v":""},null,{"$f":"   IF(  $K$9 = 0,  \"\",  P4 - J4  )","v":""},{"$f":"  IF(  $C4 = 0,  $B$32,   ROUND( OFFSET(   Handicaps!$E$1,   $AO$30  +  $C4 - 2,   $AO$29   ), 1 )   )","v":18},{"$f":" IF(  $C4 = 0, \"\",  OFFSET(   Handicaps!$T$1,   $AO$30  +  $C4 - 2, 0   )  )","v":""},{"$f":" IF(  $C4 = 0, \"\",  LEFT(  OFFSET(   Handicaps!U$1,   $AO$30  +  $C4 - 2, 0   ), 1 )  )","v":""},{"$f":"O3","v":9},{"$f":"   IF(  $K$9 > 0,  ROUND(  E4 * 9 / O4,  1  ),  \"\"  )","v":""},null,null,null,null,null,null,null,null,null,null,null,"Front/Back: ",0,{"$f":"   IF(  -1^ IF(  $AN$30 + $AN$31 = 35,   $AN$30 + $V$5 + 1,  $AN$31   )  > 0, \"Home\", \"Away\"  )","v":"Away"}," : H or A",null,null,1,"A572",null,null,{"$f":"  TODAY()  +  AL3","v":"2024-07-26"}," Increments on Fridays",null,null,null,null,null,null,null,{"$f":" IF( COUNTIF( $AT$44:$AT$79, $AC$6 ) >= 1,  OFFSET(  $AU$43, MATCH( $AC$6, AT44:AT79, 0 ),  0  ),  \"\"  )","v":""},"1st Alt"]
[null,3,6,"Kevin Beagle",null,{"$f":"  IF(  $C5 = 0,  \"\",   ROUND( OFFSET(   Handicaps!$E$1,   $AO$30  +  $C5 - 2,   OFFSET(  $AO$27,   MATCH(  $G$29,  $K$29:$L$29, 0 ),  0   )     ), 1 )   )","v":7},"",null,null,null,"",{"$f":"  IF(  $C5 = 0,  $B$32,   ROUND( OFFSET(   Handicaps!$E$1,   $AO$30  +  $C5 - 2,   $AO$29   ), 1 )   )","v":8},{"$f":" IF(  $C5 = 0, \"\",  OFFSET(   Handicaps!$T$1,   $AO$30  +  $C5 - 2, 0   )  )","v":""},{"$f":" IF(  $C5 = 0, \"\",  LEFT(  OFFSET(   Handicaps!U$1,   $AO$30  +  $C5 - 2, 0   ), 1 )  )","v":""},9,"",null,null,null,null,null,15," : Week",null,null,null,null,null,null,null,null,null,null,{"$f":"AH4+1","v":2},"AGS",null,null,{"$f":"   IF(     $AL$4 >=  MAX( Season!AR6:AZ6 ) - 3,  MAX( Season!AR7:AZ7 ),      IF(  $AL$4 <  Season!$E$6,  1,      MATCH(  $AL$4 + 3,  Season!$C$6:$AZ$6, 1  ) / 3  )  )","v":16}," Week formula",null,null,null,null,null,null,{"$f":"  MATCH(  AC6,  AT7:AT41, 0 )","v":26},{"$f":" IF( COUNTIF( $AT$44:$AT$79, $AC$6 ) = 2,  OFFSET(  $AU$43, MATCH( $AC$6, AT44:AT79, 0 ) + 1,  0  ),  \"\"  )","v":""},"2nd Alt"]
[null,4,2,"Jim Vaughan",null,{"$f":"  IF(  $C6 = 0,  \"\",   ROUND( OFFSET(   Handicaps!$E$1,   $AO$30  +  $C6 - 2,   OFFSET(  $AO$27,   MATCH(  $G$29,  $K$29:$L$29, 0 ),  0   )     ), 1 )   )","v":10},"",null,{"$f":"IF($K$9>0, G5+G6, \"\")","v":""},null,"",{"$f":"  IF(  $C6 = 0,  $B$32,   ROUND( OFFSET(   Handicaps!$E$1,   $AO$30  +  $C6 - 2,   $AO$29   ), 1 )   )","v":12},{"$f":" IF(  $C6 = 0, \"\",  OFFSET(   Handicaps!$T$1,   $AO$30  +  $C6 - 2, 0   )  )","v":""},{"$f":" IF(  $C6 = 0, \"\",  LEFT(  OFFSET(   Handicaps!U$1,   $AO$30  +  $C6 - 2, 0   ), 1 )  )","v":""},{"$f":"O5","v":9},"",null,null,null,null,null,1,{"$f":"  OFFSET( $AI$3, V6, 0 )","v":"A572"}," : Your team",null,null,null,{"$f":"  MATCH(  $AC$6,  AI4:AI40, 0 )","v":20},{"$f":"  OFFSET(  Season!$E$7,  $AN$31, $AN$29 )","v":"M10"}," : Opponent",null,null,null,3,"AMSC",null,null,null,null,null,null,null,null,null,null,"Team","Email","Captain"]
[null,5,1,"Jason Binns",null,{"$f":"  IF(  $C7 = 0,  \"\",   ROUND( OFFSET(   Handicaps!$E$1,   $AO$30  +  $C7 - 2,   OFFSET(  $AO$27,   MATCH(  $G$29,  $K$29:$L$29, 0 ),  0   )     ), 1 )   )","v":8},"",null,{"$f":"IF($K$9>0, I4+I6, \"\")","v":""},null,"",{"$f":"  IF(  $C7 = 0,  $B$32,   ROUND( OFFSET(   Handicaps!$E$1,   $AO$30  +  $C7 - 2,   $AO$29   ), 1 )   )","v":9},{"$f":" IF(  $C7 = 0, \"\",  OFFSET(   Handicaps!$T$1,   $AO$30  +  $C7 - 2, 0   )  )","v":""},{"$f":" IF(  $C7 = 0, \"\",  LEFT(  OFFSET(   Handicaps!U$1,   $AO$30  +  $C7 - 2, 0   ), 1 )  )","v":""},9,"",null,null,"Line-up Box",null,null,"#","Player",null,null,null,null,"#","Player",null,null,null,null,4,"ARG",null,null,null,null,"Tees:",null,null,null,null,{"$f":"AS6+1","v":1},"AGS","Forrest.C.Barefoot@hii-nns.com","Barefoot,Forrest"]
[null,6,8,"Steve McFann",null,{"$f":"  IF(  $C8 = 0,  \"\",   ROUND( OFFSET(   Handicaps!$E$1,   $AO$30  +  $C8 - 2,   OFFSET(  $AO$27,   MATCH(  $G$29,  $K$29:$L$29, 0 ),  0   )     ), 1 )   )","v":11},"",null,{"$f":"IF($K$9>0, G7+G8, \"\")","v":""},null,"",{"$f":"  IF(  $C8 = 0,  $B$32,   ROUND( OFFSET(   Handicaps!$E$1,   $AO$30  +  $C8 - 2,   $AO$29   ), 1 )   )","v":12},{"$f":" IF(  $C8 = 0, \"\",  OFFSET(   Handicaps!$T$1,   $AO$30  +  $C8 - 2, 0   )  )","v":""},{"$f":" IF(  $C8 = 0, \"\",  LEFT(  OFFSET(   Handicaps!U$1,   $AO$30  +  $C8 - 2, 0   ), 1 )  )","v":""},{"$f":"O7","v":9},"",null,null,{"$f":"W6","v":"A572"},{"$f":"AC6","v":"M10"},null,1,{"$f":" OFFSET(   Handicaps!$E$1,   $AO$30  +  $V8 - 2, 0   )","v":"Jason Binns"},null,null,null,null,1,{"$f":" OFFSET(   Handicaps!$E$1,   $AO$31  +  $V8 - 2, 0   )","v":"Jon Malone"},null,null,null,null,5,"CRF",null,null,null,"Men","Sr","Wo",null,null,null,{"$f":"AS7+1","v":2},"AMSC","leroy.harrell@tsd.hii-nns.com","Harrell,Leroy"]
[null,null,null,"Totals",{"$f":"SUM(E3:E8)","v":0},{"$f":"SUM(F3:F8)","v":61},{"$f":"IF( $K$9>0, SUM(G3:G8), \"\")","v":""},null,{"$f":"IF($K$9>0, I7+I8, \"\")","v":""},null,{"$f":"SUMSQ(E3:E8)","v":0},{"$f":"SUM(L3:L8)","v":68},null,null,null,null,null,1,3,0,null,{"$f":"V8+1","v":2},{"$f":" OFFSET(   Handicaps!$E$1,   $AO$30  +  $V9 - 2, 0   )","v":"Jim Vaughan"},null,null,null,null,{"$f":"AB8+1","v":2},{"$f":" OFFSET(   Handicaps!$E$1,   $AO$31  +  $V9 - 2, 0   )","v":"Mike Mulcahy"},null,null,null,null,6,"CVN",null,null,"RF","White","Green","Red",null,null,null,3,"E12","Joseph.Gray@hii-nns.com","Gray,Joe"]
[null,null,"#",{"$f":"G32","v":"M10"},null,null,null,null,null,null,null,{"$f":"G32","v":"M10"},null,null,null,null,null,2,10,4,null,3,{"$f":" OFFSET(   Handicaps!$E$1,   $AO$30  +  $V10 - 2, 0   )","v":"Marc Morotini"},null,null,null,null,3,{"$f":" OFFSET(   Handicaps!$E$1,   $AO$31  +  $V10 - 2, 0   )","v":"Chris Hildebrand"},null,null,null,null,7,"E12",null,null,"OH","Blue","White","Yellow",null,null,null,4,"E14","jklawson22@gmail.com","Lawson,Jim"]
[null,1,{"$f":"T9","v":0},{"$f":"  IF(  $C11 = 0,  $AC$20,    OFFSET(  AC$7,   $C11,  0   )  )","v":"No Show"},null,{"$f":"  IF(  $C11 = 0,  \"\",   ROUND( OFFSET(   Handicaps!$E$1,   $AO$31  +  $C11 - 2,   OFFSET(  $AO$27,   MATCH(  $G$29,  $K$29:$L$29, 0 ),  0   )     ), 1 )   )","v":""},{"$f":"   IF(  $K$17 > 0,  IF(  C11 = 0, $B$32,  MIN( $B$33,  P11 - F11 )),  \"\"  )","v":""},null,null,null,{"$f":"   IF(  $K$17 = 0,  \"\",  P11 - J11  )","v":""},{"$f":"  IF(  $C11 = 0,  $B$32,   ROUND( OFFSET(   Handicaps!$E$1,   $AO$31  +  $C11 - 2,   $AO$29   ), 1 )   )","v":10},{"$f":" IF(  $C11 = 0, \"\",  OFFSET(   Handicaps!$T$1,   $AO$31  +  $C11 - 2, 0   )  )","v":""},{"$f":" IF(  $C11 = 0, \"\",  LEFT(  OFFSET(   Handicaps!U$1,   $AO$31  +  $C11 - 2, 0   ), 1 )  )","v":""},{"$f":"O3","v":9},{"$f":"   IF(  $K$17 > 0,  ROUND(  E11 * 9 / O11,  1  ),  \"\"  )","v":""},null,3,6,11,null,4,{"$f":" OFFSET(   Handicaps!$E$1,   $AO$30  +  $V11 - 2, 0   )","v":"Bill Callis"},null,null,null,null,4,{"$f":" OFFSET(   Handicaps!$E$1,   $AO$31  +  $V11 - 2, 0   )","v":"Mark Davis"},null,null,null,null,8,"E14",null,null,"SH","White","Yellow","Red",null,null,null,5,"E17","Nate.Harrison@hii-nns.com","Harrison,Nate"]
[null,2,4,"Mark Davis",null,{"$f":"  IF(  $C12 = 0,  \"\",   ROUND( OFFSET(   Handicaps!$E$1,   $AO$31  +  $C12 - 2,   OFFSET(  $AO$27,   MATCH(  $G$29,  $K$29:$L$29, 0 ),  0   )     ), 1 )   )","v":11},"",null,{"$f":"IF($K$17>0, G11+G12,\"\")","v":""},null,{"$f":"   IF(  $K$17 = 0,  \"\",  P12 - J12  )","v":""},{"$f":"  IF(  $C12 = 0,  $B$32,   ROUND( OFFSET(   Handicaps!$E$1,   $AO$31  +  $C12 - 2,   $AO$29   ), 1 )   )","v":12},{"$f":" IF(  $C12 = 0, \"\",  OFFSET(   Handicaps!$T$1,   $AO$31  +  $C12 - 2, 0   )  )","v":""},{"$f":" IF(  $C12 = 0, \"\",  LEFT(  OFFSET(   Handicaps!U$1,   $AO$31  +  $C12 - 2, 0   ), 1 )  )","v":""},{"$f":"O4","v":9},{"$f":"   IF(  $K$17 > 0,  ROUND(  E12 * 9 / O12,  1  ),  \"\"  )","v":""},null,4,2,6,null,5,{"$f":" OFFSET(   Handicaps!$E$1,   $AO$30  +  $V12 - 2, 0   )","v":"Perry Barber, Jr"},null,null,null,null,5,{"$f":" OFFSET(   Handicaps!$E$1,   $AO$31  +  $V12 - 2, 0   )","v":"Chris Glidewell"},null,null,null,null,9,"E17",null,null,"CC","White","Gold","Red",null,null,null,6,"E42","Keith.Carter@hii-nns.com","Carter,Keith"]
[null,3,11,{"$f":"  IF(  $C13 = 0,  $AC$20,    OFFSET(  AC$7,   $C13,  0   )  )","v":"Jason Roach"},null,{"$f":"  IF(  $C13 = 0,  \"\",   ROUND( OFFSET(   Handicaps!$E$1,   $AO$31  +  $C13 - 2,   OFFSET(  $AO$27,   MATCH(  $G$29,  $K$29:$L$29, 0 ),  0   )     ), 1 )   )","v":16},{"$f":"   IF(  $K$17 > 0,  IF(  C13 = 0, $B$32,  MIN( $B$33,  P13 - F13 )),  \"\"  )","v":""},null,null,null,"",{"$f":"  IF(  $C13 = 0,  $B$32,   ROUND( OFFSET(   Handicaps!$E$1,   $AO$31  +  $C13 - 2,   $AO$29   ), 1 )   )","v":18},{"$f":" IF(  $C13 = 0, \"\",  OFFSET(   Handicaps!$T$1,   $AO$31  +  $C13 - 2, 0   )  )","v":""},{"$f":" IF(  $C13 = 0, \"\",  LEFT(  OFFSET(   Handicaps!U$1,   $AO$31  +  $C13 - 2, 0   ), 1 )  )","v":""},9,"",null,5,1,7,null,6,{"$f":" OFFSET(   Handicaps!$E$1,   $AO$30  +  $V13 - 2, 0   )","v":"Kevin Beagle"},null,null,null,null,6,{"$f":" OFFSET(   Handicaps!$E$1,   $AO$31  +  $V13 - 2, 0   )","v":"Chris Harris"},null,null,null,null,10,"E20",null,null,"KC","White","Green","Red",null,null,null,7,"E55A","Kenny.Stewart@hii-nns.com","Stewart,Kenny"]
[null,4,6,{"$f":"  IF(  $C14 = 0,  $AC$20,    OFFSET(  AC$7,   $C14,  0   )  )","v":"Chris Harris"},null,{"$f":"  IF(  $C14 = 0,  \"\",   ROUND( OFFSET(   Handicaps!$E$1,   $AO$31  +  $C14 - 2,   OFFSET(  $AO$27,   MATCH(  $G$29,  $K$29:$L$29, 0 ),  0   )     ), 1 )   )","v":7},{"$f":"   IF(  $K$17 > 0,  IF(  C14 = 0, $B$32,  MIN( $B$33,  P14 - F14 )),  \"\"  )","v":""},null,{"$f":"IF($K$17>0, G13+G14, \"\")","v":""},null,"",{"$f":"  IF(  $C14 = 0,  $B$32,   ROUND( OFFSET(   Handicaps!$E$1,   $AO$31  +  $C14 - 2,   $AO$29   ), 1 )   )","v":8},{"$f":" IF(  $C14 = 0, \"\",  OFFSET(   Handicaps!$T$1,   $AO$31  +  $C14 - 2, 0   )  )","v":""},{"$f":" IF(  $C14 = 0, \"\",  LEFT(  OFFSET(   Handicaps!U$1,   $AO$31  +  $C14 - 2, 0   ), 1 )  )","v":""},9,"",null,6,8,3,null,7,{"$f":" OFFSET(   Handicaps!$E$1,   $AO$30  +  $V14 - 2, 0   )","v":"Brenton Shapiro"},null,null,null,null,7,{"$f":" OFFSET(   Handicaps!$E$1,   $AO$31  +  $V14 - 2, 0   )","v":"Jimmy Gollihugh"},null,null,null,null,11,"E25",null,null,"DR","Blue","White","Green",null,null,null,8,"E55B","Scott.T.Bohn@hii-nns.com","Bohn, Scott"]
[null,5,7,"Jimmy Gollihugh",null,{"$f":"  IF(  $C15 = 0,  \"\",   ROUND( OFFSET(   Handicaps!$E$1,   $AO$31  +  $C15 - 2,   OFFSET(  $AO$27,   MATCH(  $G$29,  $K$29:$L$29, 0 ),  0   )     ), 1 )   )","v":8},"",null,{"$f":"IF($K$17>0, I12+I14, \"\")","v":""},null,"",{"$f":"  IF(  $C15 = 0,  $B$32,   ROUND( OFFSET(   Handicaps!$E$1,   $AO$31  +  $C15 - 2,   $AO$29   ), 1 )   )","v":9},{"$f":" IF(  $C15 = 0, \"\",  OFFSET(   Handicaps!$T$1,   $AO$31  +  $C15 - 2, 0   )  )","v":""},{"$f":" IF(  $C15 = 0, \"\",  LEFT(  OFFSET(   Handicaps!U$1,   $AO$31  +  $C15 - 2, 0   ), 1 )  )","v":""},9,"",null,null,null,null,null,8,{"$f":" OFFSET(   Handicaps!$E$1,   $AO$30  +  $V15 - 2, 0   )","v":"Steve McFann"},null,null,null,null,8,{"$f":" OFFSET(   Handicaps!$E$1,   $AO$31  +  $V15 - 2, 0   )","v":"Devin Butler"},null,null,null,null,12,"E42",null,null,"DC","White","White","Green"]
[null,6,3,"Chris Hildebrand",null,{"$f":"  IF(  $C16 = 0,  \"\",   ROUND( OFFSET(   Handicaps!$E$1,   $AO$31  +  $C16 - 2,   OFFSET(  $AO$27,   MATCH(  $G$29,  $K$29:$L$29, 0 ),  0   )     ), 1 )   )","v":6},"",null,{"$f":"IF($K$17>0, G15+G16, \"\")","v":""},null,"",{"$f":"  IF(  $C16 = 0,  $B$32,   ROUND( OFFSET(   Handicaps!$E$1,   $AO$31  +  $C16 - 2,   $AO$29   ), 1 )   )","v":7},{"$f":" IF(  $C16 = 0, \"\",  OFFSET(   Handicaps!$T$1,   $AO$31  +  $C16 - 2, 0   )  )","v":""},{"$f":" IF(  $C16 = 0, \"\",  LEFT(  OFFSET(   Handicaps!U$1,   $AO$31  +  $C16 - 2, 0   ), 1 )  )","v":""},9,"",null,null,null,null,null,9,{"$f":" OFFSET(   Handicaps!$E$1,   $AO$30  +  $V16 - 2, 0   )","v":"Jason Boyce"},null,null,null,null,9,{"$f":" OFFSET(   Handicaps!$E$1,   $AO$31  +  $V16 - 2, 0   )","v":"Hayden Champigny"},null,null,null,null,13,"E55A",null,null,"RFb","White","Green","Red",null,null,null,{"$f":"AS14+1","v":9},"E60","Nathanael.R.Vandygriff@hii-nns.com","Vandygriff,Nathan"]
[null,null,null,"Totals",{"$f":"SUM(E11:E16)","v":0},{"$f":"SUM(F11:F16)","v":48},{"$f":"IF( $K$17>0, SUM(G11:G16), \"\")","v":""},null,{"$f":"IF($K$17>0, I15+I16, \"\")","v":""},null,{"$f":"  SUMSQ(  E11:E16  )","v":0},{"$f":"SUM(L11:L16)","v":64},null,null,null,null,null,null,null,null,null,10,{"$f":" OFFSET(   Handicaps!$E$1,   $AO$30  +  $V17 - 2, 0   )","v":"Brian Costello"},null,null,null,null,10,{"$f":" OFFSET(   Handicaps!$E$1,   $AO$31  +  $V17 - 2, 0   )","v":"Austin Davis"},null,null,null,null,14,"E55B",null,null,"OHb","Blue","White","Yellow",null,null,null,10,"E83","Tim.Spradlin@hii-nns.com","Spradlin,Tim"]
[null,null,null,null,null,null,null,null,null,null,null,null,null,null,null,null,null,null,null,null,null,11,{"$f":" OFFSET(   Handicaps!$E$1,   $AO$30  +  $V18 - 2, 0   )","v":"Tony McCormick"},null,null,null,null,11,{"$f":" OFFSET(   Handicaps!$E$1,   $AO$31  +  $V18 - 2, 0   )","v":"Jason Roach"},null,null,null,null,15,"E60",null,null,"SHb","White","Yellow","Red",null,null,null,11,"E86","Jeffrey.Asby@hii-nns.com","Asby,Jeff"]
[null,null,null,null,null,null,null,null,null,null,null,null,null,null,null,null,null,null,null,null,null,12,{"$f":" OFFSET(   Handicaps!$E$1,   $AO$30  +  $V19 - 2, 0   )","v":"Richard Henry"},null,null,null,null,12,{"$f":" OFFSET(   Handicaps!$E$1,   $AO$31  +  $V19 - 2, 0   )","v":"Steven Torres"},null,null,null,null,16,"E75",null,null,"CCb","White","Gold","Red",null,null,null,12,"X01","Floyd.Byrd@hii-nns.com","Byrd,Floyd"]
[null,null,null,"SGL",{"$f":" YEAR( G30 )","v":2024},"Scoresheet",null,null,null,"Tee Times",null,null,null,null,null,null,null,"Instructions:",null,null,null,0,"No Show",null,null,null,null,0,{"$f":"W20","v":"No Show"},null,null,null,null,17,"E83",null,null,"KCb","White","Green","Red",null,null,null,13,"X87","Ronald.Ellsworth@hii-nns.com","Ellsworth,Ron"]
[null,null,"  Team Rep Signatures",null,null,"Teams","Net",null,null,{"$f":"AL37","v":"RF"},"04:50:00"," 484-2200",null,null,null,null,null,0,"Enable macros",null,null,null,null,null,null,null,null,null,null,null,null,null,null,18,"E86",null,null,"DRb","White","Green","Green",null,null,null,14,"X88","John.Plevelich@hii-nns.com","Plevelich,John"]
[null,null,null,null,null,null,null,null,null,"OH","04:37:00"," 727-1195",null,null,null,null,null,1,"To save WeeklyUpdate:  Click \"Save WU\" button",null,null,null,null,null,null,null,null,null,null,null,null,null,null,19,"ENGR",null,null,"DCB","White","Green","Green",null,null,null,15,"SUBS","Eric.Scott@hii-nns.com","Scott,Eric"]
[null,null,null,{"$f":"  IF( K9 = 0, \"\", \"on file\"  )","v":""},null,{"$f":"G31","v":"A572"},{"$f":"G9","v":""},null,null,"SH","04:50:00"," 538-4100",null,null,null,null,null,null,"   Saves to …\\Documents\\SGL##  - (makes directory if it doesn't exist)",null,null,null,null,null,null,null,null,null,null,null,null,null,null,20,"M10",null,null,{"$f":" MATCH( K29,  AL9:AL22, 0 )","v":3},{"$f":"AL23","v":3},{"$f":"  IF(  AL23 >7, -7, 7 ) + AL23","v":10},null,null,null,null,16,"X04","Mike.Pyrtle@hii-nns.com","Pyrtle,Mike"]
[null,null,null,null,null,null,null,null,null,"CC","04:45:00"," 365-0495",null,null,null,null,null,2,"Enter the week of the season (cell V5 or slide bar)",null,null,null,null,null,null,null,null,null,null,null,null,null,null,21,"NNIT",null,null,null,null,null,null,null,null,null,17,"","",""]
[null,null,null,{"$f":"  IF( K17 = 0, \"\", \"on file\"  )","v":""},null,{"$f":"G32","v":"M10"},{"$f":"G17","v":""},null,null,"KC","04:30:00"," 988-3220",null,null,null,null,null,3,"Enter your team number in cell V6 (from Team Num. table: col AH)",null,null,null,null,null,null,null,null,null,null,null,null,null,null,22,"O19",null,null,null,null,null,null,null,null,null,1,"A572","Jason.Boyce@hii-nns.com","Boyce,Jason"]
[null,null,null,{"$f":"   CONCATENATE(  $AC$2,  IF(  $V$5 < 10,  \"0\",  \"\"  ),  $V$5,  \"-\",  $G$29,  \"-\",  $G$31,  \"-\",  $G$32  )","v":"B15-SH-A572-M10"},null,null,null,null,null,"DR","04:48:00"," 886-7925",null,null,null,null,null,4,"Enter your teams line-up for the match in cells S9-14",null,null,null,null,null,null,null,null,null,null,null,null,null,null,23,"O46",null,null,null,null,null,null,null,null,null,2,"ARG","E.Byrd@hii-nns.com","Byrd,Elliott"]
[null,null,null,null,null,null,null,null,null,"Shot-gun start when possible",null,null,null,null,null,null,null,null,"   Use number in front of player's name from cells V8-19",null,null,null,null,null,null,null,null,null,null,null,null,null,null,24,"O87",null,null,null,"Lookup numbers:",null,null,null,null,null,3,"CRF","Joshua.A.Kampsen@hii-nns.com","Kampsen, Josh"]
[null,null,null,null,null,null,{"$f":"  IF(  AC4 = 1, \"Back 9\", \"Front 9\"  )","v":"Front 9"},null,null,null,null,null,null,null,null,null,null,null,"   Send line-up to opposing captain: ",null,null,null,null,null,null,null,null,null,null,null,null,null,null,25,"SCM",null,null,null,"Teams",{"$f":" MAX(AH:AH  )","v":34},{"$f":"  MATCH(  $K$29,  Handicaps!$F$3:$S$3,  0  )","v":2},null,null,null,4,"E20","Greg.McKean@hii-nns.com","McKean,Greg"]
[null,null,null,null,null,"Course",{"$f":"   OFFSET(   K29,   0,   AC4  )","v":"SH"},null,null,"Tees",{"$f":"   OFFSET(   Season!$C$7,   $AN$30,  0  )","v":"SH"},{"$f":" OFFSET( $AL$8,  AN23, 0 )","v":"SHb"},null,null,null,null,null,null,null,"Use \"Save & Email\" button and change the distribution (i.e., remove SGL officers).",null,null,null,null,null,null,null,null,null,null,null,null,null,26,"SUBS",null,null,null,"Column",{"$f":" ( V5 - 1 ) * 3","v":42},{"$f":"  MATCH(  $L$29,  Handicaps!$F$3:$S$3,  0  )","v":3},null,null,null,5,"E25","reverbva@gmail.com","Shirley,Adrian"]
[null," Triple Bogey limit. Pick up after double bogey.",null,null,null,"Date",{"$f":"AD2","v":"2024-07-17"},null,null,"Men",{"$f":" OFFSET(  $AL$8,  AM$23,  $B3  )","v":"White"},"White",null,null,null,null,null,null,"   Receive and enter opposing team line-up in cells T9-14",null,null,null,null,null,null,null,null,null,null,null,null,null,null,27,"X01",null,null,null,"Row",{"$f":" MATCH(  W6,  OFFSET( Season!$E$7,  1, $AN$29,   $AN$28, 1  ),   0  )","v":32},{"$f":" MATCH(  $W$6,  Handicaps!$D:$D,  0  )","v":408},null,null,null,6,"E75","Jeffrey.Waltz@hii-nns.com","Waltz, Jeff"]
[null," Teams with 4 or fewer players forfeits the match",null,null,null,{"$f":"AD4","v":"Away"},{"$f":"W6","v":"A572"},null,null,"Sr","Yellow","Yellow",null,null,null,null,null,5,"Save file (click \"Save WU\" button), Print and take to match",null,null,null,null,null,null,null,null,null,null,null,null,null,null,28,"X04",null,null,null,"Opp",{"$f":"   $AN$30 +  IF(   ISEVEN( $AN$30 ),  -1,  1  )","v":31},{"$f":" MATCH(  $AC$6,  Handicaps!$D:$D,  0  )","v":304},null,null,null,7,"ENGR","dlschrock2@gmail.com","Schrock,Darrel"]
[null,10,"Net for a No Show (use a zero in cells S9-T14)",null,null,{"$f":"   IF( F31 = \"Home\", \"Away\",  \"Home\"  )","v":"Home"},{"$f":"AC6","v":"M10"},null,null,"Wo","Red","Red",null,null,null,null,null,null,null,null,null,null,null,null,null,null,null,null,null,null,null,null,null,29,"X10",null,null,null,null,null,null,null,null,null,8,"M10","Steven.Torres@hii-nns.com","Torres,Steven"]
[null,8,"Net points maximum, except for No Show",null,null,null,null,null,null,null,null,null,null,null,null,null,null,6,"After match, enter over par scores for holes played in cells E3-8 and E11-16",null,null,null,null,null,null,null,null,null,null,null,null,null,null,30,"X31",null,null,null,null,null,null,null,null,null,9,"NNIT"," rhandz@cox.net","Hand,Ron"]
[null,"  *ESC: Equitable Stroke Control Points for low handicappers IAW SGL Rules (in 2018, #8):",null,null,null,null,null,null,null,null,null,"Cart:",{"$f":"  OFFSET( AN36, $AM$23, 0 )","v":20},null,null,null,null,null,null,"IF there were ESC points, enter in cells J3-8 and J11-16",null,null,null,null,null,null,null,null,null,null,null,null,null,31,"X87",null,null,null,null,null,null,null,null,null,10,"O19","Scott.McKeel@hii-nns.com","McKeel,Scott"]
[null," One ESC point for each triple bogie or worse scored on any hole by a player with a course handicap of 4 or less,",null,null,null,null,null,null,null,null,null,"Walk:",{"$f":"  OFFSET( AO36, $AM$23, 0 )","v":15},null,null,null,null,null,null,"IF you played the back 9, use slider in cell F28 to select it.",null,null,null,null,null,null,null,null,null,null,null,null,null,32,"X88",null,null,"SGL24",null,null,null,null,null,null,11,"SCM","Richard.Shelton@hii-nns.com","Shelton,Wesley"]
[null," One ESC point for each triple bogie or worse scored on any par 5 by a player with a course handicap of 5 to 9.",null,null,null,null,null,null,null,null,null,"Other:",{"$f":"  OFFSET( AP36, $AM$23, 0 )","v":"     x"},null,null,null,null,null,null,"IF less than 9 holes, enter the number of holes in cells O3-8 and O11-16",null,null,null,null,null,null,null,null,null,null,null,null,null,33,null,null,null,"Venue","Start","Cart","Walk","Other",null,null,12,"X10","Jennifer.A.Howard@hii-nns.com","Howard,Jennifer"]
[null,null,null,null,null,null,null,null,null,null,null,null,null,null,null,null,null,null,null,"IF it is a make-up match, enter venue in cells G29 & K29, and the date in AD2.",null,null,null,null,null,null,null,null,null,null,null,null,null,34,null,null,null,{"$f":"AL9","v":"RF"},"04:50:00",25," no","     x",null,null,13,"X31","Thomas.Hall@hii-nns.com","Hall,Tommy"]
[null,null,null,null,null,null,null,null,null,null,null,null,null,null,null,null,null,null,null,"IF you had a \"No Show', enter a \"0\" or a blank in the Line-up box (cells S9-T14)",null,null,null,null,null,null,null,null,null,null,null,null,null,null,null,null,null,{"$f":"AL10","v":"OH"},"04:37:00",19,13,"     x",null,null,14,"CVN","dklkbeach@gmail.com","Krejcarek,David"]
[null,"Revisions:",null,null,null,null,null,null,null,null,null,null,null,null,null,null,null,null,null,null,null,null,null,null,null,null,null,null,null,null,null,null,null,null,null,null,null,{"$f":"AL11","v":"SH"},"04:50:00",20,15,"     x",null,null,15,"O46","David.Crews@hii-nns.com","Crews,David"]
[null,0,"Initial release for current year",null,null,null,null,null,null,null,null,null,null,null,null,null,null,7,"When finished, \"click\" \"Save & Email\" button",null,null,null,null,null,null,null,null,null,null,null,null,null,null,null,null,null,null,{"$f":"AL12","v":"CC"},"04:45:00",25," no"," Range balls",null,null,16,"O87","Brian.K.Waddles@hii-nns.com","Waddles,B."]
[null,null,null,null,null,null,null,null,null,null,null,null,null,null,null,null,null,"\"Save & Email\" button:",null,null,null,null,null,null,null,null,null,null,null,null,null,null,null,null,null,null,null,{"$f":"AL13","v":"KC"},"04:30:00",25," no"," Range balls",null,null,17,"","",""]
[null,null,null,null,null,null,null,null,null,null,null,null,null,null,null,null,null,null,"   Saves the WU file,",null,null,null,null,null,null,null,null,null,null,null,null,null,null,null,null,null,null,"DR","04:48:00",20,13,"x",null,null,null,""]
[null,null,null,null,null,null,null,null,null,null,null,null,null,null,null,null,null,null,"   Converts AutoSS contents to a Regular SS file,  saves the RegSS file in …\\Documents\\SGL##,  and",null,null,null,null,null,null,null,null,null,null,null,null,null,null,null,null,null,null,null,null,null,null,null,null,null,null,"Team","Email","Alternate"]
[null,null,null,null,null,null,null,null,null,null,null,null,null,null,null,null,null,null,"   Prepares an email to HA, Pres, and opp. captain with RegSS file attached",null,null,null,null,null,null,null,null,null,null,null,null,null,null,null,null,null,null,"SGL22",null,null,null,null,null,null,{"$f":"AS43+1","v":1},"AGS","Glenn.G.Gaskins@hii-nns.com","Gaskins,Glenn"]
[null,null,null,null,null,null,null,null,null,null,null,null,null,null,null,null,null,null,null,"This closes the RegSS Excel file, but leaves Excel open.  Close manually.",null,null,null,null,null,null,null,null,null,null,null,null,null,null,null,null,null,"RF","04:50:00",24," no","     x",null,null,{"$f":"AS44+1","v":2},"AMSC"]
[null,null,null,null,null,null,null,null,null,null,null,null,null,null,null,null,null,null,null,null,null,null,null,null,null,null,null,null,null,null,null,null,null,null,null,null,null,"OH","04:37:00",19,14,"     x",null,null,3,"E12","Bruce.Beers@hii-nns.com","Beers,Bruce"]
[null,null,null,null,null,null,null,null,null,null,null,null,null,null,null,null,null,null,null,null,null,null,null,null,null,null,null,null,null,null,null,null,null,null,null,null,null,"SH","04:50:00",19,14,"     x",null,null,4,"E14","kevin.p.roscoe@nasa.gov","Roscoe, Kevin"]
[null,null,null,null,null,null,null,null,null,null,null,null,null,null,null,null,null,null,null,null,null,null,null,null,null,null,null,null,null,null,null,null,null,null,null,null,null,"CC","04:50:00",20," no","     x",null,null,5,"E17","Nicholas.J.Maidment@hii-nns.com","Maidment,Nick"]
[null,null,null,null,null,null,null,null,null,null,null,null,null,null,null,null,null,null,null,null,null,null,null,null,null,null,null,null,null,null,null,null,null,null,null,null,null,"KC","04:48:00",25," no"," Range balls",null,null,6,"E42","David.Langston@hii-nns.com","Langston,David"]
[null,null,null,null,null,null,null,null,null,null,null,null,null,null,null,null,null,null,null,null,null,null,null,null,null,null,null,null,null,null,null,null,null,null,null,null,null,null,null,null,null,null,null,null,7,"E55A","Michael.Konrad@hii-nns.com","Konrad,Mike"]
[null,null,null,null,null,null,null,null,null,null,null,null,null,null,null,null,null,null,null,null,null,null,null,null,null,null,null,null,null,null,null,null,null,null,null,null,null,null,null,null,null,null,null,null,8,"E55B","Robert.Holley@hii-nns.com","Holley, Robert"]
[null,null,null,null,null,null,null,null,null,null,null,null,null,null,null,null,null,null,null,null,null,null,null,null,null,null,null,null,null,null,null,null,null,null,null,null,null,null,null,null,null,null,null,null,9,"E60","Karlen.Wyatt@hii-nns.com","Wyatt,Ricky"]
[null,null,null,null,null,null,null,null,null,null,null,null,null,null,null,null,null,null,null,null,null,null,null,null,null,null,null,null,null,null,null,null,null,null,null,null,null,null,null,null,null,null,null,null,10,"E83","Dave.W.Snyder@hii-nns.com","Snyder,Dave"]
[null,null,null,null,null,null,null,null,null,null,null,null,null,null,null,null,null,null,null,null,null,null,null,null,null,null,null,null,null,null,null,null,null,null,null,null,null,null,null,null,null,null,null,null,11,"","",""]
[null,null,null,null,null,null,null,null,null,null,null,null,null,null,null,null,null,null,null,null,null,null,null,null,null,null,null,null,null,null,null,null,null,null,null,null,null,null,null,null,null,null,null,null,12,"X01","w.doyle@charter.net","Doyle,Warren"]
[null,null,null,null,null,null,null,null,null,null,null,null,null,null,null,null,null,null,null,null,null,null,null,null,null,null,null,null,null,null,null,null,null,null,null,null,null,null,null,null,null,null,null,null,13,"X87","William.McGlothlin@hii-nns.com","McGlothlin,Billy"]
[null,null,null,null,null,null,null,null,null,null,null,null,null,null,null,null,null,null,null,null,null,null,null,null,null,null,null,null,null,null,null,null,null,null,null,null,null,null,null,null,null,null,null,null,14,"X88","ronbo001@hotmail.com","LaFrenierre,Ronald"]
[null,null,null,null,null,null,null,null,null,null,null,null,null,null,null,null,null,null,null,null,null,null,null,null,null,null,null,null,null,null,null,null,null,null,null,null,null,null,null,null,null,null,null,null,15,"SUBS","David.L.Breeding@hii-nns.com","Breeding, David"]
[null,null,null,null,null,null,null,null,null,null,null,null,null,null,null,null,null,null,null,null,null,null,null,null,null,null,null,null,null,null,null,null,null,null,null,null,null,null,null,null,null,null,null,null,16,"X04","Loria.Mooneyham@hii-nns.com","Mooneyhame, Loria"]
[null,null,null,null,null,null,null,null,null,null,null,null,null,null,null,null,null,null,null,null,null,null,null,null,null,null,null,null,null,null,null,null,null,null,null,null,null,null,null,null,null,null,null,null,17,"","",""]
[null,null,null,null,null,null,null,null,null,null,null,null,null,null,null,null,null,null,null,null,null,null,null,null,null,null,null,null,null,null,null,null,null,null,null,null,null,null,null,null,null,null,null,null,1,"A572","John.S.Binns@hii-nns.com","Binns,Jason"]
[null,null,null,null,null,null,null,null,null,null,null,null,null,null,null,null,null,null,null,null,null,null,null,null,null,null,null,null,null,null,null,null,null,null,null,null,null,null,null,null,null,null,null,null,2,"ARG","Jason.Mintz@hii-nns.com","Mintz,Doug"]
[null,null,null,null,null,null,null,null,null,null,null,null,null,null,null,null,null,null,null,null,null,null,null,null,null,null,null,null,null,null,null,null,null,null,null,null,null,null,null,null,null,null,null,null,3,"CRF","Anthony.G.Hammonds@hii-nns.com","Hammonds, Andy"]
[null,null,null,null,null,null,null,null,null,null,null,null,null,null,null,null,null,null,null,null,null,null,null,null,null,null,null,null,null,null,null,null,null,null,null,null,null,null,null,null,null,null,null,null,4,"E20","Anthony.Pale@hii-nns.com","Pale, Anthony"]
[null,null,null,null,null,null,null,null,null,null,null,null,null,null,null,null,null,null,null,null,null,null,null,null,null,null,null,null,null,null,null,null,null,null,null,null,null,null,null,null,null,null,null,null,5,"E25","Alfred.E.Fuller@tsd.hii-nns.com","Fuller,Alfred"]
[null,null,null,null,null,null,null,null,null,null,null,null,null,null,null,null,null,null,null,null,null,null,null,null,null,null,null,null,null,null,null,null,null,null,null,null,null,null,null,null,null,null,null,null,6,"E75","Mark.Friedrich@hii-nns.com","Friedrich, Mark"]
[null,null,null,null,null,null,null,null,null,null,null,null,null,null,null,null,null,null,null,null,null,null,null,null,null,null,null,null,null,null,null,null,null,null,null,null,null,null,null,null,null,null,null,null,7,"ENGR","Jonathan.McGee@hii-nns.com","McGee,Jonathan"]
[null,null,null,null,null,null,null,null,null,null,null,null,null,null,null,null,null,null,null,null,null,null,null,null,null,null,null,null,null,null,null,null,null,null,null,null,null,null,null,null,null,null,null,null,8,"","",""]
[null,null,null,null,null,null,null,null,null,null,null,null,null,null,null,null,null,null,null,null,null,null,null,null,null,null,null,null,null,null,null,null,null,null,null,null,null,null,null,null,null,null,null,null,9,"NNIT","Bruce.Herring@hii-nns.com","Herring,Bruce"]
[null,null,null,null,null,null,null,null,null,null,null,null,null,null,null,null,null,null,null,null,null,null,null,null,null,null,null,null,null,null,null,null,null,null,null,null,null,null,null,null,null,null,null,null,10,"O19","David.Cash@hii-nns.com","Cash,David"]
[null,null,null,null,null,null,null,null,null,null,null,null,null,null,null,null,null,null,null,null,null,null,null,null,null,null,null,null,null,null,null,null,null,null,null,null,null,null,null,null,null,null,null,null,11,"SCM","Perry.Barber@hii-nns.com","Perry Barber"]
[null,null,null,null,null,null,null,null,null,null,null,null,null,null,null,null,null,null,null,null,null,null,null,null,null,null,null,null,null,null,null,null,null,null,null,null,null,null,null,null,null,null,null,null,12,"X10","Ryan.D.Ettus@hii-nns.com","Ettus,Ryan"]
[null,null,null,null,null,null,null,null,null,null,null,null,null,null,null,null,null,null,null,null,null,null,null,null,null,null,null,null,null,null,null,null,null,null,null,null,null,null,null,null,null,null,null,null,13,"X31","Todd.Davis@hii-nns.com","Davis,Todd"]
[null,null,null,null,null,null,null,null,null,null,null,null,null,null,null,null,null,null,null,null,null,null,null,null,null,null,null,null,null,null,null,null,null,null,null,null,null,null,null,null,null,null,null,null,14,"CVN","Paul2pin@cox.net","Toupin,Paul"]
[null,null,null,null,null,null,null,null,null,null,null,null,null,null,null,null,null,null,null,null,null,null,null,null,null,null,null,null,null,null,null,null,null,null,null,null,null,null,null,null,null,null,null,null,15,"O46","Stephen.Gilliland@hii-nns.com","Gilliland,Stephen"]
[null,null,null,null,null,null,null,null,null,null,null,null,null,null,null,null,null,null,null,null,null,null,null,null,null,null,null,null,null,null,null,null,null,null,null,null,null,null,null,null,null,null,null,null,16,"O87","Gary.Crockett@hii-nns.com","Crockett, Gary"]
[null,null,null,null,null,null,null,null,null,null,null,null,null,null,null,null,null,null,null,null,null,null,null,null,null,null,null,null,null,null,null,null,null,null,null,null,null,null,null,null,null,null,null,null,17,"","",""]
[null,null,null,null,null,null,null,null,null,null,null,null,null,null,null,null,null,null,null,null,null,null,null,null,null,null,null,null,null,null,null,null,null,null,null,null,null,null,null,null,null,null,null,null,null,""]

{"sheet":"R#-xxx-yyy","index":6,"n_rows":80,"n_cols":80,"rows_kept":80,"cut":false,"hidden":false,"merged":[]}
["      Protected without a password",null,null,null,null,null,null,null,null,null,null,null,null,null,null,null,null,null,null,null,null,null,null,"   Score sheet",null,null,null,null,null,null,"File Name Suffix: "," R3",null,null,null,null,null,null,"     < 9 holes",null,null,null,null,null,null,null,null,null,null,null,null,null,null,null,null,null,null,null,null,null,null,null,null,null,null,null,null,null,null,"      Tees",null,null,null,null,null,null,null,null,"Bruce.Herring@hii-nns.com"," :To"]
[null,null,null,"Playoff Score Sheet: ",{"$f":"  CONCATENATE(  \"R\", E3, \"-\", E6, \"-\",E8, \"-\", F8 )","v":"R1-KC-E75-E55B"},null,null,null,{"$f":"  \"SGL\" & ( F3 - 2000 )","v":"SGL24"},null,null,null,null,null,null,null,null,null,null,null,null,null,null,null,null,null,null,null,null,null,"CH from WU dated: ",{"$f":" Handicaps!$E$2","v":"2024-07-26"},null,null,null,null,null,null,null,null,null,null,null,null,null,null,null,"      Tie-Break",null,null,null,null,null,null,null,null,null,null,null,null,null,null,null,null,null,null,null,null,null,null,null,null,null,null,null,"     Email",null,null,{"$f":"mtPr","v":"ryan.a.lorson@hii-nns.com;Tim.Spradlin@hii-nns.com"}," :cc"]
[null,null,null,"Round: ",1,{"$f":"  YEAR( E5 )","v":2024},null,null,null,null,null,"  Team Rep Signatures",null,null,null,null,null,null,null,null,"Tees:",null,null,null,null,null,null,null,"File: ",{"$f":"  CONCATENATE(  \"SGL\", YEAR( $AF$2 ) * 1 - 2000,  \"-WU-0\", MONTH( $AF$2),  IF(  DAY( $AF$2)*1 < 10,  \"0\", \"\" ),  DAY( $AF$2 ),  AF1   )","v":"SGL24-WU-0726 R3"},null,null,null,null,null,null,null,null,null,null,null,null,null,null,null,null,null,null,null,null,null,null,null,null,null,null,null,null,null,null,null,null,null,null,null,null,null,null,null,null,null,null,null,null,null,null,null,null,"kevin.p.roscoe@nasa.gov"," :cc"]
[null,null,null,"Day: ",1,2,null,null,null,null,null,null,null,null,null,null,null,null,null,null,{"$f":" OFFSET( $E$6,  CF25, 0 )","v":"KC"},{"$f":" OFFSET( $F$6,  CG25, 0 )","v":"KC"},null,null,null,null,null,null,null,null,null,null,null,null,null,null,null,null,null,null,null,null,null,null,null,null,null,null,null,null,null,null,null,null,null,null,null,null,null,null,null,null,null,null,null,null,null,null,null,null,null,null,null,null,null,null,null,{"$f":"  MATCH(  AD10,  BZ11:BZ44, 0 )","v":23},{"$f":"   OFFSET( $CA$10, BZ4, 0 )","v":"Jeffrey.Waltz@hii-nns.com"}," :cc"]
[null,null,null,"Dates: ","2024-07-29","2024-07-31",null,null,null,{"$f":"IF(E8<>\"\", E8, \"\")","v":"E75"},null,null,null,null,null,{"$f":"IF(G24<>\"\",\"On file\", \"\")","v":""},null,null,null,"Men",{"$f":" OFFSET(  $BS$10,  BT$23,  $B11  )","v":"Blue"},"Blue",null,null,null,null,null,null,null,null,null,null,null,null,null,null,null,null,null,null,null,null,null,null,null,null,null,null,null,null,null,null,null,null,null,null,null,null,null,null,null,null,"For this and subsequent holes,",null,null,null,null,null,null,null,null,null,null,null,null,null,null,null,{"$f":" IF( COUNTIF( $BZ$47:$BZ$82, $AD$10 ) >= 1,  OFFSET(  $CA$46, MATCH( $AD$10, $BZ$47:$BZ$82, 0 ),  0  ),  \"\"  )","v":"Mark.Friedrich@hii-nns.com"}]
[null,null,null,"Course: ","KC","KC",{"$f":" IF( SUMSQ( F7:F8 ) > 0, IF( F7 =#REF!, \" Tie\", IF( F7 <#REF!, \" Won\", \" Lost\")), \"\" )","v":""},null,null,null,null,null,null,null,null,null,null,null,null,"Sr","White","White",null,null,null,null,null,null,null,null,null,null,null,null,null,null,null,null,null,null,null,null,null,null,null,null,null,null,"Playoff Tie-Break for Rounds 1 thru 3 per Rule 27:",null,null,null,null,null,null,null,null,null,null,null,null,null,"use the 11 players from 1st attempt.",null,null,null,null,null,null,null,null,null,null,null,null,null,null,null,{"$f":" IF( COUNTIF( $BZ$47:$BZ$82, $AD$10 ) = 2,  OFFSET(  $CA$46, MATCH( $AD$10, $BZ$47:$BZ$82, 0 ) + 1,  0  ),  \"\"  )","v":""}]
[null,null,null,null,"Home","Away",{"$f":" IF( SUMSQ( F7:F8 ) > 0, IF(#REF! = F7, \" Tie\", IF(#REF! < F7, \" Won\", \" Lost\")), \"\" )","v":""},null,null,{"$f":"IF(F8<>\"\", F8, \"\")","v":"E55B"},null,null,null,null,null,{"$f":"IF(R24<>\"\",\"On file\", \"\")","v":""},null,null,null,"Wo","Red","Red",null,null,null,null,null,null,null,null,null,null,null,null,null,null,null,null,null,"Less than 9 holes Calcs:",null,null,null,null,null,null,null,null,null,null,null,null,null,null,null,null,null,null,null,null,null,null,null,null,null,null,null,null,null,null,null,null,null,null,null,null,null,{"$f":"  MATCH(  AI10,  BZ11:BZ44, 0 )","v":8},{"$f":"   OFFSET( $CA$10, BZ7, 0 )","v":"Scott.T.Bohn@hii-nns.com"}," :cc"]
[null,null,null,"Teams: ","E75","E55B",null,null,null,null,null,null,null,null,null,null,null,null,null,null,null,null,null,null,null,null,null,null,null,null,null,null,null,null,null,null,null,null,null,null,null,null,null,null,null,null,null,null,null,null,null,null,null,null,null,null,null,null,null,null,null,null,"3rd lowest Handicap Hole",null,null,null,null,null,null,null,null,null,null,null,null,null,null,null,{"$f":" IF( COUNTIF( $BZ$47:$BZ$82, $AI$10 ) >= 1,  OFFSET(  $CA$46, MATCH( $AI$10, $BZ$47:$BZ$82, 0 ),  0  ),  \"\"  )","v":"Robert.Holley@hii-nns.com"}]
[null,null,null,null,null,null,null,null,null,null,null,null,null,null,null,null,null,null,null,null,null,null,null,null,"Day 1",null,null,null,null,{"$f":" MATCH(  $E$8,  Handicaps!$D:$D,  0  )","v":226}," : CH Row",null,null,null,{"$f":" MATCH(  $F$8,  Handicaps!$D:$D,  0  )","v":70}," : CH Row",null,null,null,"Day1",{"$f":"E8","v":"E75"},null,null,"Day1",{"$f":"F8","v":"E55B"},null,null,null,null,"2 Lowest Handicap Holes",null,null,null,null,null,null,{"$f":"AX9","v":"2 Lowest Handicap Holes"},null,null,null,null,null,null,{"$f":"$E$8","v":"E75"},null,null,{"$f":"$F$8","v":"E55B"},null,null,null,null,null,"Tees:",null,null,null,null,null,{"$f":" IF( COUNTIF( $BZ$47:$BZ$82, $AI$10 ) = 2,  OFFSET(  $CA$46, MATCH( $AI$10, $BZ$47:$BZ$82, 0 ) + 1,  0  ),  \"\"  )","v":""}]
[null,null,null,{"$f":"IF(E8<>\"\", E8, \"\")","v":"E75"},"Over Par","Hcp","Net",null,"Pair Total","ESC* Points","OP - ESC",null,null,null,{"$f":"IF(F8<>\"\", F8, \"\")","v":"E55B"},{"$f":"E10","v":"Over Par"},{"$f":"F10","v":"Hcp"},{"$f":"G10","v":"Net"},null,"Pair Total",{"$f":"J10","v":"ESC* Points"},{"$f":"K10","v":"OP - ESC"},null,null,null,{"$f":"AD10","v":"E75"},{"$f":"AI10","v":"E55B"},null,null,{"$f":"E8","v":"E75"}," : Your team",null,null,null,{"$f":"F8","v":"E55B"}," : Opponent",null,null,null,"Holes","Over Par","Scaled OP",null,"Holes","Over Par","Scaled OP",null,null,"#",{"$f":"$E$8","v":"E75"},"Over Par 1","Over Par 2","2/9 CH","Net",null,"#",{"$f":"$F$8","v":"E55B"},"Over Par 1","Over Par 2","2/9 CH","Net",null,null,"Over Par 3","Net",null,"Over Par 3","Net",null,null,null,"Men","Sr","Wo",null,null,null,"Team","Email","Captain / Back-up"]
[null,1,{"$f":"Z11","v":2},{"$f":"  IF(  C11 = 0, $AD$24,  OFFSET(  $AD$11, C11, 0 )  )","v":"Mike Coon"},null,{"$f":"  IF(  C11 = 0, \"\",   ROUND( OFFSET(   Handicaps!$E$1,   $AD$9  +  C11 - 2,   $BT$24     ), 1 )   )","v":8},{"$f":"   IF(  $J$24 > 0,  IF(  C11 = 0, $P$29,  MIN( $P$30,  E11 - F11 )),  \"\"  )","v":""},null,null,null,{"$f":"IF( J11>0, E11 - J11, \"\" )","v":""},null,1,{"$f":"AA11","v":10},{"$f":"  IF(  N11 = 0, $AI$24,  OFFSET(  $AI$11, N11, 0 )  )","v":"Ed Cunningham"},null,{"$f":"  IF(  N11 = 0, \"\",   ROUND( OFFSET(   Handicaps!$E$1,   $AI$9  +  N11 - 2,   $BT$24     ), 1 )   )","v":13},{"$f":"   IF(  $U$24 > 0,  IF(  N11 = 0, $P$29,  MIN( $P$30,  P11 - Q11 )),  \"\"  )","v":""},null,null,null,{"$f":"IF( U11>0, P11 - U11, \"\" )","v":""},null,null,1,2,10,null,"#","Player",null,null,null,"#","Player",null,null,null,null,9,{"$f":"E11","v":0},{"$f":"  ROUND(  AO11 * 9 / AN11,  1  )","v":0},null,{"$f":"AN11","v":9},{"$f":"P11","v":0},{"$f":"  ROUND(  AS11 * 9 / AR11,  1  )","v":0},null,null,{"$f":"N11","v":10},{"$f":"D11","v":"Mike Coon"},null,null,{"$f":"    IF(  AX11 = $AX$29, \"\",   F11 * 2 / 9  )","v":1.7777777777777777},{"$f":"   IF(  AX11 = $AX$29,  $AY$30,   AY11  +  AZ11  -  BA11  )","v":-1.7777777777777777},null,{"$f":"N11","v":10},"Ed Cunningham",null,null,{"$f":"    IF(  BE11 = $AX$29, \"\",   Q11 * 2 / 9  )","v":2.8888888888888888},{"$f":"   IF(  BE11 = $AX$29,  $AY$30,   BF11  +  BG11  -  BH11  )","v":-2.8888888888888888},null,null,null,{"$f":"   IF(  AX11  = $AX$29, $AY$30*3/2,   BB11  +  BL11  -  $BA11 / 2  )","v":-2.6666666666666665},null,null,{"$f":"   IF(  BE11  = $AX$29,  $AY$30*3/2,   BI11  +  BO11  -  $BH11 / 2  )","v":-4.333333333333333},null,null,"RF","White","Green","Red",null,null,{"$f":"BY10+1","v":1},{"$f":"AutoSS!AT7","v":"AGS"},{"$f":"AutoSS!AU7","v":"Forrest.C.Barefoot@hii-nns.com"},{"$f":"AutoSS!AV7","v":"Barefoot,Forrest"}]
[null,2,{"$f":"Z12","v":4},{"$f":"  IF(  C12 = 0, $AD$24,  OFFSET(  $AD$11, C12, 0 )  )","v":"Mark Friedrich"},null,{"$f":"  IF(  C12 = 0, \"\",   ROUND( OFFSET(   Handicaps!$E$1,   $AD$9  +  C12 - 2,   $BT$24     ), 1 )   )","v":15},"",null,{"$f":"IF(G$17<>\"\", G11+G12, \"\")","v":""},null,"",null,2,{"$f":"AA12","v":12},{"$f":"  IF(  N12 = 0, $AI$24,  OFFSET(  $AI$11, N12, 0 )  )","v":"Aaron Roscoe"},null,{"$f":"  IF(  N12 = 0, \"\",   ROUND( OFFSET(   Handicaps!$E$1,   $AI$9  +  N12 - 2,   $BT$24     ), 1 )   )","v":12},"",null,{"$f":"  IF(  $U$24 > 0,  R11+R12, \"\" )","v":""},null,"",null,null,2,4,12,null,1,{"$f":" OFFSET(   Handicaps!$E$1,   $AD$9  +  $AC12 - 2, 0   )","v":"John Fritschi"},null,null,null,1,{"$f":" OFFSET(   Handicaps!$E$1,   $AI$9  +  $AH12 - 2, 0   )","v":"Phil Delk"},null,null,null,null,{"$f":"AN11","v":9},0,0,null,{"$f":"AN12","v":9},0,0,null,null,12,{"$f":"D12","v":"Mark Friedrich"},null,null,3.3333333333333335,-3.3333333333333335,null,12,"Aaron Roscoe",null,null,2.6666666666666665,-2.6666666666666665,null,null,null,{"$f":"   IF(  AX12  = $AX$29, $AY$30*3/2,   BB12  +  BL12  -  $BA12 / 2  )","v":-5},null,null,{"$f":"   IF(  BE12  = $AX$29,  $AY$30*3/2,   BI12  +  BO12  -  $BH12 / 2  )","v":-4},null,null,"OH","Blue","White","Yellow",null,null,{"$f":"BY11+1","v":2},{"$f":"AutoSS!AT8","v":"AMSC"},{"$f":"AutoSS!AU8","v":"leroy.harrell@tsd.hii-nns.com"},{"$f":"AutoSS!AV8","v":"Harrell,Leroy"}]
[null,3,12,"Nathan Eramian",null,{"$f":"  IF(  C13 = 0, \"\",   ROUND( OFFSET(   Handicaps!$E$1,   $AD$9  +  C13 - 2,   $BT$24     ), 1 )   )","v":3},"",null,null,null,"",null,3,3,"Steve Burton",null,{"$f":"  IF(  N13 = 0, \"\",   ROUND( OFFSET(   Handicaps!$E$1,   $AI$9  +  N13 - 2,   $BT$24     ), 1 )   )","v":8},"",null,null,null,"",null,null,3,12,3,null,{"$f":"AC12+1","v":2},{"$f":" OFFSET(   Handicaps!$E$1,   $AD$9  +  $AC13 - 2, 0   )","v":"Mike Coon"},null,null,null,{"$f":"AH12+1","v":2},{"$f":" OFFSET(   Handicaps!$E$1,   $AI$9  +  $AH13 - 2, 0   )","v":"Joel Hickman"},null,null,null,null,8,0,0,null,8,0,{"$f":"  ROUND(  AS13 * 9 / AR13,  1  )","v":0},null,null,3,"Nathan Eramian",null,null,0.66666666666666663,-0.66666666666666663,null,3,"Steve Burton",null,null,1.7777777777777777,-1.7777777777777777,null,null,null,-1,null,null,-2.6666666666666665,null,null,"SH","White","Yellow","Red",null,null,3,{"$f":"AutoSS!AT9","v":"E12"},{"$f":"AutoSS!AU9","v":"Joseph.Gray@hii-nns.com"},{"$f":"AutoSS!AV9","v":"Gray,Joe"}]
[null,4,7,"Rick Taylor",null,{"$f":"  IF(  C14 = 0, \"\",   ROUND( OFFSET(   Handicaps!$E$1,   $AD$9  +  C14 - 2,   $BT$24     ), 1 )   )","v":18},"",null,{"$f":"IF(G$17<>\"\", G13+G14, \"\")","v":""},null,"",null,4,11,"Dallas Wilkinson",null,{"$f":"  IF(  N14 = 0, \"\",   ROUND( OFFSET(   Handicaps!$E$1,   $AI$9  +  N14 - 2,   $BT$24     ), 1 )   )","v":18},"",null,{"$f":"  IF(  $U$24 > 0,  R13+R14, \"\" )","v":""},null,"",null,null,4,7,11,null,3,{"$f":" OFFSET(   Handicaps!$E$1,   $AD$9  +  $AC14 - 2, 0   )","v":"Greg Martin"},null,null,null,3,{"$f":" OFFSET(   Handicaps!$E$1,   $AI$9  +  $AH14 - 2, 0   )","v":"Steve Burton"},null,null,null,null,{"$f":"AN13","v":8},0,0,null,8,0,0,null,null,11,"Rick Taylor",null,null,4,-4,null,11,"Dallas Wilkinson",null,null,4,-4,null,null,null,-6,null,null,-6,null,null,"CC","White","Gold","Red",null,null,4,{"$f":"AutoSS!AT10","v":"E14"},{"$f":"AutoSS!AU10","v":"jklawson22@gmail.com"},{"$f":"AutoSS!AV10","v":"Lawson,Jim"}]
[null,5,8,"Bob Keller",null,{"$f":"  IF(  C15 = 0, \"\",   ROUND( OFFSET(   Handicaps!$E$1,   $AD$9  +  C15 - 2,   $BT$24     ), 1 )   )","v":15},"",null,{"$f":"IF(G$17<>\"\", I12+I14, \"\")","v":""},null,"",null,5,2,"Joel Hickman",null,{"$f":"  IF(  N15 = 0, \"\",   ROUND( OFFSET(   Handicaps!$E$1,   $AI$9  +  N15 - 2,   $BT$24     ), 1 )   )","v":10},"",null,{"$f":"IF(R$17<>\"\", T12+T14, \"\")","v":""},null,"",null,null,5,8,2,null,4,{"$f":" OFFSET(   Handicaps!$E$1,   $AD$9  +  $AC15 - 2, 0   )","v":"Mark Friedrich"},null,null,null,4,{"$f":" OFFSET(   Handicaps!$E$1,   $AI$9  +  $AH15 - 2, 0   )","v":"Zachary Dial"},null,null,null,null,7,0,0,null,7,0,{"$f":"  ROUND(  AS15 * 9 / AR15,  1  )","v":0},null,null,2,"Bob Keller",null,null,3.3333333333333335,-3.3333333333333335,null,2,"Joel Hickman",null,null,2.2222222222222223,-2.2222222222222223,null,null,null,-5,null,null,-3.3333333333333335,null,null,"KC","Blue","White","Red",null,null,5,{"$f":"AutoSS!AT11","v":"E17"},{"$f":"AutoSS!AU11","v":"Nate.Harrison@hii-nns.com"},{"$f":"AutoSS!AV11","v":"Harrison,Nate"}]
[null,6,5,"Gabriella Bishop",null,{"$f":"  IF(  C16 = 0, \"\",   ROUND( OFFSET(   Handicaps!$E$1,   $AD$9  +  C16 - 2,   $BT$24     ), 1 )   )","v":18},"",null,{"$f":"IF(G$17<>\"\", G15+G16, \"\")","v":""},null,"",null,6,0,"No Show",null,{"$f":"  IF(  N16 = 0, \"\",   ROUND( OFFSET(   Handicaps!$E$1,   $AI$9  +  N16 - 2,   $BT$24     ), 1 )   )","v":""},"",null,{"$f":"  IF(  $U$24 > 0,  R15+R16, \"\" )","v":""},null,"",null,null,6,5,null,null,5,{"$f":" OFFSET(   Handicaps!$E$1,   $AD$9  +  $AC16 - 2, 0   )","v":"Gabriella Bishop"},null,null,null,5,{"$f":" OFFSET(   Handicaps!$E$1,   $AI$9  +  $AH16 - 2, 0   )","v":"Robert Holley"},null,null,null,null,{"$f":"AN15","v":7},0,0,null,7,0,0,null,null,0,"Gabriella Bishop",null,null,4,-4,null,0,"No Show",null,null,"",2.2000000000000002,null,null,null,-6,null,null,3.3000000000000003,null,null,"DR","Blue","White","Green",null,null,6,{"$f":"AutoSS!AT12","v":"E42"},{"$f":"AutoSS!AU12","v":"Keith.Carter@hii-nns.com"},{"$f":"AutoSS!AV12","v":"Carter,Keith"}]
[null,null,null,"sub total 1st day: ",null,{"$f":"SUM(F11:F16)","v":77},{"$f":"   IF(  J$24 = 0,  \"\",  SUM(  G11:G16  )  )","v":""},null,{"$f":"   IF(  J$24 = 0,  IF( K$24 = 0,  \"\",  0  ),  I15 + I16  )","v":""},null,"",null,null,null,"sub total 1st day: ",null,{"$f":"SUM(Q11:Q16)","v":61},{"$f":"   IF(  U$24 = 0,  \"\",  SUM(  R11:R16  )  )","v":""},null,{"$f":"   IF(  U$24 = 0,  IF( V$24 = 0,  \"\",  0  ),  T15 + T16  )","v":""},null,"",null,null,"Day 2",null,null,null,6,{"$f":" OFFSET(   Handicaps!$E$1,   $AD$9  +  $AC17 - 2, 0   )","v":"David Allen"},null,null,null,6,{"$f":" OFFSET(   Handicaps!$E$1,   $AI$9  +  $AH17 - 2, 0   )","v":"Ray Foster"},null,null,null,null,"Day2",null,{"$f":"SUM(AP11:AP16)","v":0},null,"Day2",null,{"$f":"SUM(AT11:AT16)","v":0},null,null,null,null,null,null,null,null,null,null,null,null,null,null,null,null,null,null,null,null,null,null,null,null,"RFb","White","Green","Red",null,null,7,{"$f":"AutoSS!AT13","v":"E55A"},{"$f":"AutoSS!AU13","v":"Kenny.Stewart@hii-nns.com"},{"$f":"AutoSS!AV13","v":"Stewart,Kenny"}]
[null,7,9,{"$f":"  IF(  C18 = 0, $AD$24,  OFFSET(  $AD$11, C18, 0 )  )","v":"Joe McGuigan"},null,{"$f":"  IF(  C18 = 0, \"\",   ROUND( OFFSET(   Handicaps!$E$1,   $AD$9  +  C18 - 2,   $BU$24     ), 1 )   )","v":12},{"$f":"   IF(  $K$24 > 0,  IF(  C18 = 0, $P$29,  MIN( $P$30,  E18 - F18 )),  \"\"  )","v":""},null,null,null,"",null,7,8,{"$f":"  IF(  N18 = 0, $AI$24,  OFFSET(  $AI$11, N18, 0 )  )","v":"Scott Bohn"},null,{"$f":"  IF(  N18 = 0, \"\",   ROUND( OFFSET(   Handicaps!$E$1,   $AI$9  +  N18 - 2,   $BU$24     ), 1 )   )","v":6},{"$f":"   IF(  $V$24 > 0,  IF(  N18 = 0, $P$29,  MIN( $P$30,  P18 - Q18 )),  \"\"  )","v":""},null,null,null,"",null,null,7,9,8,null,7,{"$f":" OFFSET(   Handicaps!$E$1,   $AD$9  +  $AC18 - 2, 0   )","v":"Rick Taylor"},null,null,null,7,{"$f":" OFFSET(   Handicaps!$E$1,   $AI$9  +  $AH18 - 2, 0   )","v":"Johnny Nelms"},null,null,null,null,9,{"$f":"E18","v":0},{"$f":"  ROUND(  AO18 * 9 / AN18,  1  )","v":0},null,9,{"$f":"P18","v":0},{"$f":"  ROUND(  AS18 * 9 / AR18,  1  )","v":0},null,null,{"$f":"N18","v":8},"Joe McGuigan",null,null,{"$f":"    IF(  AX18 = $AX$29, \"\",   F18 * 2 / 9  )","v":2.6666666666666665},{"$f":"   IF(  AX18 = $AX$29,  $AY$30,   AY18  +  AZ18  -  BA18  )","v":-2.6666666666666665},null,{"$f":"N18","v":8},"Scott Bohn",null,null,{"$f":"    IF(  BE18 = $AX$29, \"\",   Q18 * 2 / 9  )","v":1.3333333333333333},{"$f":"   IF(  BE18 = $AX$29,  $AY$30,   BF18  +  BG18  -  BH18  )","v":-1.3333333333333333},null,null,null,{"$f":"   IF(  AX18  = $AX$29, $AY$30*3/2,   BB18  +  BL18  -  $BA18 / 2  )","v":-4},null,null,{"$f":"   IF(  BE18  = $AX$29,  $AY$30*3/2,   BI18  +  BO18  -  $BH18 / 2  )","v":-2},null,null,"OHb","Blue","White","Yellow",null,null,8,{"$f":"AutoSS!AT14","v":"E55B"},{"$f":"AutoSS!AU14","v":"Scott.T.Bohn@hii-nns.com"},{"$f":"AutoSS!AV14","v":"Bohn, Scott"}]
[null,8,7,"Rick Taylor",null,{"$f":"  IF(  C19 = 0, \"\",   ROUND( OFFSET(   Handicaps!$E$1,   $AD$9  +  C19 - 2,   $BU$24     ), 1 )   )","v":18},"",null,{"$f":"IF(G$24<>\"\", G18+G19, \"\")","v":""},null,"",null,8,5,"Robert Holley",null,{"$f":"  IF(  N19 = 0, \"\",   ROUND( OFFSET(   Handicaps!$E$1,   $AI$9  +  N19 - 2,   $BU$24     ), 1 )   )","v":9},"",null,{"$f":"IF(R$24<>\"\", R18+R19, \"\")","v":""},null,"",null,null,{"$f":"Y18+1","v":8},7,5,null,8,{"$f":" OFFSET(   Handicaps!$E$1,   $AD$9  +  $AC19 - 2, 0   )","v":"Bob Keller"},null,null,null,8,{"$f":" OFFSET(   Handicaps!$E$1,   $AI$9  +  $AH19 - 2, 0   )","v":"Scott Bohn"},null,null,null,null,{"$f":"AN18","v":9},0,0,null,9,0,0,null,null,5,"Rick Taylor",null,null,4,-4,null,5,"Robert Holley",null,null,2,-2,null,null,null,{"$f":"   IF(  AX19  = $AX$29, $AY$30*3/2,   BB19  +  BL19  -  $BA19 / 2  )","v":-6},null,null,{"$f":"   IF(  BE19  = $AX$29,  $AY$30*3/2,   BI19  +  BO19  -  $BH19 / 2  )","v":-3},null,null,"SHb","White","Yellow","Red",null,null,9,{"$f":"AutoSS!AT16","v":"E60"},{"$f":"AutoSS!AU16","v":"Nathanael.R.Vandygriff@hii-nns.com"},{"$f":"AutoSS!AV16","v":"Vandygriff,Nathan"}]
[null,9,10,"David King",null,{"$f":"  IF(  C20 = 0, \"\",   ROUND( OFFSET(   Handicaps!$E$1,   $AD$9  +  C20 - 2,   $BU$24     ), 1 )   )","v":7},"",null,{"$f":"IF(G$24<>\"\", I17+I19, \"\")","v":""},null,"",null,9,0,"No Show",null,{"$f":"  IF(  N20 = 0, \"\",   ROUND( OFFSET(   Handicaps!$E$1,   $AI$9  +  N20 - 2,   $BU$24     ), 1 )   )","v":""},"",null,{"$f":"IF(R$24<>\"\", T17+T19, \"\")","v":""},null,"",null,null,{"$f":"Y19+1","v":9},10,0,null,9,{"$f":" OFFSET(   Handicaps!$E$1,   $AD$9  +  $AC20 - 2, 0   )","v":"Joe McGuigan"},null,null,null,9,{"$f":" OFFSET(   Handicaps!$E$1,   $AI$9  +  $AH20 - 2, 0   )","v":"Jerry Adkins"},null,null,null,null,8,0,0,null,8,0,0,null,null,0,"David King",null,null,1.5555555555555556,-1.5555555555555556,null,0,"No Show",null,null,"",2.2000000000000002,null,null,null,-2.3333333333333335,null,null,3.3000000000000003,null,null,"CCb","White","Gold","Red",null,null,10,{"$f":"AutoSS!AT17","v":"E83"},{"$f":"AutoSS!AU17","v":"Tim.Spradlin@hii-nns.com"},{"$f":"AutoSS!AV17","v":"Spradlin,Tim"}]
[null,10,0,"No Show",null,{"$f":"  IF(  C21 = 0, \"\",   ROUND( OFFSET(   Handicaps!$E$1,   $AD$9  +  C21 - 2,   $BU$24     ), 1 )   )","v":""},"",null,{"$f":"IF(G$24<>\"\", G20+G21, \"\")","v":""},null,"",null,10,4,"Zachary Dial",null,{"$f":"  IF(  N21 = 0, \"\",   ROUND( OFFSET(   Handicaps!$E$1,   $AI$9  +  N21 - 2,   $BU$24     ), 1 )   )","v":9},"",null,{"$f":"IF(R$24<>\"\", R20+R21, \"\")","v":""},null,"",null,null,10,0,4,null,10,{"$f":" OFFSET(   Handicaps!$E$1,   $AD$9  +  $AC21 - 2, 0   )","v":"David King"},null,null,null,10,{"$f":" OFFSET(   Handicaps!$E$1,   $AI$9  +  $AH21 - 2, 0   )","v":"Ed Cunningham"},null,null,null,null,{"$f":"AN20","v":8},0,0,null,8,0,0,null,null,4,"No Show",null,null,"",2.2000000000000002,null,4,"Zachary Dial",null,null,2,-2,null,null,null,3.3000000000000003,null,null,-3,null,null,"KCb","Blue","White","Red",null,null,11,{"$f":"AutoSS!AT18","v":"E86"},{"$f":"AutoSS!AU18","v":"Jeffrey.Asby@hii-nns.com"},{"$f":"AutoSS!AV18","v":"Asby,Jeff"}]
[null,11,7,"Rick Taylor",null,{"$f":"  IF(  C22 = 0, \"\",   ROUND( OFFSET(   Handicaps!$E$1,   $AD$9  +  C22 - 2,   $BU$24     ), 1 )   )","v":18},"",null,{"$f":"IF(G$24<>\"\", I20+I21, \"\")","v":""},null,"",null,11,1,"Phil Delk",null,{"$f":"  IF(  N22 = 0, \"\",   ROUND( OFFSET(   Handicaps!$E$1,   $AI$9  +  N22 - 2,   $BU$24     ), 1 )   )","v":10},"",null,{"$f":"IF(R$24<>\"\", T20+T21, \"\")","v":""},null,"",null,null,11,7,1,null,11,{"$f":" OFFSET(   Handicaps!$E$1,   $AD$9  +  $AC22 - 2, 0   )","v":"Jeff Waltz"},null,null,null,11,{"$f":" OFFSET(   Handicaps!$E$1,   $AI$9  +  $AH22 - 2, 0   )","v":"Dallas Wilkinson"},null,null,null,null,7,0,0,null,7,0,0,null,null,1,"Rick Taylor",null,null,4,-4,null,1,"Phil Delk",null,null,2.2222222222222223,-2.2222222222222223,null,null,null,-6,null,null,-3.3333333333333335,null,null,"DRb","White","Green","Green",null,null,12,{"$f":"AutoSS!AT19","v":"X01"},{"$f":"AutoSS!AU19","v":"Floyd.Byrd@hii-nns.com"},{"$f":"AutoSS!AV19","v":"Byrd,Floyd"}]
[null,12,3,"Greg Martin",null,{"$f":"  IF(  C23 = 0, \"\",   ROUND( OFFSET(   Handicaps!$E$1,   $AD$9  +  C23 - 2,   $BU$24     ), 1 )   )","v":3},"",null,{"$f":"IF(G$24<>\"\", G22+G23, \"\")","v":""},null,"",null,12,2,"Joel Hickman",null,{"$f":"  IF(  N23 = 0, \"\",   ROUND( OFFSET(   Handicaps!$E$1,   $AI$9  +  N23 - 2,   $BU$24     ), 1 )   )","v":10},"",null,{"$f":"IF(R$24<>\"\", R22+R23, \"\")","v":""},null,"",null,null,12,3,2,null,12,{"$f":" OFFSET(   Handicaps!$E$1,   $AD$9  +  $AC23 - 2, 0   )","v":"Nathan Eramian"},null,null,null,12,{"$f":" OFFSET(   Handicaps!$E$1,   $AI$9  +  $AH23 - 2, 0   )","v":"Aaron Roscoe"},null,null,null,null,{"$f":"AN22","v":7},0,0,null,7,0,0,null,null,2,"Greg Martin",null,null,0.66666666666666663,-0.66666666666666663,null,2,"Joel Hickman",null,null,2.2222222222222223,-2.2222222222222223,null,null,null,-1,null,null,-3.3333333333333335,null,null,{"$f":" MATCH( E6,  BS11:BS22, 0 )","v":5},{"$f":"BS23","v":5},{"$f":"  IF(  BS23 >6, -6, 6 ) + BS23","v":11},null,null,null,13,{"$f":"AutoSS!AT20","v":"X87"},{"$f":"AutoSS!AU20","v":"Ronald.Ellsworth@hii-nns.com"},{"$f":"AutoSS!AV20","v":"Ellsworth,Ron"}]
[null,null,null,"sub total 2nd day: ",null,{"$f":"SUM(F18:F23)","v":58},{"$f":"   IF(  K$24 = 0,  \"\",  SUM(  G18:G23  )  )","v":""},null,{"$f":"IF(G$24<>\"\", I22+I23, \"\")","v":""},{"$f":"  SQRT( SUMSQ( E11:E16 ) )","v":0},{"$f":"  SQRT( SUMSQ( E18:E23 ) )","v":0},null,null,null,"sub total 2nd day: ",null,{"$f":"SUM(Q18:Q23)","v":44},{"$f":"   IF(  V$24 = 0,  \"\",  SUM(  R18:R23  )  )","v":""},null,{"$f":"IF(R$24<>\"\", T22+T23, \"\")","v":""},{"$f":"  SQRT( SUMSQ( P11:P16 ) )","v":0},{"$f":"  SQRT( SUMSQ( P18:P23 ) )","v":0},null,null,null,null,null,null,0,"No Show",null,null,null,0,"No Show",null,null,null,null,null,null,{"$f":"SUM(AP18:AP23)","v":0},null,null,null,{"$f":"SUM(AT18:AT23)","v":0},null,null,null,"Total Team Net ",{"$f":"SUM(AY11:AY23)","v":0},{"$f":"SUM(AZ11:AZ23)","v":0},{"$f":"SUM(BA11:BA23)","v":30.000000000000007},{"$f":"SUM(BB11:BB23)","v":-27.800000000000008},null,null,"Total Team Net ",{"$f":"SUM(BF11:BF23)","v":0},{"$f":"SUM(BG11:BG23)","v":0},{"$f":"SUM(BH11:BH23)","v":23.333333333333329},{"$f":"SUM(BI11:BI23)","v":-18.93333333333333},null,null,null,{"$f":"SUM(BM11:BM23)","v":-41.7},null,null,{"$f":"SUM(BP11:BP23)","v":-28.399999999999995},null,null,"HI",{"$f":"  MATCH(  $E$6,  Handicaps!$F$3:$S$3,  0  )","v":10},{"$f":"  MATCH(  $F$6,  Handicaps!$F$3:$S$3,  0  )","v":10},null,null,null,14,{"$f":"AutoSS!AT21","v":"X88"},{"$f":"AutoSS!AU21","v":"John.Plevelich@hii-nns.com"},{"$f":"AutoSS!AV21","v":"Plevelich,John"}]
[null,null,null,null,"Total Team Net ",null,{"$f":"   IF(  J$24 * K$24 = 0, \"\",  G17 + G24  )","v":""},null,null,null,null,null,null,null,null,{"$f":"E25","v":"Total Team Net "},null,{"$f":"   IF(  U$24 * V$24 = 0, \"\",  R17 + R24  )","v":""},null,null,null,null,null,null,"Instructions:",null,null,null,null,null,null,null,null,null,null,null,null,null,null,null,null,null,null,null,null,null,null,null,null,"High Net Score ",{"$f":"  IF(  AND(  G27 = R27,  V24 > 0 ),  SQRT( SUMSQ( AY11:AZ23 ) ),  0  )","v":0},null,null,{"$f":" MAX( BB11:BB23 )","v":2.2000000000000002},null,null,"High Net Score ",{"$f":"  SQRT( SUMSQ( BF11:BG23 ) )","v":0},null,null,{"$f":" MAX( BI11:BI23 )","v":2.2000000000000002},null,null,null,{"$f":" MAX( BM11:BM23 )","v":3.3000000000000003},null,null,{"$f":" MAX( BP11:BP23 )","v":3.3000000000000003},null,null,null,null,null,null,null,null,15,{"$f":"AutoSS!AT22","v":"SUBS"},{"$f":"AutoSS!AU22","v":"Eric.Scott@hii-nns.com"},{"$f":"AutoSS!AV22","v":"Scott,Eric"}]
[null,null,null,null,"High Net Score ",null,{"$f":"   IF(  K$24 = 0,  \"\",  MAX(  G11:G16, G18:G23  )  )","v":""},null,null,null,null,null,null,null,null,{"$f":"E26","v":"High Net Score "},null,{"$f":"   IF(  V$24 = 0,  \"\",  MAX(  R11:R16, R18:R23  )  )","v":""},null,null,null,null,null,null,0,"Enable macros",null,null,null,null,null,null,null,null,null,null,null,null,null,"Instructions for < 9 holes",null,null,null,null,null,null,null,null,null," Tie Break Net Score ",null,null,null,{"$f":"   IF(  AY$25 = 0,  \"\",  ROUND(  BB24-BB25, 1  )  )","v":""},null,null,"Final Net Score ",null,null,null,{"$f":"   IF(  BF$25 = 0,  \"\",  ROUND(  BI24-BI25, 1  )  )","v":""},null,null,null,{"$f":"   IF(  $AY$25 * $BF$25 = 0,  \"\",  IF(  $BB$26 = $BI$26,  ROUND(  BM24-BM25, 1  ),  \"\"  )  )","v":""},null,null,{"$f":"   IF(  $AY$25 * $BF$25 = 0,  \"\",  IF(  $BB$26 = $BI$26,  ROUND(  BP24-BP25, 1  ),  \"\"  )  )","v":""},null,null,null,null,null,null,null,null,16,{"$f":"AutoSS!AT23","v":"X04"},{"$f":"AutoSS!AU23","v":"Mike.Pyrtle@hii-nns.com"},{"$f":"AutoSS!AV23","v":"Pyrtle,Mike"}]
[null,null,null,null,"Final Net Score ",null,{"$f":"   IF(  J$24 * K$24 = 0,  \"\",  G25-G26  )","v":""},null,null,null,null,null,null,null,null,{"$f":"E27","v":"Final Net Score "},null,{"$f":"   IF(  U$24 * V$24 = 0,  \"\",  R25-R26  )","v":""},null,null,null,null,null,null,1,"Save WeeklyUpdate to file:  Click \"Save WU\" button",null,null,null,null,null,null,null,null,null,null,null,null,null,"Enter \"Over Par\" and \"Holes Played\" in table above",null,null,null,null,null,null,null,null,null,"Only round the team score.",null,null,null,{"$f":"   IF(  $AY$25 * $BF$25 = 0,  \"\",  IF(  BB26 < BI26,  \"Won\",  IF(  BB26 = BI26,  \"Still Tied\",  \"Lost\"  ) )  )","v":""},null,null,null,null,null,null,{"$f":"   IF(  $AY$25 * $BF$25 = 0,  \"\",  IF(  BI26 < BB26,  \"Won\",  IF(  BI26 = BB26,  \"Still Tied\",  \"Lost\"  ) )  )","v":""},null,null,null,null,null,null,null,null,null,null,null,null,null,null,null,17,{"$f":"AutoSS!AT24","v":""},{"$f":"AutoSS!AU24","v":""},{"$f":"AutoSS!AV24","v":""}]
[null,null,null,null,null,null,null,null,null,null,null,null,null,null,null,null,null,null,null,null,null,null,null,null,null,"   Saves to …\\Documents\\SGL##  - (makes directory)",null,null,null,null,null,null,null,null,null,null,null,null,null,"Copy \"Scaled OP\" values",null,null,null,null,null,null,null,null,null,null,null,null,null,null,null,null,null,null,null,null,null,null,null,null,null,null,null,null,null,null,null,null,null,null,null,null,1,{"$f":"AutoSS!AT25","v":"A572"},{"$f":"AutoSS!AU25","v":"Jason.Boyce@hii-nns.com"},{"$f":"AutoSS!AV25","v":"Boyce,Jason"}]
[null,"  *ESC: Equitable Stroke Control Points for low handicap players IAW SGL Rule 7:",null,null,null,null,null,null,null,null,null,null,null,null,null,10," Net points for No Shows",null,null,null,null,null,null,null,null,"   This year the directory is …\\Documents\\SGL16",null,null,null,null,null,null,null,null,null,null,null,null,null,null,"Can copy all cells",null,null,null,null,null,null,null,null,{"$f":" AI24","v":"No Show"},{"$f":" P29","v":10},"net points",null,null,null,null,null,null,null,null,null,null,null,null,null,null,null,null,null,null,null,null,null,null,null,null,2,{"$f":"AutoSS!AT26","v":"ARG"},{"$f":"AutoSS!AU26","v":"E.Byrd@hii-nns.com"},{"$f":"AutoSS!AV26","v":"Byrd,Elliott"}]
[null," Subtract 1 point for each triple bogie or worse scored on any hole by a player with a course handicap of 4 or less,",null,null,null,null,null,null,null,null,null,null,null,null,null,8," Net points maximum for players",null,null,null,null,null,null,null,2,"In cells E3 to F8 fill out the Round, Dates, Courses and Teams",null,null,null,null,null,null,null,null,null,null,null,null,null,"Paste Special Values to \"Over Par\" field in score sheet",null,null,null,null,null,null,null,null,null,"for 2 holes",{"$f":"  ROUND(  AY29 / 9 * 2, 1 )","v":2.2000000000000002},"net points",null,null,null,null,null,null,null,null,null,null,null,null,null,null,null,null,null,null,null,null,null,null,null,null,3,{"$f":"AutoSS!AT27","v":"CRF"},{"$f":"AutoSS!AU27","v":"Joshua.A.Kampsen@hii-nns.com"},{"$f":"AutoSS!AV27","v":"Kampsen, Josh"}]
[null," Subtract 1 point for each triple bogie or worse scored on any par 5 by a player with a course handicap of 5 to 9.",null,null,null,null,null,null,null,null,null,null,null,null,null,null,null,null,null,null,null,null,null,null,3,"Enter your teams line-up for the match in cells Z11:Z23",null,null,null,null,null,null,null,null,null,null,null,null,null,null,null,null,null,null,null,null,null,null,null,null,null,null,null,null,null,null,null,null,null,null,null,null,null,null,null,null,null,null,null,null,null,null,null,null,null,null,4,{"$f":"AutoSS!AT28","v":"E20"},{"$f":"AutoSS!AU28","v":"Greg.McKean@hii-nns.com"},{"$f":"AutoSS!AV28","v":"McKean,Greg"}]
[null,null,null,null,null,null,null,null,null,null,null,null,null,null,null,null,null,null,null,null,null,null,null,null,4,"   Use number in front of player's name from cells AC12:23",null,null,null,null,null,null,null,null,null,null,null,null,null,null,null,null,null,null,null,null,null,null,null,null,null,null,null,null,null,null,null,null,null,null,null,null,null,null,null,null,null,null,null,null,null,null,null,null,null,null,5,{"$f":"AutoSS!AT29","v":"E25"},{"$f":"AutoSS!AU29","v":"reverbva@gmail.com"},{"$f":"AutoSS!AV29","v":"Shirley,Adrian"}]
[null,null,null,null,null,null,null,null,null,null,null,null,null,null,null,null,null,null,null,null,null,null,null,null,null,"   Send line-up to opposing captain: ",null,null,null,null,null,null,null,null,null,null,null,null,null,null,null,null,null,null,null,null,null,null,null,null,null,null,null,null,null,null,null,null,null,null,null,null,null,null,null,null,null,null,null,null,null,null,null,null,null,null,6,{"$f":"AutoSS!AT30","v":"E75"},{"$f":"AutoSS!AU30","v":"Jeffrey.Waltz@hii-nns.com"},{"$f":"AutoSS!AV30","v":"Waltz, Jeff"}]
[null,null,null,null,null,null,null,null,null,null,null,null,null,null,null,null,null,null,null,null,null,null,null,null,null,null,"Use \"Save & Email\" button and change the distribution.",null,null,null,null,null,null,null,null,null,null,null,null,null,null,null,null,null,null,null,null,null,null,null,null,null,null,null,null,null,null,null,null,null,null,null,null,null,null,null,null,null,null,null,null,null,null,null,null,null,7,{"$f":"AutoSS!AT31","v":"ENGR"},{"$f":"AutoSS!AU31","v":"dlschrock2@gmail.com"},{"$f":"AutoSS!AV31","v":"Schrock,Darrel"}]
[null,null,null,null,null,null,null,null,null,null,null,null,null,null,null,null,null,null,null,null,null,null,null,null,null,"   Receive and enter opposing team line-up in cells AA11:23",null,null,null,null,null,null,null,null,null,null,null,null,null,null,null,null,null,null,null,null,null,null,null,null,null,null,null,null,null,null,null,null,null,null,null,null,null,null,null,null,null,null,null,null,null,null,null,null,null,null,8,{"$f":"AutoSS!AT32","v":"M10"},{"$f":"AutoSS!AU32","v":"Steven.Torres@hii-nns.com"},{"$f":"AutoSS!AV32","v":"Torres,Steven"}]
[null,null,null,null,null,null,null,null,null,null,null,null,null,null,null,null,null,null,null,null,null,null,null,null,5,"Save file (Hit \"Save WU\" button), Print and take to match",null,null,null,null,null,null,null,null,null,null,null,null,null,null,null,null,null,null,null,null,null,null,null,null,null,null,null,null,null,null,null,null,null,null,null,null,null,null,null,null,null,null,null,null,null,null,null,null,null,null,9,{"$f":"AutoSS!AT33","v":"NNIT"},{"$f":"AutoSS!AU33","v":" rhandz@cox.net"},{"$f":"AutoSS!AV33","v":"Hand,Ron"}]
[null,null,null,null,null,null,null,null,null,null,null,null,null,null,null,null,null,null,null,null,null,null,null,null,6,"After match enter over par scores in cells E11-23 and P11-23",null,null,null,null,null,null,null,null,null,null,null,null,null,null,null,null,null,null,null,null,null,null,null,null,null,null,null,null,null,null,null,null,null,null,null,null,null,null,null,null,null,null,null,null,null,null,null,null,null,null,10,{"$f":"AutoSS!AT34","v":"O19"},{"$f":"AutoSS!AU34","v":"Scott.McKeel@hii-nns.com"},{"$f":"AutoSS!AV34","v":"McKeel,Scott"}]
[null,null,null,null,null,null,null,null,null,null,null,null,null,null,null,null,null,null,null,null,null,null,null,null,null,null,"if less than 9 holes, open columns AN to AT and follow instructions",null,null,null,null,null,null,null,null,null,null,null,null,null,null,null,null,null,null,null,null,null,null,null,null,null,null,null,null,null,null,null,null,null,null,null,null,null,null,null,null,null,null,null,null,null,null,null,null,null,11,{"$f":"AutoSS!AT35","v":"SCM"},{"$f":"AutoSS!AU35","v":"Richard.Shelton@hii-nns.com"},{"$f":"AutoSS!AV35","v":"Shelton,Wesley"}]
[null,null,null,null,null,null,null,null,null,null,null,null,null,null,null,null,null,null,null,null,null,null,null,null,null,null,"If tied, open columns AW to BQ and follow Rule 28",null,null,null,null,null,null,null,null,null,null,null,null,null,null,null,null,null,null,null,null,null,null,null,null,null,null,null,null,null,null,null,null,null,null,null,null,null,null,null,null,null,null,null,null,null,null,null,null,null,12,{"$f":"AutoSS!AT36","v":"X10"},{"$f":"AutoSS!AU36","v":"Jennifer.A.Howard@hii-nns.com"},{"$f":"AutoSS!AV36","v":"Howard,Jennifer"}]
[null,null,null,null,null,null,null,null,null,null,null,null,null,null,null,null,null,null,null,null,null,null,null,null,7,"Enter ESC points, if any, in cells J11-23 and U11-23",null,null,null,null,null,null,null,null,null,null,null,null,null,null,null,null,null,null,null,null,null,null,null,null,null,null,null,null,null,null,null,null,null,null,null,null,null,null,null,null,null,null,null,null,null,null,null,null,null,null,13,{"$f":"AutoSS!AT37","v":"X31"},{"$f":"AutoSS!AU37","v":"Thomas.Hall@hii-nns.com"},{"$f":"AutoSS!AV37","v":"Hall,Tommy"}]
[null,null,null,null,null,null,null,null,null,null,null,null,null,null,null,null,null,null,null,null,null,null,null,null,8,"When finished, \"click\" the \"Save & Email\" button",null,null,null,null,null,null,null,null,null,null,null,null,null,null,null,null,null,null,null,null,null,null,null,null,null,null,null,null,null,null,null,null,null,null,null,null,null,null,null,null,null,null,null,null,null,null,null,null,null,null,14,{"$f":"AutoSS!AT38","v":"CVN"},{"$f":"AutoSS!AU38","v":"dklkbeach@gmail.com"},{"$f":"AutoSS!AV38","v":"Krejcarek,David"}]
[null,null,null,null,null,null,null,null,null,null,null,null,null,null,null,null,null,null,null,null,null,null,null,null,null,null,null,null,null,null,null,null,null,null,null,null,null,null,null,null,null,null,null,null,null,null,null,null,null,null,null,null,null,null,null,null,null,null,null,null,null,null,null,null,null,null,null,null,null,null,null,null,null,null,null,null,15,{"$f":"AutoSS!AT39","v":"O46"},{"$f":"AutoSS!AU39","v":"David.Crews@hii-nns.com"},{"$f":"AutoSS!AV39","v":"Crews,David"}]
[null,null,null,null,null,null,null,null,null,null,null,null,null,null,null,null,null,null,null,null,null,null,null,null,"\"Save & Email\" button:",null,null,null,null,null,null,null,null,null,null,null,null,null,null,null,null,null,null,null,null,null,null,null,null,null,null,null,null,null,null,null,null,null,null,null,null,null,null,null,null,null,null,null,null,null,null,null,null,null,null,null,16,{"$f":"AutoSS!AT40","v":"O87"},{"$f":"AutoSS!AU40","v":"Brian.K.Waddles@hii-nns.com"},{"$f":"AutoSS!AV40","v":"Waddles,B."}]
[null,null,null,null,null,null,null,null,null,null,null,null,null,null,null,null,null,null,null,null,null,null,null,null,null,"   This saves the WU file (if it already exists, it asks to over-write (click \"Yes\")),",null,null,null,null,null,null,null,null,null,null,null,null,null,null,null,null,null,null,null,null,null,null,null,null,null,null,null,null,null,null,null,null,null,null,null,null,null,null,null,null,null,null,null,null,null,null,null,null,null,null,17,{"$f":"AutoSS!AT41","v":""},{"$f":"AutoSS!AU41","v":""},{"$f":"AutoSS!AV41","v":""}]
[null,null,null,null,null,null,null,null,null,null,null,null,null,null,null,null,null,null,null,null,null,null,null,null,null,"   Converts sheet contents to a Regular SS file,  saves the RegSS file in …\\Documents\\SGL##,  and"]
[null,null,null,null,null,null,null,null,null,null,null,null,null,null,null,null,null,null,null,null,null,null,null,null,null,"   Prepares an email to HA, Pres, and captains with RegSS file attached",null,null,null,null,null,null,null,null,null,null,null,null,null,null,null,null,null,null,null,null,null,null,null,null,null,null,null,null,null,null,null,null,null,null,null,null,null,null,null,null,null,null,null,null,null,null,null,null,null,null,null,"Team","Email","Back-up"]
[null,null,null,null,null,null,null,null,null,null,null,null,null,null,null,null,null,null,null,null,null,null,null,null,null,null,"This closes the RegSS Excel file, but leaves Excel open.  Close manually.",null,null,null,null,null,null,null,null,null,null,null,null,null,null,null,null,null,null,null,null,null,null,null,null,null,null,null,null,null,null,null,null,null,null,null,null,null,null,null,null,null,null,null,null,null,null,null,null,null,null,{"$f":"AutoSS!AT44","v":"AGS"},{"$f":"AutoSS!AU44","v":"Glenn.G.Gaskins@hii-nns.com"},{"$f":"AutoSS!AV44","v":"Gaskins,Glenn"}]
[null,null,null,null,null,null,null,null,null,null,null,null,null,null,null,null,null,null,null,null,null,null,null,null,null,null,null,null,null,null,null,null,null,null,null,null,null,null,null,null,null,null,null,null,null,null,null,null,null,null,null,null,null,null,null,null,null,null,null,null,null,null,null,null,null,null,null,null,null,null,null,null,null,null,null,null,null,{"$f":"AutoSS!AT45","v":"AMSC"},{"$f":"AutoSS!AU45","v":0},{"$f":"AutoSS!AV45","v":0}]
[null,null,null,null,null,null,null,null,null,null,null,null,null,null,null,null,null,null,null,null,null,null,null,null,null,null,null,null,null,null,null,null,null,null,null,null,null,null,null,null,null,null,null,null,null,null,null,null,null,null,null,null,null,null,null,null,null,null,null,null,null,null,null,null,null,null,null,null,null,null,null,null,null,null,null,null,null,{"$f":"AutoSS!AT46","v":"E12"},{"$f":"AutoSS!AU46","v":"Bruce.Beers@hii-nns.com"},{"$f":"AutoSS!AV46","v":"Beers,Bruce"}]
[null,null,null,null,null,null,null,null,null,null,null,null,null,null,null,null,null,null,null,null,null,null,null,null,null,null,null,null,null,null,null,null,null,null,null,null,null,null,null,null,null,null,null,null,null,null,null,null,null,null,null,null,null,null,null,null,null,null,null,null,null,null,null,null,null,null,null,null,null,null,null,null,null,null,null,null,null,{"$f":"AutoSS!AT47","v":"E14"},{"$f":"AutoSS!AU47","v":"kevin.p.roscoe@nasa.gov"},{"$f":"AutoSS!AV47","v":"Roscoe, Kevin"}]
[null,null,null,null,null,null,null,null,null,null,null,null,null,null,null,null,null,null,null,null,null,null,null,null,null,null,null,null,null,null,null,null,null,null,null,null,null,null,null,null,null,null,null,null,null,null,null,null,null,null,null,null,null,null,null,null,null,null,null,null,null,null,null,null,null,null,null,null,null,null,null,null,null,null,null,null,null,{"$f":"AutoSS!AT48","v":"E17"},{"$f":"AutoSS!AU48","v":"Nicholas.J.Maidment@hii-nns.com"},{"$f":"AutoSS!AV48","v":"Maidment,Nick"}]
[null,null,null,null,null,null,null,null,null,null,null,null,null,null,null,null,null,null,null,null,null,null,null,null,null,null,null,null,null,null,null,null,null,null,null,null,null,null,null,null,null,null,null,null,null,null,null,null,null,null,null,null,null,null,null,null,null,null,null,null,null,null,null,null,null,null,null,null,null,null,null,null,null,null,null,null,null,{"$f":"AutoSS!AT49","v":"E42"},{"$f":"AutoSS!AU49","v":"David.Langston@hii-nns.com"},{"$f":"AutoSS!AV49","v":"Langston,David"}]
[null,null,null,null,null,null,null,null,null,null,null,null,null,null,null,null,null,null,null,null,null,null,null,null,null,null,null,null,null,null,null,null,null,null,null,null,null,null,null,null,null,null,null,null,null,null,null,null,null,null,null,null,null,null,null,null,null,null,null,null,null,null,null,null,null,null,null,null,null,null,null,null,null,null,null,null,null,{"$f":"AutoSS!AT50","v":"E55A"},{"$f":"AutoSS!AU50","v":"Michael.Konrad@hii-nns.com"},{"$f":"AutoSS!AV50","v":"Konrad,Mike"}]
[null,null,null,null,null,null,null,null,null,null,null,null,null,null,null,null,null,null,null,null,null,null,null,null,null,null,null,null,null,null,null,null,null,null,null,null,null,null,null,null,null,null,null,null,null,null,null,null,null,null,null,null,null,null,null,null,null,null,null,null,null,null,null,null,null,null,null,null,null,null,null,null,null,null,null,null,null,{"$f":"AutoSS!AT51","v":"E55B"},{"$f":"AutoSS!AU51","v":"Robert.Holley@hii-nns.com"},{"$f":"AutoSS!AV51","v":"Holley, Robert"}]
[null,null,null,null,null,null,null,null,null,null,null,null,null,null,null,null,null,null,null,null,null,null,null,null,null,null,null,null,null,null,null,null,null,null,null,null,null,null,null,null,null,null,null,null,null,null,null,null,null,null,null,null,null,null,null,null,null,null,null,null,null,null,null,null,null,null,null,null,null,null,null,null,null,null,null,null,null,{"$f":"AutoSS!AT52","v":"E60"},{"$f":"AutoSS!AU52","v":"Karlen.Wyatt@hii-nns.com"},{"$f":"AutoSS!AV52","v":"Wyatt,Ricky"}]
[null,null,null,null,null,null,null,null,null,null,null,null,null,null,null,null,null,null,null,null,null,null,null,null,null,null,null,null,null,null,null,null,null,null,null,null,null,null,null,null,null,null,null,null,null,null,null,null,null,null,null,null,null,null,null,null,null,null,null,null,null,null,null,null,null,null,null,null,null,null,null,null,null,null,null,null,null,{"$f":"AutoSS!AT53","v":"E83"},{"$f":"AutoSS!AU53","v":"Dave.W.Snyder@hii-nns.com"},{"$f":"AutoSS!AV53","v":"Snyder,Dave"}]
[null,null,null,null,null,null,null,null,null,null,null,null,null,null,null,null,null,null,null,null,null,null,null,null,null,null,null,null,null,null,null,null,null,null,null,null,null,null,null,null,null,null,null,null,null,null,null,null,null,null,null,null,null,null,null,null,null,null,null,null,null,null,null,null,null,null,null,null,null,null,null,null,null,null,null,null,null,{"$f":"AutoSS!AT55","v":"X01"},{"$f":"AutoSS!AU55","v":"w.doyle@charter.net"},{"$f":"AutoSS!AV55","v":"Doyle,Warren"}]
[null,null,null,null,null,null,null,null,null,null,null,null,null,null,null,null,null,null,null,null,null,null,null,null,null,null,null,null,null,null,null,null,null,null,null,null,null,null,null,null,null,null,null,null,null,null,null,null,null,null,null,null,null,null,null,null,null,null,null,null,null,null,null,null,null,null,null,null,null,null,null,null,null,null,null,null,null,{"$f":"AutoSS!AT56","v":"X87"},{"$f":"AutoSS!AU56","v":"William.McGlothlin@hii-nns.com"},{"$f":"AutoSS!AV56","v":"McGlothlin,Billy"}]
[null,null,null,null,null,null,null,null,null,null,null,null,null,null,null,null,null,null,null,null,null,null,null,null,null,null,null,null,null,null,null,null,null,null,null,null,null,null,null,null,null,null,null,null,null,null,null,null,null,null,null,null,null,null,null,null,null,null,null,null,null,null,null,null,null,null,null,null,null,null,null,null,null,null,null,null,null,{"$f":"AutoSS!AT54","v":""},{"$f":"AutoSS!AU54","v":""},{"$f":"AutoSS!AV54","v":""}]
[null,null,null,null,null,null,null,null,null,null,null,null,null,null,null,null,null,null,null,null,null,null,null,null,null,null,null,null,null,null,null,null,null,null,null,null,null,null,null,null,null,null,null,null,null,null,null,null,null,null,null,null,null,null,null,null,null,null,null,null,null,null,null,null,null,null,null,null,null,null,null,null,null,null,null,null,null,{"$f":"AutoSS!AT57","v":"X88"},{"$f":"AutoSS!AU57","v":"ronbo001@hotmail.com"},{"$f":"AutoSS!AV57","v":"LaFrenierre,Ronald"}]
[null,null,null,null,null,null,null,null,null,null,null,null,null,null,null,null,null,null,null,null,null,null,null,null,null,null,null,null,null,null,null,null,null,null,null,null,null,null,null,null,null,null,null,null,null,null,null,null,null,null,null,null,null,null,null,null,null,null,null,null,null,null,null,null,null,null,null,null,null,null,null,null,null,null,null,null,null,{"$f":"AutoSS!AT58","v":"SUBS"},{"$f":"AutoSS!AU58","v":"David.L.Breeding@hii-nns.com"},{"$f":"AutoSS!AV58","v":"Breeding, David"}]
[null,null,null,null,null,null,null,null,null,null,null,null,null,null,null,null,null,null,null,null,null,null,null,null,null,null,null,null,null,null,null,null,null,null,null,null,null,null,null,null,null,null,null,null,null,null,null,null,null,null,null,null,null,null,null,null,null,null,null,null,null,null,null,null,null,null,null,null,null,null,null,null,null,null,null,null,null,{"$f":"AutoSS!AT59","v":"X04"},{"$f":"AutoSS!AU59","v":"Loria.Mooneyham@hii-nns.com"},{"$f":"AutoSS!AV59","v":"Mooneyhame, Loria"}]
[null,null,null,null,null,null,null,null,null,null,null,null,null,null,null,null,null,null,null,null,null,null,null,null,null,null,null,null,null,null,null,null,null,null,null,null,null,null,null,null,null,null,null,null,null,null,null,null,null,null,null,null,null,null,null,null,null,null,null,null,null,null,null,null,null,null,null,null,null,null,null,null,null,null,null,null,null,{"$f":"AutoSS!AT60","v":""},{"$f":"AutoSS!AU60","v":""},{"$f":"AutoSS!AV60","v":""}]
[null,null,null,null,null,null,null,null,null,null,null,null,null,null,null,null,null,null,null,null,null,null,null,null,null,null,null,null,null,null,null,null,null,null,null,null,null,null,null,null,null,null,null,null,null,null,null,null,null,null,null,null,null,null,null,null,null,null,null,null,null,null,null,null,null,null,null,null,null,null,null,null,null,null,null,null,null,{"$f":"AutoSS!AT61","v":"A572"},{"$f":"AutoSS!AU61","v":"John.S.Binns@hii-nns.com"},{"$f":"AutoSS!AV61","v":"Binns,Jason"}]
[null,null,null,null,null,null,null,null,null,null,null,null,null,null,null,null,null,null,null,null,null,null,null,null,null,null,null,null,null,null,null,null,null,null,null,null,null,null,null,null,null,null,null,null,null,null,null,null,null,null,null,null,null,null,null,null,null,null,null,null,null,null,null,null,null,null,null,null,null,null,null,null,null,null,null,null,null,{"$f":"AutoSS!AT62","v":"ARG"},{"$f":"AutoSS!AU62","v":"Jason.Mintz@hii-nns.com"},{"$f":"AutoSS!AV62","v":"Mintz,Doug"}]
[null,null,null,null,null,null,null,null,null,null,null,null,null,null,null,null,null,null,null,null,null,null,null,null,null,null,null,null,null,null,null,null,null,null,null,null,null,null,null,null,null,null,null,null,null,null,null,null,null,null,null,null,null,null,null,null,null,null,null,null,null,null,null,null,null,null,null,null,null,null,null,null,null,null,null,null,null,{"$f":"AutoSS!AT63","v":"CRF"},{"$f":"AutoSS!AU63","v":"Anthony.G.Hammonds@hii-nns.com"},{"$f":"AutoSS!AV63","v":"Hammonds, Andy"}]
[null,null,null,null,null,null,null,null,null,null,null,null,null,null,null,null,null,null,null,null,null,null,null,null,null,null,null,null,null,null,null,null,null,null,null,null,null,null,null,null,null,null,null,null,null,null,null,null,null,null,null,null,null,null,null,null,null,null,null,null,null,null,null,null,null,null,null,null,null,null,null,null,null,null,null,null,null,{"$f":"AutoSS!AT64","v":"E20"},{"$f":"AutoSS!AU64","v":"Anthony.Pale@hii-nns.com"},{"$f":"AutoSS!AV64","v":"Pale, Anthony"}]
[null,null,null,null,null,null,null,null,null,null,null,null,null,null,null,null,null,null,null,null,null,null,null,null,null,null,null,null,null,null,null,null,null,null,null,null,null,null,null,null,null,null,null,null,null,null,null,null,null,null,null,null,null,null,null,null,null,null,null,null,null,null,null,null,null,null,null,null,null,null,null,null,null,null,null,null,null,{"$f":"AutoSS!AT65","v":"E25"},{"$f":"AutoSS!AU65","v":"Alfred.E.Fuller@tsd.hii-nns.com"},{"$f":"AutoSS!AV65","v":"Fuller,Alfred"}]
[null,null,null,null,null,null,null,null,null,null,null,null,null,null,null,null,null,null,null,null,null,null,null,null,null,null,null,null,null,null,null,null,null,null,null,null,null,null,null,null,null,null,null,null,null,null,null,null,null,null,null,null,null,null,null,null,null,null,null,null,null,null,null,null,null,null,null,null,null,null,null,null,null,null,null,null,null,{"$f":"AutoSS!AT66","v":"E75"},{"$f":"AutoSS!AU66","v":"Mark.Friedrich@hii-nns.com"},{"$f":"AutoSS!AV66","v":"Friedrich, Mark"}]
[null,null,null,null,null,null,null,null,null,null,null,null,null,null,null,null,null,null,null,null,null,null,null,null,null,null,null,null,null,null,null,null,null,null,null,null,null,null,null,null,null,null,null,null,null,null,null,null,null,null,null,null,null,null,null,null,null,null,null,null,null,null,null,null,null,null,null,null,null,null,null,null,null,null,null,null,null,{"$f":"AutoSS!AT67","v":"ENGR"},{"$f":"AutoSS!AU67","v":"Jonathan.McGee@hii-nns.com"},{"$f":"AutoSS!AV67","v":"McGee,Jonathan"}]
[null,null,null,null,null,null,null,null,null,null,null,null,null,null,null,null,null,null,null,null,null,null,null,null,null,null,null,null,null,null,null,null,null,null,null,null,null,null,null,null,null,null,null,null,null,null,null,null,null,null,null,null,null,null,null,null,null,null,null,null,null,null,null,null,null,null,null,null,null,null,null,null,null,null,null,null,null,{"$f":"AutoSS!AT68","v":""},{"$f":"AutoSS!AU68","v":""},{"$f":"AutoSS!AV68","v":""}]
[null,null,null,null,null,null,null,null,null,null,null,null,null,null,null,null,null,null,null,null,null,null,null,null,null,null,null,null,null,null,null,null,null,null,null,null,null,null,null,null,null,null,null,null,null,null,null,null,null,null,null,null,null,null,null,null,null,null,null,null,null,null,null,null,null,null,null,null,null,null,null,null,null,null,null,null,null,{"$f":"AutoSS!AT69","v":"NNIT"},{"$f":"AutoSS!AU69","v":"Bruce.Herring@hii-nns.com"},{"$f":"AutoSS!AV69","v":"Herring,Bruce"}]
[null,null,null,null,null,null,null,null,null,null,null,null,null,null,null,null,null,null,null,null,null,null,null,null,null,null,null,null,null,null,null,null,null,null,null,null,null,null,null,null,null,null,null,null,null,null,null,null,null,null,null,null,null,null,null,null,null,null,null,null,null,null,null,null,null,null,null,null,null,null,null,null,null,null,null,null,null,{"$f":"AutoSS!AT70","v":"O19"},{"$f":"AutoSS!AU70","v":"David.Cash@hii-nns.com"},{"$f":"AutoSS!AV70","v":"Cash,David"}]
[null,null,null,null,null,null,null,null,null,null,null,null,null,null,null,null,null,null,null,null,null,null,null,null,null,null,null,null,null,null,null,null,null,null,null,null,null,null,null,null,null,null,null,null,null,null,null,null,null,null,null,null,null,null,null,null,null,null,null,null,null,null,null,null,null,null,null,null,null,null,null,null,null,null,null,null,null,{"$f":"AutoSS!AT71","v":"SCM"},{"$f":"AutoSS!AU71","v":"Perry.Barber@hii-nns.com"},{"$f":"AutoSS!AV71","v":"Perry Barber"}]
[null,null,null,null,null,null,null,null,null,null,null,null,null,null,null,null,null,null,null,null,null,null,null,null,null,null,null,null,null,null,null,null,null,null,null,null,null,null,null,null,null,null,null,null,null,null,null,null,null,null,null,null,null,null,null,null,null,null,null,null,null,null,null,null,null,null,null,null,null,null,null,null,null,null,null,null,null,{"$f":"AutoSS!AT72","v":"X10"},{"$f":"AutoSS!AU72","v":"Ryan.D.Ettus@hii-nns.com"},{"$f":"AutoSS!AV72","v":"Ettus,Ryan"}]
[null,null,null,null,null,null,null,null,null,null,null,null,null,null,null,null,null,null,null,null,null,null,null,null,null,null,null,null,null,null,null,null,null,null,null,null,null,null,null,null,null,null,null,null,null,null,null,null,null,null,null,null,null,null,null,null,null,null,null,null,null,null,null,null,null,null,null,null,null,null,null,null,null,null,null,null,null,{"$f":"AutoSS!AT73","v":"X31"},{"$f":"AutoSS!AU73","v":"Todd.Davis@hii-nns.com"},{"$f":"AutoSS!AV73","v":"Davis,Todd"}]
[null,null,null,null,null,null,null,null,null,null,null,null,null,null,null,null,null,null,null,null,null,null,null,null,null,null,null,null,null,null,null,null,null,null,null,null,null,null,null,null,null,null,null,null,null,null,null,null,null,null,null,null,null,null,null,null,null,null,null,null,null,null,null,null,null,null,null,null,null,null,null,null,null,null,null,null,null,{"$f":"AutoSS!AT74","v":"CVN"},{"$f":"AutoSS!AU74","v":"Paul2pin@cox.net"},{"$f":"AutoSS!AV74","v":"Toupin,Paul"}]
[null,null,null,null,null,null,null,null,null,null,null,null,null,null,null,null,null,null,null,null,null,null,null,null,null,null,null,null,null,null,null,null,null,null,null,null,null,null,null,null,null,null,null,null,null,null,null,null,null,null,null,null,null,null,null,null,null,null,null,null,null,null,null,null,null,null,null,null,null,null,null,null,null,null,null,null,null,{"$f":"AutoSS!AT75","v":"O46"},{"$f":"AutoSS!AU75","v":"Stephen.Gilliland@hii-nns.com"},{"$f":"AutoSS!AV75","v":"Gilliland,Stephen"}]
[null,null,null,null,null,null,null,null,null,null,null,null,null,null,null,null,null,null,null,null,null,null,null,null,null,null,null,null,null,null,null,null,null,null,null,null,null,null,null,null,null,null,null,null,null,null,null,null,null,null,null,null,null,null,null,null,null,null,null,null,null,null,null,null,null,null,null,null,null,null,null,null,null,null,null,null,null,{"$f":"AutoSS!AT76","v":"O87"},{"$f":"AutoSS!AU76","v":"Gary.Crockett@hii-nns.com"},{"$f":"AutoSS!AV76","v":"Crockett, Gary"}]
[null,null,null,null,null,null,null,null,null,null,null,null,null,null,null,null,null,null,null,null,null,null,null,null,null,null,null,null,null,null,null,null,null,null,null,null,null,null,null,null,null,null,null,null,null,null,null,null,null,null,null,null,null,null,null,null,null,null,null,null,null,null,null,null,null,null,null,null,null,null,null,null,null,null,null,null,null,{"$f":"AutoSS!AT77","v":""},{"$f":"AutoSS!AU77","v":""},{"$f":"AutoSS!AV77","v":""}]